{"text_format":"1","workbook":"xlsx","n_sheets":13,"sheets":["Title","Dashboard","Inputs","Capex","Profile","Opex","Revenue","Depreciation","FS","Debt","Timings","Graph","Production profile"],"not_rendered":{"charts":1,"images":0,"macros":1,"external_links":0,"defined_names":20,"comments":1,"pivot_tables":0},"unopened":[],"bounds":{"document_bytes":16777216,"sheet_cells":100000,"rows_first":2000,"rows_last":500,"rows_between":2000,"halvings":0,"cell_chars":16384,"cell_head_chars":4096},"cells_cut":0,"cells_raw":0,"read":"whole","date_system":"1900"}

{"sheet":"Title","index":0,"n_rows":25,"n_cols":13,"rows_kept":25,"cut":false,"hidden":false,"merged":[[24,5,24,12],[6,5,14,12],[19,5,19,12],[20,5,20,12],[21,5,21,12],[23,5,23,12],[22,5,22,12]]}
[]
[]
[]
[]
[]
[]
[null,null,null,null,null,"Indicative Viability Calculator"]
[]
[]
[]
[]
[]
[]
[]
[]
[]
[null,null,null,null,null,null,null,null,null,null,null,null,{"$f":"TODAY()","v":"2018-12-19"}]
[]
[null,null,null,null,null,"Disclaimer"]
[null,null,null,null,null,"This 'Indicative Viability Calculator' has been prepared to for the general use of the investors and facilitate investors to help project the viability of their investments."]
[null,null,null,null,null,"This 'Indicative Viability Calculator' has not been prepared considering individual's investment objectives, financial situations or particular needs."]
[null,null,null,null,null,"Any person considering potential investment opportunities should carry out their own due diligence in respect of such opportunity and make their own commercial assessment of an investment opportunity after seeking the advice from this 'indicative viability calculator'."]
[null,null,null,null,null,"The'Indicative Viability Calculator' does not purport to be all-inclusive or necessarily to contain all the information and may be subject to updating, revision or amendment."]
[null,null,null,null,null,"The developer of this calculator, under no circumstances whatsoever, should be held liable for any loss of profit resulted from investment made considering this 'indicative viability calculator'"]
[null,null,null,null,null,"This calculator works in MS Excel 2013(Macro Enabled)"]

{"sheet":"Dashboard","index":1,"n_rows":65,"n_cols":42,"rows_kept":65,"cut":false,"hidden":false,"merged":[[1,2,3,4],[0,6,0,7]]}
[null,null,null,null,null,null,"Legend"]
[null,null,"Indicative Viability Calculator",null,null,null,"Input Cells"]
[null,null,null,null,null,null,"Calculated value"]
[]
[null,null,null,null,null,null,null,null,null,null,null,null,"Note:"]
[null,null,null,null,null,null,null,null,null,null,null,null,"FY 2019 below refers to FY2018-19 and so on"]
[]
[null,null,"Dashboard",null,null,null,null,null,null,null,null,null,null,null,{"$f":"YEAR(H12)+1","v":2020},{"$f":"O8+1","v":2021},{"$f":"P8+1","v":2022},2023,2024,2025,2026,2027,2028,2029,2030,2031,2032,2033,2034,2035,2036,2037,2038,2039,2040,2041,2042,2043,2044,2045,2046,2047]
[null,null,"Field Details",null,null,null,"Project Timelines",null,null,null,null,null,"Production Profile"]
[null,null,"In-Place Reserves",null,null,null,null,"Start","Duration (Months)","End",null,"Choose method","User Input"]
[null,null,"Oil",12,"MMT",null,null,null,null,null,null,{"$f":"MATCH(M10,$C$64:$C$65,0)","v":1}]
[null,null,"Gas",2,"BCM",null,"Appraisal","2019-04-01",12,{"$f":"EDATE(H12,I12)-1","v":"2020-03-31"},null,null,"For User Input Option"]
[null,null,"Field Type","Onland",null,null,"Well Development","2019-04-01",24,{"$f":"EDATE(H13,I13)-1","v":"2021-03-31"},null,null,"Please provide the year wise production"]
[null,null,"No. of development wells in the field",2,null,null,"Facilities Development","2019-04-01",24,{"$f":"EDATE(H14,I14)-1","v":"2021-03-31"}]
[null,null,"Recovery factor",0.25,null,null,"Operations/Commercial Production","2020-04-01",144,{"$f":"EDATE(H15,I15)-1","v":"2032-03-31"},null,null,"Production Profile"]
[null,null,null,null,null,null,null,null,null,null,null,null,"Percentage of total production",{"$f":"SUM(O16:AN16)","v":1},0,0,0.21,0.05,0.06,7.0000000000000007E-2,0.08,0.12,0.09,0.1,0.08,7.0000000000000007E-2,0.04,0.03]
[null,null,"Market Parameters",null,null,null,"Cost Parameters"]
[{"$f":"IF(D17=\"Market Price\",1,2)","v":2},"User Input","Crude pricing choice","User to Input the Crude Oil Price",null,null,null,null,null,null,null,null,"For Model Pre-defined Option"]
[null,"Analyst Forecast","Crude oil",80,"USD per bbl",null,"Capex per well (USD Mn)","Onland","Offshore","Deepwater",null,null,"(Please fill in the ramp up period)"]
[null,null,"Gas Price",10,"USD per mmbtu",null,"Appraisal Cost",0.125,0.75,1.5]
[null,null,"Exchange Rate (USD/INR)",67,null,null,"Well development cost",2.5,15,30,null,null,"Ramp up period",3,"years"]
[null,null,null,null,null,null,"Surface facilities",{"$f":"H21*10%","v":0.25},10,30,null,null,"Plateau Period",{"$f":"N24-SUM(N23,N21)","v":6},"years"]
[null,null,"Revenue Share",null,null,null,"Opex (USD Mn)",null,null,null,null,null,"Ramp down period",{"$f":"N21","v":3},"years"]
[null,null,"Government share at LRP",0.2,null,null,"Processing Cost - Oil",5,"USD per Barrel",null,null,null,"Total project life",{"$f":"I15/12","v":12},"years"]
[null,null,"Government share at HRP",0.5,null,null,"Processing Cost - Gas",0.5,"USD per mmbtu"]
[]
[null,null,"Royalty",null,null,null,"Financing"]
[null,null,"Oil",{"$f":"INDEX(Inputs!$C$171:$D$173,MATCH($D$13,Inputs!$C$171:$C$173,0),2)","v":0.125},{"$f":"IF($D$13=\"Deepwater\",\"for first 7 years and then 5%\",\"\")","v":""},null,"Share of Debt Financing",0.2]
[null,null,"Gas",{"$f":"INDEX(Inputs!$C$175:$D$177,MATCH($D$13,Inputs!$C$175:$C$177,0),2)","v":0.1},{"$f":"IF($D$13=\"Deepwater\",\"for first 7 years and then 5%\",\"\")","v":""},null,"Interest Rate",0.1]
[null,null,null,null,null,null,"Repayment Period",10,"years after construction"]
[]
[]
[]
[null,null,"Output"]
[]
[null,null,"Project NPV",{"$f":"FS!D35","v":476.88479659653996},"USD Mn"]
[null,null,"Pre-Tax Project IRR",{"$f":"FS!D36","v":5.6165844071161528}]
[null,null,"Total Investment",{"$f":"Capex!G16+Capex!G22","v":6.2698999999999998},"USD Mn"]
[]
[null,null,"Government Share NPV",{"$f":"FS!D64","v":349.39847880635938},"USD Mn"]
[]
[]
[]
[]
[]
[]
[]
[]
[]
[]
[]
[]
[]
[]
[]
[]
[]
[]
[]
[]
[]
[]
[]
[null,1,"User Input"]
[null,2,"Model Pre-defined"]

{"sheet":"Inputs","index":2,"n_rows":177,"n_cols":39,"rows_kept":177,"cut":false,"hidden":true,"merged":[]}
[null,null,null,null,null,null,null,null,"Period No.",{"$f":"Timings!J1","v":1},{"$f":"Timings!K1","v":2},{"$f":"Timings!L1","v":3},{"$f":"Timings!M1","v":4},{"$f":"Timings!N1","v":5},{"$f":"Timings!O1","v":6},{"$f":"Timings!P1","v":7},{"$f":"Timings!Q1","v":8},{"$f":"Timings!R1","v":9},{"$f":"Timings!S1","v":10},{"$f":"Timings!T1","v":11},{"$f":"Timings!U1","v":12},{"$f":"Timings!V1","v":13},{"$f":"Timings!W1","v":14},{"$f":"Timings!X1","v":15},{"$f":"Timings!Y1","v":16},{"$f":"Timings!Z1","v":17},{"$f":"Timings!AA1","v":0},{"$f":"Timings!AB1","v":0},{"$f":"Timings!AC1","v":0},{"$f":"Timings!AD1","v":0},{"$f":"Timings!AE1","v":0},{"$f":"Timings!AF1","v":0},{"$f":"Timings!AG1","v":0},{"$f":"Timings!AH1","v":0},{"$f":"Timings!AI1","v":0},{"$f":"Timings!AJ1","v":0},{"$f":"Timings!AK1","v":0},{"$f":"Timings!AL1","v":0},{"$f":"Timings!AM1","v":0}]
[null,null,"Input/ Assumptions",null,null,null,null,null,"Start Date",{"$f":"Timings!J2","v":"2019-04-01"},{"$f":"Timings!K2","v":"2020-04-01"},{"$f":"Timings!L2","v":"2021-04-01"},{"$f":"Timings!M2","v":"2022-04-01"},{"$f":"Timings!N2","v":"2023-04-01"},{"$f":"Timings!O2","v":"2024-04-01"},{"$f":"Timings!P2","v":"2025-04-01"},{"$f":"Timings!Q2","v":"2026-04-01"},{"$f":"Timings!R2","v":"2027-04-01"},{"$f":"Timings!S2","v":"2028-04-01"},{"$f":"Timings!T2","v":"2029-04-01"},{"$f":"Timings!U2","v":"2030-04-01"},{"$f":"Timings!V2","v":"2031-04-01"},{"$f":"Timings!W2","v":"2032-04-01"},{"$f":"Timings!X2","v":"2033-04-01"},{"$f":"Timings!Y2","v":"2034-04-01"},{"$f":"Timings!Z2","v":"2035-04-01"},{"$f":"Timings!AA2","v":"2036-04-01"},{"$f":"Timings!AB2","v":"2037-04-01"},{"$f":"Timings!AC2","v":"2038-04-01"},{"$f":"Timings!AD2","v":"2039-04-01"},{"$f":"Timings!AE2","v":"2040-04-01"},{"$f":"Timings!AF2","v":"2041-04-01"},{"$f":"Timings!AG2","v":"2042-04-01"},{"$f":"Timings!AH2","v":"2043-04-01"},{"$f":"Timings!AI2","v":"2044-04-01"},{"$f":"Timings!AJ2","v":"2045-04-01"},{"$f":"Timings!AK2","v":"2046-04-01"},{"$f":"Timings!AL2","v":"2047-04-01"},{"$f":"Timings!AM2","v":"2048-04-01"}]
[null,null,null,null,null,null,null,null,"End Date",{"$f":"Timings!J3","v":"2020-03-31"},{"$f":"Timings!K3","v":"2021-03-31"},{"$f":"Timings!L3","v":"2022-03-31"},{"$f":"Timings!M3","v":"2023-03-31"},{"$f":"Timings!N3","v":"2024-03-31"},{"$f":"Timings!O3","v":"2025-03-31"},{"$f":"Timings!P3","v":"2026-03-31"},{"$f":"Timings!Q3","v":"2027-03-31"},{"$f":"Timings!R3","v":"2028-03-31"},{"$f":"Timings!S3","v":"2029-03-31"},{"$f":"Timings!T3","v":"2030-03-31"},{"$f":"Timings!U3","v":"2031-03-31"},{"$f":"Timings!V3","v":"2032-03-31"},{"$f":"Timings!W3","v":"2033-03-31"},{"$f":"Timings!X3","v":"2034-03-31"},{"$f":"Timings!Y3","v":"2035-03-31"},{"$f":"Timings!Z3","v":"2036-03-31"},{"$f":"Timings!AA3","v":"2037-03-31"},{"$f":"Timings!AB3","v":"2038-03-31"},{"$f":"Timings!AC3","v":"2039-03-31"},{"$f":"Timings!AD3","v":"2040-03-31"},{"$f":"Timings!AE3","v":"2041-03-31"},{"$f":"Timings!AF3","v":"2042-03-31"},{"$f":"Timings!AG3","v":"2043-03-31"},{"$f":"Timings!AH3","v":"2044-03-31"},{"$f":"Timings!AI3","v":"2045-03-31"},{"$f":"Timings!AJ3","v":"2046-03-31"},{"$f":"Timings!AK3","v":"2047-03-31"},{"$f":"Timings!AL3","v":"2048-03-31"},{"$f":"Timings!AM3","v":"2049-03-31"}]
[null,null,null,null,null,null,null,null,"Year",{"$f":"Timings!J4","v":2020},{"$f":"Timings!K4","v":2021},{"$f":"Timings!L4","v":2022},{"$f":"Timings!M4","v":2023},{"$f":"Timings!N4","v":2024},{"$f":"Timings!O4","v":2025},{"$f":"Timings!P4","v":2026},{"$f":"Timings!Q4","v":2027},{"$f":"Timings!R4","v":2028},{"$f":"Timings!S4","v":2029},{"$f":"Timings!T4","v":2030},{"$f":"Timings!U4","v":2031},{"$f":"Timings!V4","v":2032},{"$f":"Timings!W4","v":2033},{"$f":"Timings!X4","v":2034},{"$f":"Timings!Y4","v":2035},{"$f":"Timings!Z4","v":2036},{"$f":"Timings!AA4","v":2037},{"$f":"Timings!AB4","v":2038},{"$f":"Timings!AC4","v":2039},{"$f":"Timings!AD4","v":2040},{"$f":"Timings!AE4","v":2041},{"$f":"Timings!AF4","v":2042},{"$f":"Timings!AG4","v":2043},{"$f":"Timings!AH4","v":2044},{"$f":"Timings!AI4","v":2045},{"$f":"Timings!AJ4","v":2046},{"$f":"Timings!AK4","v":2047},{"$f":"Timings!AL4","v":2048},{"$f":"Timings!AM4","v":2049}]
[null,null,null,null,null,null,null,null,"Appraisal",{"$f":"Timings!J5","v":1},{"$f":"Timings!K5","v":0},{"$f":"Timings!L5","v":0},{"$f":"Timings!M5","v":0},{"$f":"Timings!N5","v":0},{"$f":"Timings!O5","v":0},{"$f":"Timings!P5","v":0},{"$f":"Timings!Q5","v":0},{"$f":"Timings!R5","v":0},{"$f":"Timings!S5","v":0},{"$f":"Timings!T5","v":0},{"$f":"Timings!U5","v":0},{"$f":"Timings!V5","v":0},{"$f":"Timings!W5","v":0},{"$f":"Timings!X5","v":0},{"$f":"Timings!Y5","v":0},{"$f":"Timings!Z5","v":0},{"$f":"Timings!AA5","v":0},{"$f":"Timings!AB5","v":0},{"$f":"Timings!AC5","v":0},{"$f":"Timings!AD5","v":0},{"$f":"Timings!AE5","v":0},{"$f":"Timings!AF5","v":0},{"$f":"Timings!AG5","v":0},{"$f":"Timings!AH5","v":0},{"$f":"Timings!AI5","v":0},{"$f":"Timings!AJ5","v":0},{"$f":"Timings!AK5","v":0},{"$f":"Timings!AL5","v":0},{"$f":"Timings!AM5","v":0}]
[null,null,null,null,null,null,null,null,"Well Development ",{"$f":"Timings!J6","v":1},{"$f":"Timings!K6","v":1},{"$f":"Timings!L6","v":0},{"$f":"Timings!M6","v":0},{"$f":"Timings!N6","v":0},{"$f":"Timings!O6","v":0},{"$f":"Timings!P6","v":0},{"$f":"Timings!Q6","v":0},{"$f":"Timings!R6","v":0},{"$f":"Timings!S6","v":0},{"$f":"Timings!T6","v":0},{"$f":"Timings!U6","v":0},{"$f":"Timings!V6","v":0},{"$f":"Timings!W6","v":0},{"$f":"Timings!X6","v":0},{"$f":"Timings!Y6","v":0},{"$f":"Timings!Z6","v":0},{"$f":"Timings!AA6","v":0},{"$f":"Timings!AB6","v":0},{"$f":"Timings!AC6","v":0},{"$f":"Timings!AD6","v":0},{"$f":"Timings!AE6","v":0},{"$f":"Timings!AF6","v":0},{"$f":"Timings!AG6","v":0},{"$f":"Timings!AH6","v":0},{"$f":"Timings!AI6","v":0},{"$f":"Timings!AJ6","v":0},{"$f":"Timings!AK6","v":0},{"$f":"Timings!AL6","v":0},{"$f":"Timings!AM6","v":0}]
[null,null,null,null,null,null,null,null,"Facilities",{"$f":"Timings!J7","v":1},{"$f":"Timings!K7","v":1},{"$f":"Timings!L7","v":0},{"$f":"Timings!M7","v":0},{"$f":"Timings!N7","v":0},{"$f":"Timings!O7","v":0},{"$f":"Timings!P7","v":0},{"$f":"Timings!Q7","v":0},{"$f":"Timings!R7","v":0},{"$f":"Timings!S7","v":0},{"$f":"Timings!T7","v":0},{"$f":"Timings!U7","v":0},{"$f":"Timings!V7","v":0},{"$f":"Timings!W7","v":0},{"$f":"Timings!X7","v":0},{"$f":"Timings!Y7","v":0},{"$f":"Timings!Z7","v":0},{"$f":"Timings!AA7","v":0},{"$f":"Timings!AB7","v":0},{"$f":"Timings!AC7","v":0},{"$f":"Timings!AD7","v":0},{"$f":"Timings!AE7","v":0},{"$f":"Timings!AF7","v":0},{"$f":"Timings!AG7","v":0},{"$f":"Timings!AH7","v":0},{"$f":"Timings!AI7","v":0},{"$f":"Timings!AJ7","v":0},{"$f":"Timings!AK7","v":0},{"$f":"Timings!AL7","v":0},{"$f":"Timings!AM7","v":0}]
[null,null,null,null,null,null,null,null,"Operations",{"$f":"Timings!J8","v":0},{"$f":"Timings!K8","v":1},{"$f":"Timings!L8","v":1},{"$f":"Timings!M8","v":1},{"$f":"Timings!N8","v":1},{"$f":"Timings!O8","v":1},{"$f":"Timings!P8","v":1},{"$f":"Timings!Q8","v":1},{"$f":"Timings!R8","v":1},{"$f":"Timings!S8","v":1},{"$f":"Timings!T8","v":1},{"$f":"Timings!U8","v":1},{"$f":"Timings!V8","v":1},{"$f":"Timings!W8","v":0},{"$f":"Timings!X8","v":0},{"$f":"Timings!Y8","v":0},{"$f":"Timings!Z8","v":0},{"$f":"Timings!AA8","v":0},{"$f":"Timings!AB8","v":0},{"$f":"Timings!AC8","v":0},{"$f":"Timings!AD8","v":0},{"$f":"Timings!AE8","v":0},{"$f":"Timings!AF8","v":0},{"$f":"Timings!AG8","v":0},{"$f":"Timings!AH8","v":0},{"$f":"Timings!AI8","v":0},{"$f":"Timings!AJ8","v":0},{"$f":"Timings!AK8","v":0},{"$f":"Timings!AL8","v":0},{"$f":"Timings!AM8","v":0}]
[]
[null,{"$f":"MAX($B$1:B9)+1","v":1},"Model Set-up"]
[]
[null,null,"Field Type",null,{"$f":"Dashboard!D13","v":"Onland"}]
[]
[null,{"$f":"MAX($B$1:B13)+1","v":2},"Model period"]
[]
[null,null,"First model period",null,"2019-04-01"]
[null,null,"No. of years of model","years",17]
[null,null,"Final Model period",null,{"$f":"DATE(YEAR(E16)+E17,MONTH(E16), DAY(E16))-1","v":"2036-03-31"}]
[]
[null,{"$f":"MAX($B$1:B19)+1","v":3},"Project Timelines"]
[]
[null,null,"Appraisal"]
[null,null,{"$f":"$C$22&\" start\"","v":"Appraisal start"},null,{"$f":"Dashboard!H12","v":"2019-04-01"}]
[null,null,{"$f":"$C$22&\" duration\"","v":"Appraisal duration"},"months",{"$f":"Dashboard!I12","v":12}]
[null,null,{"$f":"$C$22&\" end\"","v":"Appraisal end"},null,{"$f":"Dashboard!J12","v":"2020-03-31"}]
[]
[null,null,"Well Development"]
[null,null,{"$f":"$C$27&\" start\"","v":"Well Development start"},null,{"$f":"Dashboard!H13","v":"2019-04-01"}]
[null,null,{"$f":"$C$27&\" duration\"","v":"Well Development duration"},"months",{"$f":"Dashboard!I13","v":24}]
[null,null,{"$f":"$C$27&\" end\"","v":"Well Development end"},null,{"$f":"Dashboard!J13","v":"2021-03-31"}]
[]
[null,null,"Facilities Development"]
[null,null,{"$f":"$C$32&\" start\"","v":"Facilities Development start"},null,{"$f":"Dashboard!H14","v":"2019-04-01"}]
[null,null,{"$f":"$C$32&\" duration\"","v":"Facilities Development duration"},"months",{"$f":"Dashboard!I14","v":24}]
[null,null,{"$f":"$C$32&\" end\"","v":"Facilities Development end"},null,{"$f":"Dashboard!J14","v":"2021-03-31"}]
[]
[null,null,"Operations"]
[null,null,{"$f":"$C$37&\" start\"","v":"Operations start"},null,{"$f":"Dashboard!H15","v":"2020-04-01"}]
[null,null,{"$f":"$C$37&\" duration\"","v":"Operations duration"},"months",{"$f":"15*12","v":180}]
[null,null,{"$f":"$C$37&\" end\"","v":"Operations end"},null,{"$f":"Dashboard!J15","v":"2032-03-31"}]
[]
[null,{"$f":"MAX($B$1:B41)+1","v":4},"Inputs"]
[]
[null,null,"No. of wells in field",null,{"$f":"Dashboard!D14","v":2}]
[null,null,"Internal Consumption - Oil",null,0]
[null,null,"Internal Consumption - Gas",null,0]
[]
[]
[null,null,"Production Profile"]
[null,null,"Choose the case"]
[null,null,"Oil","MMT",{"$f":"SUM(J51:AM51)","v":3},null,null,null,null,{"$f":"Profile!K11","v":0},{"$f":"Profile!L11","v":0},{"$f":"Profile!M11","v":0.63},{"$f":"Profile!N11","v":0.15000000000000002},{"$f":"Profile!O11","v":0.18},{"$f":"Profile!P11","v":0.21000000000000002},{"$f":"Profile!Q11","v":0.24},{"$f":"Profile!R11","v":0.36},{"$f":"Profile!S11","v":0.27},{"$f":"Profile!T11","v":0.30000000000000004},{"$f":"Profile!U11","v":0.24},{"$f":"Profile!V11","v":0.21000000000000002},{"$f":"Profile!W11","v":0.12},{"$f":"Profile!X11","v":0.09},{"$f":"Profile!Y11","v":0},{"$f":"Profile!Z11","v":0},{"$f":"Profile!AA11","v":0},{"$f":"Profile!AB11","v":0},{"$f":"Profile!AC11","v":0},{"$f":"Profile!AD11","v":0},{"$f":"Profile!AE11","v":0},{"$f":"Profile!AF11","v":0},{"$f":"Profile!AG11","v":0},{"$f":"Profile!AH11","v":0},{"$f":"Profile!AI11","v":0},{"$f":"Profile!AJ11","v":0},{"$f":"Profile!AK11","v":0},{"$f":"Profile!AL11","v":0},{"$f":"Profile!AM11","v":0},{"$f":"Profile!AN11","v":0}]
[null,null,"Gas","BCM",{"$f":"SUM(J52:AM52)","v":0.5},null,null,null,null,{"$f":"Profile!K12","v":0},{"$f":"Profile!L12","v":0},{"$f":"Profile!M12","v":0.105},{"$f":"Profile!N12","v":2.5000000000000001E-2},{"$f":"Profile!O12","v":0.03},{"$f":"Profile!P12","v":3.5000000000000003E-2},{"$f":"Profile!Q12","v":0.04},{"$f":"Profile!R12","v":0.06},{"$f":"Profile!S12","v":4.4999999999999998E-2},{"$f":"Profile!T12","v":0.05},{"$f":"Profile!U12","v":0.04},{"$f":"Profile!V12","v":3.5000000000000003E-2},{"$f":"Profile!W12","v":0.02},{"$f":"Profile!X12","v":1.4999999999999999E-2},{"$f":"Profile!Y12","v":0},{"$f":"Profile!Z12","v":0},{"$f":"Profile!AA12","v":0},{"$f":"Profile!AB12","v":0},{"$f":"Profile!AC12","v":0},{"$f":"Profile!AD12","v":0},{"$f":"Profile!AE12","v":0},{"$f":"Profile!AF12","v":0},{"$f":"Profile!AG12","v":0},{"$f":"Profile!AH12","v":0},{"$f":"Profile!AI12","v":0},{"$f":"Profile!AJ12","v":0},{"$f":"Profile!AK12","v":0},{"$f":"Profile!AL12","v":0},{"$f":"Profile!AM12","v":0},{"$f":"Profile!AN12","v":0}]
[]
[null,null,"Internal Consumption/Losses"]
[null,null,{"$f":"C51","v":"Oil"},null,{"$f":"SUM(J55:AM55)","v":0},null,null,null,null,{"$f":"$E$45*J51","v":0},{"$f":"$E$45*K51","v":0},0,0,0,0,0,0,0,0,0,0,0,0,0,0,0,0,0,0,0,0,0,0,0,0,0,0,0,0]
[null,null,{"$f":"C52","v":"Gas"},null,{"$f":"SUM(J56:AM56)","v":0},null,null,null,null,{"$f":"$E$46*J52","v":0},{"$f":"$E$46*K52","v":0},0,0,0,0,0,0,0,0,0,0,0,0,0,0,0,0,0,0,0,0,0,0,0,0,0,0,0,0]
[]
[null,null,"Pricing"]
[null,null,null,"Chose Method",{"$f":"Dashboard!D18","v":"User to Input the Crude Oil Price"}]
[{"$f":"IF(E59=\"Market Price\",1,2)","v":2},"User Input","Oil Price","USD per barrel",{"$f":"Dashboard!D19","v":80},null,null,null,null,76.245338000000004,77.689269999999993,79.133178999999998,81.286972000000006,83.635468000000003,86.087494000000007,88.602538999999993,91.129149999999996,93.863028999999997,96.678916999999998,99.579284999999999,102.566666,105.64366099999999,108.812973,112.07736199999999,115.43383799999999,118.711304,122.203247,125.813187,129.326111,133.17593400000001,137.41243,141.27615399999999]
[null,"Analyst Forecast","Gas Price","USD per mmbtu",{"$f":"Dashboard!D20","v":10}]
[]
[null,null,"Constants"]
[null,null,"Oil"]
[null,null,"Specific Gravity Oil",null,0.876]
[null,null,"barrel/kilolitre",null,6.2897999999999996]
[]
[null,null,"Gas"]
[null,null,"Cal/BTU",null,252]
[null,null,"Kcal/m3",null,11061]
[null,null,"BTU/m3",null,{"$f":"1000/E69*E70","v":43892.857142857145}]
[]
[]
[null,null,"Capex",null,"Onland","Offshore","Deepwater"]
[null,null,{"$f":"Dashboard!G20","v":"Appraisal Cost"},"USD Mn",{"$f":"Dashboard!H20","v":0.125},{"$f":"Dashboard!I20","v":0.75},{"$f":"Dashboard!J20","v":1.5},"per well",{"$f":"IF($E$12=\"Onland\",1,IF($E$12=\"Offshore\",2,3))","v":1},{"$f":"IFERROR((1/COUNTIF($J5:$AM5,1))*J5,)","v":1},{"$f":"IFERROR((1/COUNTIF($J5:$AM5,1))*K5,)","v":0},0,0,0,0,0,0,0,0,0,0,0,0,0,0,0,0,0,0,0,0,0,0,0,0,0,0,0,0]
[null,null,{"$f":"Dashboard!G21","v":"Well development cost"},"USD Mn",{"$f":"Dashboard!H21","v":2.5},{"$f":"Dashboard!I21","v":15},{"$f":"Dashboard!J21","v":30},"per well",null,{"$f":"(1/COUNTIF($J6:$AM6,1))*J6","v":0.5},0.5,0,0,0,0,0,0,0,0,0,0,0,0,0,0,{"$f":"(1/COUNTIF($J6:$AM6,1))*Z6","v":0},0,0,0,0,0,0,0,0,0,0,0,0,0]
[null,null,{"$f":"Dashboard!G22","v":"Surface facilities"},"USD Mn",{"$f":"Dashboard!H22","v":0.25},{"$f":"Dashboard!I22","v":10},{"$f":"Dashboard!J22","v":30},"per well",null,0.5,0.5,0,0,0,0,0,0,0,0,0,0,0,0,0,0,0,0,0,0,0,0,0,0,0,0,0,0,0,0]
[null,null,"Evacuation infrastructure cost (pipeline etc.)","USD Mn",null,null,null,"per well",null,0,0,0,0,0,0,0,0,0,0,0,0,0,0,0,0,0,0,0,0,0,0,0,0,0,0,0,0,0,0]
[null,null,"Any other additional cost","USD Mn",null,null,null,"per well",null,0,0,0,0,0,0,0,0,0,0,0,0,0,0,0,0,0,0,0,0,0,0,0,0,0,0,0,0,0,0]
[null,null,"Abandonment Cost","USD Mn",null,null,null,"per well",null,0,0,0,0,0,0,0,0,0,0,0,0,0,0,0,0,0,0,0,0,0,0,0,0,0,0,0,0,0,0]
[]
[null,null,"Capex"]
[null,null,{"$f":"C75","v":"Appraisal Cost"},{"$f":"D75","v":"USD Mn"},{"$f":"SUM(J83:AM83)","v":0.25},null,null,null,null,{"$f":"IF($I$75=2,$F75*$E$44*J75,IF($I$75=1,$E75*$E$44*J75,$G75*$E$44*J75))","v":0.25},{"$f":"IF($I$75=2,$F75*$E$44*K75,IF($I$75=1,$E75*$E$44*K75,$G75*$E$44*K75))","v":0},0,0,0,0,0,0,0,0,0,0,0,0,0,0,0,0,0,0,0,0,0,0,0,0,0,0,0,0]
[null,null,"Well development cost","USD Mn",{"$f":"SUM(J84:AM84)","v":5},null,null,null,null,{"$f":"IF($I$75=2,$F76*$E$44*J76,IF($I$75=1,$E76*$E$44*J76,$G76*$E$44*J76))","v":2.5},2.5,0,0,0,0,0,0,0,0,0,0,0,0,0,0,0,0,0,0,0,0,0,0,0,0,0,0,0,0]
[null,null,"Surface facilities","USD Mn",0.5,null,null,null,null,0.25,0.25,0,0,0,0,0,0,0,0,0,0,0,0,0,0,0,0,0,0,0,0,0,0,0,0,0,0,0,0]
[null,null,"Evacuation infrastructure cost (pipeline etc.)","USD Mn",0,null,null,null,null,0,0,0,0,0,0,0,0,0,0,0,0,0,0,0,0,0,0,0,0,0,0,0,0,0,0,0,0,0,0]
[null,null,"Any other additional cost","USD Mn",0,null,null,null,null,0,0,0,0,0,0,0,0,0,0,0,0,0,0,0,0,0,0,0,0,0,0,0,0,0,0,0,0,0,0]
[null,null,"Abandonment Cost","USD Mn",0,null,null,null,null,0,0,0,0,0,0,0,0,0,0,0,0,0,0,0,0,0,0,0,0,0,0,0,0,0,0,0,0,0,0]
[]
[null,null,"Upfront Payment"]
[null,null,"Upfront Payment","USD Mn",{"$f":"SUM(J91:AM91)","v":0},null,null,null,null,0,0,0,0,0,0,0,0,0,0,0,0,0,0,0,0,0,0,0,0,0,0,0,0,0,0,0,0,0,0]
[]
[]
[null,null,"Opex"]
[null,null,"Processing cost - Oil","USD",{"$f":"Dashboard!H24","v":5},"per Barrel"]
[null,null,"Processing cost - Gas","USD",{"$f":"Dashboard!H25","v":0.5},"per mmbtu"]
[]
[null,null,"Processing cost - Oil","USD Mn",{"$f":"SUM(J98:AM98)","v":107.70205479452055},null,null,null,null,{"$f":"(J51*10^6*10^3)/$E$65/10^3*$E$66*$E$95/10^6","v":0},{"$f":"(K51*10^6*10^3)/$E$65/10^3*$E$66*$E$95/10^6","v":0},22.617431506849311,5.3851027397260278,6.4621232876712327,7.5391438356164384,8.6161643835616424,12.924246575342465,9.6931849315068472,10.770205479452056,8.6161643835616424,7.5391438356164384,4.3080821917808212,3.2310616438356163,0,0,0,0,0,0,0,0,0,0,0,0,0,0,0,0]
[null,null,"Processing cost - Gas","USD Mn",{"$f":"SUM(J99:AM99)","v":10.973214285714286},null,null,null,null,{"$f":"(J52*10^9*$E$71/10^6)*$E$96/10^6","v":0},{"$f":"(K52*10^9*$E$71/10^6)*$E$96/10^6","v":0},2.3043749999999998,0.54866071428571428,0.65839285714285711,0.76812499999999995,0.877857142857143,1.3167857142857142,0.98758928571428584,1.0973214285714286,0.877857142857143,0.76812499999999995,0.4389285714285715,0.32919642857142856,0,0,0,0,0,0,0,0,0,0,0,0,0,0,0,0]
[null,null,"Gas transportation","USD",0,"per mmbtu"]
[]
[null,null,"Financing"]
[null,null,"Debt financing ",null,{"$f":"Dashboard!H28","v":0.2}]
[null,null,"Interest Rate",null,{"$f":"Dashboard!H29","v":0.1}]
[]
[null,null,"Repayment period","years",{"$f":"Dashboard!H30","v":10},"after construction period"]
[null,null,"Financing fee",null,5.0000000000000001E-3]
[]
[null,null,"Royalty"]
[null,null,"Oil","%",{"$f":"Dashboard!D28","v":0.125},{"$f":"IF(Dashboard!$D$13=\"Deepwater\",\"for first 7 years and then 5%\",\"\")","v":""}]
[null,null,"Gas","%",{"$f":"Dashboard!D29","v":0.1},{"$f":"IF(Dashboard!$D$13=\"Deepwater\",\"for first 7 years and then 5%\",\"\")","v":""}]
[null,null,"Standard deductible amount","INR per MT",0]
[null,null,"NCCD","INR per MT",0]
[null,null,"Cess","INR per MT",0]
[]
[null,null,"Taxes"]
[null,null,"Corporate tax","%",0]
[null,null,"MAT","%",0]
[null,null,"Dividend tax","%",0]
[null,null,"Service Tax","%",0]
[null,null,"Work Contract tax","%",0]
[null,null,"Sales Tax","%",0]
[null,null,"VAT","%",0]
[]
[null,null,"Depreciation",null,"Regular","Additional"]
[null,null,"Appraisal",null,1,0]
[null,null,"Well development",null,1,0]
[null,null,"Facilities",null,0.15,0.2]
[null,null,"Pipline",null,0.6,0.2]
[]
[null,null,"Escalation"]
[null,null,"Base Year",null,2016]
[null,null,"Capex",null,0.06]
[null,null,"Opex",null,0.08]
[null,null,"Rupee Depreciation",null,0]
[null,null,"Oil price",null,0]
[null,null,"Gas price",null,0]
[]
[null,null,"Exchange Rate"]
[null,null,"USD INR",null,{"$f":"Dashboard!D21","v":67}]
[]
[null,null,"Government Share","At LRP",{"$f":"Dashboard!D24","v":0.2}]
[null,null,null,"At HRP",{"$f":"Dashboard!D25","v":0.5}]
[null,null,null,"LRP (Rev per day)",0.01,"USD Mn"]
[null,null,null,"HRP (Rev per day)",1,"USD Mn"]
[null,null,"Hurdle Rate",null,0.1]
[null,null,"Cost of Equity",null,0.12]
[]
[null,null,"Thousand",null,1000]
[null,null,"Lakh",null,100000]
[null,null,"Crore",null,10000000]
[null,null,"Million",null,{"$f":"10^6","v":1000000}]
[null,null,"Billion",null,{"$f":"10^9","v":1000000000}]
[]
[]
[]
[]
[]
[null,null,"Field Type"]
[null,null,"Onland"]
[null,null,"Offshore"]
[null,null,"Deepwater"]
[]
[null,null,"Field Regime"]
[null,null,"Nomination"]
[null,null,"Pre-NELP"]
[null,null,"NELP"]
[]
[null,null,"Royalty Calculations (NELP)"]
[null,null,"Oil","Ex-Royalty basis"]
[null,null,"Onland",0.125]
[null,null,"Offshore",7.4999999999999997E-2]
[null,null,"Deepwater",0,"First 7 years"]
[null,null,"Gas"]
[null,null,"Onland",0.1]
[null,null,"Offshore",7.4999999999999997E-2]
[null,null,"Deepwater",0,"First 7 years"]

{"sheet":"Capex","index":3,"n_rows":22,"n_cols":39,"rows_kept":22,"cut":false,"hidden":true,"merged":[]}
[null,null,null,null,null,null,null,null,"Period No.",{"$f":"Timings!J1","v":1},{"$f":"Timings!K1","v":2},{"$f":"Timings!L1","v":3},{"$f":"Timings!M1","v":4},{"$f":"Timings!N1","v":5},{"$f":"Timings!O1","v":6},{"$f":"Timings!P1","v":7},{"$f":"Timings!Q1","v":8},{"$f":"Timings!R1","v":9},{"$f":"Timings!S1","v":10},{"$f":"Timings!T1","v":11},{"$f":"Timings!U1","v":12},{"$f":"Timings!V1","v":13},{"$f":"Timings!W1","v":14},{"$f":"Timings!X1","v":15},{"$f":"Timings!Y1","v":16},{"$f":"Timings!Z1","v":17},{"$f":"Timings!AA1","v":0},{"$f":"Timings!AB1","v":0},{"$f":"Timings!AC1","v":0},{"$f":"Timings!AD1","v":0},{"$f":"Timings!AE1","v":0},{"$f":"Timings!AF1","v":0},{"$f":"Timings!AG1","v":0},{"$f":"Timings!AH1","v":0},{"$f":"Timings!AI1","v":0},{"$f":"Timings!AJ1","v":0},{"$f":"Timings!AK1","v":0},{"$f":"Timings!AL1","v":0},{"$f":"Timings!AM1","v":0}]
[null,null,"CAPEX",null,null,null,null,null,"Start Date",{"$f":"Timings!J2","v":"2019-04-01"},{"$f":"Timings!K2","v":"2020-04-01"},{"$f":"Timings!L2","v":"2021-04-01"},{"$f":"Timings!M2","v":"2022-04-01"},{"$f":"Timings!N2","v":"2023-04-01"},{"$f":"Timings!O2","v":"2024-04-01"},{"$f":"Timings!P2","v":"2025-04-01"},{"$f":"Timings!Q2","v":"2026-04-01"},{"$f":"Timings!R2","v":"2027-04-01"},{"$f":"Timings!S2","v":"2028-04-01"},{"$f":"Timings!T2","v":"2029-04-01"},{"$f":"Timings!U2","v":"2030-04-01"},{"$f":"Timings!V2","v":"2031-04-01"},{"$f":"Timings!W2","v":"2032-04-01"},{"$f":"Timings!X2","v":"2033-04-01"},{"$f":"Timings!Y2","v":"2034-04-01"},{"$f":"Timings!Z2","v":"2035-04-01"},{"$f":"Timings!AA2","v":"2036-04-01"},{"$f":"Timings!AB2","v":"2037-04-01"},{"$f":"Timings!AC2","v":"2038-04-01"},{"$f":"Timings!AD2","v":"2039-04-01"},{"$f":"Timings!AE2","v":"2040-04-01"},{"$f":"Timings!AF2","v":"2041-04-01"},{"$f":"Timings!AG2","v":"2042-04-01"},{"$f":"Timings!AH2","v":"2043-04-01"},{"$f":"Timings!AI2","v":"2044-04-01"},{"$f":"Timings!AJ2","v":"2045-04-01"},{"$f":"Timings!AK2","v":"2046-04-01"},{"$f":"Timings!AL2","v":"2047-04-01"},{"$f":"Timings!AM2","v":"2048-04-01"}]
[null,null,null,null,null,null,null,null,"End Date",{"$f":"Timings!J3","v":"2020-03-31"},{"$f":"Timings!K3","v":"2021-03-31"},{"$f":"Timings!L3","v":"2022-03-31"},{"$f":"Timings!M3","v":"2023-03-31"},{"$f":"Timings!N3","v":"2024-03-31"},{"$f":"Timings!O3","v":"2025-03-31"},{"$f":"Timings!P3","v":"2026-03-31"},{"$f":"Timings!Q3","v":"2027-03-31"},{"$f":"Timings!R3","v":"2028-03-31"},{"$f":"Timings!S3","v":"2029-03-31"},{"$f":"Timings!T3","v":"2030-03-31"},{"$f":"Timings!U3","v":"2031-03-31"},{"$f":"Timings!V3","v":"2032-03-31"},{"$f":"Timings!W3","v":"2033-03-31"},{"$f":"Timings!X3","v":"2034-03-31"},{"$f":"Timings!Y3","v":"2035-03-31"},{"$f":"Timings!Z3","v":"2036-03-31"},{"$f":"Timings!AA3","v":"2037-03-31"},{"$f":"Timings!AB3","v":"2038-03-31"},{"$f":"Timings!AC3","v":"2039-03-31"},{"$f":"Timings!AD3","v":"2040-03-31"},{"$f":"Timings!AE3","v":"2041-03-31"},{"$f":"Timings!AF3","v":"2042-03-31"},{"$f":"Timings!AG3","v":"2043-03-31"},{"$f":"Timings!AH3","v":"2044-03-31"},{"$f":"Timings!AI3","v":"2045-03-31"},{"$f":"Timings!AJ3","v":"2046-03-31"},{"$f":"Timings!AK3","v":"2047-03-31"},{"$f":"Timings!AL3","v":"2048-03-31"},{"$f":"Timings!AM3","v":"2049-03-31"}]
[null,null,null,null,null,null,null,null,"Year",{"$f":"Timings!J4","v":2020},{"$f":"Timings!K4","v":2021},{"$f":"Timings!L4","v":2022},{"$f":"Timings!M4","v":2023},{"$f":"Timings!N4","v":2024},{"$f":"Timings!O4","v":2025},{"$f":"Timings!P4","v":2026},{"$f":"Timings!Q4","v":2027},{"$f":"Timings!R4","v":2028},{"$f":"Timings!S4","v":2029},{"$f":"Timings!T4","v":2030},{"$f":"Timings!U4","v":2031},{"$f":"Timings!V4","v":2032},{"$f":"Timings!W4","v":2033},{"$f":"Timings!X4","v":2034},{"$f":"Timings!Y4","v":2035},{"$f":"Timings!Z4","v":2036},{"$f":"Timings!AA4","v":2037},{"$f":"Timings!AB4","v":2038},{"$f":"Timings!AC4","v":2039},{"$f":"Timings!AD4","v":2040},{"$f":"Timings!AE4","v":2041},{"$f":"Timings!AF4","v":2042},{"$f":"Timings!AG4","v":2043},{"$f":"Timings!AH4","v":2044},{"$f":"Timings!AI4","v":2045},{"$f":"Timings!AJ4","v":2046},{"$f":"Timings!AK4","v":2047},{"$f":"Timings!AL4","v":2048},{"$f":"Timings!AM4","v":2049}]
[null,null,null,null,null,null,null,null,"Appraisal",{"$f":"Timings!J5","v":1},{"$f":"Timings!K5","v":0},{"$f":"Timings!L5","v":0},{"$f":"Timings!M5","v":0},{"$f":"Timings!N5","v":0},{"$f":"Timings!O5","v":0},{"$f":"Timings!P5","v":0},{"$f":"Timings!Q5","v":0},{"$f":"Timings!R5","v":0},{"$f":"Timings!S5","v":0},{"$f":"Timings!T5","v":0},{"$f":"Timings!U5","v":0},{"$f":"Timings!V5","v":0},{"$f":"Timings!W5","v":0},{"$f":"Timings!X5","v":0},{"$f":"Timings!Y5","v":0},{"$f":"Timings!Z5","v":0},{"$f":"Timings!AA5","v":0},{"$f":"Timings!AB5","v":0},{"$f":"Timings!AC5","v":0},{"$f":"Timings!AD5","v":0},{"$f":"Timings!AE5","v":0},{"$f":"Timings!AF5","v":0},{"$f":"Timings!AG5","v":0},{"$f":"Timings!AH5","v":0},{"$f":"Timings!AI5","v":0},{"$f":"Timings!AJ5","v":0},{"$f":"Timings!AK5","v":0},{"$f":"Timings!AL5","v":0},{"$f":"Timings!AM5","v":0}]
[null,null,null,null,null,null,null,null,"Well Development ",{"$f":"Timings!J6","v":1},{"$f":"Timings!K6","v":1},{"$f":"Timings!L6","v":0},{"$f":"Timings!M6","v":0},{"$f":"Timings!N6","v":0},{"$f":"Timings!O6","v":0},{"$f":"Timings!P6","v":0},{"$f":"Timings!Q6","v":0},{"$f":"Timings!R6","v":0},{"$f":"Timings!S6","v":0},{"$f":"Timings!T6","v":0},{"$f":"Timings!U6","v":0},{"$f":"Timings!V6","v":0},{"$f":"Timings!W6","v":0},{"$f":"Timings!X6","v":0},{"$f":"Timings!Y6","v":0},{"$f":"Timings!Z6","v":0},{"$f":"Timings!AA6","v":0},{"$f":"Timings!AB6","v":0},{"$f":"Timings!AC6","v":0},{"$f":"Timings!AD6","v":0},{"$f":"Timings!AE6","v":0},{"$f":"Timings!AF6","v":0},{"$f":"Timings!AG6","v":0},{"$f":"Timings!AH6","v":0},{"$f":"Timings!AI6","v":0},{"$f":"Timings!AJ6","v":0},{"$f":"Timings!AK6","v":0},{"$f":"Timings!AL6","v":0},{"$f":"Timings!AM6","v":0}]
[null,null,null,null,null,null,null,null,"Facilities",{"$f":"Timings!J7","v":1},{"$f":"Timings!K7","v":1},{"$f":"Timings!L7","v":0},{"$f":"Timings!M7","v":0},{"$f":"Timings!N7","v":0},{"$f":"Timings!O7","v":0},{"$f":"Timings!P7","v":0},{"$f":"Timings!Q7","v":0},{"$f":"Timings!R7","v":0},{"$f":"Timings!S7","v":0},{"$f":"Timings!T7","v":0},{"$f":"Timings!U7","v":0},{"$f":"Timings!V7","v":0},{"$f":"Timings!W7","v":0},{"$f":"Timings!X7","v":0},{"$f":"Timings!Y7","v":0},{"$f":"Timings!Z7","v":0},{"$f":"Timings!AA7","v":0},{"$f":"Timings!AB7","v":0},{"$f":"Timings!AC7","v":0},{"$f":"Timings!AD7","v":0},{"$f":"Timings!AE7","v":0},{"$f":"Timings!AF7","v":0},{"$f":"Timings!AG7","v":0},{"$f":"Timings!AH7","v":0},{"$f":"Timings!AI7","v":0},{"$f":"Timings!AJ7","v":0},{"$f":"Timings!AK7","v":0},{"$f":"Timings!AL7","v":0},{"$f":"Timings!AM7","v":0}]
[null,null,null,null,null,null,null,null,"Operations",{"$f":"Timings!J8","v":0},{"$f":"Timings!K8","v":1},{"$f":"Timings!L8","v":1},{"$f":"Timings!M8","v":1},{"$f":"Timings!N8","v":1},{"$f":"Timings!O8","v":1},{"$f":"Timings!P8","v":1},{"$f":"Timings!Q8","v":1},{"$f":"Timings!R8","v":1},{"$f":"Timings!S8","v":1},{"$f":"Timings!T8","v":1},{"$f":"Timings!U8","v":1},{"$f":"Timings!V8","v":1},{"$f":"Timings!W8","v":0},{"$f":"Timings!X8","v":0},{"$f":"Timings!Y8","v":0},{"$f":"Timings!Z8","v":0},{"$f":"Timings!AA8","v":0},{"$f":"Timings!AB8","v":0},{"$f":"Timings!AC8","v":0},{"$f":"Timings!AD8","v":0},{"$f":"Timings!AE8","v":0},{"$f":"Timings!AF8","v":0},{"$f":"Timings!AG8","v":0},{"$f":"Timings!AH8","v":0},{"$f":"Timings!AI8","v":0},{"$f":"Timings!AJ8","v":0},{"$f":"Timings!AK8","v":0},{"$f":"Timings!AL8","v":0},{"$f":"Timings!AM8","v":0}]
[]
[null,null,"Capex"]
[null,null,{"$f":"Inputs!C83","v":"Appraisal Cost"},null,{"$f":"IFERROR(G11/$G$16,)","v":4.2265426880811502E-2},null,{"$f":"SUM(J11:AM11)","v":0.26500000000000001},"USD Mn",null,{"$f":"IFERROR(Inputs!J83*(1+Inputs!$E$133)^J1,0)","v":0.26500000000000001},{"$f":"IFERROR(Inputs!K83*(1+Inputs!$E$133)^K1,0)","v":0},{"$f":"IFERROR(Inputs!L83*(1+Inputs!$E$133)^L1,0)","v":0},{"$f":"IFERROR(Inputs!M83*(1+Inputs!$E$133)^M1,0)","v":0},{"$f":"IFERROR(Inputs!N83*(1+Inputs!$E$133)^N1,0)","v":0},{"$f":"IFERROR(Inputs!O83*(1+Inputs!$E$133)^O1,0)","v":0},{"$f":"IFERROR(Inputs!P83*(1+Inputs!$E$133)^P1,0)","v":0},{"$f":"IFERROR(Inputs!Q83*(1+Inputs!$E$133)^Q1,0)","v":0},{"$f":"IFERROR(Inputs!R83*(1+Inputs!$E$133)^R1,0)","v":0},{"$f":"IFERROR(Inputs!S83*(1+Inputs!$E$133)^S1,0)","v":0},{"$f":"IFERROR(Inputs!T83*(1+Inputs!$E$133)^T1,0)","v":0},{"$f":"IFERROR(Inputs!U83*(1+Inputs!$E$133)^U1,0)","v":0},{"$f":"IFERROR(Inputs!V83*(1+Inputs!$E$133)^V1,0)","v":0},{"$f":"IFERROR(Inputs!W83*(1+Inputs!$E$133)^W1,0)","v":0},{"$f":"IFERROR(Inputs!X83*(1+Inputs!$E$133)^X1,0)","v":0},{"$f":"IFERROR(Inputs!Y83*(1+Inputs!$E$133)^Y1,0)","v":0},{"$f":"IFERROR(Inputs!Z83*(1+Inputs!$E$133)^Z1,0)","v":0},{"$f":"IFERROR(Inputs!AA83*(1+Inputs!$E$133)^AA1,0)","v":0},{"$f":"IFERROR(Inputs!AB83*(1+Inputs!$E$133)^AB1,0)","v":0},{"$f":"IFERROR(Inputs!AC83*(1+Inputs!$E$133)^AC1,0)","v":0},{"$f":"IFERROR(Inputs!AD83*(1+Inputs!$E$133)^AD1,0)","v":0},{"$f":"IFERROR(Inputs!AE83*(1+Inputs!$E$133)^AE1,0)","v":0},{"$f":"IFERROR(Inputs!AF83*(1+Inputs!$E$133)^AF1,0)","v":0},{"$f":"IFERROR(Inputs!AG83*(1+Inputs!$E$133)^AG1,0)","v":0},{"$f":"IFERROR(Inputs!AH83*(1+Inputs!$E$133)^AH1,0)","v":0},{"$f":"IFERROR(Inputs!AI83*(1+Inputs!$E$133)^AI1,0)","v":0},{"$f":"IFERROR(Inputs!AJ83*(1+Inputs!$E$133)^AJ1,0)","v":0},{"$f":"IFERROR(Inputs!AK83*(1+Inputs!$E$133)^AK1,0)","v":0},{"$f":"IFERROR(Inputs!AL83*(1+Inputs!$E$133)^AL1,0)","v":0},{"$f":"IFERROR(Inputs!AM83*(1+Inputs!$E$133)^AM1,0)","v":0}]
[null,null,{"$f":"Inputs!C84","v":"Well development cost"},null,{"$f":"IFERROR(G12/$G$16,)","v":0.87066779374471692},null,{"$f":"SUM(J12:AM12)","v":5.4590000000000005},"USD Mn",null,{"$f":"IFERROR(Inputs!J84*(1+Inputs!$E$133)^J1,0)","v":2.6500000000000004},{"$f":"IFERROR(Inputs!K84*(1+Inputs!$E$133)^K1,0)","v":2.8090000000000002},{"$f":"IFERROR(Inputs!L84*(1+Inputs!$E$133)^L1,0)","v":0},{"$f":"IFERROR(Inputs!M84*(1+Inputs!$E$133)^M1,0)","v":0},{"$f":"IFERROR(Inputs!N84*(1+Inputs!$E$133)^N1,0)","v":0},{"$f":"IFERROR(Inputs!O84*(1+Inputs!$E$133)^O1,0)","v":0},{"$f":"IFERROR(Inputs!P84*(1+Inputs!$E$133)^P1,0)","v":0},{"$f":"IFERROR(Inputs!Q84*(1+Inputs!$E$133)^Q1,0)","v":0},{"$f":"IFERROR(Inputs!R84*(1+Inputs!$E$133)^R1,0)","v":0},{"$f":"IFERROR(Inputs!S84*(1+Inputs!$E$133)^S1,0)","v":0},{"$f":"IFERROR(Inputs!T84*(1+Inputs!$E$133)^T1,0)","v":0},{"$f":"IFERROR(Inputs!U84*(1+Inputs!$E$133)^U1,0)","v":0},{"$f":"IFERROR(Inputs!V84*(1+Inputs!$E$133)^V1,0)","v":0},{"$f":"IFERROR(Inputs!W84*(1+Inputs!$E$133)^W1,0)","v":0},{"$f":"IFERROR(Inputs!X84*(1+Inputs!$E$133)^X1,0)","v":0},{"$f":"IFERROR(Inputs!Y84*(1+Inputs!$E$133)^Y1,0)","v":0},{"$f":"IFERROR(Inputs!Z84*(1+Inputs!$E$133)^Z1,0)","v":0},{"$f":"IFERROR(Inputs!AA84*(1+Inputs!$E$133)^AA1,0)","v":0},{"$f":"IFERROR(Inputs!AB84*(1+Inputs!$E$133)^AB1,0)","v":0},{"$f":"IFERROR(Inputs!AC84*(1+Inputs!$E$133)^AC1,0)","v":0},{"$f":"IFERROR(Inputs!AD84*(1+Inputs!$E$133)^AD1,0)","v":0},{"$f":"IFERROR(Inputs!AE84*(1+Inputs!$E$133)^AE1,0)","v":0},{"$f":"IFERROR(Inputs!AF84*(1+Inputs!$E$133)^AF1,0)","v":0},{"$f":"IFERROR(Inputs!AG84*(1+Inputs!$E$133)^AG1,0)","v":0},{"$f":"IFERROR(Inputs!AH84*(1+Inputs!$E$133)^AH1,0)","v":0},{"$f":"IFERROR(Inputs!AI84*(1+Inputs!$E$133)^AI1,0)","v":0},{"$f":"IFERROR(Inputs!AJ84*(1+Inputs!$E$133)^AJ1,0)","v":0},{"$f":"IFERROR(Inputs!AK84*(1+Inputs!$E$133)^AK1,0)","v":0},{"$f":"IFERROR(Inputs!AL84*(1+Inputs!$E$133)^AL1,0)","v":0},{"$f":"IFERROR(Inputs!AM84*(1+Inputs!$E$133)^AM1,0)","v":0}]
[null,null,{"$f":"Inputs!C85","v":"Surface facilities"},null,8.7066779374471687E-2,null,0.54590000000000005,"USD Mn",null,{"$f":"IFERROR(Inputs!J85*(1+Inputs!$E$133)^J1,0)","v":0.26500000000000001},{"$f":"IFERROR(Inputs!K85*(1+Inputs!$E$133)^K1,0)","v":0.28090000000000004},{"$f":"IFERROR(Inputs!L85*(1+Inputs!$E$133)^L1,0)","v":0},{"$f":"IFERROR(Inputs!M85*(1+Inputs!$E$133)^M1,0)","v":0},{"$f":"IFERROR(Inputs!N85*(1+Inputs!$E$133)^N1,0)","v":0},{"$f":"IFERROR(Inputs!O85*(1+Inputs!$E$133)^O1,0)","v":0},{"$f":"IFERROR(Inputs!P85*(1+Inputs!$E$133)^P1,0)","v":0},{"$f":"IFERROR(Inputs!Q85*(1+Inputs!$E$133)^Q1,0)","v":0},{"$f":"IFERROR(Inputs!R85*(1+Inputs!$E$133)^R1,0)","v":0},{"$f":"IFERROR(Inputs!S85*(1+Inputs!$E$133)^S1,0)","v":0},{"$f":"IFERROR(Inputs!T85*(1+Inputs!$E$133)^T1,0)","v":0},{"$f":"IFERROR(Inputs!U85*(1+Inputs!$E$133)^U1,0)","v":0},{"$f":"IFERROR(Inputs!V85*(1+Inputs!$E$133)^V1,0)","v":0},{"$f":"IFERROR(Inputs!W85*(1+Inputs!$E$133)^W1,0)","v":0},{"$f":"IFERROR(Inputs!X85*(1+Inputs!$E$133)^X1,0)","v":0},{"$f":"IFERROR(Inputs!Y85*(1+Inputs!$E$133)^Y1,0)","v":0},{"$f":"IFERROR(Inputs!Z85*(1+Inputs!$E$133)^Z1,0)","v":0},{"$f":"IFERROR(Inputs!AA85*(1+Inputs!$E$133)^AA1,0)","v":0},{"$f":"IFERROR(Inputs!AB85*(1+Inputs!$E$133)^AB1,0)","v":0},{"$f":"IFERROR(Inputs!AC85*(1+Inputs!$E$133)^AC1,0)","v":0},{"$f":"IFERROR(Inputs!AD85*(1+Inputs!$E$133)^AD1,0)","v":0},{"$f":"IFERROR(Inputs!AE85*(1+Inputs!$E$133)^AE1,0)","v":0},{"$f":"IFERROR(Inputs!AF85*(1+Inputs!$E$133)^AF1,0)","v":0},{"$f":"IFERROR(Inputs!AG85*(1+Inputs!$E$133)^AG1,0)","v":0},{"$f":"IFERROR(Inputs!AH85*(1+Inputs!$E$133)^AH1,0)","v":0},{"$f":"IFERROR(Inputs!AI85*(1+Inputs!$E$133)^AI1,0)","v":0},{"$f":"IFERROR(Inputs!AJ85*(1+Inputs!$E$133)^AJ1,0)","v":0},{"$f":"IFERROR(Inputs!AK85*(1+Inputs!$E$133)^AK1,0)","v":0},{"$f":"IFERROR(Inputs!AL85*(1+Inputs!$E$133)^AL1,0)","v":0},{"$f":"IFERROR(Inputs!AM85*(1+Inputs!$E$133)^AM1,0)","v":0}]
[null,null,{"$f":"Inputs!C86","v":"Evacuation infrastructure cost (pipeline etc.)"},null,0,null,0,"USD Mn",null,{"$f":"IFERROR(Inputs!J86*(1+Inputs!$E$133)^J1,0)","v":0},{"$f":"IFERROR(Inputs!K86*(1+Inputs!$E$133)^K1,0)","v":0},{"$f":"IFERROR(Inputs!L86*(1+Inputs!$E$133)^L1,0)","v":0},{"$f":"IFERROR(Inputs!M86*(1+Inputs!$E$133)^M1,0)","v":0},{"$f":"IFERROR(Inputs!N86*(1+Inputs!$E$133)^N1,0)","v":0},{"$f":"IFERROR(Inputs!O86*(1+Inputs!$E$133)^O1,0)","v":0},{"$f":"IFERROR(Inputs!P86*(1+Inputs!$E$133)^P1,0)","v":0},{"$f":"IFERROR(Inputs!Q86*(1+Inputs!$E$133)^Q1,0)","v":0},{"$f":"IFERROR(Inputs!R86*(1+Inputs!$E$133)^R1,0)","v":0},{"$f":"IFERROR(Inputs!S86*(1+Inputs!$E$133)^S1,0)","v":0},{"$f":"IFERROR(Inputs!T86*(1+Inputs!$E$133)^T1,0)","v":0},{"$f":"IFERROR(Inputs!U86*(1+Inputs!$E$133)^U1,0)","v":0},{"$f":"IFERROR(Inputs!V86*(1+Inputs!$E$133)^V1,0)","v":0},{"$f":"IFERROR(Inputs!W86*(1+Inputs!$E$133)^W1,0)","v":0},{"$f":"IFERROR(Inputs!X86*(1+Inputs!$E$133)^X1,0)","v":0},{"$f":"IFERROR(Inputs!Y86*(1+Inputs!$E$133)^Y1,0)","v":0},{"$f":"IFERROR(Inputs!Z86*(1+Inputs!$E$133)^Z1,0)","v":0},{"$f":"IFERROR(Inputs!AA86*(1+Inputs!$E$133)^AA1,0)","v":0},{"$f":"IFERROR(Inputs!AB86*(1+Inputs!$E$133)^AB1,0)","v":0},{"$f":"IFERROR(Inputs!AC86*(1+Inputs!$E$133)^AC1,0)","v":0},{"$f":"IFERROR(Inputs!AD86*(1+Inputs!$E$133)^AD1,0)","v":0},{"$f":"IFERROR(Inputs!AE86*(1+Inputs!$E$133)^AE1,0)","v":0},{"$f":"IFERROR(Inputs!AF86*(1+Inputs!$E$133)^AF1,0)","v":0},{"$f":"IFERROR(Inputs!AG86*(1+Inputs!$E$133)^AG1,0)","v":0},{"$f":"IFERROR(Inputs!AH86*(1+Inputs!$E$133)^AH1,0)","v":0},{"$f":"IFERROR(Inputs!AI86*(1+Inputs!$E$133)^AI1,0)","v":0},{"$f":"IFERROR(Inputs!AJ86*(1+Inputs!$E$133)^AJ1,0)","v":0},{"$f":"IFERROR(Inputs!AK86*(1+Inputs!$E$133)^AK1,0)","v":0},{"$f":"IFERROR(Inputs!AL86*(1+Inputs!$E$133)^AL1,0)","v":0},{"$f":"IFERROR(Inputs!AM86*(1+Inputs!$E$133)^AM1,0)","v":0}]
[null,null,{"$f":"Inputs!C87","v":"Any other additional cost"},null,0,null,0,"USD Mn",null,{"$f":"IFERROR(Inputs!J87*(1+Inputs!$E$133)^J1,0)","v":0},{"$f":"IFERROR(Inputs!K87*(1+Inputs!$E$133)^K1,0)","v":0},{"$f":"IFERROR(Inputs!L87*(1+Inputs!$E$133)^L1,0)","v":0},{"$f":"IFERROR(Inputs!M87*(1+Inputs!$E$133)^M1,0)","v":0},{"$f":"IFERROR(Inputs!N87*(1+Inputs!$E$133)^N1,0)","v":0},{"$f":"IFERROR(Inputs!O87*(1+Inputs!$E$133)^O1,0)","v":0},{"$f":"IFERROR(Inputs!P87*(1+Inputs!$E$133)^P1,0)","v":0},{"$f":"IFERROR(Inputs!Q87*(1+Inputs!$E$133)^Q1,0)","v":0},{"$f":"IFERROR(Inputs!R87*(1+Inputs!$E$133)^R1,0)","v":0},{"$f":"IFERROR(Inputs!S87*(1+Inputs!$E$133)^S1,0)","v":0},{"$f":"IFERROR(Inputs!T87*(1+Inputs!$E$133)^T1,0)","v":0},{"$f":"IFERROR(Inputs!U87*(1+Inputs!$E$133)^U1,0)","v":0},{"$f":"IFERROR(Inputs!V87*(1+Inputs!$E$133)^V1,0)","v":0},{"$f":"IFERROR(Inputs!W87*(1+Inputs!$E$133)^W1,0)","v":0},{"$f":"IFERROR(Inputs!X87*(1+Inputs!$E$133)^X1,0)","v":0},{"$f":"IFERROR(Inputs!Y87*(1+Inputs!$E$133)^Y1,0)","v":0},{"$f":"IFERROR(Inputs!Z87*(1+Inputs!$E$133)^Z1,0)","v":0},{"$f":"IFERROR(Inputs!AA87*(1+Inputs!$E$133)^AA1,0)","v":0},{"$f":"IFERROR(Inputs!AB87*(1+Inputs!$E$133)^AB1,0)","v":0},{"$f":"IFERROR(Inputs!AC87*(1+Inputs!$E$133)^AC1,0)","v":0},{"$f":"IFERROR(Inputs!AD87*(1+Inputs!$E$133)^AD1,0)","v":0},{"$f":"IFERROR(Inputs!AE87*(1+Inputs!$E$133)^AE1,0)","v":0},{"$f":"IFERROR(Inputs!AF87*(1+Inputs!$E$133)^AF1,0)","v":0},{"$f":"IFERROR(Inputs!AG87*(1+Inputs!$E$133)^AG1,0)","v":0},{"$f":"IFERROR(Inputs!AH87*(1+Inputs!$E$133)^AH1,0)","v":0},{"$f":"IFERROR(Inputs!AI87*(1+Inputs!$E$133)^AI1,0)","v":0},{"$f":"IFERROR(Inputs!AJ87*(1+Inputs!$E$133)^AJ1,0)","v":0},{"$f":"IFERROR(Inputs!AK87*(1+Inputs!$E$133)^AK1,0)","v":0},{"$f":"IFERROR(Inputs!AL87*(1+Inputs!$E$133)^AL1,0)","v":0},{"$f":"IFERROR(Inputs!AM87*(1+Inputs!$E$133)^AM1,0)","v":0}]
[null,null,"Total",null,null,null,{"$f":"SUM(G11:G15)","v":6.2698999999999998},"USD Mn",null,{"$f":"SUM(J11:J15)","v":3.1800000000000006},{"$f":"SUM(K11:K15)","v":3.0899000000000001},0,0,0,0,0,0,0,0,0,0,0,0,0,0,0,0,0,0,0,0,0,0,0,0,0,0,0,0]
[]
[null,null,"Abandonment Cost"]
[null,null,"Abandonment Cost",null,null,null,{"$f":"SUM(J19:AM19)","v":0},"USD Mn",null,{"$f":"Inputs!J88","v":0},{"$f":"Inputs!K88","v":0},{"$f":"Inputs!L88","v":0},{"$f":"Inputs!M88","v":0},{"$f":"Inputs!N88","v":0},{"$f":"Inputs!O88","v":0},{"$f":"Inputs!P88","v":0},{"$f":"Inputs!Q88","v":0},{"$f":"Inputs!R88","v":0},{"$f":"Inputs!S88","v":0},{"$f":"Inputs!T88","v":0},{"$f":"Inputs!U88","v":0},{"$f":"Inputs!V88","v":0},{"$f":"Inputs!W88","v":0},{"$f":"Inputs!X88","v":0},{"$f":"Inputs!Y88","v":0},{"$f":"Inputs!Z88","v":0},{"$f":"Inputs!AA88","v":0},{"$f":"Inputs!AB88","v":0},{"$f":"Inputs!AC88","v":0},{"$f":"Inputs!AD88","v":0},{"$f":"Inputs!AE88","v":0},{"$f":"Inputs!AF88","v":0},{"$f":"Inputs!AG88","v":0},{"$f":"Inputs!AH88","v":0},{"$f":"Inputs!AI88","v":0},{"$f":"Inputs!AJ88","v":0},{"$f":"Inputs!AK88","v":0},{"$f":"Inputs!AL88","v":0},{"$f":"Inputs!AM88","v":0}]
[]
[null,null,"One time Upfront Payment"]
[null,null,"One time Upfront Payment",null,null,null,{"$f":"SUM(J22:AM22)","v":0},"USD Mn",null,{"$f":"Inputs!J91","v":0},{"$f":"Inputs!K91","v":0},{"$f":"Inputs!L91","v":0},{"$f":"Inputs!M91","v":0},{"$f":"Inputs!N91","v":0},{"$f":"Inputs!O91","v":0},{"$f":"Inputs!P91","v":0},{"$f":"Inputs!Q91","v":0},{"$f":"Inputs!R91","v":0},{"$f":"Inputs!S91","v":0},{"$f":"Inputs!T91","v":0},{"$f":"Inputs!U91","v":0},{"$f":"Inputs!V91","v":0},{"$f":"Inputs!W91","v":0},{"$f":"Inputs!X91","v":0},{"$f":"Inputs!Y91","v":0},{"$f":"Inputs!Z91","v":0},{"$f":"Inputs!AA91","v":0},{"$f":"Inputs!AB91","v":0},{"$f":"Inputs!AC91","v":0},{"$f":"Inputs!AD91","v":0},{"$f":"Inputs!AE91","v":0},{"$f":"Inputs!AF91","v":0},{"$f":"Inputs!AG91","v":0},{"$f":"Inputs!AH91","v":0},{"$f":"Inputs!AI91","v":0},{"$f":"Inputs!AJ91","v":0},{"$f":"Inputs!AK91","v":0},{"$f":"Inputs!AL91","v":0},{"$f":"Inputs!AM91","v":0}]

{"sheet":"Profile","index":4,"n_rows":24,"n_cols":40,"rows_kept":24,"cut":false,"hidden":true,"merged":[]}
[null,null,null,null,null,null,null,null,null,"Period No.",{"$f":"Timings!J1","v":1},{"$f":"Timings!K1","v":2},{"$f":"Timings!L1","v":3},{"$f":"Timings!M1","v":4},{"$f":"Timings!N1","v":5},{"$f":"Timings!O1","v":6},{"$f":"Timings!P1","v":7},{"$f":"Timings!Q1","v":8},{"$f":"Timings!R1","v":9},{"$f":"Timings!S1","v":10},{"$f":"Timings!T1","v":11},{"$f":"Timings!U1","v":12},{"$f":"Timings!V1","v":13},{"$f":"Timings!W1","v":14},{"$f":"Timings!X1","v":15},{"$f":"Timings!Y1","v":16},{"$f":"Timings!Z1","v":17},{"$f":"Timings!AA1","v":0},{"$f":"Timings!AB1","v":0},{"$f":"Timings!AC1","v":0},{"$f":"Timings!AD1","v":0},{"$f":"Timings!AE1","v":0},{"$f":"Timings!AF1","v":0},{"$f":"Timings!AG1","v":0},{"$f":"Timings!AH1","v":0},{"$f":"Timings!AI1","v":0},{"$f":"Timings!AJ1","v":0},{"$f":"Timings!AK1","v":0},{"$f":"Timings!AL1","v":0},{"$f":"Timings!AM1","v":0}]
[null,"Input/ Assumptions",null,null,null,null,null,null,null,"Start Date",{"$f":"Timings!J2","v":"2019-04-01"},{"$f":"Timings!K2","v":"2020-04-01"},{"$f":"Timings!L2","v":"2021-04-01"},{"$f":"Timings!M2","v":"2022-04-01"},{"$f":"Timings!N2","v":"2023-04-01"},{"$f":"Timings!O2","v":"2024-04-01"},{"$f":"Timings!P2","v":"2025-04-01"},{"$f":"Timings!Q2","v":"2026-04-01"},{"$f":"Timings!R2","v":"2027-04-01"},{"$f":"Timings!S2","v":"2028-04-01"},{"$f":"Timings!T2","v":"2029-04-01"},{"$f":"Timings!U2","v":"2030-04-01"},{"$f":"Timings!V2","v":"2031-04-01"},{"$f":"Timings!W2","v":"2032-04-01"},{"$f":"Timings!X2","v":"2033-04-01"},{"$f":"Timings!Y2","v":"2034-04-01"},{"$f":"Timings!Z2","v":"2035-04-01"},{"$f":"Timings!AA2","v":"2036-04-01"},{"$f":"Timings!AB2","v":"2037-04-01"},{"$f":"Timings!AC2","v":"2038-04-01"},{"$f":"Timings!AD2","v":"2039-04-01"},{"$f":"Timings!AE2","v":"2040-04-01"},{"$f":"Timings!AF2","v":"2041-04-01"},{"$f":"Timings!AG2","v":"2042-04-01"},{"$f":"Timings!AH2","v":"2043-04-01"},{"$f":"Timings!AI2","v":"2044-04-01"},{"$f":"Timings!AJ2","v":"2045-04-01"},{"$f":"Timings!AK2","v":"2046-04-01"},{"$f":"Timings!AL2","v":"2047-04-01"},{"$f":"Timings!AM2","v":"2048-04-01"}]
[null,null,null,null,null,null,null,null,null,"End Date",{"$f":"Timings!J3","v":"2020-03-31"},{"$f":"Timings!K3","v":"2021-03-31"},{"$f":"Timings!L3","v":"2022-03-31"},{"$f":"Timings!M3","v":"2023-03-31"},{"$f":"Timings!N3","v":"2024-03-31"},{"$f":"Timings!O3","v":"2025-03-31"},{"$f":"Timings!P3","v":"2026-03-31"},{"$f":"Timings!Q3","v":"2027-03-31"},{"$f":"Timings!R3","v":"2028-03-31"},{"$f":"Timings!S3","v":"2029-03-31"},{"$f":"Timings!T3","v":"2030-03-31"},{"$f":"Timings!U3","v":"2031-03-31"},{"$f":"Timings!V3","v":"2032-03-31"},{"$f":"Timings!W3","v":"2033-03-31"},{"$f":"Timings!X3","v":"2034-03-31"},{"$f":"Timings!Y3","v":"2035-03-31"},{"$f":"Timings!Z3","v":"2036-03-31"},{"$f":"Timings!AA3","v":"2037-03-31"},{"$f":"Timings!AB3","v":"2038-03-31"},{"$f":"Timings!AC3","v":"2039-03-31"},{"$f":"Timings!AD3","v":"2040-03-31"},{"$f":"Timings!AE3","v":"2041-03-31"},{"$f":"Timings!AF3","v":"2042-03-31"},{"$f":"Timings!AG3","v":"2043-03-31"},{"$f":"Timings!AH3","v":"2044-03-31"},{"$f":"Timings!AI3","v":"2045-03-31"},{"$f":"Timings!AJ3","v":"2046-03-31"},{"$f":"Timings!AK3","v":"2047-03-31"},{"$f":"Timings!AL3","v":"2048-03-31"},{"$f":"Timings!AM3","v":"2049-03-31"}]
[null,null,null,null,null,null,null,null,null,"Year",{"$f":"Timings!J4","v":2020},{"$f":"Timings!K4","v":2021},{"$f":"Timings!L4","v":2022},{"$f":"Timings!M4","v":2023},{"$f":"Timings!N4","v":2024},{"$f":"Timings!O4","v":2025},{"$f":"Timings!P4","v":2026},{"$f":"Timings!Q4","v":2027},{"$f":"Timings!R4","v":2028},{"$f":"Timings!S4","v":2029},{"$f":"Timings!T4","v":2030},{"$f":"Timings!U4","v":2031},{"$f":"Timings!V4","v":2032},{"$f":"Timings!W4","v":2033},{"$f":"Timings!X4","v":2034},{"$f":"Timings!Y4","v":2035},{"$f":"Timings!Z4","v":2036},{"$f":"Timings!AA4","v":2037},{"$f":"Timings!AB4","v":2038},{"$f":"Timings!AC4","v":2039},{"$f":"Timings!AD4","v":2040},{"$f":"Timings!AE4","v":2041},{"$f":"Timings!AF4","v":2042},{"$f":"Timings!AG4","v":2043},{"$f":"Timings!AH4","v":2044},{"$f":"Timings!AI4","v":2045},{"$f":"Timings!AJ4","v":2046},{"$f":"Timings!AK4","v":2047},{"$f":"Timings!AL4","v":2048},{"$f":"Timings!AM4","v":2049}]
[null,null,null,null,null,null,null,null,null,"Appraisal",{"$f":"Timings!J5","v":1},{"$f":"Timings!K5","v":0},{"$f":"Timings!L5","v":0},{"$f":"Timings!M5","v":0},{"$f":"Timings!N5","v":0},{"$f":"Timings!O5","v":0},{"$f":"Timings!P5","v":0},{"$f":"Timings!Q5","v":0},{"$f":"Timings!R5","v":0},{"$f":"Timings!S5","v":0},{"$f":"Timings!T5","v":0},{"$f":"Timings!U5","v":0},{"$f":"Timings!V5","v":0},{"$f":"Timings!W5","v":0},{"$f":"Timings!X5","v":0},{"$f":"Timings!Y5","v":0},{"$f":"Timings!Z5","v":0},{"$f":"Timings!AA5","v":0},{"$f":"Timings!AB5","v":0},{"$f":"Timings!AC5","v":0},{"$f":"Timings!AD5","v":0},{"$f":"Timings!AE5","v":0},{"$f":"Timings!AF5","v":0},{"$f":"Timings!AG5","v":0},{"$f":"Timings!AH5","v":0},{"$f":"Timings!AI5","v":0},{"$f":"Timings!AJ5","v":0},{"$f":"Timings!AK5","v":0},{"$f":"Timings!AL5","v":0},{"$f":"Timings!AM5","v":0}]
[null,null,null,null,null,null,null,null,null,"Well Development ",{"$f":"Timings!J6","v":1},{"$f":"Timings!K6","v":1},{"$f":"Timings!L6","v":0},{"$f":"Timings!M6","v":0},{"$f":"Timings!N6","v":0},{"$f":"Timings!O6","v":0},{"$f":"Timings!P6","v":0},{"$f":"Timings!Q6","v":0},{"$f":"Timings!R6","v":0},{"$f":"Timings!S6","v":0},{"$f":"Timings!T6","v":0},{"$f":"Timings!U6","v":0},{"$f":"Timings!V6","v":0},{"$f":"Timings!W6","v":0},{"$f":"Timings!X6","v":0},{"$f":"Timings!Y6","v":0},{"$f":"Timings!Z6","v":0},{"$f":"Timings!AA6","v":0},{"$f":"Timings!AB6","v":0},{"$f":"Timings!AC6","v":0},{"$f":"Timings!AD6","v":0},{"$f":"Timings!AE6","v":0},{"$f":"Timings!AF6","v":0},{"$f":"Timings!AG6","v":0},{"$f":"Timings!AH6","v":0},{"$f":"Timings!AI6","v":0},{"$f":"Timings!AJ6","v":0},{"$f":"Timings!AK6","v":0},{"$f":"Timings!AL6","v":0},{"$f":"Timings!AM6","v":0}]
[null,null,null,null,null,null,null,null,null,"Facilities",{"$f":"Timings!J7","v":1},{"$f":"Timings!K7","v":1},{"$f":"Timings!L7","v":0},{"$f":"Timings!M7","v":0},{"$f":"Timings!N7","v":0},{"$f":"Timings!O7","v":0},{"$f":"Timings!P7","v":0},{"$f":"Timings!Q7","v":0},{"$f":"Timings!R7","v":0},{"$f":"Timings!S7","v":0},{"$f":"Timings!T7","v":0},{"$f":"Timings!U7","v":0},{"$f":"Timings!V7","v":0},{"$f":"Timings!W7","v":0},{"$f":"Timings!X7","v":0},{"$f":"Timings!Y7","v":0},{"$f":"Timings!Z7","v":0},{"$f":"Timings!AA7","v":0},{"$f":"Timings!AB7","v":0},{"$f":"Timings!AC7","v":0},{"$f":"Timings!AD7","v":0},{"$f":"Timings!AE7","v":0},{"$f":"Timings!AF7","v":0},{"$f":"Timings!AG7","v":0},{"$f":"Timings!AH7","v":0},{"$f":"Timings!AI7","v":0},{"$f":"Timings!AJ7","v":0},{"$f":"Timings!AK7","v":0},{"$f":"Timings!AL7","v":0},{"$f":"Timings!AM7","v":0}]
[null,null,null,null,null,null,null,null,null,"Operations",{"$f":"Timings!J8","v":0},{"$f":"Timings!K8","v":1},{"$f":"Timings!L8","v":1},{"$f":"Timings!M8","v":1},{"$f":"Timings!N8","v":1},{"$f":"Timings!O8","v":1},{"$f":"Timings!P8","v":1},{"$f":"Timings!Q8","v":1},{"$f":"Timings!R8","v":1},{"$f":"Timings!S8","v":1},{"$f":"Timings!T8","v":1},{"$f":"Timings!U8","v":1},{"$f":"Timings!V8","v":1},{"$f":"Timings!W8","v":0},{"$f":"Timings!X8","v":0},{"$f":"Timings!Y8","v":0},{"$f":"Timings!Z8","v":0},{"$f":"Timings!AA8","v":0},{"$f":"Timings!AB8","v":0},{"$f":"Timings!AC8","v":0},{"$f":"Timings!AD8","v":0},{"$f":"Timings!AE8","v":0},{"$f":"Timings!AF8","v":0},{"$f":"Timings!AG8","v":0},{"$f":"Timings!AH8","v":0},{"$f":"Timings!AI8","v":0},{"$f":"Timings!AJ8","v":0},{"$f":"Timings!AK8","v":0},{"$f":"Timings!AL8","v":0},{"$f":"Timings!AM8","v":0}]
[null,null,null,null,null,null,null,null,null,"Production Year",{"$f":"SUM($K$8:K8)*K8","v":0},{"$f":"SUM($K$8:L8)*L8","v":1},{"$f":"SUM($K$8:M8)*M8","v":2},{"$f":"SUM($K$8:N8)*N8","v":3},{"$f":"SUM($K$8:O8)*O8","v":4},{"$f":"SUM($K$8:P8)*P8","v":5},{"$f":"SUM($K$8:Q8)*Q8","v":6},{"$f":"SUM($K$8:R8)*R8","v":7},{"$f":"SUM($K$8:S8)*S8","v":8},{"$f":"SUM($K$8:T8)*T8","v":9},{"$f":"SUM($K$8:U8)*U8","v":10},{"$f":"SUM($K$8:V8)*V8","v":11},{"$f":"SUM($K$8:W8)*W8","v":12},{"$f":"SUM($K$8:X8)*X8","v":0},{"$f":"SUM($K$8:Y8)*Y8","v":0},{"$f":"SUM($K$8:Z8)*Z8","v":0},{"$f":"SUM($K$8:AA8)*AA8","v":0},{"$f":"SUM($K$8:AB8)*AB8","v":0},{"$f":"SUM($K$8:AC8)*AC8","v":0},{"$f":"SUM($K$8:AD8)*AD8","v":0},{"$f":"SUM($K$8:AE8)*AE8","v":0},{"$f":"SUM($K$8:AF8)*AF8","v":0},{"$f":"SUM($K$8:AG8)*AG8","v":0},{"$f":"SUM($K$8:AH8)*AH8","v":0},{"$f":"SUM($K$8:AI8)*AI8","v":0},{"$f":"SUM($K$8:AJ8)*AJ8","v":0},{"$f":"SUM($K$8:AK8)*AK8","v":0},{"$f":"SUM($K$8:AL8)*AL8","v":0},{"$f":"SUM($K$8:AM8)*AM8","v":0},{"$f":"SUM($K$8:AN8)*AN8","v":0}]
["Reserves",null,null,null,null,null,null,"Recoverable Reserves"]
["Oil",{"$f":"Dashboard!D11","v":12},"MMT",null,null,null,null,{"$f":"SUM(K11:AN11)","v":3},"MMT",null,{"$f":"$B11*$B$14*K$15","v":0},{"$f":"$B11*$B$14*L$15","v":0},0.63,0.15000000000000002,0.18,0.21000000000000002,0.24,0.36,0.27,0.30000000000000004,0.24,0.21000000000000002,0.12,0.09,0,0,0,0,0,0,0,0,0,0,0,0,0,0,0,0]
["Gas",{"$f":"Dashboard!D12","v":2},"BCM",null,null,null,null,{"$f":"SUM(K12:AN12)","v":0.5},"BCM",null,{"$f":"$B12*$B$14*K$15","v":0},0,0.105,2.5000000000000001E-2,0.03,3.5000000000000003E-2,0.04,0.06,4.4999999999999998E-2,0.05,0.04,3.5000000000000003E-2,0.02,1.4999999999999999E-2,0,0,0,0,0,0,0,0,0,0,0,0,0,0,0,0]
["Total",{"$f":"SUM(B11:B12)","v":14},"MMTOE",null,null,null,null,{"$f":"SUM(K13:AN13)","v":3.5000000000000004},"MMTOE",null,{"$f":"SUM(K11:K12)","v":0},{"$f":"SUM(L11:L12)","v":0},0.73499999999999999,0.17500000000000002,0.21,0.24500000000000002,0.27999999999999997,0.42,0.315,0.35000000000000003,0.27999999999999997,0.24500000000000002,0.13999999999999999,0.105,0,0,0,0,0,0,0,0,0,0,0,0,0,0,0,0]
["Recovery ",{"$f":"Dashboard!$D$15","v":0.25}]
[null,null,null,null,null,null,null,null,null,"Production Phasing",{"$f":"IF(Dashboard!$L$11=1,K24,K23)","v":0},{"$f":"IF(Dashboard!$L$11=1,L24,L23)","v":0},{"$f":"IF(Dashboard!$L$11=1,M24,M23)","v":0.21},{"$f":"IF(Dashboard!$L$11=1,N24,N23)","v":0.05},{"$f":"IF(Dashboard!$L$11=1,O24,O23)","v":0.06},{"$f":"IF(Dashboard!$L$11=1,P24,P23)","v":7.0000000000000007E-2},{"$f":"IF(Dashboard!$L$11=1,Q24,Q23)","v":0.08},{"$f":"IF(Dashboard!$L$11=1,R24,R23)","v":0.12},{"$f":"IF(Dashboard!$L$11=1,S24,S23)","v":0.09},{"$f":"IF(Dashboard!$L$11=1,T24,T23)","v":0.1},{"$f":"IF(Dashboard!$L$11=1,U24,U23)","v":0.08},{"$f":"IF(Dashboard!$L$11=1,V24,V23)","v":7.0000000000000007E-2},{"$f":"IF(Dashboard!$L$11=1,W24,W23)","v":0.04},{"$f":"IF(Dashboard!$L$11=1,X24,X23)","v":0.03},{"$f":"IF(Dashboard!$L$11=1,Y24,Y23)","v":0},{"$f":"IF(Dashboard!$L$11=1,Z24,Z23)","v":0},{"$f":"IF(Dashboard!$L$11=1,AA24,AA23)","v":0}]
[]
[null,null,null,null,null,null,null,null,"Ramp up Period",{"$f":"Dashboard!N21","v":3}]
[null,null,null,null,null,null,null,null,"Plateau Period",{"$f":"Dashboard!N22","v":6}]
[null,null,null,null,null,null,null,null,"Ramp Down Period",{"$f":"Dashboard!N23","v":3}]
[null,null,null,null,null,null,null,null,"Total",{"$f":"Dashboard!N24","v":12}]
[]
[null,null,null,null,null,null,null,null,"Phasing calculation",null,{"$f":"IF(K9<$J$17,SUM($J$8:K8),IF($J$20-K9>=($J$19-1),$J$17,$J$20-K9+1))*K8","v":0},{"$f":"IF(L9<$J$17,SUM($J$8:L8),IF($J$20-L9>=($J$19-1),$J$17,$J$20-L9+1))*L8","v":1},{"$f":"IF(M9<$J$17,SUM($J$8:M8),IF($J$20-M9>=($J$19-1),$J$17,$J$20-M9+1))*M8","v":2},{"$f":"IF(N9<$J$17,SUM($J$8:N8),IF($J$20-N9>=($J$19-1),$J$17,$J$20-N9+1))*N8","v":3},{"$f":"IF(O9<$J$17,SUM($J$8:O8),IF($J$20-O9>=($J$19-1),$J$17,$J$20-O9+1))*O8","v":3},{"$f":"IF(P9<$J$17,SUM($J$8:P8),IF($J$20-P9>=($J$19-1),$J$17,$J$20-P9+1))*P8","v":3},{"$f":"IF(Q9<$J$17,SUM($J$8:Q8),IF($J$20-Q9>=($J$19-1),$J$17,$J$20-Q9+1))*Q8","v":3},{"$f":"IF(R9<$J$17,SUM($J$8:R8),IF($J$20-R9>=($J$19-1),$J$17,$J$20-R9+1))*R8","v":3},{"$f":"IF(S9<$J$17,SUM($J$8:S8),IF($J$20-S9>=($J$19-1),$J$17,$J$20-S9+1))*S8","v":3},{"$f":"IF(T9<$J$17,SUM($J$8:T8),IF($J$20-T9>=($J$19-1),$J$17,$J$20-T9+1))*T8","v":3},{"$f":"IF(U9<$J$17,SUM($J$8:U8),IF($J$20-U9>=($J$19-1),$J$17,$J$20-U9+1))*U8","v":3},{"$f":"IF(V9<$J$17,SUM($J$8:V8),IF($J$20-V9>=($J$19-1),$J$17,$J$20-V9+1))*V8","v":2},{"$f":"IF(W9<$J$17,SUM($J$8:W8),IF($J$20-W9>=($J$19-1),$J$17,$J$20-W9+1))*W8","v":1},{"$f":"IF(X9<$J$17,SUM($J$8:X8),IF($J$20-X9>=($J$19-1),$J$17,$J$20-X9+1))*X8","v":0},{"$f":"IF(Y9<$J$17,SUM($J$8:Y8),IF($J$20-Y9>=($J$19-1),$J$17,$J$20-Y9+1))*Y8","v":0},{"$f":"IF(Z9<$J$17,SUM($J$8:Z8),IF($J$20-Z9>=($J$19-1),$J$17,$J$20-Z9+1))*Z8","v":0},{"$f":"IF(AA9<$J$17,SUM($J$8:AA8),IF($J$20-AA9>=($J$19-1),$J$17,$J$20-AA9+1))*AA8","v":0},{"$f":"IF(AB9<$J$17,SUM($J$8:AB8),IF($J$20-AB9>=($J$19-1),$J$17,$J$20-AB9+1))*AB8","v":0},{"$f":"IF(AC9<$J$17,SUM($J$8:AC8),IF($J$20-AC9>=($J$19-1),$J$17,$J$20-AC9+1))*AC8","v":0},{"$f":"IF(AD9<$J$17,SUM($J$8:AD8),IF($J$20-AD9>=($J$19-1),$J$17,$J$20-AD9+1))*AD8","v":0},{"$f":"IF(AE9<$J$17,SUM($J$8:AE8),IF($J$20-AE9>=($J$19-1),$J$17,$J$20-AE9+1))*AE8","v":0},{"$f":"IF(AF9<$J$17,SUM($J$8:AF8),IF($J$20-AF9>=($J$19-1),$J$17,$J$20-AF9+1))*AF8","v":0},{"$f":"IF(AG9<$J$17,SUM($J$8:AG8),IF($J$20-AG9>=($J$19-1),$J$17,$J$20-AG9+1))*AG8","v":0},{"$f":"IF(AH9<$J$17,SUM($J$8:AH8),IF($J$20-AH9>=($J$19-1),$J$17,$J$20-AH9+1))*AH8","v":0},{"$f":"IF(AI9<$J$17,SUM($J$8:AI8),IF($J$20-AI9>=($J$19-1),$J$17,$J$20-AI9+1))*AI8","v":0},{"$f":"IF(AJ9<$J$17,SUM($J$8:AJ8),IF($J$20-AJ9>=($J$19-1),$J$17,$J$20-AJ9+1))*AJ8","v":0},{"$f":"IF(AK9<$J$17,SUM($J$8:AK8),IF($J$20-AK9>=($J$19-1),$J$17,$J$20-AK9+1))*AK8","v":0},{"$f":"IF(AL9<$J$17,SUM($J$8:AL8),IF($J$20-AL9>=($J$19-1),$J$17,$J$20-AL9+1))*AL8","v":0},{"$f":"IF(AM9<$J$17,SUM($J$8:AM8),IF($J$20-AM9>=($J$19-1),$J$17,$J$20-AM9+1))*AM8","v":0},{"$f":"IF(AN9<$J$17,SUM($J$8:AN8),IF($J$20-AN9>=($J$19-1),$J$17,$J$20-AN9+1))*AN8","v":0}]
[null,null,null,null,null,null,null,"Model Pre-defined","Production Phasing",{"$f":"SUM(K23:AN23)","v":0.99999999999999989},{"$f":"1/SUM($K$22:$AN$22)*K22","v":0},{"$f":"1/SUM($K$22:$AN$22)*L22","v":3.3333333333333333E-2},6.6666666666666666E-2,0.1,0.1,0.1,0.1,0.1,0.1,0.1,0.1,6.6666666666666666E-2,3.3333333333333333E-2,0,0,0,0,0,0,0,0,0,0,0,0,0,0,0,0,0]
[null,null,null,null,null,null,null,"User Input","Production Phasing",{"$f":"SUM(K24:AN24)","v":1},{"$f":"Dashboard!O16","v":0},{"$f":"Dashboard!P16","v":0},{"$f":"Dashboard!Q16","v":0.21},{"$f":"Dashboard!R16","v":0.05},{"$f":"Dashboard!S16","v":0.06},{"$f":"Dashboard!T16","v":7.0000000000000007E-2},{"$f":"Dashboard!U16","v":0.08},{"$f":"Dashboard!V16","v":0.12},{"$f":"Dashboard!W16","v":0.09},{"$f":"Dashboard!X16","v":0.1},{"$f":"Dashboard!Y16","v":0.08},{"$f":"Dashboard!Z16","v":7.0000000000000007E-2},{"$f":"Dashboard!AA16","v":0.04},{"$f":"Dashboard!AB16","v":0.03},{"$f":"Dashboard!AC16","v":0},{"$f":"Dashboard!AD16","v":0},{"$f":"Dashboard!AE16","v":0},{"$f":"Dashboard!AF16","v":0},{"$f":"Dashboard!AG16","v":0},{"$f":"Dashboard!AH16","v":0},{"$f":"Dashboard!AI16","v":0},{"$f":"Dashboard!AJ16","v":0},{"$f":"Dashboard!AK16","v":0},{"$f":"Dashboard!AL16","v":0},{"$f":"Dashboard!AM16","v":0},{"$f":"Dashboard!AN16","v":0},{"$f":"Dashboard!AO16","v":0},{"$f":"Dashboard!AP16","v":0},{"$f":"Dashboard!AQ16","v":0},{"$f":"Dashboard!AR12","v":0}]

{"sheet":"Opex","index":5,"n_rows":13,"n_cols":39,"rows_kept":13,"cut":false,"hidden":true,"merged":[]}
[null,null,null,null,null,null,null,null,"Period No.",{"$f":"Timings!J1","v":1},{"$f":"Timings!K1","v":2},{"$f":"Timings!L1","v":3},{"$f":"Timings!M1","v":4},{"$f":"Timings!N1","v":5},{"$f":"Timings!O1","v":6},{"$f":"Timings!P1","v":7},{"$f":"Timings!Q1","v":8},{"$f":"Timings!R1","v":9},{"$f":"Timings!S1","v":10},{"$f":"Timings!T1","v":11},{"$f":"Timings!U1","v":12},{"$f":"Timings!V1","v":13},{"$f":"Timings!W1","v":14},{"$f":"Timings!X1","v":15},{"$f":"Timings!Y1","v":16},{"$f":"Timings!Z1","v":17},{"$f":"Timings!AA1","v":0},{"$f":"Timings!AB1","v":0},{"$f":"Timings!AC1","v":0},{"$f":"Timings!AD1","v":0},{"$f":"Timings!AE1","v":0},{"$f":"Timings!AF1","v":0},{"$f":"Timings!AG1","v":0},{"$f":"Timings!AH1","v":0},{"$f":"Timings!AI1","v":0},{"$f":"Timings!AJ1","v":0},{"$f":"Timings!AK1","v":0},{"$f":"Timings!AL1","v":0},{"$f":"Timings!AM1","v":0}]
[null,null,"OPEX",null,null,null,null,null,"Start Date",{"$f":"Timings!J2","v":"2019-04-01"},{"$f":"Timings!K2","v":"2020-04-01"},{"$f":"Timings!L2","v":"2021-04-01"},{"$f":"Timings!M2","v":"2022-04-01"},{"$f":"Timings!N2","v":"2023-04-01"},{"$f":"Timings!O2","v":"2024-04-01"},{"$f":"Timings!P2","v":"2025-04-01"},{"$f":"Timings!Q2","v":"2026-04-01"},{"$f":"Timings!R2","v":"2027-04-01"},{"$f":"Timings!S2","v":"2028-04-01"},{"$f":"Timings!T2","v":"2029-04-01"},{"$f":"Timings!U2","v":"2030-04-01"},{"$f":"Timings!V2","v":"2031-04-01"},{"$f":"Timings!W2","v":"2032-04-01"},{"$f":"Timings!X2","v":"2033-04-01"},{"$f":"Timings!Y2","v":"2034-04-01"},{"$f":"Timings!Z2","v":"2035-04-01"},{"$f":"Timings!AA2","v":"2036-04-01"},{"$f":"Timings!AB2","v":"2037-04-01"},{"$f":"Timings!AC2","v":"2038-04-01"},{"$f":"Timings!AD2","v":"2039-04-01"},{"$f":"Timings!AE2","v":"2040-04-01"},{"$f":"Timings!AF2","v":"2041-04-01"},{"$f":"Timings!AG2","v":"2042-04-01"},{"$f":"Timings!AH2","v":"2043-04-01"},{"$f":"Timings!AI2","v":"2044-04-01"},{"$f":"Timings!AJ2","v":"2045-04-01"},{"$f":"Timings!AK2","v":"2046-04-01"},{"$f":"Timings!AL2","v":"2047-04-01"},{"$f":"Timings!AM2","v":"2048-04-01"}]
[null,null,null,null,null,null,null,null,"End Date",{"$f":"Timings!J3","v":"2020-03-31"},{"$f":"Timings!K3","v":"2021-03-31"},{"$f":"Timings!L3","v":"2022-03-31"},{"$f":"Timings!M3","v":"2023-03-31"},{"$f":"Timings!N3","v":"2024-03-31"},{"$f":"Timings!O3","v":"2025-03-31"},{"$f":"Timings!P3","v":"2026-03-31"},{"$f":"Timings!Q3","v":"2027-03-31"},{"$f":"Timings!R3","v":"2028-03-31"},{"$f":"Timings!S3","v":"2029-03-31"},{"$f":"Timings!T3","v":"2030-03-31"},{"$f":"Timings!U3","v":"2031-03-31"},{"$f":"Timings!V3","v":"2032-03-31"},{"$f":"Timings!W3","v":"2033-03-31"},{"$f":"Timings!X3","v":"2034-03-31"},{"$f":"Timings!Y3","v":"2035-03-31"},{"$f":"Timings!Z3","v":"2036-03-31"},{"$f":"Timings!AA3","v":"2037-03-31"},{"$f":"Timings!AB3","v":"2038-03-31"},{"$f":"Timings!AC3","v":"2039-03-31"},{"$f":"Timings!AD3","v":"2040-03-31"},{"$f":"Timings!AE3","v":"2041-03-31"},{"$f":"Timings!AF3","v":"2042-03-31"},{"$f":"Timings!AG3","v":"2043-03-31"},{"$f":"Timings!AH3","v":"2044-03-31"},{"$f":"Timings!AI3","v":"2045-03-31"},{"$f":"Timings!AJ3","v":"2046-03-31"},{"$f":"Timings!AK3","v":"2047-03-31"},{"$f":"Timings!AL3","v":"2048-03-31"},{"$f":"Timings!AM3","v":"2049-03-31"}]
[null,null,null,null,null,null,null,null,"Year",{"$f":"Timings!J4","v":2020},{"$f":"Timings!K4","v":2021},{"$f":"Timings!L4","v":2022},{"$f":"Timings!M4","v":2023},{"$f":"Timings!N4","v":2024},{"$f":"Timings!O4","v":2025},{"$f":"Timings!P4","v":2026},{"$f":"Timings!Q4","v":2027},{"$f":"Timings!R4","v":2028},{"$f":"Timings!S4","v":2029},{"$f":"Timings!T4","v":2030},{"$f":"Timings!U4","v":2031},{"$f":"Timings!V4","v":2032},{"$f":"Timings!W4","v":2033},{"$f":"Timings!X4","v":2034},{"$f":"Timings!Y4","v":2035},{"$f":"Timings!Z4","v":2036},{"$f":"Timings!AA4","v":2037},{"$f":"Timings!AB4","v":2038},{"$f":"Timings!AC4","v":2039},{"$f":"Timings!AD4","v":2040},{"$f":"Timings!AE4","v":2041},{"$f":"Timings!AF4","v":2042},{"$f":"Timings!AG4","v":2043},{"$f":"Timings!AH4","v":2044},{"$f":"Timings!AI4","v":2045},{"$f":"Timings!AJ4","v":2046},{"$f":"Timings!AK4","v":2047},{"$f":"Timings!AL4","v":2048},{"$f":"Timings!AM4","v":2049}]
[null,null,null,null,null,null,null,null,"Appraisal",{"$f":"Timings!J5","v":1},{"$f":"Timings!K5","v":0},{"$f":"Timings!L5","v":0},{"$f":"Timings!M5","v":0},{"$f":"Timings!N5","v":0},{"$f":"Timings!O5","v":0},{"$f":"Timings!P5","v":0},{"$f":"Timings!Q5","v":0},{"$f":"Timings!R5","v":0},{"$f":"Timings!S5","v":0},{"$f":"Timings!T5","v":0},{"$f":"Timings!U5","v":0},{"$f":"Timings!V5","v":0},{"$f":"Timings!W5","v":0},{"$f":"Timings!X5","v":0},{"$f":"Timings!Y5","v":0},{"$f":"Timings!Z5","v":0},{"$f":"Timings!AA5","v":0},{"$f":"Timings!AB5","v":0},{"$f":"Timings!AC5","v":0},{"$f":"Timings!AD5","v":0},{"$f":"Timings!AE5","v":0},{"$f":"Timings!AF5","v":0},{"$f":"Timings!AG5","v":0},{"$f":"Timings!AH5","v":0},{"$f":"Timings!AI5","v":0},{"$f":"Timings!AJ5","v":0},{"$f":"Timings!AK5","v":0},{"$f":"Timings!AL5","v":0},{"$f":"Timings!AM5","v":0}]
[null,null,null,null,null,null,null,null,"Well Development ",{"$f":"Timings!J6","v":1},{"$f":"Timings!K6","v":1},{"$f":"Timings!L6","v":0},{"$f":"Timings!M6","v":0},{"$f":"Timings!N6","v":0},{"$f":"Timings!O6","v":0},{"$f":"Timings!P6","v":0},{"$f":"Timings!Q6","v":0},{"$f":"Timings!R6","v":0},{"$f":"Timings!S6","v":0},{"$f":"Timings!T6","v":0},{"$f":"Timings!U6","v":0},{"$f":"Timings!V6","v":0},{"$f":"Timings!W6","v":0},{"$f":"Timings!X6","v":0},{"$f":"Timings!Y6","v":0},{"$f":"Timings!Z6","v":0},{"$f":"Timings!AA6","v":0},{"$f":"Timings!AB6","v":0},{"$f":"Timings!AC6","v":0},{"$f":"Timings!AD6","v":0},{"$f":"Timings!AE6","v":0},{"$f":"Timings!AF6","v":0},{"$f":"Timings!AG6","v":0},{"$f":"Timings!AH6","v":0},{"$f":"Timings!AI6","v":0},{"$f":"Timings!AJ6","v":0},{"$f":"Timings!AK6","v":0},{"$f":"Timings!AL6","v":0},{"$f":"Timings!AM6","v":0}]
[null,null,null,null,null,null,null,null,"Facilities",{"$f":"Timings!J7","v":1},{"$f":"Timings!K7","v":1},{"$f":"Timings!L7","v":0},{"$f":"Timings!M7","v":0},{"$f":"Timings!N7","v":0},{"$f":"Timings!O7","v":0},{"$f":"Timings!P7","v":0},{"$f":"Timings!Q7","v":0},{"$f":"Timings!R7","v":0},{"$f":"Timings!S7","v":0},{"$f":"Timings!T7","v":0},{"$f":"Timings!U7","v":0},{"$f":"Timings!V7","v":0},{"$f":"Timings!W7","v":0},{"$f":"Timings!X7","v":0},{"$f":"Timings!Y7","v":0},{"$f":"Timings!Z7","v":0},{"$f":"Timings!AA7","v":0},{"$f":"Timings!AB7","v":0},{"$f":"Timings!AC7","v":0},{"$f":"Timings!AD7","v":0},{"$f":"Timings!AE7","v":0},{"$f":"Timings!AF7","v":0},{"$f":"Timings!AG7","v":0},{"$f":"Timings!AH7","v":0},{"$f":"Timings!AI7","v":0},{"$f":"Timings!AJ7","v":0},{"$f":"Timings!AK7","v":0},{"$f":"Timings!AL7","v":0},{"$f":"Timings!AM7","v":0}]
[null,null,null,null,null,null,null,null,"Operations",{"$f":"Timings!J8","v":0},{"$f":"Timings!K8","v":1},{"$f":"Timings!L8","v":1},{"$f":"Timings!M8","v":1},{"$f":"Timings!N8","v":1},{"$f":"Timings!O8","v":1},{"$f":"Timings!P8","v":1},{"$f":"Timings!Q8","v":1},{"$f":"Timings!R8","v":1},{"$f":"Timings!S8","v":1},{"$f":"Timings!T8","v":1},{"$f":"Timings!U8","v":1},{"$f":"Timings!V8","v":1},{"$f":"Timings!W8","v":0},{"$f":"Timings!X8","v":0},{"$f":"Timings!Y8","v":0},{"$f":"Timings!Z8","v":0},{"$f":"Timings!AA8","v":0},{"$f":"Timings!AB8","v":0},{"$f":"Timings!AC8","v":0},{"$f":"Timings!AD8","v":0},{"$f":"Timings!AE8","v":0},{"$f":"Timings!AF8","v":0},{"$f":"Timings!AG8","v":0},{"$f":"Timings!AH8","v":0},{"$f":"Timings!AI8","v":0},{"$f":"Timings!AJ8","v":0},{"$f":"Timings!AK8","v":0},{"$f":"Timings!AL8","v":0},{"$f":"Timings!AM8","v":0}]
[]
[null,null,"Opex"]
[null,null,{"$f":"Inputs!C98","v":"Processing cost - Oil"},null,{"$f":"G11/$G$13","v":0.90753579603602641},null,{"$f":"SUM(J11:AN11)","v":198.87498087473466},"USD Mn",null,{"$f":"Inputs!J98*(1+Inputs!$E$134)^J1","v":0},{"$f":"Inputs!K98*(1+Inputs!$E$134)^K1","v":0},{"$f":"Inputs!L98*(1+Inputs!$E$134)^L1","v":28.491449878356164},{"$f":"Inputs!M98*(1+Inputs!$E$134)^M1","v":7.3263728258630163},{"$f":"Inputs!N98*(1+Inputs!$E$134)^N1","v":9.4949791823184668},{"$f":"Inputs!O98*(1+Inputs!$E$134)^O1","v":11.963673769721272},{"$f":"Inputs!P98*(1+Inputs!$E$134)^P1","v":14.766591624341681},{"$f":"Inputs!Q98*(1+Inputs!$E$134)^Q1","v":23.921878431433527},{"$f":"Inputs!R98*(1+Inputs!$E$134)^R1","v":19.376721529461154},{"$f":"Inputs!S98*(1+Inputs!$E$134)^S1","v":23.252065835353392},{"$f":"Inputs!T98*(1+Inputs!$E$134)^T1","v":20.089784881745327},{"$f":"Inputs!U98*(1+Inputs!$E$134)^U1","v":18.98484671324934},{"$f":"Inputs!V98*(1+Inputs!$E$134)^V1","v":11.716362543033876},{"$f":"Inputs!W98*(1+Inputs!$E$134)^W1","v":9.4902536598574425},{"$f":"Inputs!X98*(1+Inputs!$E$134)^X1","v":0},{"$f":"Inputs!Y98*(1+Inputs!$E$134)^Y1","v":0},{"$f":"Inputs!Z98*(1+Inputs!$E$134)^Z1","v":0},{"$f":"Inputs!AA98*(1+Inputs!$E$134)^AA1","v":0},{"$f":"Inputs!AB98*(1+Inputs!$E$134)^AB1","v":0},{"$f":"Inputs!AC98*(1+Inputs!$E$134)^AC1","v":0},{"$f":"Inputs!AD98*(1+Inputs!$E$134)^AD1","v":0},{"$f":"Inputs!AE98*(1+Inputs!$E$134)^AE1","v":0},{"$f":"Inputs!AF98*(1+Inputs!$E$134)^AF1","v":0},{"$f":"Inputs!AG98*(1+Inputs!$E$134)^AG1","v":0},{"$f":"Inputs!AH98*(1+Inputs!$E$134)^AH1","v":0},{"$f":"Inputs!AI98*(1+Inputs!$E$134)^AI1","v":0},{"$f":"Inputs!AJ98*(1+Inputs!$E$134)^AJ1","v":0},{"$f":"Inputs!AK98*(1+Inputs!$E$134)^AK1","v":0},{"$f":"Inputs!AL98*(1+Inputs!$E$134)^AL1","v":0},{"$f":"Inputs!AM98*(1+Inputs!$E$134)^AM1","v":0}]
[null,null,{"$f":"Inputs!C99","v":"Processing cost - Gas"},null,{"$f":"G12/$G$13","v":9.2464203963973618E-2},null,{"$f":"SUM(J12:AN12)","v":20.262359760631234},"USD Mn",null,{"$f":"Inputs!J99*(1+Inputs!$E$134)^J1","v":0},{"$f":"Inputs!K99*(1+Inputs!$E$134)^K1","v":0},{"$f":"Inputs!L99*(1+Inputs!$E$134)^L1","v":2.9028488400000003},{"$f":"Inputs!M99*(1+Inputs!$E$134)^M1","v":0.74644684457142874},{"$f":"Inputs!N99*(1+Inputs!$E$134)^N1","v":0.96739511056457161},{"$f":"Inputs!O99*(1+Inputs!$E$134)^O1","v":1.2189178393113604},{"$f":"Inputs!P99*(1+Inputs!$E$134)^P1","v":1.5044928759500222},{"$f":"Inputs!Q99*(1+Inputs!$E$134)^Q1","v":2.4372784590390357},{"$f":"Inputs!R99*(1+Inputs!$E$134)^R1","v":1.9741955518216194},{"$f":"Inputs!S99*(1+Inputs!$E$134)^S1","v":2.3690346621859431},{"$f":"Inputs!T99*(1+Inputs!$E$134)^T1","v":2.0468459481286549},{"$f":"Inputs!U99*(1+Inputs!$E$134)^U1","v":1.9342694209815787},{"$f":"Inputs!V99*(1+Inputs!$E$134)^V1","v":1.1937205569486318},{"$f":"Inputs!W99*(1+Inputs!$E$134)^W1","v":0.96691365112839167},{"$f":"Inputs!X99*(1+Inputs!$E$134)^X1","v":0},{"$f":"Inputs!Y99*(1+Inputs!$E$134)^Y1","v":0},{"$f":"Inputs!Z99*(1+Inputs!$E$134)^Z1","v":0},{"$f":"Inputs!AA99*(1+Inputs!$E$134)^AA1","v":0},{"$f":"Inputs!AB99*(1+Inputs!$E$134)^AB1","v":0},{"$f":"Inputs!AC99*(1+Inputs!$E$134)^AC1","v":0},{"$f":"Inputs!AD99*(1+Inputs!$E$134)^AD1","v":0},{"$f":"Inputs!AE99*(1+Inputs!$E$134)^AE1","v":0},{"$f":"Inputs!AF99*(1+Inputs!$E$134)^AF1","v":0},{"$f":"Inputs!AG99*(1+Inputs!$E$134)^AG1","v":0},{"$f":"Inputs!AH99*(1+Inputs!$E$134)^AH1","v":0},{"$f":"Inputs!AI99*(1+Inputs!$E$134)^AI1","v":0},{"$f":"Inputs!AJ99*(1+Inputs!$E$134)^AJ1","v":0},{"$f":"Inputs!AK99*(1+Inputs!$E$134)^AK1","v":0},{"$f":"Inputs!AL99*(1+Inputs!$E$134)^AL1","v":0},{"$f":"Inputs!AM99*(1+Inputs!$E$134)^AM1","v":0}]
[null,null,"Total",null,null,null,{"$f":"SUM(G11:G12)","v":219.13734063536589},"USD Mn",null,{"$f":"SUM(J11:J12)","v":0},0,31.394298718356165,8.0728196704344448,10.462374292883039,13.182591609032633,16.271084500291703,26.359156890472562,21.350917081282773,25.621100497539334,22.136630829873983,20.919116134230919,12.910083099982508,10.457167310985835,0,0,0,0,0,0,0,0,0,0,0,0,0,0,0,0]

{"sheet":"Revenue","index":6,"n_rows":66,"n_cols":16384,"rows_kept":66,"cut":false,"hidden":true,"merged":[]}
[null,null,null,null,null,null,null,null,"Period No.",{"$f":"Timings!J1","v":1},{"$f":"Timings!K1","v":2},{"$f":"Timings!L1","v":3},{"$f":"Timings!M1","v":4},{"$f":"Timings!N1","v":5},{"$f":"Timings!O1","v":6},{"$f":"Timings!P1","v":7},{"$f":"Timings!Q1","v":8},{"$f":"Timings!R1","v":9},{"$f":"Timings!S1","v":10},{"$f":"Timings!T1","v":11},{"$f":"Timings!U1","v":12},{"$f":"Timings!V1","v":13},{"$f":"Timings!W1","v":14},{"$f":"Timings!X1","v":15},{"$f":"Timings!Y1","v":16},{"$f":"Timings!Z1","v":17},{"$f":"Timings!AA1","v":0},{"$f":"Timings!AB1","v":0},{"$f":"Timings!AC1","v":0},{"$f":"Timings!AD1","v":0},{"$f":"Timings!AE1","v":0},{"$f":"Timings!AF1","v":0},{"$f":"Timings!AG1","v":0},{"$f":"Timings!AH1","v":0},{"$f":"Timings!AI1","v":0},{"$f":"Timings!AJ1","v":0},{"$f":"Timings!AK1","v":0},{"$f":"Timings!AL1","v":0},{"$f":"Timings!AM1","v":0}]
[null,null,null,null,null,null,null,null,"Start Date",{"$f":"Timings!J2","v":"2019-04-01"},{"$f":"Timings!K2","v":"2020-04-01"},{"$f":"Timings!L2","v":"2021-04-01"},{"$f":"Timings!M2","v":"2022-04-01"},{"$f":"Timings!N2","v":"2023-04-01"},{"$f":"Timings!O2","v":"2024-04-01"},{"$f":"Timings!P2","v":"2025-04-01"},{"$f":"Timings!Q2","v":"2026-04-01"},{"$f":"Timings!R2","v":"2027-04-01"},{"$f":"Timings!S2","v":"2028-04-01"},{"$f":"Timings!T2","v":"2029-04-01"},{"$f":"Timings!U2","v":"2030-04-01"},{"$f":"Timings!V2","v":"2031-04-01"},{"$f":"Timings!W2","v":"2032-04-01"},{"$f":"Timings!X2","v":"2033-04-01"},{"$f":"Timings!Y2","v":"2034-04-01"},{"$f":"Timings!Z2","v":"2035-04-01"},{"$f":"Timings!AA2","v":"2036-04-01"},{"$f":"Timings!AB2","v":"2037-04-01"},{"$f":"Timings!AC2","v":"2038-04-01"},{"$f":"Timings!AD2","v":"2039-04-01"},{"$f":"Timings!AE2","v":"2040-04-01"},{"$f":"Timings!AF2","v":"2041-04-01"},{"$f":"Timings!AG2","v":"2042-04-01"},{"$f":"Timings!AH2","v":"2043-04-01"},{"$f":"Timings!AI2","v":"2044-04-01"},{"$f":"Timings!AJ2","v":"2045-04-01"},{"$f":"Timings!AK2","v":"2046-04-01"},{"$f":"Timings!AL2","v":"2047-04-01"},{"$f":"Timings!AM2","v":"2048-04-01"}]
[null,null,"Revenue",null,null,null,null,null,"End Date",{"$f":"Timings!J3","v":"2020-03-31"},{"$f":"Timings!K3","v":"2021-03-31"},{"$f":"Timings!L3","v":"2022-03-31"},{"$f":"Timings!M3","v":"2023-03-31"},{"$f":"Timings!N3","v":"2024-03-31"},{"$f":"Timings!O3","v":"2025-03-31"},{"$f":"Timings!P3","v":"2026-03-31"},{"$f":"Timings!Q3","v":"2027-03-31"},{"$f":"Timings!R3","v":"2028-03-31"},{"$f":"Timings!S3","v":"2029-03-31"},{"$f":"Timings!T3","v":"2030-03-31"},{"$f":"Timings!U3","v":"2031-03-31"},{"$f":"Timings!V3","v":"2032-03-31"},{"$f":"Timings!W3","v":"2033-03-31"},{"$f":"Timings!X3","v":"2034-03-31"},{"$f":"Timings!Y3","v":"2035-03-31"},{"$f":"Timings!Z3","v":"2036-03-31"},{"$f":"Timings!AA3","v":"2037-03-31"},{"$f":"Timings!AB3","v":"2038-03-31"},{"$f":"Timings!AC3","v":"2039-03-31"},{"$f":"Timings!AD3","v":"2040-03-31"},{"$f":"Timings!AE3","v":"2041-03-31"},{"$f":"Timings!AF3","v":"2042-03-31"},{"$f":"Timings!AG3","v":"2043-03-31"},{"$f":"Timings!AH3","v":"2044-03-31"},{"$f":"Timings!AI3","v":"2045-03-31"},{"$f":"Timings!AJ3","v":"2046-03-31"},{"$f":"Timings!AK3","v":"2047-03-31"},{"$f":"Timings!AL3","v":"2048-03-31"},{"$f":"Timings!AM3","v":"2049-03-31"}]
[null,null,null,null,null,null,null,null,"Year",{"$f":"Timings!J4","v":2020},{"$f":"Timings!K4","v":2021},{"$f":"Timings!L4","v":2022},{"$f":"Timings!M4","v":2023},{"$f":"Timings!N4","v":2024},{"$f":"Timings!O4","v":2025},{"$f":"Timings!P4","v":2026},{"$f":"Timings!Q4","v":2027},{"$f":"Timings!R4","v":2028},{"$f":"Timings!S4","v":2029},{"$f":"Timings!T4","v":2030},{"$f":"Timings!U4","v":2031},{"$f":"Timings!V4","v":2032},{"$f":"Timings!W4","v":2033},{"$f":"Timings!X4","v":2034},{"$f":"Timings!Y4","v":2035},{"$f":"Timings!Z4","v":2036},{"$f":"Timings!AA4","v":2037},{"$f":"Timings!AB4","v":2038},{"$f":"Timings!AC4","v":2039},{"$f":"Timings!AD4","v":2040},{"$f":"Timings!AE4","v":2041},{"$f":"Timings!AF4","v":2042},{"$f":"Timings!AG4","v":2043},{"$f":"Timings!AH4","v":2044},{"$f":"Timings!AI4","v":2045},{"$f":"Timings!AJ4","v":2046},{"$f":"Timings!AK4","v":2047},{"$f":"Timings!AL4","v":2048},{"$f":"Timings!AM4","v":2049}]
[null,null,null,null,null,null,null,null,"Appraisal",{"$f":"Timings!J5","v":1},{"$f":"Timings!K5","v":0},{"$f":"Timings!L5","v":0},{"$f":"Timings!M5","v":0},{"$f":"Timings!N5","v":0},{"$f":"Timings!O5","v":0},{"$f":"Timings!P5","v":0},{"$f":"Timings!Q5","v":0},{"$f":"Timings!R5","v":0},{"$f":"Timings!S5","v":0},{"$f":"Timings!T5","v":0},{"$f":"Timings!U5","v":0},{"$f":"Timings!V5","v":0},{"$f":"Timings!W5","v":0},{"$f":"Timings!X5","v":0},{"$f":"Timings!Y5","v":0},{"$f":"Timings!Z5","v":0},{"$f":"Timings!AA5","v":0},{"$f":"Timings!AB5","v":0},{"$f":"Timings!AC5","v":0},{"$f":"Timings!AD5","v":0},{"$f":"Timings!AE5","v":0},{"$f":"Timings!AF5","v":0},{"$f":"Timings!AG5","v":0},{"$f":"Timings!AH5","v":0},{"$f":"Timings!AI5","v":0},{"$f":"Timings!AJ5","v":0},{"$f":"Timings!AK5","v":0},{"$f":"Timings!AL5","v":0},{"$f":"Timings!AM5","v":0}]
[null,null,null,null,null,null,null,null,"Well Development ",{"$f":"Timings!J6","v":1},{"$f":"Timings!K6","v":1},{"$f":"Timings!L6","v":0},{"$f":"Timings!M6","v":0},{"$f":"Timings!N6","v":0},{"$f":"Timings!O6","v":0},{"$f":"Timings!P6","v":0},{"$f":"Timings!Q6","v":0},{"$f":"Timings!R6","v":0},{"$f":"Timings!S6","v":0},{"$f":"Timings!T6","v":0},{"$f":"Timings!U6","v":0},{"$f":"Timings!V6","v":0},{"$f":"Timings!W6","v":0},{"$f":"Timings!X6","v":0},{"$f":"Timings!Y6","v":0},{"$f":"Timings!Z6","v":0},{"$f":"Timings!AA6","v":0},{"$f":"Timings!AB6","v":0},{"$f":"Timings!AC6","v":0},{"$f":"Timings!AD6","v":0},{"$f":"Timings!AE6","v":0},{"$f":"Timings!AF6","v":0},{"$f":"Timings!AG6","v":0},{"$f":"Timings!AH6","v":0},{"$f":"Timings!AI6","v":0},{"$f":"Timings!AJ6","v":0},{"$f":"Timings!AK6","v":0},{"$f":"Timings!AL6","v":0},{"$f":"Timings!AM6","v":0}]
[null,null,null,null,null,null,null,null,"Facilities",{"$f":"Timings!J7","v":1},{"$f":"Timings!K7","v":1},{"$f":"Timings!L7","v":0},{"$f":"Timings!M7","v":0},{"$f":"Timings!N7","v":0},{"$f":"Timings!O7","v":0},{"$f":"Timings!P7","v":0},{"$f":"Timings!Q7","v":0},{"$f":"Timings!R7","v":0},{"$f":"Timings!S7","v":0},{"$f":"Timings!T7","v":0},{"$f":"Timings!U7","v":0},{"$f":"Timings!V7","v":0},{"$f":"Timings!W7","v":0},{"$f":"Timings!X7","v":0},{"$f":"Timings!Y7","v":0},{"$f":"Timings!Z7","v":0},{"$f":"Timings!AA7","v":0},{"$f":"Timings!AB7","v":0},{"$f":"Timings!AC7","v":0},{"$f":"Timings!AD7","v":0},{"$f":"Timings!AE7","v":0},{"$f":"Timings!AF7","v":0},{"$f":"Timings!AG7","v":0},{"$f":"Timings!AH7","v":0},{"$f":"Timings!AI7","v":0},{"$f":"Timings!AJ7","v":0},{"$f":"Timings!AK7","v":0},{"$f":"Timings!AL7","v":0},{"$f":"Timings!AM7","v":0}]
[null,null,null,null,null,null,null,null,"Operations",{"$f":"Timings!J8","v":0},{"$f":"Timings!K8","v":1},{"$f":"Timings!L8","v":1},{"$f":"Timings!M8","v":1},{"$f":"Timings!N8","v":1},{"$f":"Timings!O8","v":1},{"$f":"Timings!P8","v":1},{"$f":"Timings!Q8","v":1},{"$f":"Timings!R8","v":1},{"$f":"Timings!S8","v":1},{"$f":"Timings!T8","v":1},{"$f":"Timings!U8","v":1},{"$f":"Timings!V8","v":1},{"$f":"Timings!W8","v":0},{"$f":"Timings!X8","v":0},{"$f":"Timings!Y8","v":0},{"$f":"Timings!Z8","v":0},{"$f":"Timings!AA8","v":0},{"$f":"Timings!AB8","v":0},{"$f":"Timings!AC8","v":0},{"$f":"Timings!AD8","v":0},{"$f":"Timings!AE8","v":0},{"$f":"Timings!AF8","v":0},{"$f":"Timings!AG8","v":0},{"$f":"Timings!AH8","v":0},{"$f":"Timings!AI8","v":0},{"$f":"Timings!AJ8","v":0},{"$f":"Timings!AK8","v":0},{"$f":"Timings!AL8","v":0},{"$f":"Timings!AM8","v":0}]
[null,null,null,null,null,null,null,null,"Production Year",{"$f":"SUM($J$8:J8)*J8","v":0},{"$f":"SUM($J$8:K8)*K8","v":1},{"$f":"SUM($J$8:L8)*L8","v":2},{"$f":"SUM($J$8:M8)*M8","v":3},{"$f":"SUM($J$8:N8)*N8","v":4},{"$f":"SUM($J$8:O8)*O8","v":5},{"$f":"SUM($J$8:P8)*P8","v":6},{"$f":"SUM($J$8:Q8)*Q8","v":7},{"$f":"SUM($J$8:R8)*R8","v":8},{"$f":"SUM($J$8:S8)*S8","v":9},{"$f":"SUM($J$8:T8)*T8","v":10},{"$f":"SUM($J$8:U8)*U8","v":11},{"$f":"SUM($J$8:V8)*V8","v":12},{"$f":"SUM($J$8:W8)*W8","v":0},{"$f":"SUM($J$8:X8)*X8","v":0},{"$f":"SUM($J$8:Y8)*Y8","v":0},{"$f":"SUM($J$8:Z8)*Z8","v":0},{"$f":"SUM($J$8:AA8)*AA8","v":0},{"$f":"SUM($J$8:AB8)*AB8","v":0},{"$f":"SUM($J$8:AC8)*AC8","v":0},{"$f":"SUM($J$8:AD8)*AD8","v":0},{"$f":"SUM($J$8:AE8)*AE8","v":0},{"$f":"SUM($J$8:AF8)*AF8","v":0},{"$f":"SUM($J$8:AG8)*AG8","v":0},{"$f":"SUM($J$8:AH8)*AH8","v":0},{"$f":"SUM($J$8:AI8)*AI8","v":0},{"$f":"SUM($J$8:AJ8)*AJ8","v":0},{"$f":"SUM($J$8:AK8)*AK8","v":0},{"$f":"SUM($J$8:AL8)*AL8","v":0},{"$f":"SUM($J$8:AM8)*AM8","v":0}]
[]
[null,null,"Production"]
[null,null,"Oil",null,"MMT",null,{"$f":"SUM(J12:AM12)","v":3},null,null,{"$f":"Inputs!J51","v":0},{"$f":"Inputs!K51","v":0},{"$f":"Inputs!L51","v":0.63},{"$f":"Inputs!M51","v":0.15000000000000002},{"$f":"Inputs!N51","v":0.18},{"$f":"Inputs!O51","v":0.21000000000000002},{"$f":"Inputs!P51","v":0.24},{"$f":"Inputs!Q51","v":0.36},{"$f":"Inputs!R51","v":0.27},{"$f":"Inputs!S51","v":0.30000000000000004},{"$f":"Inputs!T51","v":0.24},{"$f":"Inputs!U51","v":0.21000000000000002},{"$f":"Inputs!V51","v":0.12},{"$f":"Inputs!W51","v":0.09},{"$f":"Inputs!X51","v":0},{"$f":"Inputs!Y51","v":0},{"$f":"Inputs!Z51","v":0},{"$f":"Inputs!AA51","v":0},{"$f":"Inputs!AB51","v":0},{"$f":"Inputs!AC51","v":0},{"$f":"Inputs!AD51","v":0},{"$f":"Inputs!AE51","v":0},{"$f":"Inputs!AF51","v":0},{"$f":"Inputs!AG51","v":0},{"$f":"Inputs!AH51","v":0},{"$f":"Inputs!AI51","v":0},{"$f":"Inputs!AJ51","v":0},{"$f":"Inputs!AK51","v":0},{"$f":"Inputs!AL51","v":0},{"$f":"Inputs!AM51","v":0}]
[null,null,"Gas",null,"BCM",null,{"$f":"SUM(J13:AM13)","v":0.5},null,null,{"$f":"Inputs!J52","v":0},{"$f":"Inputs!K52","v":0},{"$f":"Inputs!L52","v":0.105},{"$f":"Inputs!M52","v":2.5000000000000001E-2},{"$f":"Inputs!N52","v":0.03},{"$f":"Inputs!O52","v":3.5000000000000003E-2},{"$f":"Inputs!P52","v":0.04},{"$f":"Inputs!Q52","v":0.06},{"$f":"Inputs!R52","v":4.4999999999999998E-2},{"$f":"Inputs!S52","v":0.05},{"$f":"Inputs!T52","v":0.04},{"$f":"Inputs!U52","v":3.5000000000000003E-2},{"$f":"Inputs!V52","v":0.02},{"$f":"Inputs!W52","v":1.4999999999999999E-2},{"$f":"Inputs!X52","v":0},{"$f":"Inputs!Y52","v":0},{"$f":"Inputs!Z52","v":0},{"$f":"Inputs!AA52","v":0},{"$f":"Inputs!AB52","v":0},{"$f":"Inputs!AC52","v":0},{"$f":"Inputs!AD52","v":0},{"$f":"Inputs!AE52","v":0},{"$f":"Inputs!AF52","v":0},{"$f":"Inputs!AG52","v":0},{"$f":"Inputs!AH52","v":0},{"$f":"Inputs!AI52","v":0},{"$f":"Inputs!AJ52","v":0},{"$f":"Inputs!AK52","v":0},{"$f":"Inputs!AL52","v":0},{"$f":"Inputs!AM52","v":0}]
[null,null,"Oil and Gas",null,"MMT",null,{"$f":"SUM(G12:G13)","v":3.5},null,null,{"$f":"SUM(J12:J13)","v":0},{"$f":"SUM(K12:K13)","v":0},0.73499999999999999,0.17500000000000002,0.21,0.24500000000000002,0.27999999999999997,0.42,0.315,0.35000000000000003,0.27999999999999997,0.24500000000000002,0.13999999999999999,0.105,0,0,0,0,0,0,0,0,0,0,0,0,0,0,0,0]
[]
[null,null,"Internal Consumption/Loss"]
[null,null,"Oil",null,"MMT",null,{"$f":"SUM(J17:AM17)","v":0},null,null,{"$f":"Inputs!J55","v":0},{"$f":"Inputs!K55","v":0},{"$f":"Inputs!L55","v":0},{"$f":"Inputs!M55","v":0},{"$f":"Inputs!N55","v":0},{"$f":"Inputs!O55","v":0},{"$f":"Inputs!P55","v":0},{"$f":"Inputs!Q55","v":0},{"$f":"Inputs!R55","v":0},{"$f":"Inputs!S55","v":0},{"$f":"Inputs!T55","v":0},{"$f":"Inputs!U55","v":0},{"$f":"Inputs!V55","v":0},{"$f":"Inputs!W55","v":0},{"$f":"Inputs!X55","v":0},{"$f":"Inputs!Y55","v":0},{"$f":"Inputs!Z55","v":0},{"$f":"Inputs!AA55","v":0},{"$f":"Inputs!AB55","v":0},{"$f":"Inputs!AC55","v":0},{"$f":"Inputs!AD55","v":0},{"$f":"Inputs!AE55","v":0},{"$f":"Inputs!AF55","v":0},{"$f":"Inputs!AG55","v":0},{"$f":"Inputs!AH55","v":0},{"$f":"Inputs!AI55","v":0},{"$f":"Inputs!AJ55","v":0},{"$f":"Inputs!AK55","v":0},{"$f":"Inputs!AL55","v":0},{"$f":"Inputs!AM55","v":0}]
[null,null,"Gas",null,"BCM",null,{"$f":"SUM(J18:AM18)","v":0},null,null,{"$f":"Inputs!J56","v":0},{"$f":"Inputs!K56","v":0},{"$f":"Inputs!L56","v":0},{"$f":"Inputs!M56","v":0},{"$f":"Inputs!N56","v":0},{"$f":"Inputs!O56","v":0},{"$f":"Inputs!P56","v":0},{"$f":"Inputs!Q56","v":0},{"$f":"Inputs!R56","v":0},{"$f":"Inputs!S56","v":0},{"$f":"Inputs!T56","v":0},{"$f":"Inputs!U56","v":0},{"$f":"Inputs!V56","v":0},{"$f":"Inputs!W56","v":0},{"$f":"Inputs!X56","v":0},{"$f":"Inputs!Y56","v":0},{"$f":"Inputs!Z56","v":0},{"$f":"Inputs!AA56","v":0},{"$f":"Inputs!AB56","v":0},{"$f":"Inputs!AC56","v":0},{"$f":"Inputs!AD56","v":0},{"$f":"Inputs!AE56","v":0},{"$f":"Inputs!AF56","v":0},{"$f":"Inputs!AG56","v":0},{"$f":"Inputs!AH56","v":0},{"$f":"Inputs!AI56","v":0},{"$f":"Inputs!AJ56","v":0},{"$f":"Inputs!AK56","v":0},{"$f":"Inputs!AL56","v":0},{"$f":"Inputs!AM56","v":0}]
[null,null,"Oil and Gas",null,"MMT",null,{"$f":"SUM(G17:G18)","v":0},null,null,{"$f":"SUM(J17:J18)","v":0},{"$f":"SUM(K17:K18)","v":0},0,0,0,0,0,0,0,0,0,0,0,0,0,0,0,0,0,0,0,0,0,0,0,0,0,0,0,0]
[]
[null,null,"Net Production for sale"]
[null,null,"Oil",null,"MMT",null,{"$f":"SUM(J22:AM22)","v":3},null,null,{"$f":"J12-J17","v":0},0,0.63,0.15000000000000002,0.18,0.21000000000000002,0.24,0.36,0.27,0.30000000000000004,0.24,0.21000000000000002,0.12,0.09,0,0,0,0,0,0,0,0,0,0,0,0,0,0,0,0]
[null,null,"Gas",null,"BCM",null,{"$f":"SUM(J23:AM23)","v":0.5},null,null,{"$f":"J13-J18","v":0},0,0.105,2.5000000000000001E-2,0.03,3.5000000000000003E-2,0.04,0.06,4.4999999999999998E-2,0.05,0.04,3.5000000000000003E-2,0.02,1.4999999999999999E-2,0,0,0,0,0,0,0,0,0,0,0,0,0,0,0,0]
[null,null,"Oil and Gas",null,"MMT",null,{"$f":"SUM(G22:G23)","v":3.5},null,null,{"$f":"SUM(J22:J23)","v":0},{"$f":"SUM(K22:K23)","v":0},{"$f":"SUM(L22:L23)","v":0.73499999999999999},{"$f":"SUM(M22:M23)","v":0.17500000000000002},{"$f":"SUM(N22:N23)","v":0.21},{"$f":"SUM(O22:O23)","v":0.24500000000000002},{"$f":"SUM(P22:P23)","v":0.27999999999999997},{"$f":"SUM(Q22:Q23)","v":0.42},{"$f":"SUM(R22:R23)","v":0.315},{"$f":"SUM(S22:S23)","v":0.35000000000000003},{"$f":"SUM(T22:T23)","v":0.27999999999999997},{"$f":"SUM(U22:U23)","v":0.24500000000000002},{"$f":"SUM(V22:V23)","v":0.13999999999999999},{"$f":"SUM(W22:W23)","v":0.105},{"$f":"SUM(X22:X23)","v":0},{"$f":"SUM(Y22:Y23)","v":0},{"$f":"SUM(Z22:Z23)","v":0},{"$f":"SUM(AA22:AA23)","v":0},{"$f":"SUM(AB22:AB23)","v":0},{"$f":"SUM(AC22:AC23)","v":0},{"$f":"SUM(AD22:AD23)","v":0},{"$f":"SUM(AE22:AE23)","v":0},{"$f":"SUM(AF22:AF23)","v":0},{"$f":"SUM(AG22:AG23)","v":0},{"$f":"SUM(AH22:AH23)","v":0},{"$f":"SUM(AI22:AI23)","v":0},{"$f":"SUM(AJ22:AJ23)","v":0},{"$f":"SUM(AK22:AK23)","v":0},{"$f":"SUM(AL22:AL23)","v":0},{"$f":"SUM(AM22:AM23)","v":0}]
[]
[null,null,"Prices"]
[null,null,"Oil",null,{"$f":"Inputs!D60","v":"USD per barrel"},null,{"$f":"Inputs!$E$60","v":80},null,null,{"$f":"$G$27*((1+Inputs!$E$136)^J1)*IF(SUM(J5:J8)>0,1,0)","v":80},{"$f":"$G$27*((1+Inputs!$E$136)^K1)*IF(SUM(K5:K8)>0,1,0)","v":80},{"$f":"$G$27*((1+Inputs!$E$136)^L1)*IF(SUM(L5:L8)>0,1,0)","v":80},{"$f":"$G$27*((1+Inputs!$E$136)^M1)*IF(SUM(M5:M8)>0,1,0)","v":80},{"$f":"$G$27*((1+Inputs!$E$136)^N1)*IF(SUM(N5:N8)>0,1,0)","v":80},{"$f":"$G$27*((1+Inputs!$E$136)^O1)*IF(SUM(O5:O8)>0,1,0)","v":80},{"$f":"$G$27*((1+Inputs!$E$136)^P1)*IF(SUM(P5:P8)>0,1,0)","v":80},{"$f":"$G$27*((1+Inputs!$E$136)^Q1)*IF(SUM(Q5:Q8)>0,1,0)","v":80},{"$f":"$G$27*((1+Inputs!$E$136)^R1)*IF(SUM(R5:R8)>0,1,0)","v":80},{"$f":"$G$27*((1+Inputs!$E$136)^S1)*IF(SUM(S5:S8)>0,1,0)","v":80},{"$f":"$G$27*((1+Inputs!$E$136)^T1)*IF(SUM(T5:T8)>0,1,0)","v":80},{"$f":"$G$27*((1+Inputs!$E$136)^U1)*IF(SUM(U5:U8)>0,1,0)","v":80},{"$f":"$G$27*((1+Inputs!$E$136)^V1)*IF(SUM(V5:V8)>0,1,0)","v":80},{"$f":"$G$27*((1+Inputs!$E$136)^W1)*IF(SUM(W5:W8)>0,1,0)","v":0},{"$f":"$G$27*((1+Inputs!$E$136)^X1)*IF(SUM(X5:X8)>0,1,0)","v":0},{"$f":"$G$27*((1+Inputs!$E$136)^Y1)*IF(SUM(Y5:Y8)>0,1,0)","v":0},{"$f":"$G$27*((1+Inputs!$E$136)^Z1)*IF(SUM(Z5:Z8)>0,1,0)","v":0},{"$f":"$G$27*((1+Inputs!$E$136)^AA1)*IF(SUM(AA5:AA8)>0,1,0)","v":0},{"$f":"$G$27*((1+Inputs!$E$136)^AB1)*IF(SUM(AB5:AB8)>0,1,0)","v":0},{"$f":"$G$27*((1+Inputs!$E$136)^AC1)*IF(SUM(AC5:AC8)>0,1,0)","v":0},{"$f":"$G$27*((1+Inputs!$E$136)^AD1)*IF(SUM(AD5:AD8)>0,1,0)","v":0},{"$f":"$G$27*((1+Inputs!$E$136)^AE1)*IF(SUM(AE5:AE8)>0,1,0)","v":0},{"$f":"$G$27*((1+Inputs!$E$136)^AF1)*IF(SUM(AF5:AF8)>0,1,0)","v":0},{"$f":"$G$27*((1+Inputs!$E$136)^AG1)*IF(SUM(AG5:AG8)>0,1,0)","v":0},{"$f":"$G$27*((1+Inputs!$E$136)^AH1)*IF(SUM(AH5:AH8)>0,1,0)","v":0},{"$f":"$G$27*((1+Inputs!$E$136)^AI1)*IF(SUM(AI5:AI8)>0,1,0)","v":0},{"$f":"$G$27*((1+Inputs!$E$136)^AJ1)*IF(SUM(AJ5:AJ8)>0,1,0)","v":0},{"$f":"$G$27*((1+Inputs!$E$136)^AK1)*IF(SUM(AK5:AK8)>0,1,0)","v":0},{"$f":"$G$27*((1+Inputs!$E$136)^AL1)*IF(SUM(AL5:AL8)>0,1,0)","v":0},{"$f":"$G$27*((1+Inputs!$E$136)^AM1)*IF(SUM(AM5:AM8)>0,1,0)","v":0}]
[null,null,null,null,"INR/MT",null,null,null,null,{"$f":"J27*Inputs!$E$140*Inputs!$E$66/Inputs!$E$65","v":38485.534246575342},{"$f":"K27*Inputs!$E$140*Inputs!$E$66/Inputs!$E$65","v":38485.534246575342},{"$f":"L27*Inputs!$E$140*Inputs!$E$66/Inputs!$E$65","v":38485.534246575342},{"$f":"M27*Inputs!$E$140*Inputs!$E$66/Inputs!$E$65","v":38485.534246575342},{"$f":"N27*Inputs!$E$140*Inputs!$E$66/Inputs!$E$65","v":38485.534246575342},{"$f":"O27*Inputs!$E$140*Inputs!$E$66/Inputs!$E$65","v":38485.534246575342},{"$f":"P27*Inputs!$E$140*Inputs!$E$66/Inputs!$E$65","v":38485.534246575342},{"$f":"Q27*Inputs!$E$140*Inputs!$E$66/Inputs!$E$65","v":38485.534246575342},{"$f":"R27*Inputs!$E$140*Inputs!$E$66/Inputs!$E$65","v":38485.534246575342},{"$f":"S27*Inputs!$E$140*Inputs!$E$66/Inputs!$E$65","v":38485.534246575342},{"$f":"T27*Inputs!$E$140*Inputs!$E$66/Inputs!$E$65","v":38485.534246575342},{"$f":"U27*Inputs!$E$140*Inputs!$E$66/Inputs!$E$65","v":38485.534246575342},{"$f":"V27*Inputs!$E$140*Inputs!$E$66/Inputs!$E$65","v":38485.534246575342},{"$f":"W27*Inputs!$E$140*Inputs!$E$66/Inputs!$E$65","v":0},{"$f":"X27*Inputs!$E$140*Inputs!$E$66/Inputs!$E$65","v":0},{"$f":"Y27*Inputs!$E$140*Inputs!$E$66/Inputs!$E$65","v":0},{"$f":"Z27*Inputs!$E$140*Inputs!$E$66/Inputs!$E$65","v":0},{"$f":"AA27*Inputs!$E$140*Inputs!$E$66/Inputs!$E$65","v":0},{"$f":"AB27*Inputs!$E$140*Inputs!$E$66/Inputs!$E$65","v":0},{"$f":"AC27*Inputs!$E$140*Inputs!$E$66/Inputs!$E$65","v":0},{"$f":"AD27*Inputs!$E$140*Inputs!$E$66/Inputs!$E$65","v":0},{"$f":"AE27*Inputs!$E$140*Inputs!$E$66/Inputs!$E$65","v":0},{"$f":"AF27*Inputs!$E$140*Inputs!$E$66/Inputs!$E$65","v":0},{"$f":"AG27*Inputs!$E$140*Inputs!$E$66/Inputs!$E$65","v":0},{"$f":"AH27*Inputs!$E$140*Inputs!$E$66/Inputs!$E$65","v":0},{"$f":"AI27*Inputs!$E$140*Inputs!$E$66/Inputs!$E$65","v":0},{"$f":"AJ27*Inputs!$E$140*Inputs!$E$66/Inputs!$E$65","v":0},{"$f":"AK27*Inputs!$E$140*Inputs!$E$66/Inputs!$E$65","v":0},{"$f":"AL27*Inputs!$E$140*Inputs!$E$66/Inputs!$E$65","v":0},{"$f":"AM27*Inputs!$E$140*Inputs!$E$66/Inputs!$E$65","v":0}]
[]
[null,null,"Taxes"]
[null,null,{"$f":"Inputs!C122","v":"Sales Tax"},null,"%",null,{"$f":"Inputs!E122","v":0},null,null,{"$f":"J28*$G$31","v":0},{"$f":"K28*$G$31","v":0},0,0,0,0,0,0,0,0,0,0,0,0,0,0,0,0,0,0,0,0,0,0,0,0,0,0,0,0]
[null,null,{"$f":"Inputs!C123","v":"VAT"},null,"%",null,{"$f":"Inputs!E123","v":0},null,null,{"$f":"J28*$G$32","v":0},{"$f":"K28*$G$32","v":0},0,0,0,0,0,0,0,0,0,0,0,0,0,0,0,0,0,0,0,0,0,0,0,0,0,0,0,0]
[]
[null,null,"W.H. Price",null,"INR/MT",null,null,null,null,{"$f":"J28-J31-J32","v":38485.534246575342},{"$f":"K28-K31-K32","v":38485.534246575342},38485.534246575342,38485.534246575342,38485.534246575342,38485.534246575342,38485.534246575342,38485.534246575342,38485.534246575342,38485.534246575342,38485.534246575342,38485.534246575342,38485.534246575342,0,0,0,0,0,0,0,0,0,0,0,0,0,0,0,0,0]
[]
[null,null,"Royalty",null,"INR/MT",null,{"$f":"Inputs!$E$110","v":0.125},null,null,{"$f":"(J34-Inputs!$E$112)*IF(Dashboard!$D$13=\"Deepwater\",IF(J9<8,$G$36,$G$37),$G$36)*IF(SUM(J5:J8)>0,1,0)","v":4810.6917808219177},{"$f":"(K34-Inputs!$E$112)*IF(Dashboard!$D$13=\"Deepwater\",IF(K9<8,$G$36,$G$37),$G$36)*IF(SUM(K5:K8)>0,1,0)","v":4810.6917808219177},{"$f":"(L34-Inputs!$E$112)*IF(Dashboard!$D$13=\"Deepwater\",IF(L9<8,$G$36,$G$37),$G$36)*IF(SUM(L5:L8)>0,1,0)","v":4810.6917808219177},{"$f":"(M34-Inputs!$E$112)*IF(Dashboard!$D$13=\"Deepwater\",IF(M9<8,$G$36,$G$37),$G$36)*IF(SUM(M5:M8)>0,1,0)","v":4810.6917808219177},{"$f":"(N34-Inputs!$E$112)*IF(Dashboard!$D$13=\"Deepwater\",IF(N9<8,$G$36,$G$37),$G$36)*IF(SUM(N5:N8)>0,1,0)","v":4810.6917808219177},{"$f":"(O34-Inputs!$E$112)*IF(Dashboard!$D$13=\"Deepwater\",IF(O9<8,$G$36,$G$37),$G$36)*IF(SUM(O5:O8)>0,1,0)","v":4810.6917808219177},{"$f":"(P34-Inputs!$E$112)*IF(Dashboard!$D$13=\"Deepwater\",IF(P9<8,$G$36,$G$37),$G$36)*IF(SUM(P5:P8)>0,1,0)","v":4810.6917808219177},{"$f":"(Q34-Inputs!$E$112)*IF(Dashboard!$D$13=\"Deepwater\",IF(Q9<8,$G$36,$G$37),$G$36)*IF(SUM(Q5:Q8)>0,1,0)","v":4810.6917808219177},{"$f":"(R34-Inputs!$E$112)*IF(Dashboard!$D$13=\"Deepwater\",IF(R9<8,$G$36,$G$37),$G$36)*IF(SUM(R5:R8)>0,1,0)","v":4810.6917808219177},{"$f":"(S34-Inputs!$E$112)*IF(Dashboard!$D$13=\"Deepwater\",IF(S9<8,$G$36,$G$37),$G$36)*IF(SUM(S5:S8)>0,1,0)","v":4810.6917808219177},{"$f":"(T34-Inputs!$E$112)*IF(Dashboard!$D$13=\"Deepwater\",IF(T9<8,$G$36,$G$37),$G$36)*IF(SUM(T5:T8)>0,1,0)","v":4810.6917808219177},{"$f":"(U34-Inputs!$E$112)*IF(Dashboard!$D$13=\"Deepwater\",IF(U9<8,$G$36,$G$37),$G$36)*IF(SUM(U5:U8)>0,1,0)","v":4810.6917808219177},{"$f":"(V34-Inputs!$E$112)*IF(Dashboard!$D$13=\"Deepwater\",IF(V9<8,$G$36,$G$37),$G$36)*IF(SUM(V5:V8)>0,1,0)","v":4810.6917808219177},{"$f":"(W34-Inputs!$E$112)*IF(Dashboard!$D$13=\"Deepwater\",IF(W9<8,$G$36,$G$37),$G$36)*IF(SUM(W5:W8)>0,1,0)","v":0},{"$f":"(X34-Inputs!$E$112)*IF(Dashboard!$D$13=\"Deepwater\",IF(X9<8,$G$36,$G$37),$G$36)*IF(SUM(X5:X8)>0,1,0)","v":0},{"$f":"(Y34-Inputs!$E$112)*IF(Dashboard!$D$13=\"Deepwater\",IF(Y9<8,$G$36,$G$37),$G$36)*IF(SUM(Y5:Y8)>0,1,0)","v":0},{"$f":"(Z34-Inputs!$E$112)*IF(Dashboard!$D$13=\"Deepwater\",IF(Z9<8,$G$36,$G$37),$G$36)*IF(SUM(Z5:Z8)>0,1,0)","v":0},{"$f":"(AA34-Inputs!$E$112)*IF(Dashboard!$D$13=\"Deepwater\",IF(AA9<8,$G$36,$G$37),$G$36)*IF(SUM(AA5:AA8)>0,1,0)","v":0},{"$f":"(AB34-Inputs!$E$112)*IF(Dashboard!$D$13=\"Deepwater\",IF(AB9<8,$G$36,$G$37),$G$36)*IF(SUM(AB5:AB8)>0,1,0)","v":0},{"$f":"(AC34-Inputs!$E$112)*IF(Dashboard!$D$13=\"Deepwater\",IF(AC9<8,$G$36,$G$37),$G$36)*IF(SUM(AC5:AC8)>0,1,0)","v":0},{"$f":"(AD34-Inputs!$E$112)*IF(Dashboard!$D$13=\"Deepwater\",IF(AD9<8,$G$36,$G$37),$G$36)*IF(SUM(AD5:AD8)>0,1,0)","v":0},{"$f":"(AE34-Inputs!$E$112)*IF(Dashboard!$D$13=\"Deepwater\",IF(AE9<8,$G$36,$G$37),$G$36)*IF(SUM(AE5:AE8)>0,1,0)","v":0},{"$f":"(AF34-Inputs!$E$112)*IF(Dashboard!$D$13=\"Deepwater\",IF(AF9<8,$G$36,$G$37),$G$36)*IF(SUM(AF5:AF8)>0,1,0)","v":0},{"$f":"(AG34-Inputs!$E$112)*IF(Dashboard!$D$13=\"Deepwater\",IF(AG9<8,$G$36,$G$37),$G$36)*IF(SUM(AG5:AG8)>0,1,0)","v":0},{"$f":"(AH34-Inputs!$E$112)*IF(Dashboard!$D$13=\"Deepwater\",IF(AH9<8,$G$36,$G$37),$G$36)*IF(SUM(AH5:AH8)>0,1,0)","v":0},{"$f":"(AI34-Inputs!$E$112)*IF(Dashboard!$D$13=\"Deepwater\",IF(AI9<8,$G$36,$G$37),$G$36)*IF(SUM(AI5:AI8)>0,1,0)","v":0},{"$f":"(AJ34-Inputs!$E$112)*IF(Dashboard!$D$13=\"Deepwater\",IF(AJ9<8,$G$36,$G$37),$G$36)*IF(SUM(AJ5:AJ8)>0,1,0)","v":0},{"$f":"(AK34-Inputs!$E$112)*IF(Dashboard!$D$13=\"Deepwater\",IF(AK9<8,$G$36,$G$37),$G$36)*IF(SUM(AK5:AK8)>0,1,0)","v":0},{"$f":"(AL34-Inputs!$E$112)*IF(Dashboard!$D$13=\"Deepwater\",IF(AL9<8,$G$36,$G$37),$G$36)*IF(SUM(AL5:AL8)>0,1,0)","v":0},{"$f":"(AM34-Inputs!$E$112)*IF(Dashboard!$D$13=\"Deepwater\",IF(AM9<8,$G$36,$G$37),$G$36)*IF(SUM(AM5:AM8)>0,1,0)","v":0}]
[null,null,null,null,null,null,{"$f":"IF(Dashboard!$D$13=\"Deepwater\",5%,\"\")","v":""}]
[null,null,"Other Charges",null,"INR/MT",null,{"$f":"Inputs!E113","v":0},null,null,{"$f":"$G$38*IF(SUM(J5:J8)>0,1,0)","v":0},0,0,0,0,0,0,0,0,0,0,0,0,0,0,0,0,0,0,0,0,0,0,0,0,0,0,0,0,0]
[]
[null,null,"Net Oil Price",null,"INR/MT",null,null,null,null,{"$f":"J28-J32-J31-J36-J38","v":33674.842465753427},{"$f":"K28-K32-K31-K36-K38","v":33674.842465753427},33674.842465753427,33674.842465753427,33674.842465753427,33674.842465753427,33674.842465753427,33674.842465753427,33674.842465753427,33674.842465753427,33674.842465753427,33674.842465753427,33674.842465753427,0,0,0,0,0,0,0,0,0,0,0,0,0,0,0,0,0]
[null,null,null,null,"USD/MT",null,null,null,null,{"$f":"J40/Inputs!$E$140","v":502.60958904109594},{"$f":"K40/Inputs!$E$140","v":502.60958904109594},{"$f":"L40/Inputs!$E$140","v":502.60958904109594},{"$f":"M40/Inputs!$E$140","v":502.60958904109594},{"$f":"N40/Inputs!$E$140","v":502.60958904109594},{"$f":"O40/Inputs!$E$140","v":502.60958904109594},{"$f":"P40/Inputs!$E$140","v":502.60958904109594},{"$f":"Q40/Inputs!$E$140","v":502.60958904109594},{"$f":"R40/Inputs!$E$140","v":502.60958904109594},{"$f":"S40/Inputs!$E$140","v":502.60958904109594},{"$f":"T40/Inputs!$E$140","v":502.60958904109594},{"$f":"U40/Inputs!$E$140","v":502.60958904109594},{"$f":"V40/Inputs!$E$140","v":502.60958904109594},{"$f":"W40/Inputs!$E$140","v":0},{"$f":"X40/Inputs!$E$140","v":0},{"$f":"Y40/Inputs!$E$140","v":0},{"$f":"Z40/Inputs!$E$140","v":0},{"$f":"AA40/Inputs!$E$140","v":0},{"$f":"AB40/Inputs!$E$140","v":0},{"$f":"AC40/Inputs!$E$140","v":0},{"$f":"AD40/Inputs!$E$140","v":0},{"$f":"AE40/Inputs!$E$140","v":0},{"$f":"AF40/Inputs!$E$140","v":0},{"$f":"AG40/Inputs!$E$140","v":0},{"$f":"AH40/Inputs!$E$140","v":0},{"$f":"AI40/Inputs!$E$140","v":0},{"$f":"AJ40/Inputs!$E$140","v":0},{"$f":"AK40/Inputs!$E$140","v":0},{"$f":"AL40/Inputs!$E$140","v":0},{"$f":"AM40/Inputs!$E$140","v":0}]
[]
[null,null,"Gas",null,{"$f":"Inputs!D61","v":"USD per mmbtu"},null,{"$f":"Inputs!$E$61","v":10},null,null,{"$f":"$G$43*((1+Inputs!$E$137)^J1)*IF(SUM(J5:J8)>0,1,0)","v":10},{"$f":"$G$43*((1+Inputs!$E$137)^K1)*IF(SUM(K5:K8)>0,1,0)","v":10},{"$f":"$G$43*((1+Inputs!$E$137)^L1)*IF(SUM(L5:L8)>0,1,0)","v":10},{"$f":"$G$43*((1+Inputs!$E$137)^M1)*IF(SUM(M5:M8)>0,1,0)","v":10},{"$f":"$G$43*((1+Inputs!$E$137)^N1)*IF(SUM(N5:N8)>0,1,0)","v":10},{"$f":"$G$43*((1+Inputs!$E$137)^O1)*IF(SUM(O5:O8)>0,1,0)","v":10},{"$f":"$G$43*((1+Inputs!$E$137)^P1)*IF(SUM(P5:P8)>0,1,0)","v":10},{"$f":"$G$43*((1+Inputs!$E$137)^Q1)*IF(SUM(Q5:Q8)>0,1,0)","v":10},{"$f":"$G$43*((1+Inputs!$E$137)^R1)*IF(SUM(R5:R8)>0,1,0)","v":10},{"$f":"$G$43*((1+Inputs!$E$137)^S1)*IF(SUM(S5:S8)>0,1,0)","v":10},{"$f":"$G$43*((1+Inputs!$E$137)^T1)*IF(SUM(T5:T8)>0,1,0)","v":10},{"$f":"$G$43*((1+Inputs!$E$137)^U1)*IF(SUM(U5:U8)>0,1,0)","v":10},{"$f":"$G$43*((1+Inputs!$E$137)^V1)*IF(SUM(V5:V8)>0,1,0)","v":10},{"$f":"$G$43*((1+Inputs!$E$137)^W1)*IF(SUM(W5:W8)>0,1,0)","v":0},{"$f":"$G$43*((1+Inputs!$E$137)^X1)*IF(SUM(X5:X8)>0,1,0)","v":0},{"$f":"$G$43*((1+Inputs!$E$137)^Y1)*IF(SUM(Y5:Y8)>0,1,0)","v":0},{"$f":"$G$43*((1+Inputs!$E$137)^Z1)*IF(SUM(Z5:Z8)>0,1,0)","v":0},{"$f":"$G$43*((1+Inputs!$E$137)^AA1)*IF(SUM(AA5:AA8)>0,1,0)","v":0},{"$f":"$G$43*((1+Inputs!$E$137)^AB1)*IF(SUM(AB5:AB8)>0,1,0)","v":0},{"$f":"$G$43*((1+Inputs!$E$137)^AC1)*IF(SUM(AC5:AC8)>0,1,0)","v":0},{"$f":"$G$43*((1+Inputs!$E$137)^AD1)*IF(SUM(AD5:AD8)>0,1,0)","v":0},{"$f":"$G$43*((1+Inputs!$E$137)^AE1)*IF(SUM(AE5:AE8)>0,1,0)","v":0},{"$f":"$G$43*((1+Inputs!$E$137)^AF1)*IF(SUM(AF5:AF8)>0,1,0)","v":0},{"$f":"$G$43*((1+Inputs!$E$137)^AG1)*IF(SUM(AG5:AG8)>0,1,0)","v":0},{"$f":"$G$43*((1+Inputs!$E$137)^AH1)*IF(SUM(AH5:AH8)>0,1,0)","v":0},{"$f":"$G$43*((1+Inputs!$E$137)^AI1)*IF(SUM(AI5:AI8)>0,1,0)","v":0},{"$f":"$G$43*((1+Inputs!$E$137)^AJ1)*IF(SUM(AJ5:AJ8)>0,1,0)","v":0},{"$f":"$G$43*((1+Inputs!$E$137)^AK1)*IF(SUM(AK5:AK8)>0,1,0)","v":0},{"$f":"$G$43*((1+Inputs!$E$137)^AL1)*IF(SUM(AL5:AL8)>0,1,0)","v":0},{"$f":"$G$43*((1+Inputs!$E$137)^AM1)*IF(SUM(AM5:AM8)>0,1,0)","v":0}]
[null,null,null,null,"INR/SCM",null,null,null,null,{"$f":"J43*Inputs!$E$140*Inputs!$E$71/Million","v":29.408214285714287},{"$f":"K43*Inputs!$E$140*Inputs!$E$71/Million","v":29.408214285714287},{"$f":"L43*Inputs!$E$140*Inputs!$E$71/Million","v":29.408214285714287},{"$f":"M43*Inputs!$E$140*Inputs!$E$71/Million","v":29.408214285714287},{"$f":"N43*Inputs!$E$140*Inputs!$E$71/Million","v":29.408214285714287},{"$f":"O43*Inputs!$E$140*Inputs!$E$71/Million","v":29.408214285714287},{"$f":"P43*Inputs!$E$140*Inputs!$E$71/Million","v":29.408214285714287},{"$f":"Q43*Inputs!$E$140*Inputs!$E$71/Million","v":29.408214285714287},{"$f":"R43*Inputs!$E$140*Inputs!$E$71/Million","v":29.408214285714287},{"$f":"S43*Inputs!$E$140*Inputs!$E$71/Million","v":29.408214285714287},{"$f":"T43*Inputs!$E$140*Inputs!$E$71/Million","v":29.408214285714287},{"$f":"U43*Inputs!$E$140*Inputs!$E$71/Million","v":29.408214285714287},{"$f":"V43*Inputs!$E$140*Inputs!$E$71/Million","v":29.408214285714287},{"$f":"W43*Inputs!$E$140*Inputs!$E$71/Million","v":0},{"$f":"X43*Inputs!$E$140*Inputs!$E$71/Million","v":0},{"$f":"Y43*Inputs!$E$140*Inputs!$E$71/Million","v":0},{"$f":"Z43*Inputs!$E$140*Inputs!$E$71/Million","v":0},{"$f":"AA43*Inputs!$E$140*Inputs!$E$71/Million","v":0},{"$f":"AB43*Inputs!$E$140*Inputs!$E$71/Million","v":0},{"$f":"AC43*Inputs!$E$140*Inputs!$E$71/Million","v":0},{"$f":"AD43*Inputs!$E$140*Inputs!$E$71/Million","v":0},{"$f":"AE43*Inputs!$E$140*Inputs!$E$71/Million","v":0},{"$f":"AF43*Inputs!$E$140*Inputs!$E$71/Million","v":0},{"$f":"AG43*Inputs!$E$140*Inputs!$E$71/Million","v":0},{"$f":"AH43*Inputs!$E$140*Inputs!$E$71/Million","v":0},{"$f":"AI43*Inputs!$E$140*Inputs!$E$71/Million","v":0},{"$f":"AJ43*Inputs!$E$140*Inputs!$E$71/Million","v":0},{"$f":"AK43*Inputs!$E$140*Inputs!$E$71/Million","v":0},{"$f":"AL43*Inputs!$E$140*Inputs!$E$71/Million","v":0},{"$f":"AM43*Inputs!$E$140*Inputs!$E$71/Million","v":0}]
[]
[null,null,{"$f":"C36","v":"Royalty"},null,{"$f":"E44","v":"INR/SCM"},null,{"$f":"Inputs!E111","v":0.1},null,null,{"$f":"J44*IF(Dashboard!$D$13=\"Deepwater\",IF(J9<8,$G$46,$G$47),$G$46)*IF(SUM(J5:J8)>0,1,0)","v":2.9408214285714287},{"$f":"K44*IF(Dashboard!$D$13=\"Deepwater\",IF(K9<8,$G$46,$G$47),$G$46)*IF(SUM(K5:K8)>0,1,0)","v":2.9408214285714287},{"$f":"L44*IF(Dashboard!$D$13=\"Deepwater\",IF(L9<8,$G$46,$G$47),$G$46)*IF(SUM(L5:L8)>0,1,0)","v":2.9408214285714287},{"$f":"M44*IF(Dashboard!$D$13=\"Deepwater\",IF(M9<8,$G$46,$G$47),$G$46)*IF(SUM(M5:M8)>0,1,0)","v":2.9408214285714287},{"$f":"N44*IF(Dashboard!$D$13=\"Deepwater\",IF(N9<8,$G$46,$G$47),$G$46)*IF(SUM(N5:N8)>0,1,0)","v":2.9408214285714287},{"$f":"O44*IF(Dashboard!$D$13=\"Deepwater\",IF(O9<8,$G$46,$G$47),$G$46)*IF(SUM(O5:O8)>0,1,0)","v":2.9408214285714287},{"$f":"P44*IF(Dashboard!$D$13=\"Deepwater\",IF(P9<8,$G$46,$G$47),$G$46)*IF(SUM(P5:P8)>0,1,0)","v":2.9408214285714287},{"$f":"Q44*IF(Dashboard!$D$13=\"Deepwater\",IF(Q9<8,$G$46,$G$47),$G$46)*IF(SUM(Q5:Q8)>0,1,0)","v":2.9408214285714287},{"$f":"R44*IF(Dashboard!$D$13=\"Deepwater\",IF(R9<8,$G$46,$G$47),$G$46)*IF(SUM(R5:R8)>0,1,0)","v":2.9408214285714287},{"$f":"S44*IF(Dashboard!$D$13=\"Deepwater\",IF(S9<8,$G$46,$G$47),$G$46)*IF(SUM(S5:S8)>0,1,0)","v":2.9408214285714287},{"$f":"T44*IF(Dashboard!$D$13=\"Deepwater\",IF(T9<8,$G$46,$G$47),$G$46)*IF(SUM(T5:T8)>0,1,0)","v":2.9408214285714287},{"$f":"U44*IF(Dashboard!$D$13=\"Deepwater\",IF(U9<8,$G$46,$G$47),$G$46)*IF(SUM(U5:U8)>0,1,0)","v":2.9408214285714287},{"$f":"V44*IF(Dashboard!$D$13=\"Deepwater\",IF(V9<8,$G$46,$G$47),$G$46)*IF(SUM(V5:V8)>0,1,0)","v":2.9408214285714287},{"$f":"W44*IF(Dashboard!$D$13=\"Deepwater\",IF(W9<8,$G$46,$G$47),$G$46)*IF(SUM(W5:W8)>0,1,0)","v":0},{"$f":"X44*IF(Dashboard!$D$13=\"Deepwater\",IF(X9<8,$G$46,$G$47),$G$46)*IF(SUM(X5:X8)>0,1,0)","v":0},{"$f":"Y44*IF(Dashboard!$D$13=\"Deepwater\",IF(Y9<8,$G$46,$G$47),$G$46)*IF(SUM(Y5:Y8)>0,1,0)","v":0},{"$f":"Z44*IF(Dashboard!$D$13=\"Deepwater\",IF(Z9<8,$G$46,$G$47),$G$46)*IF(SUM(Z5:Z8)>0,1,0)","v":0},{"$f":"AA44*IF(Dashboard!$D$13=\"Deepwater\",IF(AA9<8,$G$46,$G$47),$G$46)*IF(SUM(AA5:AA8)>0,1,0)","v":0},{"$f":"AB44*IF(Dashboard!$D$13=\"Deepwater\",IF(AB9<8,$G$46,$G$47),$G$46)*IF(SUM(AB5:AB8)>0,1,0)","v":0},{"$f":"AC44*IF(Dashboard!$D$13=\"Deepwater\",IF(AC9<8,$G$46,$G$47),$G$46)*IF(SUM(AC5:AC8)>0,1,0)","v":0},{"$f":"AD44*IF(Dashboard!$D$13=\"Deepwater\",IF(AD9<8,$G$46,$G$47),$G$46)*IF(SUM(AD5:AD8)>0,1,0)","v":0},{"$f":"AE44*IF(Dashboard!$D$13=\"Deepwater\",IF(AE9<8,$G$46,$G$47),$G$46)*IF(SUM(AE5:AE8)>0,1,0)","v":0},{"$f":"AF44*IF(Dashboard!$D$13=\"Deepwater\",IF(AF9<8,$G$46,$G$47),$G$46)*IF(SUM(AF5:AF8)>0,1,0)","v":0},{"$f":"AG44*IF(Dashboard!$D$13=\"Deepwater\",IF(AG9<8,$G$46,$G$47),$G$46)*IF(SUM(AG5:AG8)>0,1,0)","v":0},{"$f":"AH44*IF(Dashboard!$D$13=\"Deepwater\",IF(AH9<8,$G$46,$G$47),$G$46)*IF(SUM(AH5:AH8)>0,1,0)","v":0},{"$f":"AI44*IF(Dashboard!$D$13=\"Deepwater\",IF(AI9<8,$G$46,$G$47),$G$46)*IF(SUM(AI5:AI8)>0,1,0)","v":0},{"$f":"AJ44*IF(Dashboard!$D$13=\"Deepwater\",IF(AJ9<8,$G$46,$G$47),$G$46)*IF(SUM(AJ5:AJ8)>0,1,0)","v":0},{"$f":"AK44*IF(Dashboard!$D$13=\"Deepwater\",IF(AK9<8,$G$46,$G$47),$G$46)*IF(SUM(AK5:AK8)>0,1,0)","v":0},{"$f":"AL44*IF(Dashboard!$D$13=\"Deepwater\",IF(AL9<8,$G$46,$G$47),$G$46)*IF(SUM(AL5:AL8)>0,1,0)","v":0},{"$f":"AM44*IF(Dashboard!$D$13=\"Deepwater\",IF(AM9<8,$G$46,$G$47),$G$46)*IF(SUM(AM5:AM8)>0,1,0)","v":0}]
[null,null,null,null,null,null,{"$f":"IF(Dashboard!$D$13=\"Deepwater\",5%,\"\")","v":""}]
[null,null,"Gas transportation",null,{"$f":"E44","v":"INR/SCM"},null,{"$f":"Inputs!$E$100","v":0},null,null,{"$f":"$G$48*Inputs!$E$140*Inputs!$E$71/Million","v":0},{"$f":"$G$48*Inputs!$E$140*Inputs!$E$71/Million","v":0},{"$f":"$G$48*Inputs!$E$140*Inputs!$E$71/Million","v":0},{"$f":"$G$48*Inputs!$E$140*Inputs!$E$71/Million","v":0},{"$f":"$G$48*Inputs!$E$140*Inputs!$E$71/Million","v":0},{"$f":"$G$48*Inputs!$E$140*Inputs!$E$71/Million","v":0},{"$f":"$G$48*Inputs!$E$140*Inputs!$E$71/Million","v":0},{"$f":"$G$48*Inputs!$E$140*Inputs!$E$71/Million","v":0},{"$f":"$G$48*Inputs!$E$140*Inputs!$E$71/Million","v":0},{"$f":"$G$48*Inputs!$E$140*Inputs!$E$71/Million","v":0},{"$f":"$G$48*Inputs!$E$140*Inputs!$E$71/Million","v":0},{"$f":"$G$48*Inputs!$E$140*Inputs!$E$71/Million","v":0},{"$f":"$G$48*Inputs!$E$140*Inputs!$E$71/Million","v":0},{"$f":"$G$48*Inputs!$E$140*Inputs!$E$71/Million","v":0},{"$f":"$G$48*Inputs!$E$140*Inputs!$E$71/Million","v":0},{"$f":"$G$48*Inputs!$E$140*Inputs!$E$71/Million","v":0},{"$f":"$G$48*Inputs!$E$140*Inputs!$E$71/Million","v":0},{"$f":"$G$48*Inputs!$E$140*Inputs!$E$71/Million","v":0},{"$f":"$G$48*Inputs!$E$140*Inputs!$E$71/Million","v":0},{"$f":"$G$48*Inputs!$E$140*Inputs!$E$71/Million","v":0},{"$f":"$G$48*Inputs!$E$140*Inputs!$E$71/Million","v":0},{"$f":"$G$48*Inputs!$E$140*Inputs!$E$71/Million","v":0},{"$f":"$G$48*Inputs!$E$140*Inputs!$E$71/Million","v":0},{"$f":"$G$48*Inputs!$E$140*Inputs!$E$71/Million","v":0},{"$f":"$G$48*Inputs!$E$140*Inputs!$E$71/Million","v":0},{"$f":"$G$48*Inputs!$E$140*Inputs!$E$71/Million","v":0},{"$f":"$G$48*Inputs!$E$140*Inputs!$E$71/Million","v":0},{"$f":"$G$48*Inputs!$E$140*Inputs!$E$71/Million","v":0},{"$f":"$G$48*Inputs!$E$140*Inputs!$E$71/Million","v":0},{"$f":"$G$48*Inputs!$E$140*Inputs!$E$71/Million","v":0}]
[null,null,"Net Gas Price",null,{"$f":"E46","v":"INR/SCM"},null,null,null,null,{"$f":"J44-J46","v":26.467392857142858},{"$f":"K44-K46","v":26.467392857142858},26.467392857142858,26.467392857142858,26.467392857142858,26.467392857142858,26.467392857142858,26.467392857142858,26.467392857142858,26.467392857142858,26.467392857142858,26.467392857142858,26.467392857142858,0,0,0,0,0,0,0,0,0,0,0,0,0,0,0,0,0]
[null,null,null,null,"USD/SCM",null,null,null,null,{"$f":"J49/Inputs!$E$140","v":0.39503571428571432},{"$f":"K49/Inputs!$E$140","v":0.39503571428571432},{"$f":"L49/Inputs!$E$140","v":0.39503571428571432},{"$f":"M49/Inputs!$E$140","v":0.39503571428571432},{"$f":"N49/Inputs!$E$140","v":0.39503571428571432},{"$f":"O49/Inputs!$E$140","v":0.39503571428571432},{"$f":"P49/Inputs!$E$140","v":0.39503571428571432},{"$f":"Q49/Inputs!$E$140","v":0.39503571428571432},{"$f":"R49/Inputs!$E$140","v":0.39503571428571432},{"$f":"S49/Inputs!$E$140","v":0.39503571428571432},{"$f":"T49/Inputs!$E$140","v":0.39503571428571432},{"$f":"U49/Inputs!$E$140","v":0.39503571428571432},{"$f":"V49/Inputs!$E$140","v":0.39503571428571432},{"$f":"W49/Inputs!$E$140","v":0},{"$f":"X49/Inputs!$E$140","v":0},{"$f":"Y49/Inputs!$E$140","v":0},{"$f":"Z49/Inputs!$E$140","v":0},{"$f":"AA49/Inputs!$E$140","v":0},{"$f":"AB49/Inputs!$E$140","v":0},{"$f":"AC49/Inputs!$E$140","v":0},{"$f":"AD49/Inputs!$E$140","v":0},{"$f":"AE49/Inputs!$E$140","v":0},{"$f":"AF49/Inputs!$E$140","v":0},{"$f":"AG49/Inputs!$E$140","v":0},{"$f":"AH49/Inputs!$E$140","v":0},{"$f":"AI49/Inputs!$E$140","v":0},{"$f":"AJ49/Inputs!$E$140","v":0},{"$f":"AK49/Inputs!$E$140","v":0},{"$f":"AL49/Inputs!$E$140","v":0},{"$f":"AM49/Inputs!$E$140","v":0}]
[]
[null,null,"Revenue"]
[null,null,"Oil",null,"USD Mn",null,{"$f":"SUM(J53:AM53)","v":1462.5939041095892},null,null,{"$f":"J41*J22","v":0},{"$f":"K41*K22","v":0},316.64404109589043,75.3914383561644,90.469726027397272,105.54801369863016,120.62630136986303,180.93945205479454,135.70458904109591,150.7828767123288,120.62630136986303,105.54801369863016,60.313150684931514,0,0,0,0,0,0,0,0,0,0,0,0,0,0,0,0,0]
[null,null,"Gas",null,"USD Mn",null,{"$f":"SUM(J54:AM54)","v":191.59232142857147},null,null,{"$f":"J50*J23*Billion/Million","v":0},0,41.478749999999998,9.8758928571428584,11.851071428571428,13.826250000000003,15.801428571428575,23.702142857142857,17.776607142857141,19.751785714285717,15.801428571428575,13.826250000000003,7.9007142857142876,0,0,0,0,0,0,0,0,0,0,0,0,0,0,0,0,0]
[null,null,"Total",null,"USD Mn",null,{"$f":"SUM(J55:AM55)","v":1654.1862255381604},null,null,{"$f":"SUM(J53:J54)","v":0},{"$f":"SUM(K53:K54)","v":0},358.12279109589042,85.267331213307259,102.3207974559687,119.37426369863016,136.4277299412916,204.6415949119374,153.48119618395305,170.53466242661452,136.4277299412916,119.37426369863016,68.213864970645801,0,0,0,0,0,0,0,0,0,0,0,0,0,0,0,0,0]
[null,null,"Average Rev per day",null,"USD Mn",null,{"$f":"SUM(J56:AM56)","v":4.5295916063205048},null,null,{"$f":"J55/(_xlfn.DAYS(J3,J2)+1)","v":0},0,0.9811583317695628,0.23360912661180072,0.27956502037149916,0.32705277725652099,0.37377460257888112,0.5606619038683216,0.41934753055724877,0.46721825322360144,0.37377460257888112,0.32705277725652099,0.18637668024766613,0,0,0,0,0,0,0,0,0,0,0,0,0,0,0,0,0]
[]
[null,null,{"$f":"Inputs!D144","v":"LRP (Rev per day)"},null,{"$f":"Inputs!F144","v":"USD Mn"},null,{"$f":"Inputs!E144","v":0.01}]
[null,null,{"$f":"Inputs!D145","v":"HRP (Rev per day)"},null,{"$f":"Inputs!F145","v":"USD Mn"},null,{"$f":"Inputs!E145","v":1}]
[]
[]
[null,null,"Government Share",null,"LRP",{"$f":"Inputs!E142","v":0.2},{"$f":"SUM(J62:AM62)","v":583.84171124929196},null,null,{"$f":"IF(J56<=$G$58,J55*$F$62, IF(J56>=$G$59,J55*$F$63,($F$62+(($F$63-$F$62)*(J56-$G$58)/($G$59-$G$58)))*J55))","v":0},0,177.01665893716128,{"$f":"IF(M56<=$G$58,M55*$F$62, IF(M56>=$G$59,M55*$F$63,($F$62+(($F$63-$F$62)*(M56-$G$58)/($G$59-$G$58)))*M55))","v":22.831209715730171},{"$f":"IF(N56<=$G$58,N55*$F$62, IF(N56>=$G$59,N55*$F$63,($F$62+(($F$63-$F$62)*(N56-$G$58)/($G$59-$G$58)))*N55))","v":28.822373991389572},35.34392602415118,42.324619697389309,75.076297850526046,49.73476912917662,57.734678081920855,42.324619697389309,35.34392602415118,17.288632100306454,0,0,0,0,0,0,0,0,0,0,0,0,0,0,0,0,0,{"$f":"IF(AN55<=0.01,$F$62*AN55,IF(AN55>=1,$F$63*AN55,($F$62+(($F$63-$F$62)*(AN55-0.01)/0.99))*AN55))","v":0},0,0,0,0,0,0,0,0,0,0,0,0,0,0,0,0,0,0,0,0,0,0,0,0,0,0,0,0,0,0,0,0,0,0,0,0,0,0,0,0,0,0,0,0,0,0,0,0,0,0,0,0,0,0,0,0,0,0,0,0,0,0,0,{"$f":"IF(CZ55<=0.01,$F$62*CZ55,IF(CZ55>=1,$F$63*CZ55,($F$62+(($F$63-$F$62)*(CZ55-0.01)/0.99))*CZ55))","v":0},0,0,0,0,0,0,0,0,0,0,0,0,0,0,0,0,0,0,0,0,0,0,0,0,0,0,0,0,0,0,0,0,0,0,0,0,0,0,0,0,0,0,0,0,0,0,0,0,0,0,0,0,0,0,0,0,0,0,0,0,0,0,0,{"$f":"IF(FL55<=0.01,$F$62*FL55,IF(FL55>=1,$F$63*FL55,($F$62+(($F$63-$F$62)*(FL55-0.01)/0.99))*FL55))","v":0},0,0,0,0,0,0,0,0,0,0,0,0,0,0,0,0,0,0,0,0,0,0,0,0,0,0,0,0,0,0,0,0,0,0,0,0,0,0,0,0,0,0,0,0,0,0,0,0,0,0,0,0,0,0,0,0,0,0,0,0,0,0,0,{"$f":"IF(HX55<=0.01,$F$62*HX55,IF(HX55>=1,$F$63*HX55,($F$62+(($F$63-$F$62)*(HX55-0.01)/0.99))*HX55))","v":0},0,0,0,0,0,0,0,0,0,0,0,0,0,0,0,0,0,0,0,0,0,0,0,0,0,0,0,0,0,0,0,0,0,0,0,0,0,0,0,0,0,0,0,0,0,0,0,0,0,0,0,0,0,0,0,0,0,0,0,0,0,0,0,{"$f":"IF(KJ55<=0.01,$F$62*KJ55,IF(KJ55>=1,$F$63*KJ55,($F$62+(($F$63-$F$62)*(KJ55-0.01)/0.99))*KJ55))","v":0},0,0,0,0,0,0,0,0,0,0,0,0,0,0,0,0,0,0,0,0,0,0,0,0,0,0,0,0,0,0,0,0,0,0,0,0,0,0,0,0,0,0,0,0,0,0,0,0,0,0,0,0,0,0,0,0,0,0,0,0,0,0,0,{"$f":"IF(MV55<=0.01,$F$62*MV55,IF(MV55>=1,$F$63*MV55,($F$62+(($F$63-$F$62)*(MV55-0.01)/0.99))*MV55))","v":0},0,0,0,0,0,0,0,0,0,0,0,0,0,0,0,0,0,0,0,0,0,0,0,0,0,0,0,0,0,0,0,0,0,0,0,0,0,0,0,0,0,0,0,0,0,0,0,0,0,0,0,0,0,0,0,0,0,0,0,0,0,0,0,{"$f":"IF(PH55<=0.01,$F$62*PH55,IF(PH55>=1,$F$63*PH55,($F$62+(($F$63-$F$62)*(PH55-0.01)/0.99))*PH55))","v":0},0,0,0,0,0,0,0,0,0,0,0,0,0,0,0,0,0,0,0,0,0,0,0,0,0,0,0,0,0,0,0,0,0,0,0,0,0,0,0,0,0,0,0,0,0,0,0,0,0,0,0,0,0,0,0,0,0,0,0,0,0,0,0,{"$f":"IF(RT55<=0.01,$F$62*RT55,IF(RT55>=1,$F$63*RT55,($F$62+(($F$63-$F$62)*(RT55-0.01)/0.99))*RT55))","v":0},0,0,0,0,0,0,0,0,0,0,0,0,0,0,0,0,0,0,0,0,0,0,0,0,0,0,0,0,0,0,0,0,0,0,0,0,0,0,0,0,0,0,0,0,0,0,0,0,0,0,0,0,0,0,0,0,0,0,0,0,0,0,0,{"$f":"IF(UF55<=0.01,$F$62*UF55,IF(UF55>=1,$F$63*UF55,($F$62+(($F$63-$F$62)*(UF55-0.01)/0.99))*UF55))","v":0},0,0,0,0,0,0,0,0,0,0,0,0,0,0,0,0,0,0,0,0,0,0,0,0,0,0,0,0,0,0,0,0,0,0,0,0,0,0,0,0,0,0,0,0,0,0,0,0,0,0,0,0,0,0,0,0,0,0,0,0,0,0,0,{"$f":"IF(WR55<=0.01,$F$62*WR55,IF(WR55>=1,$F$63*WR55,($F$62+(($F$63-$F$62)*(WR55-0.01)/0.99))*WR55))","v":0},0,0,0,0,0,0,0,0,0,0,0,0,0,0,0,0,0,0,0,0,0,0,0,0,0,0,0,0,0,0,0,0,0,0,0,0,0,0,0,0,0,0,0,0,0,0,0,0,0,0,0,0,0,0,0,0,0,0,0,0,0,0,0,{"$f":"IF(ZD55<=0.01,$F$62*ZD55,IF(ZD55>=1,$F$63*ZD55,($F$62+(($F$63-$F$62)*(ZD55-0.01)/0.99))*ZD55))","v":0},0,0,0,0,0,0,0,0,0,0,0,0,0,0,0,0,0,0,0,0,0,0,0,0,0,0,0,0,0,0,0,0,0,0,0,0,0,0,0,0,0,0,0,0,0,0,0,0,0,0,0,0,0,0,0,0,0,0,0,0,0,0,0,{"$f":"IF(ABP55<=0.01,$F$62*ABP55,IF(ABP55>=1,$F$63*ABP55,($F$62+(($F$63-$F$62)*(ABP55-0.01)/0.99))*ABP55))","v":0},0,0,0,0,0,0,0,0,0,0,0,0,0,0,0,0,0,0,0,0,0,0,0,0,0,0,0,0,0,0,0,0,0,0,0,0,0,0,0,0,0,0,0,0,0,0,0,0,0,0,0,0,0,0,0,0,0,0,0,0,0,0,0,{"$f":"IF(AEB55<=0.01,$F$62*AEB55,IF(AEB55>=1,$F$63*AEB55,($F$62+(($F$63-$F$62)*(AEB55-0.01)/0.99))*AEB55))","v":0},0,0,0,0,0,0,0,0,0,0,0,0,0,0,0,0,0,0,0,0,0,0,0,0,0,0,0,0,0,0,0,0,0,0,0,0,0,0,0,0,0,0,0,0,0,0,0,0,0,0,0,0,0,0,0,0,0,0,0,0,0,0,0,{"$f":"IF(AGN55<=0.01,$F$62*AGN55,IF(AGN55>=1,$F$63*AGN55,($F$62+(($F$63-$F$62)*(AGN55-0.01)/0.99))*AGN55))","v":0},0,0,0,0,0,0,0,0,0,0,0,0,0,0,0,0,0,0,0,0,0,0,0,0,0,0,0,0,0,0,0,0,0,0,0,0,0,0,0,0,0,0,0,0,0,0,0,0,0,0,0,0,0,0,0,0,0,0,0,0,0,0,0,{"$f":"IF(AIZ55<=0.01,$F$62*AIZ55,IF(AIZ55>=1,$F$63*AIZ55,($F$62+(($F$63-$F$62)*(AIZ55-0.01)/0.99))*AIZ55))","v":0},0,0,0,0,0,0,0,0,0,0,0,0,0,0,0,0,0,0,0,0,0,0,0,0,0,0,0,0,0,0,0,0,0,0,0,0,0,0,0,0,0,0,0,0,0,0,0,0,0,0,0,0,0,0,0,0,0,0,0,0,0,0,0,{"$f":"IF(ALL55<=0.01,$F$62*ALL55,IF(ALL55>=1,$F$63*ALL55,($F$62+(($F$63-$F$62)*(ALL55-0.01)/0.99))*ALL55))","v":0},0,0,0,0,0,0,0,0,0,0,0,0,0,0,0,0,0,0,0,0,0,0,0,0,0,0,0,0,0,0,0,0,0,0,0,0,0,0,0,0,0,0,0,0,0,0,0,0,0,0,0,0,0,0,0,0,0,0,0,0,0,0,0,{"$f":"IF(ANX55<=0.01,$F$62*ANX55,IF(ANX55>=1,$F$63*ANX55,($F$62+(($F$63-$F$62)*(ANX55-0.01)/0.99))*ANX55))","v":0},0,0,0,0,0,0,0,0,0,0,0,0,0,0,0,0,0,0,0,0,0,0,0,0,0,0,0,0,0,0,0,0,0,0,0,0,0,0,0,0,0,0,0,0,0,0,0,0,0,0,0,0,0,0,0,0,0,0,0,0,0,0,0,{"$f":"IF(AQJ55<=0.01,$F$62*AQJ55,IF(AQJ55>=1,$F$63*AQJ55,($F$62+(($F$63-$F$62)*(AQJ55-0.01)/0.99))*AQJ55))","v":0},0,0,0,0,0,0,0,0,0,0,0,0,0,0,0,0,0,0,0,0,0,0,0,0,0,0,0,0,0,0,0,0,0,0,0,0,0,0,0,0,0,0,0,0,0,0,0,0,0,0,0,0,0,0,0,0,0,0,0,0,0,0,0,{"$f":"IF(ASV55<=0.01,$F$62*ASV55,IF(ASV55>=1,$F$63*ASV55,($F$62+(($F$63-$F$62)*(ASV55-0.01)/0.99))*ASV55))","v":0},0,0,0,0,0,0,0,0,0,0,0,0,0,0,0,0,0,0,0,0,0,0,0,0,0,0,0,0,0,0,0,0,0,0,0,0,0,0,0,0,0,0,0,0,0,0,0,0,0,0,0,0,0,0,0,0,0,0,0,0,0,0,0,{"$f":"IF(AVH55<=0.01,$F$62*AVH55,IF(AVH55>=1,$F$63*AVH55,($F$62+(($F$63-$F$62)*(AVH55-0.01)/0.99))*AVH55))","v":0},0,0,0,0,0,0,0,0,0,0,0,0,0,0,0,0,0,0,0,0,0,0,0,0,0,0,0,0,0,0,0,0,0,0,0,0,0,0,0,0,0,0,0,0,0,0,0,0,0,0,0,0,0,0,0,0,0,0,0,0,0,0,0,{"$f":"IF(AXT55<=0.01,$F$62*AXT55,IF(AXT55>=1,$F$63*AXT55,($F$62+(($F$63-$F$62)*(AXT55-0.01)/0.99))*AXT55))","v":0},0,0,0,0,0,0,0,0,0,0,0,0,0,0,0,0,0,0,0,0,0,0,0,0,0,0,0,0,0,0,0,0,0,0,0,0,0,0,0,0,0,0,0,0,0,0,0,0,0,0,0,0,0,0,0,0,0,0,0,0,0,0,0,{"$f":"IF(BAF55<=0.01,$F$62*BAF55,IF(BAF55>=1,$F$63*BAF55,($F$62+(($F$63-$F$62)*(BAF55-0.01)/0.99))*BAF55))","v":0},0,0,0,0,0,0,0,0,0,0,0,0,0,0,0,0,0,0,0,0,0,0,0,0,0,0,0,0,0,0,0,0,0,0,0,0,0,0,0,0,0,0,0,0,0,0,0,0,0,0,0,0,0,0,0,0,0,0,0,0,0,0,0,{"$f":"IF(BCR55<=0.01,$F$62*BCR55,IF(BCR55>=1,$F$63*BCR55,($F$62+(($F$63-$F$62)*(BCR55-0.01)/0.99))*BCR55))","v":0},0,0,0,0,0,0,0,0,0,0,0,0,0,0,0,0,0,0,0,0,0,0,0,0,0,0,0,0,0,0,0,0,0,0,0,0,0,0,0,0,0,0,0,0,0,0,0,0,0,0,0,0,0,0,0,0,0,0,0,0,0,0,0,{"$f":"IF(BFD55<=0.01,$F$62*BFD55,IF(BFD55>=1,$F$63*BFD55,($F$62+(($F$63-$F$62)*(BFD55-0.01)/0.99))*BFD55))","v":0},0,0,0,0,0,0,0,0,0,0,0,0,0,0,0,0,0,0,0,0,0,0,0,0,0,0,0,0,0,0,0,0,0,0,0,0,0,0,0,0,0,0,0,0,0,0,0,0,0,0,0,0,0,0,0,0,0,0,0,0,0,0,0,{"$f":"IF(BHP55<=0.01,$F$62*BHP55,IF(BHP55>=1,$F$63*BHP55,($F$62+(($F$63-$F$62)*(BHP55-0.01)/0.99))*BHP55))","v":0},0,0,0,0,0,0,0,0,0,0,0,0,0,0,0,0,0,0,0,0,0,0,0,0,0,0,0,0,0,0,0,0,0,0,0,0,0,0,0,0,0,0,0,0,0,0,0,0,0,0,0,0,0,0,0,0,0,0,0,0,0,0,0,{"$f":"IF(BKB55<=0.01,$F$62*BKB55,IF(BKB55>=1,$F$63*BKB55,($F$62+(($F$63-$F$62)*(BKB55-0.01)/0.99))*BKB55))","v":0},0,0,0,0,0,0,0,0,0,0,0,0,0,0,0,0,0,0,0,0,0,0,0,0,0,0,0,0,0,0,0,0,0,0,0,0,0,0,0,0,0,0,0,0,0,0,0,0,0,0,0,0,0,0,0,0,0,0,0,0,0,0,0,{"$f":"IF(BMN55<=0.01,$F$62*BMN55,IF(BMN55>=1,$F$63*BMN55,($F$62+(($F$63-$F$62)*(BMN55-0.01)/0.99))*BMN55))","v":0},0,0,0,0,0,0,0,0,0,0,0,0,0,0,0,0,0,0,0,0,0,0,0,0,0,0,0,0,0,0,0,0,0,0,0,0,0,0,0,0,0,0,0,0,0,0,0,0,0,0,0,0,0,0,0,0,0,0,0,0,0,0,0,{"$f":"IF(BOZ55<=0.01,$F$62*BOZ55,IF(BOZ55>=1,$F$63*BOZ55,($F$62+(($F$63-$F$62)*(BOZ55-0.01)/0.99))*BOZ55))","v":0},0,0,0,0,0,0,0,0,0,0,0,0,0,0,0,0,0,0,0,0,0,0,0,0,0,0,0,0,0,0,0,0,0,0,0,0,0,0,0,0,0,0,0,0,0,0,0,0,0,0,0,0,0,0,0,0,0,0,0,0,0,0,0,{"$f":"IF(BRL55<=0.01,$F$62*BRL55,IF(BRL55>=1,$F$63*BRL55,($F$62+(($F$63-$F$62)*(BRL55-0.01)/0.99))*BRL55))","v":0},0,0,0,0,0,0,0,0,0,0,0,0,0,0,0,0,0,0,0,0,0,0,0,0,0,0,0,0,0,0,0,0,0,0,0,0,0,0,0,0,0,0,0,0,0,0,0,0,0,0,0,0,0,0,0,0,0,0,0,0,0,0,0,{"$f":"IF(BTX55<=0.01,$F$62*BTX55,IF(BTX55>=1,$F$63*BTX55,($F$62+(($F$63-$F$62)*(BTX55-0.01)/0.99))*BTX55))","v":0},0,0,0,0,0,0,0,0,0,0,0,0,0,0,0,0,0,0,0,0,0,0,0,0,0,0,0,0,0,0,0,0,0,0,0,0,0,0,0,0,0,0,0,0,0,0,0,0,0,0,0,0,0,0,0,0,0,0,0,0,0,0,0,{"$f":"IF(BWJ55<=0.01,$F$62*BWJ55,IF(BWJ55>=1,$F$63*BWJ55,($F$62+(($F$63-$F$62)*(BWJ55-0.01)/0.99))*BWJ55))","v":0},0,0,0,0,0,0,0,0,0,0,0,0,0,0,0,0,0,0,0,0,0,0,0,0,0,0,0,0,0,0,0,0,0,0,0,0,0,0,0,0,0,0,0,0,0,0,0,0,0,0,0,0,0,0,0,0,0,0,0,0,0,0,0,{"$f":"IF(BYV55<=0.01,$F$62*BYV55,IF(BYV55>=1,$F$63*BYV55,($F$62+(($F$63-$F$62)*(BYV55-0.01)/0.99))*BYV55))","v":0},0,0,0,0,0,0,0,0,0,0,0,0,0,0,0,0,0,0,0,0,0,0,0,0,0,0,0,0,0,0,0,0,0,0,0,0,0,0,0,0,0,0,0,0,0,0,0,0,0,0,0,0,0,0,0,0,0,0,0,0,0,0,0,{"$f":"IF(CBH55<=0.01,$F$62*CBH55,IF(CBH55>=1,$F$63*CBH55,($F$62+(($F$63-$F$62)*(CBH55-0.01)/0.99))*CBH55))","v":0},0,0,0,0,0,0,0,0,0,0,0,0,0,0,0,0,0,0,0,0,0,0,0,0,0,0,0,0,0,0,0,0,0,0,0,0,0,0,0,0,0,0,0,0,0,0,0,0,0,0,0,0,0,0,0,0,0,0,0,0,0,0,0,{"$f":"IF(CDT55<=0.01,$F$62*CDT55,IF(CDT55>=1,$F$63*CDT55,($F$62+(($F$63-$F$62)*(CDT55-0.01)/0.99))*CDT55))","v":0},0,0,0,0,0,0,0,0,0,0,0,0,0,0,0,0,0,0,0,0,0,0,0,0,0,0,0,0,0,0,0,0,0,0,0,0,0,0,0,0,0,0,0,0,0,0,0,0,0,0,0,0,0,0,0,0,0,0,0,0,0,0,0,{"$f":"IF(CGF55<=0.01,$F$62*CGF55,IF(CGF55>=1,$F$63*CGF55,($F$62+(($F$63-$F$62)*(CGF55-0.01)/0.99))*CGF55))","v":0},0,0,0,0,0,0,0,0,0,0,0,0,0,0,0,0,0,0,0,0,0,0,0,0,0,0,0,0,0,0,0,0,0,0,0,0,0,0,0,0,0,0,0,0,0,0,0,0,0,0,0,0,0,0,0,0,0,0,0,0,0,0,0,{"$f":"IF(CIR55<=0.01,$F$62*CIR55,IF(CIR55>=1,$F$63*CIR55,($F$62+(($F$63-$F$62)*(CIR55-0.01)/0.99))*CIR55))","v":0},0,0,0,0,0,0,0,0,0,0,0,0,0,0,0,0,0,0,0,0,0,0,0,0,0,0,0,0,0,0,0,0,0,0,0,0,0,0,0,0,0,0,0,0,0,0,0,0,0,0,0,0,0,0,0,0,0,0,0,0,0,0,0,{"$f":"IF(CLD55<=0.01,$F$62*CLD55,IF(CLD55>=1,$F$63*CLD55,($F$62+(($F$63-$F$62)*(CLD55-0.01)/0.99))*CLD55))","v":0},0,0,0,0,0,0,0,0,0,0,0,0,0,0,0,0,0,0,0,0,0,0,0,0,0,0,0,0,0,0,0,0,0,0,0,0,0,0,0,0,0,0,0,0,0,0,0,0,0,0,0,0,0,0,0,0,0,0,0,0,0,0,0,{"$f":"IF(CNP55<=0.01,$F$62*CNP55,IF(CNP55>=1,$F$63*CNP55,($F$62+(($F$63-$F$62)*(CNP55-0.01)/0.99))*CNP55))","v":0},0,0,0,0,0,0,0,0,0,0,0,0,0,0,0,0,0,0,0,0,0,0,0,0,0,0,0,0,0,0,0,0,0,0,0,0,0,0,0,0,0,0,0,0,0,0,0,0,0,0,0,0,0,0,0,0,0,0,0,0,0,0,0,{"$f":"IF(CQB55<=0.01,$F$62*CQB55,IF(CQB55>=1,$F$63*CQB55,($F$62+(($F$63-$F$62)*(CQB55-0.01)/0.99))*CQB55))","v":0},0,0,0,0,0,0,0,0,0,0,0,0,0,0,0,0,0,0,0,0,0,0,0,0,0,0,0,0,0,0,0,0,0,0,0,0,0,0,0,0,0,0,0,0,0,0,0,0,0,0,0,0,0,0,0,0,0,0,0,0,0,0,0,{"$f":"IF(CSN55<=0.01,$F$62*CSN55,IF(CSN55>=1,$F$63*CSN55,($F$62+(($F$63-$F$62)*(CSN55-0.01)/0.99))*CSN55))","v":0},0,0,0,0,0,0,0,0,0,0,0,0,0,0,0,0,0,0,0,0,0,0,0,0,0,0,0,0,0,0,0,0,0,0,0,0,0,0,0,0,0,0,0,0,0,0,0,0,0,0,0,0,0,0,0,0,0,0,0,0,0,0,0,{"$f":"IF(CUZ55<=0.01,$F$62*CUZ55,IF(CUZ55>=1,$F$63*CUZ55,($F$62+(($F$63-$F$62)*(CUZ55-0.01)/0.99))*CUZ55))","v":0},0,0,0,0,0,0,0,0,0,0,0,0,0,0,0,0,0,0,0,0,0,0,0,0,0,0,0,0,0,0,0,0,0,0,0,0,0,0,0,0,0,0,0,0,0,0,0,0,0,0,0,0,0,0,0,0,0,0,0,0,0,0,0,{"$f":"IF(CXL55<=0.01,$F$62*CXL55,IF(CXL55>=1,$F$63*CXL55,($F$62+(($F$63-$F$62)*(CXL55-0.01)/0.99))*CXL55))","v":0},0,0,0,0,0,0,0,0,0,0,0,0,0,0,0,0,0,0,0,0,0,0,0,0,0,0,0,0,0,0,0,0,0,0,0,0,0,0,0,0,0,0,0,0,0,0,0,0,0,0,0,0,0,0,0,0,0,0,0,0,0,0,0,{"$f":"IF(CZX55<=0.01,$F$62*CZX55,IF(CZX55>=1,$F$63*CZX55,($F$62+(($F$63-$F$62)*(CZX55-0.01)/0.99))*CZX55))","v":0},0,0,0,0,0,0,0,0,0,0,0,0,0,0,0,0,0,0,0,0,0,0,0,0,0,0,0,0,0,0,0,0,0,0,0,0,0,0,0,0,0,0,0,0,0,0,0,0,0,0,0,0,0,0,0,0,0,0,0,0,0,0,0,{"$f":"IF(DCJ55<=0.01,$F$62*DCJ55,IF(DCJ55>=1,$F$63*DCJ55,($F$62+(($F$63-$F$62)*(DCJ55-0.01)/0.99))*DCJ55))","v":0},0,0,0,0,0,0,0,0,0,0,0,0,0,0,0,0,0,0,0,0,0,0,0,0,0,0,0,0,0,0,0,0,0,0,0,0,0,0,0,0,0,0,0,0,0,0,0,0,0,0,0,0,0,0,0,0,0,0,0,0,0,0,0,{"$f":"IF(DEV55<=0.01,$F$62*DEV55,IF(DEV55>=1,$F$63*DEV55,($F$62+(($F$63-$F$62)*(DEV55-0.01)/0.99))*DEV55))","v":0},0,0,0,0,0,0,0,0,0,0,0,0,0,0,0,0,0,0,0,0,0,0,0,0,0,0,0,0,0,0,0,0,0,0,0,0,0,0,0,0,0,0,0,0,0,0,0,0,0,0,0,0,0,0,0,0,0,0,0,0,0,0,0,{"$f":"IF(DHH55<=0.01,$F$62*DHH55,IF(DHH55>=1,$F$63*DHH55,($F$62+(($F$63-$F$62)*(DHH55-0.01)/0.99))*DHH55))","v":0},0,0,0,0,0,0,0,0,0,0,0,0,0,0,0,0,0,0,0,0,0,0,0,0,0,0,0,0,0,0,0,0,0,0,0,0,0,0,0,0,0,0,0,0,0,0,0,0,0,0,0,0,0,0,0,0,0,0,0,0,0,0,0,{"$f":"IF(DJT55<=0.01,$F$62*DJT55,IF(DJT55>=1,$F$63*DJT55,($F$62+(($F$63-$F$62)*(DJT55-0.01)/0.99))*DJT55))","v":0},0,0,0,0,0,0,0,0,0,0,0,0,0,0,0,0,0,0,0,0,0,0,0,0,0,0,0,0,0,0,0,0,0,0,0,0,0,0,0,0,0,0,0,0,0,0,0,0,0,0,0,0,0,0,0,0,0,0,0,0,0,0,0,{"$f":"IF(DMF55<=0.01,$F$62*DMF55,IF(DMF55>=1,$F$63*DMF55,($F$62+(($F$63-$F$62)*(DMF55-0.01)/0.99))*DMF55))","v":0},0,0,0,0,0,0,0,0,0,0,0,0,0,0,0,0,0,0,0,0,0,0,0,0,0,0,0,0,0,0,0,0,0,0,0,0,0,0,0,0,0,0,0,0,0,0,0,0,0,0,0,0,0,0,0,0,0,0,0,0,0,0,0,{"$f":"IF(DOR55<=0.01,$F$62*DOR55,IF(DOR55>=1,$F$63*DOR55,($F$62+(($F$63-$F$62)*(DOR55-0.01)/0.99))*DOR55))","v":0},0,0,0,0,0,0,0,0,0,0,0,0,0,0,0,0,0,0,0,0,0,0,0,0,0,0,0,0,0,0,0,0,0,0,0,0,0,0,0,0,0,0,0,0,0,0,0,0,0,0,0,0,0,0,0,0,0,0,0,0,0,0,0,{"$f":"IF(DRD55<=0.01,$F$62*DRD55,IF(DRD55>=1,$F$63*DRD55,($F$62+(($F$63-$F$62)*(DRD55-0.01)/0.99))*DRD55))","v":0},0,0,0,0,0,0,0,0,0,0,0,0,0,0,0,0,0,0,0,0,0,0,0,0,0,0,0,0,0,0,0,0,0,0,0,0,0,0,0,0,0,0,0,0,0,0,0,0,0,0,0,0,0,0,0,0,0,0,0,0,0,0,0,{"$f":"IF(DTP55<=0.01,$F$62*DTP55,IF(DTP55>=1,$F$63*DTP55,($F$62+(($F$63-$F$62)*(DTP55-0.01)/0.99))*DTP55))","v":0},0,0,0,0,0,0,0,0,0,0,0,0,0,0,0,0,0,0,0,0,0,0,0,0,0,0,0,0,0,0,0,0,0,0,0,0,0,0,0,0,0,0,0,0,0,0,0,0,0,0,0,0,0,0,0,0,0,0,0,0,0,0,0,{"$f":"IF(DWB55<=0.01,$F$62*DWB55,IF(DWB55>=1,$F$63*DWB55,($F$62+(($F$63-$F$62)*(DWB55-0.01)/0.99))*DWB55))","v":0},0,0,0,0,0,0,0,0,0,0,0,0,0,0,0,0,0,0,0,0,0,0,0,0,0,0,0,0,0,0,0,0,0,0,0,0,0,0,0,0,0,0,0,0,0,0,0,0,0,0,0,0,0,0,0,0,0,0,0,0,0,0,0,{"$f":"IF(DYN55<=0.01,$F$62*DYN55,IF(DYN55>=1,$F$63*DYN55,($F$62+(($F$63-$F$62)*(DYN55-0.01)/0.99))*DYN55))","v":0},0,0,0,0,0,0,0,0,0,0,0,0,0,0,0,0,0,0,0,0,0,0,0,0,0,0,0,0,0,0,0,0,0,0,0,0,0,0,0,0,0,0,0,0,0,0,0,0,0,0,0,0,0,0,0,0,0,0,0,0,0,0,0,{"$f":"IF(EAZ55<=0.01,$F$62*EAZ55,IF(EAZ55>=1,$F$63*EAZ55,($F$62+(($F$63-$F$62)*(EAZ55-0.01)/0.99))*EAZ55))","v":0},0,0,0,0,0,0,0,0,0,0,0,0,0,0,0,0,0,0,0,0,0,0,0,0,0,0,0,0,0,0,0,0,0,0,0,0,0,0,0,0,0,0,0,0,0,0,0,0,0,0,0,0,0,0,0,0,0,0,0,0,0,0,0,{"$f":"IF(EDL55<=0.01,$F$62*EDL55,IF(EDL55>=1,$F$63*EDL55,($F$62+(($F$63-$F$62)*(EDL55-0.01)/0.99))*EDL55))","v":0},0,0,0,0,0,0,0,0,0,0,0,0,0,0,0,0,0,0,0,0,0,0,0,0,0,0,0,0,0,0,0,0,0,0,0,0,0,0,0,0,0,0,0,0,0,0,0,0,0,0,0,0,0,0,0,0,0,0,0,0,0,0,0,{"$f":"IF(EFX55<=0.01,$F$62*EFX55,IF(EFX55>=1,$F$63*EFX55,($F$62+(($F$63-$F$62)*(EFX55-0.01)/0.99))*EFX55))","v":0},0,0,0,0,0,0,0,0,0,0,0,0,0,0,0,0,0,0,0,0,0,0,0,0,0,0,0,0,0,0,0,0,0,0,0,0,0,0,0,0,0,0,0,0,0,0,0,0,0,0,0,0,0,0,0,0,0,0,0,0,0,0,0,{"$f":"IF(EIJ55<=0.01,$F$62*EIJ55,IF(EIJ55>=1,$F$63*EIJ55,($F$62+(($F$63-$F$62)*(EIJ55-0.01)/0.99))*EIJ55))","v":0},0,0,0,0,0,0,0,0,0,0,0,0,0,0,0,0,0,0,0,0,0,0,0,0,0,0,0,0,0,0,0,0,0,0,0,0,0,0,0,0,0,0,0,0,0,0,0,0,0,0,0,0,0,0,0,0,0,0,0,0,0,0,0,{"$f":"IF(EKV55<=0.01,$F$62*EKV55,IF(EKV55>=1,$F$63*EKV55,($F$62+(($F$63-$F$62)*(EKV55-0.01)/0.99))*EKV55))","v":0},0,0,0,0,0,0,0,0,0,0,0,0,0,0,0,0,0,0,0,0,0,0,0,0,0,0,0,0,0,0,0,0,0,0,0,0,0,0,0,0,0,0,0,0,0,0,0,0,0,0,0,0,0,0,0,0,0,0,0,0,0,0,0,{"$f":"IF(ENH55<=0.01,$F$62*ENH55,IF(ENH55>=1,$F$63*ENH55,($F$62+(($F$63-$F$62)*(ENH55-0.01)/0.99))*ENH55))","v":0},0,0,0,0,0,0,0,0,0,0,0,0,0,0,0,0,0,0,0,0,0,0,0,0,0,0,0,0,0,0,0,0,0,0,0,0,0,0,0,0,0,0,0,0,0,0,0,0,0,0,0,0,0,0,0,0,0,0,0,0,0,0,0,{"$f":"IF(EPT55<=0.01,$F$62*EPT55,IF(EPT55>=1,$F$63*EPT55,($F$62+(($F$63-$F$62)*(EPT55-0.01)/0.99))*EPT55))","v":0},0,0,0,0,0,0,0,0,0,0,0,0,0,0,0,0,0,0,0,0,0,0,0,0,0,0,0,0,0,0,0,0,0,0,0,0,0,0,0,0,0,0,0,0,0,0,0,0,0,0,0,0,0,0,0,0,0,0,0,0,0,0,0,{"$f":"IF(ESF55<=0.01,$F$62*ESF55,IF(ESF55>=1,$F$63*ESF55,($F$62+(($F$63-$F$62)*(ESF55-0.01)/0.99))*ESF55))","v":0},0,0,0,0,0,0,0,0,0,0,0,0,0,0,0,0,0,0,0,0,0,0,0,0,0,0,0,0,0,0,0,0,0,0,0,0,0,0,0,0,0,0,0,0,0,0,0,0,0,0,0,0,0,0,0,0,0,0,0,0,0,0,0,{"$f":"IF(EUR55<=0.01,$F$62*EUR55,IF(EUR55>=1,$F$63*EUR55,($F$62+(($F$63-$F$62)*(EUR55-0.01)/0.99))*EUR55))","v":0},0,0,0,0,0,0,0,0,0,0,0,0,0,0,0,0,0,0,0,0,0,0,0,0,0,0,0,0,0,0,0,0,0,0,0,0,0,0,0,0,0,0,0,0,0,0,0,0,0,0,0,0,0,0,0,0,0,0,0,0,0,0,0,{"$f":"IF(EXD55<=0.01,$F$62*EXD55,IF(EXD55>=1,$F$63*EXD55,($F$62+(($F$63-$F$62)*(EXD55-0.01)/0.99))*EXD55))","v":0},0,0,0,0,0,0,0,0,0,0,0,0,0,0,0,0,0,0,0,0,0,0,0,0,0,0,0,0,0,0,0,0,0,0,0,0,0,0,0,0,0,0,0,0,0,0,0,0,0,0,0,0,0,0,0,0,0,0,0,0,0,0,0,{"$f":"IF(EZP55<=0.01,$F$62*EZP55,IF(EZP55>=1,$F$63*EZP55,($F$62+(($F$63-$F$62)*(EZP55-0.01)/0.99))*EZP55))","v":0},0,0,0,0,0,0,0,0,0,0,0,0,0,0,0,0,0,0,0,0,0,0,0,0,0,0,0,0,0,0,0,0,0,0,0,0,0,0,0,0,0,0,0,0,0,0,0,0,0,0,0,0,0,0,0,0,0,0,0,0,0,0,0,{"$f":"IF(FCB55<=0.01,$F$62*FCB55,IF(FCB55>=1,$F$63*FCB55,($F$62+(($F$63-$F$62)*(FCB55-0.01)/0.99))*FCB55))","v":0},0,0,0,0,0,0,0,0,0,0,0,0,0,0,0,0,0,0,0,0,0,0,0,0,0,0,0,0,0,0,0,0,0,0,0,0,0,0,0,0,0,0,0,0,0,0,0,0,0,0,0,0,0,0,0,0,0,0,0,0,0,0,0,{"$f":"IF(FEN55<=0.01,$F$62*FEN55,IF(FEN55>=1,$F$63*FEN55,($F$62+(($F$63-$F$62)*(FEN55-0.01)/0.99))*FEN55))","v":0},0,0,0,0,0,0,0,0,0,0,0,0,0,0,0,0,0,0,0,0,0,0,0,0,0,0,0,0,0,0,0,0,0,0,0,0,0,0,0,0,0,0,0,0,0,0,0,0,0,0,0,0,0,0,0,0,0,0,0,0,0,0,0,{"$f":"IF(FGZ55<=0.01,$F$62*FGZ55,IF(FGZ55>=1,$F$63*FGZ55,($F$62+(($F$63-$F$62)*(FGZ55-0.01)/0.99))*FGZ55))","v":0},0,0,0,0,0,0,0,0,0,0,0,0,0,0,0,0,0,0,0,0,0,0,0,0,0,0,0,0,0,0,0,0,0,0,0,0,0,0,0,0,0,0,0,0,0,0,0,0,0,0,0,0,0,0,0,0,0,0,0,0,0,0,0,{"$f":"IF(FJL55<=0.01,$F$62*FJL55,IF(FJL55>=1,$F$63*FJL55,($F$62+(($F$63-$F$62)*(FJL55-0.01)/0.99))*FJL55))","v":0},0,0,0,0,0,0,0,0,0,0,0,0,0,0,0,0,0,0,0,0,0,0,0,0,0,0,0,0,0,0,0,0,0,0,0,0,0,0,0,0,0,0,0,0,0,0,0,0,0,0,0,0,0,0,0,0,0,0,0,0,0,0,0,{"$f":"IF(FLX55<=0.01,$F$62*FLX55,IF(FLX55>=1,$F$63*FLX55,($F$62+(($F$63-$F$62)*(FLX55-0.01)/0.99))*FLX55))","v":0},0,0,0,0,0,0,0,0,0,0,0,0,0,0,0,0,0,0,0,0,0,0,0,0,0,0,0,0,0,0,0,0,0,0,0,0,0,0,0,0,0,0,0,0,0,0,0,0,0,0,0,0,0,0,0,0,0,0,0,0,0,0,0,{"$f":"IF(FOJ55<=0.01,$F$62*FOJ55,IF(FOJ55>=1,$F$63*FOJ55,($F$62+(($F$63-$F$62)*(FOJ55-0.01)/0.99))*FOJ55))","v":0},0,0,0,0,0,0,0,0,0,0,0,0,0,0,0,0,0,0,0,0,0,0,0,0,0,0,0,0,0,0,0,0,0,0,0,0,0,0,0,0,0,0,0,0,0,0,0,0,0,0,0,0,0,0,0,0,0,0,0,0,0,0,0,{"$f":"IF(FQV55<=0.01,$F$62*FQV55,IF(FQV55>=1,$F$63*FQV55,($F$62+(($F$63-$F$62)*(FQV55-0.01)/0.99))*FQV55))","v":0},0,0,0,0,0,0,0,0,0,0,0,0,0,0,0,0,0,0,0,0,0,0,0,0,0,0,0,0,0,0,0,0,0,0,0,0,0,0,0,0,0,0,0,0,0,0,0,0,0,0,0,0,0,0,0,0,0,0,0,0,0,0,0,{"$f":"IF(FTH55<=0.01,$F$62*FTH55,IF(FTH55>=1,$F$63*FTH55,($F$62+(($F$63-$F$62)*(FTH55-0.01)/0.99))*FTH55))","v":0},0,0,0,0,0,0,0,0,0,0,0,0,0,0,0,0,0,0,0,0,0,0,0,0,0,0,0,0,0,0,0,0,0,0,0,0,0,0,0,0,0,0,0,0,0,0,0,0,0,0,0,0,0,0,0,0,0,0,0,0,0,0,0,{"$f":"IF(FVT55<=0.01,$F$62*FVT55,IF(FVT55>=1,$F$63*FVT55,($F$62+(($F$63-$F$62)*(FVT55-0.01)/0.99))*FVT55))","v":0},0,0,0,0,0,0,0,0,0,0,0,0,0,0,0,0,0,0,0,0,0,0,0,0,0,0,0,0,0,0,0,0,0,0,0,0,0,0,0,0,0,0,0,0,0,0,0,0,0,0,0,0,0,0,0,0,0,0,0,0,0,0,0,{"$f":"IF(FYF55<=0.01,$F$62*FYF55,IF(FYF55>=1,$F$63*FYF55,($F$62+(($F$63-$F$62)*(FYF55-0.01)/0.99))*FYF55))","v":0},0,0,0,0,0,0,0,0,0,0,0,0,0,0,0,0,0,0,0,0,0,0,0,0,0,0,0,0,0,0,0,0,0,0,0,0,0,0,0,0,0,0,0,0,0,0,0,0,0,0,0,0,0,0,0,0,0,0,0,0,0,0,0,{"$f":"IF(GAR55<=0.01,$F$62*GAR55,IF(GAR55>=1,$F$63*GAR55,($F$62+(($F$63-$F$62)*(GAR55-0.01)/0.99))*GAR55))","v":0},0,0,0,0,0,0,0,0,0,0,0,0,0,0,0,0,0,0,0,0,0,0,0,0,0,0,0,0,0,0,0,0,0,0,0,0,0,0,0,0,0,0,0,0,0,0,0,0,0,0,0,0,0,0,0,0,0,0,0,0,0,0,0,{"$f":"IF(GDD55<=0.01,$F$62*GDD55,IF(GDD55>=1,$F$63*GDD55,($F$62+(($F$63-$F$62)*(GDD55-0.01)/0.99))*GDD55))","v":0},0,0,0,0,0,0,0,0,0,0,0,0,0,0,0,0,0,0,0,0,0,0,0,0,0,0,0,0,0,0,0,0,0,0,0,0,0,0,0,0,0,0,0,0,0,0,0,0,0,0,0,0,0,0,0,0,0,0,0,0,0,0,0,{"$f":"IF(GFP55<=0.01,$F$62*GFP55,IF(GFP55>=1,$F$63*GFP55,($F$62+(($F$63-$F$62)*(GFP55-0.01)/0.99))*GFP55))","v":0},0,0,0,0,0,0,0,0,0,0,0,0,0,0,0,0,0,0,0,0,0,0,0,0,0,0,0,0,0,0,0,0,0,0,0,0,0,0,0,0,0,0,0,0,0,0,0,0,0,0,0,0,0,0,0,0,0,0,0,0,0,0,0,{"$f":"IF(GIB55<=0.01,$F$62*GIB55,IF(GIB55>=1,$F$63*GIB55,($F$62+(($F$63-$F$62)*(GIB55-0.01)/0.99))*GIB55))","v":0},0,0,0,0,0,0,0,0,0,0,0,0,0,0,0,0,0,0,0,0,0,0,0,0,0,0,0,0,0,0,0,0,0,0,0,0,0,0,0,0,0,0,0,0,0,0,0,0,0,0,0,0,0,0,0,0,0,0,0,0,0,0,0,{"$f":"IF(GKN55<=0.01,$F$62*GKN55,IF(GKN55>=1,$F$63*GKN55,($F$62+(($F$63-$F$62)*(GKN55-0.01)/0.99))*GKN55))","v":0},0,0,0,0,0,0,0,0,0,0,0,0,0,0,0,0,0,0,0,0,0,0,0,0,0,0,0,0,0,0,0,0,0,0,0,0,0,0,0,0,0,0,0,0,0,0,0,0,0,0,0,0,0,0,0,0,0,0,0,0,0,0,0,{"$f":"IF(GMZ55<=0.01,$F$62*GMZ55,IF(GMZ55>=1,$F$63*GMZ55,($F$62+(($F$63-$F$62)*(GMZ55-0.01)/0.99))*GMZ55))","v":0},0,0,0,0,0,0,0,0,0,0,0,0,0,0,0,0,0,0,0,0,0,0,0,0,0,0,0,0,0,0,0,0,0,0,0,0,0,0,0,0,0,0,0,0,0,0,0,0,0,0,0,0,0,0,0,0,0,0,0,0,0,0,0,{"$f":"IF(GPL55<=0.01,$F$62*GPL55,IF(GPL55>=1,$F$63*GPL55,($F$62+(($F$63-$F$62)*(GPL55-0.01)/0.99))*GPL55))","v":0},0,0,0,0,0,0,0,0,0,0,0,0,0,0,0,0,0,0,0,0,0,0,0,0,0,0,0,0,0,0,0,0,0,0,0,0,0,0,0,0,0,0,0,0,0,0,0,0,0,0,0,0,0,0,0,0,0,0,0,0,0,0,0,{"$f":"IF(GRX55<=0.01,$F$62*GRX55,IF(GRX55>=1,$F$63*GRX55,($F$62+(($F$63-$F$62)*(GRX55-0.01)/0.99))*GRX55))","v":0},0,0,0,0,0,0,0,0,0,0,0,0,0,0,0,0,0,0,0,0,0,0,0,0,0,0,0,0,0,0,0,0,0,0,0,0,0,0,0,0,0,0,0,0,0,0,0,0,0,0,0,0,0,0,0,0,0,0,0,0,0,0,0,{"$f":"IF(GUJ55<=0.01,$F$62*GUJ55,IF(GUJ55>=1,$F$63*GUJ55,($F$62+(($F$63-$F$62)*(GUJ55-0.01)/0.99))*GUJ55))","v":0},0,0,0,0,0,0,0,0,0,0,0,0,0,0,0,0,0,0,0,0,0,0,0,0,0,0,0,0,0,0,0,0,0,0,0,0,0,0,0,0,0,0,0,0,0,0,0,0,0,0,0,0,0,0,0,0,0,0,0,0,0,0,0,{"$f":"IF(GWV55<=0.01,$F$62*GWV55,IF(GWV55>=1,$F$63*GWV55,($F$62+(($F$63-$F$62)*(GWV55-0.01)/0.99))*GWV55))","v":0},0,0,0,0,0,0,0,0,0,0,0,0,0,0,0,0,0,0,0,0,0,0,0,0,0,0,0,0,0,0,0,0,0,0,0,0,0,0,0,0,0,0,0,0,0,0,0,0,0,0,0,0,0,0,0,0,0,0,0,0,0,0,0,{"$f":"IF(GZH55<=0.01,$F$62*GZH55,IF(GZH55>=1,$F$63*GZH55,($F$62+(($F$63-$F$62)*(GZH55-0.01)/0.99))*GZH55))","v":0},0,0,0,0,0,0,0,0,0,0,0,0,0,0,0,0,0,0,0,0,0,0,0,0,0,0,0,0,0,0,0,0,0,0,0,0,0,0,0,0,0,0,0,0,0,0,0,0,0,0,0,0,0,0,0,0,0,0,0,0,0,0,0,{"$f":"IF(HBT55<=0.01,$F$62*HBT55,IF(HBT55>=1,$F$63*HBT55,($F$62+(($F$63-$F$62)*(HBT55-0.01)/0.99))*HBT55))","v":0},0,0,0,0,0,0,0,0,0,0,0,0,0,0,0,0,0,0,0,0,0,0,0,0,0,0,0,0,0,0,0,0,0,0,0,0,0,0,0,0,0,0,0,0,0,0,0,0,0,0,0,0,0,0,0,0,0,0,0,0,0,0,0,{"$f":"IF(HEF55<=0.01,$F$62*HEF55,IF(HEF55>=1,$F$63*HEF55,($F$62+(($F$63-$F$62)*(HEF55-0.01)/0.99))*HEF55))","v":0},0,0,0,0,0,0,0,0,0,0,0,0,0,0,0,0,0,0,0,0,0,0,0,0,0,0,0,0,0,0,0,0,0,0,0,0,0,0,0,0,0,0,0,0,0,0,0,0,0,0,0,0,0,0,0,0,0,0,0,0,0,0,0,{"$f":"IF(HGR55<=0.01,$F$62*HGR55,IF(HGR55>=1,$F$63*HGR55,($F$62+(($F$63-$F$62)*(HGR55-0.01)/0.99))*HGR55))","v":0},0,0,0,0,0,0,0,0,0,0,0,0,0,0,0,0,0,0,0,0,0,0,0,0,0,0,0,0,0,0,0,0,0,0,0,0,0,0,0,0,0,0,0,0,0,0,0,0,0,0,0,0,0,0,0,0,0,0,0,0,0,0,0,{"$f":"IF(HJD55<=0.01,$F$62*HJD55,IF(HJD55>=1,$F$63*HJD55,($F$62+(($F$63-$F$62)*(HJD55-0.01)/0.99))*HJD55))","v":0},0,0,0,0,0,0,0,0,0,0,0,0,0,0,0,0,0,0,0,0,0,0,0,0,0,0,0,0,0,0,0,0,0,0,0,0,0,0,0,0,0,0,0,0,0,0,0,0,0,0,0,0,0,0,0,0,0,0,0,0,0,0,0,{"$f":"IF(HLP55<=0.01,$F$62*HLP55,IF(HLP55>=1,$F$63*HLP55,($F$62+(($F$63-$F$62)*(HLP55-0.01)/0.99))*HLP55))","v":0},0,0,0,0,0,0,0,0,0,0,0,0,0,0,0,0,0,0,0,0,0,0,0,0,0,0,0,0,0,0,0,0,0,0,0,0,0,0,0,0,0,0,0,0,0,0,0,0,0,0,0,0,0,0,0,0,0,0,0,0,0,0,0,{"$f":"IF(HOB55<=0.01,$F$62*HOB55,IF(HOB55>=1,$F$63*HOB55,($F$62+(($F$63-$F$62)*(HOB55-0.01)/0.99))*HOB55))","v":0},0,0,0,0,0,0,0,0,0,0,0,0,0,0,0,0,0,0,0,0,0,0,0,0,0,0,0,0,0,0,0,0,0,0,0,0,0,0,0,0,0,0,0,0,0,0,0,0,0,0,0,0,0,0,0,0,0,0,0,0,0,0,0,{"$f":"IF(HQN55<=0.01,$F$62*HQN55,IF(HQN55>=1,$F$63*HQN55,($F$62+(($F$63-$F$62)*(HQN55-0.01)/0.99))*HQN55))","v":0},0,0,0,0,0,0,0,0,0,0,0,0,0,0,0,0,0,0,0,0,0,0,0,0,0,0,0,0,0,0,0,0,0,0,0,0,0,0,0,0,0,0,0,0,0,0,0,0,0,0,0,0,0,0,0,0,0,0,0,0,0,0,0,{"$f":"IF(HSZ55<=0.01,$F$62*HSZ55,IF(HSZ55>=1,$F$63*HSZ55,($F$62+(($F$63-$F$62)*(HSZ55-0.01)/0.99))*HSZ55))","v":0},0,0,0,0,0,0,0,0,0,0,0,0,0,0,0,0,0,0,0,0,0,0,0,0,0,0,0,0,0,0,0,0,0,0,0,0,0,0,0,0,0,0,0,0,0,0,0,0,0,0,0,0,0,0,0,0,0,0,0,0,0,0,0,{"$f":"IF(HVL55<=0.01,$F$62*HVL55,IF(HVL55>=1,$F$63*HVL55,($F$62+(($F$63-$F$62)*(HVL55-0.01)/0.99))*HVL55))","v":0},0,0,0,0,0,0,0,0,0,0,0,0,0,0,0,0,0,0,0,0,0,0,0,0,0,0,0,0,0,0,0,0,0,0,0,0,0,0,0,0,0,0,0,0,0,0,0,0,0,0,0,0,0,0,0,0,0,0,0,0,0,0,0,{"$f":"IF(HXX55<=0.01,$F$62*HXX55,IF(HXX55>=1,$F$63*HXX55,($F$62+(($F$63-$F$62)*(HXX55-0.01)/0.99))*HXX55))","v":0},0,0,0,0,0,0,0,0,0,0,0,0,0,0,0,0,0,0,0,0,0,0,0,0,0,0,0,0,0,0,0,0,0,0,0,0,0,0,0,0,0,0,0,0,0,0,0,0,0,0,0,0,0,0,0,0,0,0,0,0,0,0,0,{"$f":"IF(IAJ55<=0.01,$F$62*IAJ55,IF(IAJ55>=1,$F$63*IAJ55,($F$62+(($F$63-$F$62)*(IAJ55-0.01)/0.99))*IAJ55))","v":0},0,0,0,0,0,0,0,0,0,0,0,0,0,0,0,0,0,0,0,0,0,0,0,0,0,0,0,0,0,0,0,0,0,0,0,0,0,0,0,0,0,0,0,0,0,0,0,0,0,0,0,0,0,0,0,0,0,0,0,0,0,0,0,{"$f":"IF(ICV55<=0.01,$F$62*ICV55,IF(ICV55>=1,$F$63*ICV55,($F$62+(($F$63-$F$62)*(ICV55-0.01)/0.99))*ICV55))","v":0},0,0,0,0,0,0,0,0,0,0,0,0,0,0,0,0,0,0,0,0,0,0,0,0,0,0,0,0,0,0,0,0,0,0,0,0,0,0,0,0,0,0,0,0,0,0,0,0,0,0,0,0,0,0,0,0,0,0,0,0,0,0,0,{"$f":"IF(IFH55<=0.01,$F$62*IFH55,IF(IFH55>=1,$F$63*IFH55,($F$62+(($F$63-$F$62)*(IFH55-0.01)/0.99))*IFH55))","v":0},0,0,0,0,0,0,0,0,0,0,0,0,0,0,0,0,0,0,0,0,0,0,0,0,0,0,0,0,0,0,0,0,0,0,0,0,0,0,0,0,0,0,0,0,0,0,0,0,0,0,0,0,0,0,0,0,0,0,0,0,0,0,0,{"$f":"IF(IHT55<=0.01,$F$62*IHT55,IF(IHT55>=1,$F$63*IHT55,($F$62+(($F$63-$F$62)*(IHT55-0.01)/0.99))*IHT55))","v":0},0,0,0,0,0,0,0,0,0,0,0,0,0,0,0,0,0,0,0,0,0,0,0,0,0,0,0,0,0,0,0,0,0,0,0,0,0,0,0,0,0,0,0,0,0,0,0,0,0,0,0,0,0,0,0,0,0,0,0,0,0,0,0,{"$f":"IF(IKF55<=0.01,$F$62*IKF55,IF(IKF55>=1,$F$63*IKF55,($F$62+(($F$63-$F$62)*(IKF55-0.01)/0.99))*IKF55))","v":0},0,0,0,0,0,0,0,0,0,0,0,0,0,0,0,0,0,0,0,0,0,0,0,0,0,0,0,0,0,0,0,0,0,0,0,0,0,0,0,0,0,0,0,0,0,0,0,0,0,0,0,0,0,0,0,0,0,0,0,0,0,0,0,{"$f":"IF(IMR55<=0.01,$F$62*IMR55,IF(IMR55>=1,$F$63*IMR55,($F$62+(($F$63-$F$62)*(IMR55-0.01)/0.99))*IMR55))","v":0},0,0,0,0,0,0,0,0,0,0,0,0,0,0,0,0,0,0,0,0,0,0,0,0,0,0,0,0,0,0,0,0,0,0,0,0,0,0,0,0,0,0,0,0,0,0,0,0,0,0,0,0,0,0,0,0,0,0,0,0,0,0,0,{"$f":"IF(IPD55<=0.01,$F$62*IPD55,IF(IPD55>=1,$F$63*IPD55,($F$62+(($F$63-$F$62)*(IPD55-0.01)/0.99))*IPD55))","v":0},0,0,0,0,0,0,0,0,0,0,0,0,0,0,0,0,0,0,0,0,0,0,0,0,0,0,0,0,0,0,0,0,0,0,0,0,0,0,0,0,0,0,0,0,0,0,0,0,0,0,0,0,0,0,0,0,0,0,0,0,0,0,0,{"$f":"IF(IRP55<=0.01,$F$62*IRP55,IF(IRP55>=1,$F$63*IRP55,($F$62+(($F$63-$F$62)*(IRP55-0.01)/0.99))*IRP55))","v":0},0,0,0,0,0,0,0,0,0,0,0,0,0,0,0,0,0,0,0,0,0,0,0,0,0,0,0,0,0,0,0,0,0,0,0,0,0,0,0,0,0,0,0,0,0,0,0,0,0,0,0,0,0,0,0,0,0,0,0,0,0,0,0,{"$f":"IF(IUB55<=0.01,$F$62*IUB55,IF(IUB55>=1,$F$63*IUB55,($F$62+(($F$63-$F$62)*(IUB55-0.01)/0.99))*IUB55))","v":0},0,0,0,0,0,0,0,0,0,0,0,0,0,0,0,0,0,0,0,0,0,0,0,0,0,0,0,0,0,0,0,0,0,0,0,0,0,0,0,0,0,0,0,0,0,0,0,0,0,0,0,0,0,0,0,0,0,0,0,0,0,0,0,{"$f":"IF(IWN55<=0.01,$F$62*IWN55,IF(IWN55>=1,$F$63*IWN55,($F$62+(($F$63-$F$62)*(IWN55-0.01)/0.99))*IWN55))","v":0},0,0,0,0,0,0,0,0,0,0,0,0,0,0,0,0,0,0,0,0,0,0,0,0,0,0,0,0,0,0,0,0,0,0,0,0,0,0,0,0,0,0,0,0,0,0,0,0,0,0,0,0,0,0,0,0,0,0,0,0,0,0,0,{"$f":"IF(IYZ55<=0.01,$F$62*IYZ55,IF(IYZ55>=1,$F$63*IYZ55,($F$62+(($F$63-$F$62)*(IYZ55-0.01)/0.99))*IYZ55))","v":0},0,0,0,0,0,0,0,0,0,0,0,0,0,0,0,0,0,0,0,0,0,0,0,0,0,0,0,0,0,0,0,0,0,0,0,0,0,0,0,0,0,0,0,0,0,0,0,0,0,0,0,0,0,0,0,0,0,0,0,0,0,0,0,{"$f":"IF(JBL55<=0.01,$F$62*JBL55,IF(JBL55>=1,$F$63*JBL55,($F$62+(($F$63-$F$62)*(JBL55-0.01)/0.99))*JBL55))","v":0},0,0,0,0,0,0,0,0,0,0,0,0,0,0,0,0,0,0,0,0,0,0,0,0,0,0,0,0,0,0,0,0,0,0,0,0,0,0,0,0,0,0,0,0,0,0,0,0,0,0,0,0,0,0,0,0,0,0,0,0,0,0,0,{"$f":"IF(JDX55<=0.01,$F$62*JDX55,IF(JDX55>=1,$F$63*JDX55,($F$62+(($F$63-$F$62)*(JDX55-0.01)/0.99))*JDX55))","v":0},0,0,0,0,0,0,0,0,0,0,0,0,0,0,0,0,0,0,0,0,0,0,0,0,0,0,0,0,0,0,0,0,0,0,0,0,0,0,0,0,0,0,0,0,0,0,0,0,0,0,0,0,0,0,0,0,0,0,0,0,0,0,0,{"$f":"IF(JGJ55<=0.01,$F$62*JGJ55,IF(JGJ55>=1,$F$63*JGJ55,($F$62+(($F$63-$F$62)*(JGJ55-0.01)/0.99))*JGJ55))","v":0},0,0,0,0,0,0,0,0,0,0,0,0,0,0,0,0,0,0,0,0,0,0,0,0,0,0,0,0,0,0,0,0,0,0,0,0,0,0,0,0,0,0,0,0,0,0,0,0,0,0,0,0,0,0,0,0,0,0,0,0,0,0,0,{"$f":"IF(JIV55<=0.01,$F$62*JIV55,IF(JIV55>=1,$F$63*JIV55,($F$62+(($F$63-$F$62)*(JIV55-0.01)/0.99))*JIV55))","v":0},0,0,0,0,0,0,0,0,0,0,0,0,0,0,0,0,0,0,0,0,0,0,0,0,0,0,0,0,0,0,0,0,0,0,0,0,0,0,0,0,0,0,0,0,0,0,0,0,0,0,0,0,0,0,0,0,0,0,0,0,0,0,0,{"$f":"IF(JLH55<=0.01,$F$62*JLH55,IF(JLH55>=1,$F$63*JLH55,($F$62+(($F$63-$F$62)*(JLH55-0.01)/0.99))*JLH55))","v":0},0,0,0,0,0,0,0,0,0,0,0,0,0,0,0,0,0,0,0,0,0,0,0,0,0,0,0,0,0,0,0,0,0,0,0,0,0,0,0,0,0,0,0,0,0,0,0,0,0,0,0,0,0,0,0,0,0,0,0,0,0,0,0,{"$f":"IF(JNT55<=0.01,$F$62*JNT55,IF(JNT55>=1,$F$63*JNT55,($F$62+(($F$63-$F$62)*(JNT55-0.01)/0.99))*JNT55))","v":0},0,0,0,0,0,0,0,0,0,0,0,0,0,0,0,0,0,0,0,0,0,0,0,0,0,0,0,0,0,0,0,0,0,0,0,0,0,0,0,0,0,0,0,0,0,0,0,0,0,0,0,0,0,0,0,0,0,0,0,0,0,0,0,{"$f":"IF(JQF55<=0.01,$F$62*JQF55,IF(JQF55>=1,$F$63*JQF55,($F$62+(($F$63-$F$62)*(JQF55-0.01)/0.99))*JQF55))","v":0},0,0,0,0,0,0,0,0,0,0,0,0,0,0,0,0,0,0,0,0,0,0,0,0,0,0,0,0,0,0,0,0,0,0,0,0,0,0,0,0,0,0,0,0,0,0,0,0,0,0,0,0,0,0,0,0,0,0,0,0,0,0,0,{"$f":"IF(JSR55<=0.01,$F$62*JSR55,IF(JSR55>=1,$F$63*JSR55,($F$62+(($F$63-$F$62)*(JSR55-0.01)/0.99))*JSR55))","v":0},0,0,0,0,0,0,0,0,0,0,0,0,0,0,0,0,0,0,0,0,0,0,0,0,0,0,0,0,0,0,0,0,0,0,0,0,0,0,0,0,0,0,0,0,0,0,0,0,0,0,0,0,0,0,0,0,0,0,0,0,0,0,0,{"$f":"IF(JVD55<=0.01,$F$62*JVD55,IF(JVD55>=1,$F$63*JVD55,($F$62+(($F$63-$F$62)*(JVD55-0.01)/0.99))*JVD55))","v":0},0,0,0,0,0,0,0,0,0,0,0,0,0,0,0,0,0,0,0,0,0,0,0,0,0,0,0,0,0,0,0,0,0,0,0,0,0,0,0,0,0,0,0,0,0,0,0,0,0,0,0,0,0,0,0,0,0,0,0,0,0,0,0,{"$f":"IF(JXP55<=0.01,$F$62*JXP55,IF(JXP55>=1,$F$63*JXP55,($F$62+(($F$63-$F$62)*(JXP55-0.01)/0.99))*JXP55))","v":0},0,0,0,0,0,0,0,0,0,0,0,0,0,0,0,0,0,0,0,0,0,0,0,0,0,0,0,0,0,0,0,0,0,0,0,0,0,0,0,0,0,0,0,0,0,0,0,0,0,0,0,0,0,0,0,0,0,0,0,0,0,0,0,{"$f":"IF(KAB55<=0.01,$F$62*KAB55,IF(KAB55>=1,$F$63*KAB55,($F$62+(($F$63-$F$62)*(KAB55-0.01)/0.99))*KAB55))","v":0},0,0,0,0,0,0,0,0,0,0,0,0,0,0,0,0,0,0,0,0,0,0,0,0,0,0,0,0,0,0,0,0,0,0,0,0,0,0,0,0,0,0,0,0,0,0,0,0,0,0,0,0,0,0,0,0,0,0,0,0,0,0,0,{"$f":"IF(KCN55<=0.01,$F$62*KCN55,IF(KCN55>=1,$F$63*KCN55,($F$62+(($F$63-$F$62)*(KCN55-0.01)/0.99))*KCN55))","v":0},0,0,0,0,0,0,0,0,0,0,0,0,0,0,0,0,0,0,0,0,0,0,0,0,0,0,0,0,0,0,0,0,0,0,0,0,0,0,0,0,0,0,0,0,0,0,0,0,0,0,0,0,0,0,0,0,0,0,0,0,0,0,0,{"$f":"IF(KEZ55<=0.01,$F$62*KEZ55,IF(KEZ55>=1,$F$63*KEZ55,($F$62+(($F$63-$F$62)*(KEZ55-0.01)/0.99))*KEZ55))","v":0},0,0,0,0,0,0,0,0,0,0,0,0,0,0,0,0,0,0,0,0,0,0,0,0,0,0,0,0,0,0,0,0,0,0,0,0,0,0,0,0,0,0,0,0,0,0,0,0,0,0,0,0,0,0,0,0,0,0,0,0,0,0,0,{"$f":"IF(KHL55<=0.01,$F$62*KHL55,IF(KHL55>=1,$F$63*KHL55,($F$62+(($F$63-$F$62)*(KHL55-0.01)/0.99))*KHL55))","v":0},0,0,0,0,0,0,0,0,0,0,0,0,0,0,0,0,0,0,0,0,0,0,0,0,0,0,0,0,0,0,0,0,0,0,0,0,0,0,0,0,0,0,0,0,0,0,0,0,0,0,0,0,0,0,0,0,0,0,0,0,0,0,0,{"$f":"IF(KJX55<=0.01,$F$62*KJX55,IF(KJX55>=1,$F$63*KJX55,($F$62+(($F$63-$F$62)*(KJX55-0.01)/0.99))*KJX55))","v":0},0,0,0,0,0,0,0,0,0,0,0,0,0,0,0,0,0,0,0,0,0,0,0,0,0,0,0,0,0,0,0,0,0,0,0,0,0,0,0,0,0,0,0,0,0,0,0,0,0,0,0,0,0,0,0,0,0,0,0,0,0,0,0,{"$f":"IF(KMJ55<=0.01,$F$62*KMJ55,IF(KMJ55>=1,$F$63*KMJ55,($F$62+(($F$63-$F$62)*(KMJ55-0.01)/0.99))*KMJ55))","v":0},0,0,0,0,0,0,0,0,0,0,0,0,0,0,0,0,0,0,0,0,0,0,0,0,0,0,0,0,0,0,0,0,0,0,0,0,0,0,0,0,0,0,0,0,0,0,0,0,0,0,0,0,0,0,0,0,0,0,0,0,0,0,0,{"$f":"IF(KOV55<=0.01,$F$62*KOV55,IF(KOV55>=1,$F$63*KOV55,($F$62+(($F$63-$F$62)*(KOV55-0.01)/0.99))*KOV55))","v":0},0,0,0,0,0,0,0,0,0,0,0,0,0,0,0,0,0,0,0,0,0,0,0,0,0,0,0,0,0,0,0,0,0,0,0,0,0,0,0,0,0,0,0,0,0,0,0,0,0,0,0,0,0,0,0,0,0,0,0,0,0,0,0,{"$f":"IF(KRH55<=0.01,$F$62*KRH55,IF(KRH55>=1,$F$63*KRH55,($F$62+(($F$63-$F$62)*(KRH55-0.01)/0.99))*KRH55))","v":0},0,0,0,0,0,0,0,0,0,0,0,0,0,0,0,0,0,0,0,0,0,0,0,0,0,0,0,0,0,0,0,0,0,0,0,0,0,0,0,0,0,0,0,0,0,0,0,0,0,0,0,0,0,0,0,0,0,0,0,0,0,0,0,{"$f":"IF(KTT55<=0.01,$F$62*KTT55,IF(KTT55>=1,$F$63*KTT55,($F$62+(($F$63-$F$62)*(KTT55-0.01)/0.99))*KTT55))","v":0},0,0,0,0,0,0,0,0,0,0,0,0,0,0,0,0,0,0,0,0,0,0,0,0,0,0,0,0,0,0,0,0,0,0,0,0,0,0,0,0,0,0,0,0,0,0,0,0,0,0,0,0,0,0,0,0,0,0,0,0,0,0,0,{"$f":"IF(KWF55<=0.01,$F$62*KWF55,IF(KWF55>=1,$F$63*KWF55,($F$62+(($F$63-$F$62)*(KWF55-0.01)/0.99))*KWF55))","v":0},0,0,0,0,0,0,0,0,0,0,0,0,0,0,0,0,0,0,0,0,0,0,0,0,0,0,0,0,0,0,0,0,0,0,0,0,0,0,0,0,0,0,0,0,0,0,0,0,0,0,0,0,0,0,0,0,0,0,0,0,0,0,0,{"$f":"IF(KYR55<=0.01,$F$62*KYR55,IF(KYR55>=1,$F$63*KYR55,($F$62+(($F$63-$F$62)*(KYR55-0.01)/0.99))*KYR55))","v":0},0,0,0,0,0,0,0,0,0,0,0,0,0,0,0,0,0,0,0,0,0,0,0,0,0,0,0,0,0,0,0,0,0,0,0,0,0,0,0,0,0,0,0,0,0,0,0,0,0,0,0,0,0,0,0,0,0,0,0,0,0,0,0,{"$f":"IF(LBD55<=0.01,$F$62*LBD55,IF(LBD55>=1,$F$63*LBD55,($F$62+(($F$63-$F$62)*(LBD55-0.01)/0.99))*LBD55))","v":0},0,0,0,0,0,0,0,0,0,0,0,0,0,0,0,0,0,0,0,0,0,0,0,0,0,0,0,0,0,0,0,0,0,0,0,0,0,0,0,0,0,0,0,0,0,0,0,0,0,0,0,0,0,0,0,0,0,0,0,0,0,0,0,{"$f":"IF(LDP55<=0.01,$F$62*LDP55,IF(LDP55>=1,$F$63*LDP55,($F$62+(($F$63-$F$62)*(LDP55-0.01)/0.99))*LDP55))","v":0},0,0,0,0,0,0,0,0,0,0,0,0,0,0,0,0,0,0,0,0,0,0,0,0,0,0,0,0,0,0,0,0,0,0,0,0,0,0,0,0,0,0,0,0,0,0,0,0,0,0,0,0,0,0,0,0,0,0,0,0,0,0,0,{"$f":"IF(LGB55<=0.01,$F$62*LGB55,IF(LGB55>=1,$F$63*LGB55,($F$62+(($F$63-$F$62)*(LGB55-0.01)/0.99))*LGB55))","v":0},0,0,0,0,0,0,0,0,0,0,0,0,0,0,0,0,0,0,0,0,0,0,0,0,0,0,0,0,0,0,0,0,0,0,0,0,0,0,0,0,0,0,0,0,0,0,0,0,0,0,0,0,0,0,0,0,0,0,0,0,0,0,0,{"$f":"IF(LIN55<=0.01,$F$62*LIN55,IF(LIN55>=1,$F$63*LIN55,($F$62+(($F$63-$F$62)*(LIN55-0.01)/0.99))*LIN55))","v":0},0,0,0,0,0,0,0,0,0,0,0,0,0,0,0,0,0,0,0,0,0,0,0,0,0,0,0,0,0,0,0,0,0,0,0,0,0,0,0,0,0,0,0,0,0,0,0,0,0,0,0,0,0,0,0,0,0,0,0,0,0,0,0,{"$f":"IF(LKZ55<=0.01,$F$62*LKZ55,IF(LKZ55>=1,$F$63*LKZ55,($F$62+(($F$63-$F$62)*(LKZ55-0.01)/0.99))*LKZ55))","v":0},0,0,0,0,0,0,0,0,0,0,0,0,0,0,0,0,0,0,0,0,0,0,0,0,0,0,0,0,0,0,0,0,0,0,0,0,0,0,0,0,0,0,0,0,0,0,0,0,0,0,0,0,0,0,0,0,0,0,0,0,0,0,0,{"$f":"IF(LNL55<=0.01,$F$62*LNL55,IF(LNL55>=1,$F$63*LNL55,($F$62+(($F$63-$F$62)*(LNL55-0.01)/0.99))*LNL55))","v":0},0,0,0,0,0,0,0,0,0,0,0,0,0,0,0,0,0,0,0,0,0,0,0,0,0,0,0,0,0,0,0,0,0,0,0,0,0,0,0,0,0,0,0,0,0,0,0,0,0,0,0,0,0,0,0,0,0,0,0,0,0,0,0,{"$f":"IF(LPX55<=0.01,$F$62*LPX55,IF(LPX55>=1,$F$63*LPX55,($F$62+(($F$63-$F$62)*(LPX55-0.01)/0.99))*LPX55))","v":0},0,0,0,0,0,0,0,0,0,0,0,0,0,0,0,0,0,0,0,0,0,0,0,0,0,0,0,0,0,0,0,0,0,0,0,0,0,0,0,0,0,0,0,0,0,0,0,0,0,0,0,0,0,0,0,0,0,0,0,0,0,0,0,{"$f":"IF(LSJ55<=0.01,$F$62*LSJ55,IF(LSJ55>=1,$F$63*LSJ55,($F$62+(($F$63-$F$62)*(LSJ55-0.01)/0.99))*LSJ55))","v":0},0,0,0,0,0,0,0,0,0,0,0,0,0,0,0,0,0,0,0,0,0,0,0,0,0,0,0,0,0,0,0,0,0,0,0,0,0,0,0,0,0,0,0,0,0,0,0,0,0,0,0,0,0,0,0,0,0,0,0,0,0,0,0,{"$f":"IF(LUV55<=0.01,$F$62*LUV55,IF(LUV55>=1,$F$63*LUV55,($F$62+(($F$63-$F$62)*(LUV55-0.01)/0.99))*LUV55))","v":0},0,0,0,0,0,0,0,0,0,0,0,0,0,0,0,0,0,0,0,0,0,0,0,0,0,0,0,0,0,0,0,0,0,0,0,0,0,0,0,0,0,0,0,0,0,0,0,0,0,0,0,0,0,0,0,0,0,0,0,0,0,0,0,{"$f":"IF(LXH55<=0.01,$F$62*LXH55,IF(LXH55>=1,$F$63*LXH55,($F$62+(($F$63-$F$62)*(LXH55-0.01)/0.99))*LXH55))","v":0},0,0,0,0,0,0,0,0,0,0,0,0,0,0,0,0,0,0,0,0,0,0,0,0,0,0,0,0,0,0,0,0,0,0,0,0,0,0,0,0,0,0,0,0,0,0,0,0,0,0,0,0,0,0,0,0,0,0,0,0,0,0,0,{"$f":"IF(LZT55<=0.01,$F$62*LZT55,IF(LZT55>=1,$F$63*LZT55,($F$62+(($F$63-$F$62)*(LZT55-0.01)/0.99))*LZT55))","v":0},0,0,0,0,0,0,0,0,0,0,0,0,0,0,0,0,0,0,0,0,0,0,0,0,0,0,0,0,0,0,0,0,0,0,0,0,0,0,0,0,0,0,0,0,0,0,0,0,0,0,0,0,0,0,0,0,0,0,0,0,0,0,0,{"$f":"IF(MCF55<=0.01,$F$62*MCF55,IF(MCF55>=1,$F$63*MCF55,($F$62+(($F$63-$F$62)*(MCF55-0.01)/0.99))*MCF55))","v":0},0,0,0,0,0,0,0,0,0,0,0,0,0,0,0,0,0,0,0,0,0,0,0,0,0,0,0,0,0,0,0,0,0,0,0,0,0,0,0,0,0,0,0,0,0,0,0,0,0,0,0,0,0,0,0,0,0,0,0,0,0,0,0,{"$f":"IF(MER55<=0.01,$F$62*MER55,IF(MER55>=1,$F$63*MER55,($F$62+(($F$63-$F$62)*(MER55-0.01)/0.99))*MER55))","v":0},0,0,0,0,0,0,0,0,0,0,0,0,0,0,0,0,0,0,0,0,0,0,0,0,0,0,0,0,0,0,0,0,0,0,0,0,0,0,0,0,0,0,0,0,0,0,0,0,0,0,0,0,0,0,0,0,0,0,0,0,0,0,0,{"$f":"IF(MHD55<=0.01,$F$62*MHD55,IF(MHD55>=1,$F$63*MHD55,($F$62+(($F$63-$F$62)*(MHD55-0.01)/0.99))*MHD55))","v":0},0,0,0,0,0,0,0,0,0,0,0,0,0,0,0,0,0,0,0,0,0,0,0,0,0,0,0,0,0,0,0,0,0,0,0,0,0,0,0,0,0,0,0,0,0,0,0,0,0,0,0,0,0,0,0,0,0,0,0,0,0,0,0,{"$f":"IF(MJP55<=0.01,$F$62*MJP55,IF(MJP55>=1,$F$63*MJP55,($F$62+(($F$63-$F$62)*(MJP55-0.01)/0.99))*MJP55))","v":0},0,0,0,0,0,0,0,0,0,0,0,0,0,0,0,0,0,0,0,0,0,0,0,0,0,0,0,0,0,0,0,0,0,0,0,0,0,0,0,0,0,0,0,0,0,0,0,0,0,0,0,0,0,0,0,0,0,0,0,0,0,0,0,{"$f":"IF(MMB55<=0.01,$F$62*MMB55,IF(MMB55>=1,$F$63*MMB55,($F$62+(($F$63-$F$62)*(MMB55-0.01)/0.99))*MMB55))","v":0},0,0,0,0,0,0,0,0,0,0,0,0,0,0,0,0,0,0,0,0,0,0,0,0,0,0,0,0,0,0,0,0,0,0,0,0,0,0,0,0,0,0,0,0,0,0,0,0,0,0,0,0,0,0,0,0,0,0,0,0,0,0,0,{"$f":"IF(MON55<=0.01,$F$62*MON55,IF(MON55>=1,$F$63*MON55,($F$62+(($F$63-$F$62)*(MON55-0.01)/0.99))*MON55))","v":0},0,0,0,0,0,0,0,0,0,0,0,0,0,0,0,0,0,0,0,0,0,0,0,0,0,0,0,0,0,0,0,0,0,0,0,0,0,0,0,0,0,0,0,0,0,0,0,0,0,0,0,0,0,0,0,0,0,0,0,0,0,0,0,{"$f":"IF(MQZ55<=0.01,$F$62*MQZ55,IF(MQZ55>=1,$F$63*MQZ55,($F$62+(($F$63-$F$62)*(MQZ55-0.01)/0.99))*MQZ55))","v":0},0,0,0,0,0,0,0,0,0,0,0,0,0,0,0,0,0,0,0,0,0,0,0,0,0,0,0,0,0,0,0,0,0,0,0,0,0,0,0,0,0,0,0,0,0,0,0,0,0,0,0,0,0,0,0,0,0,0,0,0,0,0,0,{"$f":"IF(MTL55<=0.01,$F$62*MTL55,IF(MTL55>=1,$F$63*MTL55,($F$62+(($F$63-$F$62)*(MTL55-0.01)/0.99))*MTL55))","v":0},0,0,0,0,0,0,0,0,0,0,0,0,0,0,0,0,0,0,0,0,0,0,0,0,0,0,0,0,0,0,0,0,0,0,0,0,0,0,0,0,0,0,0,0,0,0,0,0,0,0,0,0,0,0,0,0,0,0,0,0,0,0,0,{"$f":"IF(MVX55<=0.01,$F$62*MVX55,IF(MVX55>=1,$F$63*MVX55,($F$62+(($F$63-$F$62)*(MVX55-0.01)/0.99))*MVX55))","v":0},0,0,0,0,0,0,0,0,0,0,0,0,0,0,0,0,0,0,0,0,0,0,0,0,0,0,0,0,0,0,0,0,0,0,0,0,0,0,0,0,0,0,0,0,0,0,0,0,0,0,0,0,0,0,0,0,0,0,0,0,0,0,0,{"$f":"IF(MYJ55<=0.01,$F$62*MYJ55,IF(MYJ55>=1,$F$63*MYJ55,($F$62+(($F$63-$F$62)*(MYJ55-0.01)/0.99))*MYJ55))","v":0},0,0,0,0,0,0,0,0,0,0,0,0,0,0,0,0,0,0,0,0,0,0,0,0,0,0,0,0,0,0,0,0,0,0,0,0,0,0,0,0,0,0,0,0,0,0,0,0,0,0,0,0,0,0,0,0,0,0,0,0,0,0,0,{"$f":"IF(NAV55<=0.01,$F$62*NAV55,IF(NAV55>=1,$F$63*NAV55,($F$62+(($F$63-$F$62)*(NAV55-0.01)/0.99))*NAV55))","v":0},0,0,0,0,0,0,0,0,0,0,0,0,0,0,0,0,0,0,0,0,0,0,0,0,0,0,0,0,0,0,0,0,0,0,0,0,0,0,0,0,0,0,0,0,0,0,0,0,0,0,0,0,0,0,0,0,0,0,0,0,0,0,0,{"$f":"IF(NDH55<=0.01,$F$62*NDH55,IF(NDH55>=1,$F$63*NDH55,($F$62+(($F$63-$F$62)*(NDH55-0.01)/0.99))*NDH55))","v":0},0,0,0,0,0,0,0,0,0,0,0,0,0,0,0,0,0,0,0,0,0,0,0,0,0,0,0,0,0,0,0,0,0,0,0,0,0,0,0,0,0,0,0,0,0,0,0,0,0,0,0,0,0,0,0,0,0,0,0,0,0,0,0,{"$f":"IF(NFT55<=0.01,$F$62*NFT55,IF(NFT55>=1,$F$63*NFT55,($F$62+(($F$63-$F$62)*(NFT55-0.01)/0.99))*NFT55))","v":0},0,0,0,0,0,0,0,0,0,0,0,0,0,0,0,0,0,0,0,0,0,0,0,0,0,0,0,0,0,0,0,0,0,0,0,0,0,0,0,0,0,0,0,0,0,0,0,0,0,0,0,0,0,0,0,0,0,0,0,0,0,0,0,{"$f":"IF(NIF55<=0.01,$F$62*NIF55,IF(NIF55>=1,$F$63*NIF55,($F$62+(($F$63-$F$62)*(NIF55-0.01)/0.99))*NIF55))","v":0},0,0,0,0,0,0,0,0,0,0,0,0,0,0,0,0,0,0,0,0,0,0,0,0,0,0,0,0,0,0,0,0,0,0,0,0,0,0,0,0,0,0,0,0,0,0,0,0,0,0,0,0,0,0,0,0,0,0,0,0,0,0,0,{"$f":"IF(NKR55<=0.01,$F$62*NKR55,IF(NKR55>=1,$F$63*NKR55,($F$62+(($F$63-$F$62)*(NKR55-0.01)/0.99))*NKR55))","v":0},0,0,0,0,0,0,0,0,0,0,0,0,0,0,0,0,0,0,0,0,0,0,0,0,0,0,0,0,0,0,0,0,0,0,0,0,0,0,0,0,0,0,0,0,0,0,0,0,0,0,0,0,0,0,0,0,0,0,0,0,0,0,0,{"$f":"IF(NND55<=0.01,$F$62*NND55,IF(NND55>=1,$F$63*NND55,($F$62+(($F$63-$F$62)*(NND55-0.01)/0.99))*NND55))","v":0},0,0,0,0,0,0,0,0,0,0,0,0,0,0,0,0,0,0,0,0,0,0,0,0,0,0,0,0,0,0,0,0,0,0,0,0,0,0,0,0,0,0,0,0,0,0,0,0,0,0,0,0,0,0,0,0,0,0,0,0,0,0,0,{"$f":"IF(NPP55<=0.01,$F$62*NPP55,IF(NPP55>=1,$F$63*NPP55,($F$62+(($F$63-$F$62)*(NPP55-0.01)/0.99))*NPP55))","v":0},0,0,0,0,0,0,0,0,0,0,0,0,0,0,0,0,0,0,0,0,0,0,0,0,0,0,0,0,0,0,0,0,0,0,0,0,0,0,0,0,0,0,0,0,0,0,0,0,0,0,0,0,0,0,0,0,0,0,0,0,0,0,0,{"$f":"IF(NSB55<=0.01,$F$62*NSB55,IF(NSB55>=1,$F$63*NSB55,($F$62+(($F$63-$F$62)*(NSB55-0.01)/0.99))*NSB55))","v":0},0,0,0,0,0,0,0,0,0,0,0,0,0,0,0,0,0,0,0,0,0,0,0,0,0,0,0,0,0,0,0,0,0,0,0,0,0,0,0,0,0,0,0,0,0,0,0,0,0,0,0,0,0,0,0,0,0,0,0,0,0,0,0,{"$f":"IF(NUN55<=0.01,$F$62*NUN55,IF(NUN55>=1,$F$63*NUN55,($F$62+(($F$63-$F$62)*(NUN55-0.01)/0.99))*NUN55))","v":0},0,0,0,0,0,0,0,0,0,0,0,0,0,0,0,0,0,0,0,0,0,0,0,0,0,0,0,0,0,0,0,0,0,0,0,0,0,0,0,0,0,0,0,0,0,0,0,0,0,0,0,0,0,0,0,0,0,0,0,0,0,0,0,{"$f":"IF(NWZ55<=0.01,$F$62*NWZ55,IF(NWZ55>=1,$F$63*NWZ55,($F$62+(($F$63-$F$62)*(NWZ55-0.01)/0.99))*NWZ55))","v":0},0,0,0,0,0,0,0,0,0,0,0,0,0,0,0,0,0,0,0,0,0,0,0,0,0,0,0,0,0,0,0,0,0,0,0,0,0,0,0,0,0,0,0,0,0,0,0,0,0,0,0,0,0,0,0,0,0,0,0,0,0,0,0,{"$f":"IF(NZL55<=0.01,$F$62*NZL55,IF(NZL55>=1,$F$63*NZL55,($F$62+(($F$63-$F$62)*(NZL55-0.01)/0.99))*NZL55))","v":0},0,0,0,0,0,0,0,0,0,0,0,0,0,0,0,0,0,0,0,0,0,0,0,0,0,0,0,0,0,0,0,0,0,0,0,0,0,0,0,0,0,0,0,0,0,0,0,0,0,0,0,0,0,0,0,0,0,0,0,0,0,0,0,{"$f":"IF(OBX55<=0.01,$F$62*OBX55,IF(OBX55>=1,$F$63*OBX55,($F$62+(($F$63-$F$62)*(OBX55-0.01)/0.99))*OBX55))","v":0},0,0,0,0,0,0,0,0,0,0,0,0,0,0,0,0,0,0,0,0,0,0,0,0,0,0,0,0,0,0,0,0,0,0,0,0,0,0,0,0,0,0,0,0,0,0,0,0,0,0,0,0,0,0,0,0,0,0,0,0,0,0,0,{"$f":"IF(OEJ55<=0.01,$F$62*OEJ55,IF(OEJ55>=1,$F$63*OEJ55,($F$62+(($F$63-$F$62)*(OEJ55-0.01)/0.99))*OEJ55))","v":0},0,0,0,0,0,0,0,0,0,0,0,0,0,0,0,0,0,0,0,0,0,0,0,0,0,0,0,0,0,0,0,0,0,0,0,0,0,0,0,0,0,0,0,0,0,0,0,0,0,0,0,0,0,0,0,0,0,0,0,0,0,0,0,{"$f":"IF(OGV55<=0.01,$F$62*OGV55,IF(OGV55>=1,$F$63*OGV55,($F$62+(($F$63-$F$62)*(OGV55-0.01)/0.99))*OGV55))","v":0},0,0,0,0,0,0,0,0,0,0,0,0,0,0,0,0,0,0,0,0,0,0,0,0,0,0,0,0,0,0,0,0,0,0,0,0,0,0,0,0,0,0,0,0,0,0,0,0,0,0,0,0,0,0,0,0,0,0,0,0,0,0,0,{"$f":"IF(OJH55<=0.01,$F$62*OJH55,IF(OJH55>=1,$F$63*OJH55,($F$62+(($F$63-$F$62)*(OJH55-0.01)/0.99))*OJH55))","v":0},0,0,0,0,0,0,0,0,0,0,0,0,0,0,0,0,0,0,0,0,0,0,0,0,0,0,0,0,0,0,0,0,0,0,0,0,0,0,0,0,0,0,0,0,0,0,0,0,0,0,0,0,0,0,0,0,0,0,0,0,0,0,0,{"$f":"IF(OLT55<=0.01,$F$62*OLT55,IF(OLT55>=1,$F$63*OLT55,($F$62+(($F$63-$F$62)*(OLT55-0.01)/0.99))*OLT55))","v":0},0,0,0,0,0,0,0,0,0,0,0,0,0,0,0,0,0,0,0,0,0,0,0,0,0,0,0,0,0,0,0,0,0,0,0,0,0,0,0,0,0,0,0,0,0,0,0,0,0,0,0,0,0,0,0,0,0,0,0,0,0,0,0,{"$f":"IF(OOF55<=0.01,$F$62*OOF55,IF(OOF55>=1,$F$63*OOF55,($F$62+(($F$63-$F$62)*(OOF55-0.01)/0.99))*OOF55))","v":0},0,0,0,0,0,0,0,0,0,0,0,0,0,0,0,0,0,0,0,0,0,0,0,0,0,0,0,0,0,0,0,0,0,0,0,0,0,0,0,0,0,0,0,0,0,0,0,0,0,0,0,0,0,0,0,0,0,0,0,0,0,0,0,{"$f":"IF(OQR55<=0.01,$F$62*OQR55,IF(OQR55>=1,$F$63*OQR55,($F$62+(($F$63-$F$62)*(OQR55-0.01)/0.99))*OQR55))","v":0},0,0,0,0,0,0,0,0,0,0,0,0,0,0,0,0,0,0,0,0,0,0,0,0,0,0,0,0,0,0,0,0,0,0,0,0,0,0,0,0,0,0,0,0,0,0,0,0,0,0,0,0,0,0,0,0,0,0,0,0,0,0,0,{"$f":"IF(OTD55<=0.01,$F$62*OTD55,IF(OTD55>=1,$F$63*OTD55,($F$62+(($F$63-$F$62)*(OTD55-0.01)/0.99))*OTD55))","v":0},0,0,0,0,0,0,0,0,0,0,0,0,0,0,0,0,0,0,0,0,0,0,0,0,0,0,0,0,0,0,0,0,0,0,0,0,0,0,0,0,0,0,0,0,0,0,0,0,0,0,0,0,0,0,0,0,0,0,0,0,0,0,0,{"$f":"IF(OVP55<=0.01,$F$62*OVP55,IF(OVP55>=1,$F$63*OVP55,($F$62+(($F$63-$F$62)*(OVP55-0.01)/0.99))*OVP55))","v":0},0,0,0,0,0,0,0,0,0,0,0,0,0,0,0,0,0,0,0,0,0,0,0,0,0,0,0,0,0,0,0,0,0,0,0,0,0,0,0,0,0,0,0,0,0,0,0,0,0,0,0,0,0,0,0,0,0,0,0,0,0,0,0,{"$f":"IF(OYB55<=0.01,$F$62*OYB55,IF(OYB55>=1,$F$63*OYB55,($F$62+(($F$63-$F$62)*(OYB55-0.01)/0.99))*OYB55))","v":0},0,0,0,0,0,0,0,0,0,0,0,0,0,0,0,0,0,0,0,0,0,0,0,0,0,0,0,0,0,0,0,0,0,0,0,0,0,0,0,0,0,0,0,0,0,0,0,0,0,0,0,0,0,0,0,0,0,0,0,0,0,0,0,{"$f":"IF(PAN55<=0.01,$F$62*PAN55,IF(PAN55>=1,$F$63*PAN55,($F$62+(($F$63-$F$62)*(PAN55-0.01)/0.99))*PAN55))","v":0},0,0,0,0,0,0,0,0,0,0,0,0,0,0,0,0,0,0,0,0,0,0,0,0,0,0,0,0,0,0,0,0,0,0,0,0,0,0,0,0,0,0,0,0,0,0,0,0,0,0,0,0,0,0,0,0,0,0,0,0,0,0,0,{"$f":"IF(PCZ55<=0.01,$F$62*PCZ55,IF(PCZ55>=1,$F$63*PCZ55,($F$62+(($F$63-$F$62)*(PCZ55-0.01)/0.99))*PCZ55))","v":0},0,0,0,0,0,0,0,0,0,0,0,0,0,0,0,0,0,0,0,0,0,0,0,0,0,0,0,0,0,0,0,0,0,0,0,0,0,0,0,0,0,0,0,0,0,0,0,0,0,0,0,0,0,0,0,0,0,0,0,0,0,0,0,{"$f":"IF(PFL55<=0.01,$F$62*PFL55,IF(PFL55>=1,$F$63*PFL55,($F$62+(($F$63-$F$62)*(PFL55-0.01)/0.99))*PFL55))","v":0},0,0,0,0,0,0,0,0,0,0,0,0,0,0,0,0,0,0,0,0,0,0,0,0,0,0,0,0,0,0,0,0,0,0,0,0,0,0,0,0,0,0,0,0,0,0,0,0,0,0,0,0,0,0,0,0,0,0,0,0,0,0,0,{"$f":"IF(PHX55<=0.01,$F$62*PHX55,IF(PHX55>=1,$F$63*PHX55,($F$62+(($F$63-$F$62)*(PHX55-0.01)/0.99))*PHX55))","v":0},0,0,0,0,0,0,0,0,0,0,0,0,0,0,0,0,0,0,0,0,0,0,0,0,0,0,0,0,0,0,0,0,0,0,0,0,0,0,0,0,0,0,0,0,0,0,0,0,0,0,0,0,0,0,0,0,0,0,0,0,0,0,0,{"$f":"IF(PKJ55<=0.01,$F$62*PKJ55,IF(PKJ55>=1,$F$63*PKJ55,($F$62+(($F$63-$F$62)*(PKJ55-0.01)/0.99))*PKJ55))","v":0},0,0,0,0,0,0,0,0,0,0,0,0,0,0,0,0,0,0,0,0,0,0,0,0,0,0,0,0,0,0,0,0,0,0,0,0,0,0,0,0,0,0,0,0,0,0,0,0,0,0,0,0,0,0,0,0,0,0,0,0,0,0,0,{"$f":"IF(PMV55<=0.01,$F$62*PMV55,IF(PMV55>=1,$F$63*PMV55,($F$62+(($F$63-$F$62)*(PMV55-0.01)/0.99))*PMV55))","v":0},0,0,0,0,0,0,0,0,0,0,0,0,0,0,0,0,0,0,0,0,0,0,0,0,0,0,0,0,0,0,0,0,0,0,0,0,0,0,0,0,0,0,0,0,0,0,0,0,0,0,0,0,0,0,0,0,0,0,0,0,0,0,0,{"$f":"IF(PPH55<=0.01,$F$62*PPH55,IF(PPH55>=1,$F$63*PPH55,($F$62+(($F$63-$F$62)*(PPH55-0.01)/0.99))*PPH55))","v":0},0,0,0,0,0,0,0,0,0,0,0,0,0,0,0,0,0,0,0,0,0,0,0,0,0,0,0,0,0,0,0,0,0,0,0,0,0,0,0,0,0,0,0,0,0,0,0,0,0,0,0,0,0,0,0,0,0,0,0,0,0,0,0,{"$f":"IF(PRT55<=0.01,$F$62*PRT55,IF(PRT55>=1,$F$63*PRT55,($F$62+(($F$63-$F$62)*(PRT55-0.01)/0.99))*PRT55))","v":0},0,0,0,0,0,0,0,0,0,0,0,0,0,0,0,0,0,0,0,0,0,0,0,0,0,0,0,0,0,0,0,0,0,0,0,0,0,0,0,0,0,0,0,0,0,0,0,0,0,0,0,0,0,0,0,0,0,0,0,0,0,0,0,{"$f":"IF(PUF55<=0.01,$F$62*PUF55,IF(PUF55>=1,$F$63*PUF55,($F$62+(($F$63-$F$62)*(PUF55-0.01)/0.99))*PUF55))","v":0},0,0,0,0,0,0,0,0,0,0,0,0,0,0,0,0,0,0,0,0,0,0,0,0,0,0,0,0,0,0,0,0,0,0,0,0,0,0,0,0,0,0,0,0,0,0,0,0,0,0,0,0,0,0,0,0,0,0,0,0,0,0,0,{"$f":"IF(PWR55<=0.01,$F$62*PWR55,IF(PWR55>=1,$F$63*PWR55,($F$62+(($F$63-$F$62)*(PWR55-0.01)/0.99))*PWR55))","v":0},0,0,0,0,0,0,0,0,0,0,0,0,0,0,0,0,0,0,0,0,0,0,0,0,0,0,0,0,0,0,0,0,0,0,0,0,0,0,0,0,0,0,0,0,0,0,0,0,0,0,0,0,0,0,0,0,0,0,0,0,0,0,0,{"$f":"IF(PZD55<=0.01,$F$62*PZD55,IF(PZD55>=1,$F$63*PZD55,($F$62+(($F$63-$F$62)*(PZD55-0.01)/0.99))*PZD55))","v":0},0,0,0,0,0,0,0,0,0,0,0,0,0,0,0,0,0,0,0,0,0,0,0,0,0,0,0,0,0,0,0,0,0,0,0,0,0,0,0,0,0,0,0,0,0,0,0,0,0,0,0,0,0,0,0,0,0,0,0,0,0,0,0,{"$f":"IF(QBP55<=0.01,$F$62*QBP55,IF(QBP55>=1,$F$63*QBP55,($F$62+(($F$63-$F$62)*(QBP55-0.01)/0.99))*QBP55))","v":0},0,0,0,0,0,0,0,0,0,0,0,0,0,0,0,0,0,0,0,0,0,0,0,0,0,0,0,0,0,0,0,0,0,0,0,0,0,0,0,0,0,0,0,0,0,0,0,0,0,0,0,0,0,0,0,0,0,0,0,0,0,0,0,{"$f":"IF(QEB55<=0.01,$F$62*QEB55,IF(QEB55>=1,$F$63*QEB55,($F$62+(($F$63-$F$62)*(QEB55-0.01)/0.99))*QEB55))","v":0},0,0,0,0,0,0,0,0,0,0,0,0,0,0,0,0,0,0,0,0,0,0,0,0,0,0,0,0,0,0,0,0,0,0,0,0,0,0,0,0,0,0,0,0,0,0,0,0,0,0,0,0,0,0,0,0,0,0,0,0,0,0,0,{"$f":"IF(QGN55<=0.01,$F$62*QGN55,IF(QGN55>=1,$F$63*QGN55,($F$62+(($F$63-$F$62)*(QGN55-0.01)/0.99))*QGN55))","v":0},0,0,0,0,0,0,0,0,0,0,0,0,0,0,0,0,0,0,0,0,0,0,0,0,0,0,0,0,0,0,0,0,0,0,0,0,0,0,0,0,0,0,0,0,0,0,0,0,0,0,0,0,0,0,0,0,0,0,0,0,0,0,0,{"$f":"IF(QIZ55<=0.01,$F$62*QIZ55,IF(QIZ55>=1,$F$63*QIZ55,($F$62+(($F$63-$F$62)*(QIZ55-0.01)/0.99))*QIZ55))","v":0},0,0,0,0,0,0,0,0,0,0,0,0,0,0,0,0,0,0,0,0,0,0,0,0,0,0,0,0,0,0,0,0,0,0,0,0,0,0,0,0,0,0,0,0,0,0,0,0,0,0,0,0,0,0,0,0,0,0,0,0,0,0,0,{"$f":"IF(QLL55<=0.01,$F$62*QLL55,IF(QLL55>=1,$F$63*QLL55,($F$62+(($F$63-$F$62)*(QLL55-0.01)/0.99))*QLL55))","v":0},0,0,0,0,0,0,0,0,0,0,0,0,0,0,0,0,0,0,0,0,0,0,0,0,0,0,0,0,0,0,0,0,0,0,0,0,0,0,0,0,0,0,0,0,0,0,0,0,0,0,0,0,0,0,0,0,0,0,0,0,0,0,0,{"$f":"IF(QNX55<=0.01,$F$62*QNX55,IF(QNX55>=1,$F$63*QNX55,($F$62+(($F$63-$F$62)*(QNX55-0.01)/0.99))*QNX55))","v":0},0,0,0,0,0,0,0,0,0,0,0,0,0,0,0,0,0,0,0,0,0,0,0,0,0,0,0,0,0,0,0,0,0,0,0,0,0,0,0,0,0,0,0,0,0,0,0,0,0,0,0,0,0,0,0,0,0,0,0,0,0,0,0,{"$f":"IF(QQJ55<=0.01,$F$62*QQJ55,IF(QQJ55>=1,$F$63*QQJ55,($F$62+(($F$63-$F$62)*(QQJ55-0.01)/0.99))*QQJ55))","v":0},0,0,0,0,0,0,0,0,0,0,0,0,0,0,0,0,0,0,0,0,0,0,0,0,0,0,0,0,0,0,0,0,0,0,0,0,0,0,0,0,0,0,0,0,0,0,0,0,0,0,0,0,0,0,0,0,0,0,0,0,0,0,0,{"$f":"IF(QSV55<=0.01,$F$62*QSV55,IF(QSV55>=1,$F$63*QSV55,($F$62+(($F$63-$F$62)*(QSV55-0.01)/0.99))*QSV55))","v":0},0,0,0,0,0,0,0,0,0,0,0,0,0,0,0,0,0,0,0,0,0,0,0,0,0,0,0,0,0,0,0,0,0,0,0,0,0,0,0,0,0,0,0,0,0,0,0,0,0,0,0,0,0,0,0,0,0,0,0,0,0,0,0,{"$f":"IF(QVH55<=0.01,$F$62*QVH55,IF(QVH55>=1,$F$63*QVH55,($F$62+(($F$63-$F$62)*(QVH55-0.01)/0.99))*QVH55))","v":0},0,0,0,0,0,0,0,0,0,0,0,0,0,0,0,0,0,0,0,0,0,0,0,0,0,0,0,0,0,0,0,0,0,0,0,0,0,0,0,0,0,0,0,0,0,0,0,0,0,0,0,0,0,0,0,0,0,0,0,0,0,0,0,{"$f":"IF(QXT55<=0.01,$F$62*QXT55,IF(QXT55>=1,$F$63*QXT55,($F$62+(($F$63-$F$62)*(QXT55-0.01)/0.99))*QXT55))","v":0},0,0,0,0,0,0,0,0,0,0,0,0,0,0,0,0,0,0,0,0,0,0,0,0,0,0,0,0,0,0,0,0,0,0,0,0,0,0,0,0,0,0,0,0,0,0,0,0,0,0,0,0,0,0,0,0,0,0,0,0,0,0,0,{"$f":"IF(RAF55<=0.01,$F$62*RAF55,IF(RAF55>=1,$F$63*RAF55,($F$62+(($F$63-$F$62)*(RAF55-0.01)/0.99))*RAF55))","v":0},0,0,0,0,0,0,0,0,0,0,0,0,0,0,0,0,0,0,0,0,0,0,0,0,0,0,0,0,0,0,0,0,0,0,0,0,0,0,0,0,0,0,0,0,0,0,0,0,0,0,0,0,0,0,0,0,0,0,0,0,0,0,0,{"$f":"IF(RCR55<=0.01,$F$62*RCR55,IF(RCR55>=1,$F$63*RCR55,($F$62+(($F$63-$F$62)*(RCR55-0.01)/0.99))*RCR55))","v":0},0,0,0,0,0,0,0,0,0,0,0,0,0,0,0,0,0,0,0,0,0,0,0,0,0,0,0,0,0,0,0,0,0,0,0,0,0,0,0,0,0,0,0,0,0,0,0,0,0,0,0,0,0,0,0,0,0,0,0,0,0,0,0,{"$f":"IF(RFD55<=0.01,$F$62*RFD55,IF(RFD55>=1,$F$63*RFD55,($F$62+(($F$63-$F$62)*(RFD55-0.01)/0.99))*RFD55))","v":0},0,0,0,0,0,0,0,0,0,0,0,0,0,0,0,0,0,0,0,0,0,0,0,0,0,0,0,0,0,0,0,0,0,0,0,0,0,0,0,0,0,0,0,0,0,0,0,0,0,0,0,0,0,0,0,0,0,0,0,0,0,0,0,{"$f":"IF(RHP55<=0.01,$F$62*RHP55,IF(RHP55>=1,$F$63*RHP55,($F$62+(($F$63-$F$62)*(RHP55-0.01)/0.99))*RHP55))","v":0},0,0,0,0,0,0,0,0,0,0,0,0,0,0,0,0,0,0,0,0,0,0,0,0,0,0,0,0,0,0,0,0,0,0,0,0,0,0,0,0,0,0,0,0,0,0,0,0,0,0,0,0,0,0,0,0,0,0,0,0,0,0,0,{"$f":"IF(RKB55<=0.01,$F$62*RKB55,IF(RKB55>=1,$F$63*RKB55,($F$62+(($F$63-$F$62)*(RKB55-0.01)/0.99))*RKB55))","v":0},0,0,0,0,0,0,0,0,0,0,0,0,0,0,0,0,0,0,0,0,0,0,0,0,0,0,0,0,0,0,0,0,0,0,0,0,0,0,0,0,0,0,0,0,0,0,0,0,0,0,0,0,0,0,0,0,0,0,0,0,0,0,0,{"$f":"IF(RMN55<=0.01,$F$62*RMN55,IF(RMN55>=1,$F$63*RMN55,($F$62+(($F$63-$F$62)*(RMN55-0.01)/0.99))*RMN55))","v":0},0,0,0,0,0,0,0,0,0,0,0,0,0,0,0,0,0,0,0,0,0,0,0,0,0,0,0,0,0,0,0,0,0,0,0,0,0,0,0,0,0,0,0,0,0,0,0,0,0,0,0,0,0,0,0,0,0,0,0,0,0,0,0,{"$f":"IF(ROZ55<=0.01,$F$62*ROZ55,IF(ROZ55>=1,$F$63*ROZ55,($F$62+(($F$63-$F$62)*(ROZ55-0.01)/0.99))*ROZ55))","v":0},0,0,0,0,0,0,0,0,0,0,0,0,0,0,0,0,0,0,0,0,0,0,0,0,0,0,0,0,0,0,0,0,0,0,0,0,0,0,0,0,0,0,0,0,0,0,0,0,0,0,0,0,0,0,0,0,0,0,0,0,0,0,0,{"$f":"IF(RRL55<=0.01,$F$62*RRL55,IF(RRL55>=1,$F$63*RRL55,($F$62+(($F$63-$F$62)*(RRL55-0.01)/0.99))*RRL55))","v":0},0,0,0,0,0,0,0,0,0,0,0,0,0,0,0,0,0,0,0,0,0,0,0,0,0,0,0,0,0,0,0,0,0,0,0,0,0,0,0,0,0,0,0,0,0,0,0,0,0,0,0,0,0,0,0,0,0,0,0,0,0,0,0,{"$f":"IF(RTX55<=0.01,$F$62*RTX55,IF(RTX55>=1,$F$63*RTX55,($F$62+(($F$63-$F$62)*(RTX55-0.01)/0.99))*RTX55))","v":0},0,0,0,0,0,0,0,0,0,0,0,0,0,0,0,0,0,0,0,0,0,0,0,0,0,0,0,0,0,0,0,0,0,0,0,0,0,0,0,0,0,0,0,0,0,0,0,0,0,0,0,0,0,0,0,0,0,0,0,0,0,0,0,{"$f":"IF(RWJ55<=0.01,$F$62*RWJ55,IF(RWJ55>=1,$F$63*RWJ55,($F$62+(($F$63-$F$62)*(RWJ55-0.01)/0.99))*RWJ55))","v":0},0,0,0,0,0,0,0,0,0,0,0,0,0,0,0,0,0,0,0,0,0,0,0,0,0,0,0,0,0,0,0,0,0,0,0,0,0,0,0,0,0,0,0,0,0,0,0,0,0,0,0,0,0,0,0,0,0,0,0,0,0,0,0,{"$f":"IF(RYV55<=0.01,$F$62*RYV55,IF(RYV55>=1,$F$63*RYV55,($F$62+(($F$63-$F$62)*(RYV55-0.01)/0.99))*RYV55))","v":0},0,0,0,0,0,0,0,0,0,0,0,0,0,0,0,0,0,0,0,0,0,0,0,0,0,0,0,0,0,0,0,0,0,0,0,0,0,0,0,0,0,0,0,0,0,0,0,0,0,0,0,0,0,0,0,0,0,0,0,0,0,0,0,{"$f":"IF(SBH55<=0.01,$F$62*SBH55,IF(SBH55>=1,$F$63*SBH55,($F$62+(($F$63-$F$62)*(SBH55-0.01)/0.99))*SBH55))","v":0},0,0,0,0,0,0,0,0,0,0,0,0,0,0,0,0,0,0,0,0,0,0,0,0,0,0,0,0,0,0,0,0,0,0,0,0,0,0,0,0,0,0,0,0,0,0,0,0,0,0,0,0,0,0,0,0,0,0,0,0,0,0,0,{"$f":"IF(SDT55<=0.01,$F$62*SDT55,IF(SDT55>=1,$F$63*SDT55,($F$62+(($F$63-$F$62)*(SDT55-0.01)/0.99))*SDT55))","v":0},0,0,0,0,0,0,0,0,0,0,0,0,0,0,0,0,0,0,0,0,0,0,0,0,0,0,0,0,0,0,0,0,0,0,0,0,0,0,0,0,0,0,0,0,0,0,0,0,0,0,0,0,0,0,0,0,0,0,0,0,0,0,0,{"$f":"IF(SGF55<=0.01,$F$62*SGF55,IF(SGF55>=1,$F$63*SGF55,($F$62+(($F$63-$F$62)*(SGF55-0.01)/0.99))*SGF55))","v":0},0,0,0,0,0,0,0,0,0,0,0,0,0,0,0,0,0,0,0,0,0,0,0,0,0,0,0,0,0,0,0,0,0,0,0,0,0,0,0,0,0,0,0,0,0,0,0,0,0,0,0,0,0,0,0,0,0,0,0,0,0,0,0,{"$f":"IF(SIR55<=0.01,$F$62*SIR55,IF(SIR55>=1,$F$63*SIR55,($F$62+(($F$63-$F$62)*(SIR55-0.01)/0.99))*SIR55))","v":0},0,0,0,0,0,0,0,0,0,0,0,0,0,0,0,0,0,0,0,0,0,0,0,0,0,0,0,0,0,0,0,0,0,0,0,0,0,0,0,0,0,0,0,0,0,0,0,0,0,0,0,0,0,0,0,0,0,0,0,0,0,0,0,{"$f":"IF(SLD55<=0.01,$F$62*SLD55,IF(SLD55>=1,$F$63*SLD55,($F$62+(($F$63-$F$62)*(SLD55-0.01)/0.99))*SLD55))","v":0},0,0,0,0,0,0,0,0,0,0,0,0,0,0,0,0,0,0,0,0,0,0,0,0,0,0,0,0,0,0,0,0,0,0,0,0,0,0,0,0,0,0,0,0,0,0,0,0,0,0,0,0,0,0,0,0,0,0,0,0,0,0,0,{"$f":"IF(SNP55<=0.01,$F$62*SNP55,IF(SNP55>=1,$F$63*SNP55,($F$62+(($F$63-$F$62)*(SNP55-0.01)/0.99))*SNP55))","v":0},0,0,0,0,0,0,0,0,0,0,0,0,0,0,0,0,0,0,0,0,0,0,0,0,0,0,0,0,0,0,0,0,0,0,0,0,0,0,0,0,0,0,0,0,0,0,0,0,0,0,0,0,0,0,0,0,0,0,0,0,0,0,0,{"$f":"IF(SQB55<=0.01,$F$62*SQB55,IF(SQB55>=1,$F$63*SQB55,($F$62+(($F$63-$F$62)*(SQB55-0.01)/0.99))*SQB55))","v":0},0,0,0,0,0,0,0,0,0,0,0,0,0,0,0,0,0,0,0,0,0,0,0,0,0,0,0,0,0,0,0,0,0,0,0,0,0,0,0,0,0,0,0,0,0,0,0,0,0,0,0,0,0,0,0,0,0,0,0,0,0,0,0,{"$f":"IF(SSN55<=0.01,$F$62*SSN55,IF(SSN55>=1,$F$63*SSN55,($F$62+(($F$63-$F$62)*(SSN55-0.01)/0.99))*SSN55))","v":0},0,0,0,0,0,0,0,0,0,0,0,0,0,0,0,0,0,0,0,0,0,0,0,0,0,0,0,0,0,0,0,0,0,0,0,0,0,0,0,0,0,0,0,0,0,0,0,0,0,0,0,0,0,0,0,0,0,0,0,0,0,0,0,{"$f":"IF(SUZ55<=0.01,$F$62*SUZ55,IF(SUZ55>=1,$F$63*SUZ55,($F$62+(($F$63-$F$62)*(SUZ55-0.01)/0.99))*SUZ55))","v":0},0,0,0,0,0,0,0,0,0,0,0,0,0,0,0,0,0,0,0,0,0,0,0,0,0,0,0,0,0,0,0,0,0,0,0,0,0,0,0,0,0,0,0,0,0,0,0,0,0,0,0,0,0,0,0,0,0,0,0,0,0,0,0,{"$f":"IF(SXL55<=0.01,$F$62*SXL55,IF(SXL55>=1,$F$63*SXL55,($F$62+(($F$63-$F$62)*(SXL55-0.01)/0.99))*SXL55))","v":0},0,0,0,0,0,0,0,0,0,0,0,0,0,0,0,0,0,0,0,0,0,0,0,0,0,0,0,0,0,0,0,0,0,0,0,0,0,0,0,0,0,0,0,0,0,0,0,0,0,0,0,0,0,0,0,0,0,0,0,0,0,0,0,{"$f":"IF(SZX55<=0.01,$F$62*SZX55,IF(SZX55>=1,$F$63*SZX55,($F$62+(($F$63-$F$62)*(SZX55-0.01)/0.99))*SZX55))","v":0},0,0,0,0,0,0,0,0,0,0,0,0,0,0,0,0,0,0,0,0,0,0,0,0,0,0,0,0,0,0,0,0,0,0,0,0,0,0,0,0,0,0,0,0,0,0,0,0,0,0,0,0,0,0,0,0,0,0,0,0,0,0,0,{"$f":"IF(TCJ55<=0.01,$F$62*TCJ55,IF(TCJ55>=1,$F$63*TCJ55,($F$62+(($F$63-$F$62)*(TCJ55-0.01)/0.99))*TCJ55))","v":0},0,0,0,0,0,0,0,0,0,0,0,0,0,0,0,0,0,0,0,0,0,0,0,0,0,0,0,0,0,0,0,0,0,0,0,0,0,0,0,0,0,0,0,0,0,0,0,0,0,0,0,0,0,0,0,0,0,0,0,0,0,0,0,{"$f":"IF(TEV55<=0.01,$F$62*TEV55,IF(TEV55>=1,$F$63*TEV55,($F$62+(($F$63-$F$62)*(TEV55-0.01)/0.99))*TEV55))","v":0},0,0,0,0,0,0,0,0,0,0,0,0,0,0,0,0,0,0,0,0,0,0,0,0,0,0,0,0,0,0,0,0,0,0,0,0,0,0,0,0,0,0,0,0,0,0,0,0,0,0,0,0,0,0,0,0,0,0,0,0,0,0,0,{"$f":"IF(THH55<=0.01,$F$62*THH55,IF(THH55>=1,$F$63*THH55,($F$62+(($F$63-$F$62)*(THH55-0.01)/0.99))*THH55))","v":0},0,0,0,0,0,0,0,0,0,0,0,0,0,0,0,0,0,0,0,0,0,0,0,0,0,0,0,0,0,0,0,0,0,0,0,0,0,0,0,0,0,0,0,0,0,0,0,0,0,0,0,0,0,0,0,0,0,0,0,0,0,0,0,{"$f":"IF(TJT55<=0.01,$F$62*TJT55,IF(TJT55>=1,$F$63*TJT55,($F$62+(($F$63-$F$62)*(TJT55-0.01)/0.99))*TJT55))","v":0},0,0,0,0,0,0,0,0,0,0,0,0,0,0,0,0,0,0,0,0,0,0,0,0,0,0,0,0,0,0,0,0,0,0,0,0,0,0,0,0,0,0,0,0,0,0,0,0,0,0,0,0,0,0,0,0,0,0,0,0,0,0,0,{"$f":"IF(TMF55<=0.01,$F$62*TMF55,IF(TMF55>=1,$F$63*TMF55,($F$62+(($F$63-$F$62)*(TMF55-0.01)/0.99))*TMF55))","v":0},0,0,0,0,0,0,0,0,0,0,0,0,0,0,0,0,0,0,0,0,0,0,0,0,0,0,0,0,0,0,0,0,0,0,0,0,0,0,0,0,0,0,0,0,0,0,0,0,0,0,0,0,0,0,0,0,0,0,0,0,0,0,0,{"$f":"IF(TOR55<=0.01,$F$62*TOR55,IF(TOR55>=1,$F$63*TOR55,($F$62+(($F$63-$F$62)*(TOR55-0.01)/0.99))*TOR55))","v":0},0,0,0,0,0,0,0,0,0,0,0,0,0,0,0,0,0,0,0,0,0,0,0,0,0,0,0,0,0,0,0,0,0,0,0,0,0,0,0,0,0,0,0,0,0,0,0,0,0,0,0,0,0,0,0,0,0,0,0,0,0,0,0,{"$f":"IF(TRD55<=0.01,$F$62*TRD55,IF(TRD55>=1,$F$63*TRD55,($F$62+(($F$63-$F$62)*(TRD55-0.01)/0.99))*TRD55))","v":0},0,0,0,0,0,0,0,0,0,0,0,0,0,0,0,0,0,0,0,0,0,0,0,0,0,0,0,0,0,0,0,0,0,0,0,0,0,0,0,0,0,0,0,0,0,0,0,0,0,0,0,0,0,0,0,0,0,0,0,0,0,0,0,{"$f":"IF(TTP55<=0.01,$F$62*TTP55,IF(TTP55>=1,$F$63*TTP55,($F$62+(($F$63-$F$62)*(TTP55-0.01)/0.99))*TTP55))","v":0},0,0,0,0,0,0,0,0,0,0,0,0,0,0,0,0,0,0,0,0,0,0,0,0,0,0,0,0,0,0,0,0,0,0,0,0,0,0,0,0,0,0,0,0,0,0,0,0,0,0,0,0,0,0,0,0,0,0,0,0,0,0,0,{"$f":"IF(TWB55<=0.01,$F$62*TWB55,IF(TWB55>=1,$F$63*TWB55,($F$62+(($F$63-$F$62)*(TWB55-0.01)/0.99))*TWB55))","v":0},0,0,0,0,0,0,0,0,0,0,0,0,0,0,0,0,0,0,0,0,0,0,0,0,0,0,0,0,0,0,0,0,0,0,0,0,0,0,0,0,0,0,0,0,0,0,0,0,0,0,0,0,0,0,0,0,0,0,0,0,0,0,0,{"$f":"IF(TYN55<=0.01,$F$62*TYN55,IF(TYN55>=1,$F$63*TYN55,($F$62+(($F$63-$F$62)*(TYN55-0.01)/0.99))*TYN55))","v":0},0,0,0,0,0,0,0,0,0,0,0,0,0,0,0,0,0,0,0,0,0,0,0,0,0,0,0,0,0,0,0,0,0,0,0,0,0,0,0,0,0,0,0,0,0,0,0,0,0,0,0,0,0,0,0,0,0,0,0,0,0,0,0,{"$f":"IF(UAZ55<=0.01,$F$62*UAZ55,IF(UAZ55>=1,$F$63*UAZ55,($F$62+(($F$63-$F$62)*(UAZ55-0.01)/0.99))*UAZ55))","v":0},0,0,0,0,0,0,0,0,0,0,0,0,0,0,0,0,0,0,0,0,0,0,0,0,0,0,0,0,0,0,0,0,0,0,0,0,0,0,0,0,0,0,0,0,0,0,0,0,0,0,0,0,0,0,0,0,0,0,0,0,0,0,0,{"$f":"IF(UDL55<=0.01,$F$62*UDL55,IF(UDL55>=1,$F$63*UDL55,($F$62+(($F$63-$F$62)*(UDL55-0.01)/0.99))*UDL55))","v":0},0,0,0,0,0,0,0,0,0,0,0,0,0,0,0,0,0,0,0,0,0,0,0,0,0,0,0,0,0,0,0,0,0,0,0,0,0,0,0,0,0,0,0,0,0,0,0,0,0,0,0,0,0,0,0,0,0,0,0,0,0,0,0,{"$f":"IF(UFX55<=0.01,$F$62*UFX55,IF(UFX55>=1,$F$63*UFX55,($F$62+(($F$63-$F$62)*(UFX55-0.01)/0.99))*UFX55))","v":0},0,0,0,0,0,0,0,0,0,0,0,0,0,0,0,0,0,0,0,0,0,0,0,0,0,0,0,0,0,0,0,0,0,0,0,0,0,0,0,0,0,0,0,0,0,0,0,0,0,0,0,0,0,0,0,0,0,0,0,0,0,0,0,{"$f":"IF(UIJ55<=0.01,$F$62*UIJ55,IF(UIJ55>=1,$F$63*UIJ55,($F$62+(($F$63-$F$62)*(UIJ55-0.01)/0.99))*UIJ55))","v":0},0,0,0,0,0,0,0,0,0,0,0,0,0,0,0,0,0,0,0,0,0,0,0,0,0,0,0,0,0,0,0,0,0,0,0,0,0,0,0,0,0,0,0,0,0,0,0,0,0,0,0,0,0,0,0,0,0,0,0,0,0,0,0,{"$f":"IF(UKV55<=0.01,$F$62*UKV55,IF(UKV55>=1,$F$63*UKV55,($F$62+(($F$63-$F$62)*(UKV55-0.01)/0.99))*UKV55))","v":0},0,0,0,0,0,0,0,0,0,0,0,0,0,0,0,0,0,0,0,0,0,0,0,0,0,0,0,0,0,0,0,0,0,0,0,0,0,0,0,0,0,0,0,0,0,0,0,0,0,0,0,0,0,0,0,0,0,0,0,0,0,0,0,{"$f":"IF(UNH55<=0.01,$F$62*UNH55,IF(UNH55>=1,$F$63*UNH55,($F$62+(($F$63-$F$62)*(UNH55-0.01)/0.99))*UNH55))","v":0},0,0,0,0,0,0,0,0,0,0,0,0,0,0,0,0,0,0,0,0,0,0,0,0,0,0,0,0,0,0,0,0,0,0,0,0,0,0,0,0,0,0,0,0,0,0,0,0,0,0,0,0,0,0,0,0,0,0,0,0,0,0,0,{"$f":"IF(UPT55<=0.01,$F$62*UPT55,IF(UPT55>=1,$F$63*UPT55,($F$62+(($F$63-$F$62)*(UPT55-0.01)/0.99))*UPT55))","v":0},0,0,0,0,0,0,0,0,0,0,0,0,0,0,0,0,0,0,0,0,0,0,0,0,0,0,0,0,0,0,0,0,0,0,0,0,0,0,0,0,0,0,0,0,0,0,0,0,0,0,0,0,0,0,0,0,0,0,0,0,0,0,0,{"$f":"IF(USF55<=0.01,$F$62*USF55,IF(USF55>=1,$F$63*USF55,($F$62+(($F$63-$F$62)*(USF55-0.01)/0.99))*USF55))","v":0},0,0,0,0,0,0,0,0,0,0,0,0,0,0,0,0,0,0,0,0,0,0,0,0,0,0,0,0,0,0,0,0,0,0,0,0,0,0,0,0,0,0,0,0,0,0,0,0,0,0,0,0,0,0,0,0,0,0,0,0,0,0,0,{"$f":"IF(UUR55<=0.01,$F$62*UUR55,IF(UUR55>=1,$F$63*UUR55,($F$62+(($F$63-$F$62)*(UUR55-0.01)/0.99))*UUR55))","v":0},0,0,0,0,0,0,0,0,0,0,0,0,0,0,0,0,0,0,0,0,0,0,0,0,0,0,0,0,0,0,0,0,0,0,0,0,0,0,0,0,0,0,0,0,0,0,0,0,0,0,0,0,0,0,0,0,0,0,0,0,0,0,0,{"$f":"IF(UXD55<=0.01,$F$62*UXD55,IF(UXD55>=1,$F$63*UXD55,($F$62+(($F$63-$F$62)*(UXD55-0.01)/0.99))*UXD55))","v":0},0,0,0,0,0,0,0,0,0,0,0,0,0,0,0,0,0,0,0,0,0,0,0,0,0,0,0,0,0,0,0,0,0,0,0,0,0,0,0,0,0,0,0,0,0,0,0,0,0,0,0,0,0,0,0,0,0,0,0,0,0,0,0,{"$f":"IF(UZP55<=0.01,$F$62*UZP55,IF(UZP55>=1,$F$63*UZP55,($F$62+(($F$63-$F$62)*(UZP55-0.01)/0.99))*UZP55))","v":0},0,0,0,0,0,0,0,0,0,0,0,0,0,0,0,0,0,0,0,0,0,0,0,0,0,0,0,0,0,0,0,0,0,0,0,0,0,0,0,0,0,0,0,0,0,0,0,0,0,0,0,0,0,0,0,0,0,0,0,0,0,0,0,{"$f":"IF(VCB55<=0.01,$F$62*VCB55,IF(VCB55>=1,$F$63*VCB55,($F$62+(($F$63-$F$62)*(VCB55-0.01)/0.99))*VCB55))","v":0},0,0,0,0,0,0,0,0,0,0,0,0,0,0,0,0,0,0,0,0,0,0,0,0,0,0,0,0,0,0,0,0,0,0,0,0,0,0,0,0,0,0,0,0,0,0,0,0,0,0,0,0,0,0,0,0,0,0,0,0,0,0,0,{"$f":"IF(VEN55<=0.01,$F$62*VEN55,IF(VEN55>=1,$F$63*VEN55,($F$62+(($F$63-$F$62)*(VEN55-0.01)/0.99))*VEN55))","v":0},0,0,0,0,0,0,0,0,0,0,0,0,0,0,0,0,0,0,0,0,0,0,0,0,0,0,0,0,0,0,0,0,0,0,0,0,0,0,0,0,0,0,0,0,0,0,0,0,0,0,0,0,0,0,0,0,0,0,0,0,0,0,0,{"$f":"IF(VGZ55<=0.01,$F$62*VGZ55,IF(VGZ55>=1,$F$63*VGZ55,($F$62+(($F$63-$F$62)*(VGZ55-0.01)/0.99))*VGZ55))","v":0},0,0,0,0,0,0,0,0,0,0,0,0,0,0,0,0,0,0,0,0,0,0,0,0,0,0,0,0,0,0,0,0,0,0,0,0,0,0,0,0,0,0,0,0,0,0,0,0,0,0,0,0,0,0,0,0,0,0,0,0,0,0,0,{"$f":"IF(VJL55<=0.01,$F$62*VJL55,IF(VJL55>=1,$F$63*VJL55,($F$62+(($F$63-$F$62)*(VJL55-0.01)/0.99))*VJL55))","v":0},0,0,0,0,0,0,0,0,0,0,0,0,0,0,0,0,0,0,0,0,0,0,0,0,0,0,0,0,0,0,0,0,0,0,0,0,0,0,0,0,0,0,0,0,0,0,0,0,0,0,0,0,0,0,0,0,0,0,0,0,0,0,0,{"$f":"IF(VLX55<=0.01,$F$62*VLX55,IF(VLX55>=1,$F$63*VLX55,($F$62+(($F$63-$F$62)*(VLX55-0.01)/0.99))*VLX55))","v":0},0,0,0,0,0,0,0,0,0,0,0,0,0,0,0,0,0,0,0,0,0,0,0,0,0,0,0,0,0,0,0,0,0,0,0,0,0,0,0,0,0,0,0,0,0,0,0,0,0,0,0,0,0,0,0,0,0,0,0,0,0,0,0,{"$f":"IF(VOJ55<=0.01,$F$62*VOJ55,IF(VOJ55>=1,$F$63*VOJ55,($F$62+(($F$63-$F$62)*(VOJ55-0.01)/0.99))*VOJ55))","v":0},0,0,0,0,0,0,0,0,0,0,0,0,0,0,0,0,0,0,0,0,0,0,0,0,0,0,0,0,0,0,0,0,0,0,0,0,0,0,0,0,0,0,0,0,0,0,0,0,0,0,0,0,0,0,0,0,0,0,0,0,0,0,0,{"$f":"IF(VQV55<=0.01,$F$62*VQV55,IF(VQV55>=1,$F$63*VQV55,($F$62+(($F$63-$F$62)*(VQV55-0.01)/0.99))*VQV55))","v":0},0,0,0,0,0,0,0,0,0,0,0,0,0,0,0,0,0,0,0,0,0,0,0,0,0,0,0,0,0,0,0,0,0,0,0,0,0,0,0,0,0,0,0,0,0,0,0,0,0,0,0,0,0,0,0,0,0,0,0,0,0,0,0,{"$f":"IF(VTH55<=0.01,$F$62*VTH55,IF(VTH55>=1,$F$63*VTH55,($F$62+(($F$63-$F$62)*(VTH55-0.01)/0.99))*VTH55))","v":0},0,0,0,0,0,0,0,0,0,0,0,0,0,0,0,0,0,0,0,0,0,0,0,0,0,0,0,0,0,0,0,0,0,0,0,0,0,0,0,0,0,0,0,0,0,0,0,0,0,0,0,0,0,0,0,0,0,0,0,0,0,0,0,{"$f":"IF(VVT55<=0.01,$F$62*VVT55,IF(VVT55>=1,$F$63*VVT55,($F$62+(($F$63-$F$62)*(VVT55-0.01)/0.99))*VVT55))","v":0},0,0,0,0,0,0,0,0,0,0,0,0,0,0,0,0,0,0,0,0,0,0,0,0,0,0,0,0,0,0,0,0,0,0,0,0,0,0,0,0,0,0,0,0,0,0,0,0,0,0,0,0,0,0,0,0,0,0,0,0,0,0,0,{"$f":"IF(VYF55<=0.01,$F$62*VYF55,IF(VYF55>=1,$F$63*VYF55,($F$62+(($F$63-$F$62)*(VYF55-0.01)/0.99))*VYF55))","v":0},0,0,0,0,0,0,0,0,0,0,0,0,0,0,0,0,0,0,0,0,0,0,0,0,0,0,0,0,0,0,0,0,0,0,0,0,0,0,0,0,0,0,0,0,0,0,0,0,0,0,0,0,0,0,0,0,0,0,0,0,0,0,0,{"$f":"IF(WAR55<=0.01,$F$62*WAR55,IF(WAR55>=1,$F$63*WAR55,($F$62+(($F$63-$F$62)*(WAR55-0.01)/0.99))*WAR55))","v":0},0,0,0,0,0,0,0,0,0,0,0,0,0,0,0,0,0,0,0,0,0,0,0,0,0,0,0,0,0,0,0,0,0,0,0,0,0,0,0,0,0,0,0,0,0,0,0,0,0,0,0,0,0,0,0,0,0,0,0,0,0,0,0,{"$f":"IF(WDD55<=0.01,$F$62*WDD55,IF(WDD55>=1,$F$63*WDD55,($F$62+(($F$63-$F$62)*(WDD55-0.01)/0.99))*WDD55))","v":0},0,0,0,0,0,0,0,0,0,0,0,0,0,0,0,0,0,0,0,0,0,0,0,0,0,0,0,0,0,0,0,0,0,0,0,0,0,0,0,0,0,0,0,0,0,0,0,0,0,0,0,0,0,0,0,0,0,0,0,0,0,0,0,{"$f":"IF(WFP55<=0.01,$F$62*WFP55,IF(WFP55>=1,$F$63*WFP55,($F$62+(($F$63-$F$62)*(WFP55-0.01)/0.99))*WFP55))","v":0},0,0,0,0,0,0,0,0,0,0,0,0,0,0,0,0,0,0,0,0,0,0,0,0,0,0,0,0,0,0,0,0,0,0,0,0,0,0,0,0,0,0,0,0,0,0,0,0,0,0,0,0,0,0,0,0,0,0,0,0,0,0,0,{"$f":"IF(WIB55<=0.01,$F$62*WIB55,IF(WIB55>=1,$F$63*WIB55,($F$62+(($F$63-$F$62)*(WIB55-0.01)/0.99))*WIB55))","v":0},0,0,0,0,0,0,0,0,0,0,0,0,0,0,0,0,0,0,0,0,0,0,0,0,0,0,0,0,0,0,0,0,0,0,0,0,0,0,0,0,0,0,0,0,0,0,0,0,0,0,0,0,0,0,0,0,0,0,0,0,0,0,0,{"$f":"IF(WKN55<=0.01,$F$62*WKN55,IF(WKN55>=1,$F$63*WKN55,($F$62+(($F$63-$F$62)*(WKN55-0.01)/0.99))*WKN55))","v":0},0,0,0,0,0,0,0,0,0,0,0,0,0,0,0,0,0,0,0,0,0,0,0,0,0,0,0,0,0,0,0,0,0,0,0,0,0,0,0,0,0,0,0,0,0,0,0,0,0,0,0,0,0,0,0,0,0,0,0,0,0,0,0,{"$f":"IF(WMZ55<=0.01,$F$62*WMZ55,IF(WMZ55>=1,$F$63*WMZ55,($F$62+(($F$63-$F$62)*(WMZ55-0.01)/0.99))*WMZ55))","v":0},0,0,0,0,0,0,0,0,0,0,0,0,0,0,0,0,0,0,0,0,0,0,0,0,0,0,0,0,0,0,0,0,0,0,0,0,0,0,0,0,0,0,0,0,0,0,0,0,0,0,0,0,0,0,0,0,0,0,0,0,0,0,0,{"$f":"IF(WPL55<=0.01,$F$62*WPL55,IF(WPL55>=1,$F$63*WPL55,($F$62+(($F$63-$F$62)*(WPL55-0.01)/0.99))*WPL55))","v":0},0,0,0,0,0,0,0,0,0,0,0,0,0,0,0,0,0,0,0,0,0,0,0,0,0,0,0,0,0,0,0,0,0,0,0,0,0,0,0,0,0,0,0,0,0,0,0,0,0,0,0,0,0,0,0,0,0,0,0,0,0,0,0,{"$f":"IF(WRX55<=0.01,$F$62*WRX55,IF(WRX55>=1,$F$63*WRX55,($F$62+(($F$63-$F$62)*(WRX55-0.01)/0.99))*WRX55))","v":0},0,0,0,0,0,0,0,0,0,0,0,0,0,0,0,0,0,0,0,0,0,0,0,0,0,0,0,0,0,0,0,0,0,0,0,0,0,0,0,0,0,0,0,0,0,0,0,0,0,0,0,0,0,0,0,0,0,0,0,0,0,0,0,{"$f":"IF(WUJ55<=0.01,$F$62*WUJ55,IF(WUJ55>=1,$F$63*WUJ55,($F$62+(($F$63-$F$62)*(WUJ55-0.01)/0.99))*WUJ55))","v":0},0,0,0,0,0,0,0,0,0,0,0,0,0,0,0,0,0,0,0,0,0,0,0,0,0,0,0,0,0,0,0,0,0,0,0,0,0,0,0,0,0,0,0,0,0,0,0,0,0,0,0,0,0,0,0,0,0,0,0,0,0,0,0,{"$f":"IF(WWV55<=0.01,$F$62*WWV55,IF(WWV55>=1,$F$63*WWV55,($F$62+(($F$63-$F$62)*(WWV55-0.01)/0.99))*WWV55))","v":0},0,0,0,0,0,0,0,0,0,0,0,0,0,0,0,0,0,0,0,0,0,0,0,0,0,0,0,0,0,0,0,0,0,0,0,0,0,0,0,0,0,0,0,0,0,0,0,0,0,0,0,0,0,0,0,0,0,0,0,0,0,0,0,{"$f":"IF(WZH55<=0.01,$F$62*WZH55,IF(WZH55>=1,$F$63*WZH55,($F$62+(($F$63-$F$62)*(WZH55-0.01)/0.99))*WZH55))","v":0},0,0,0,0,0,0,0,0,0,0,0,0,0,0,0,0,0,0,0,0,0,0,0,0,0,0,0,0,0,0,0,0,0,0,0,0,0,0,0,0,0,0,0,0,0,0,0,0,0,0,0,0,0,0,0,0,0,0,0,0,0,0,0,{"$f":"IF(XBT55<=0.01,$F$62*XBT55,IF(XBT55>=1,$F$63*XBT55,($F$62+(($F$63-$F$62)*(XBT55-0.01)/0.99))*XBT55))","v":0},0,0,0,0,0,0,0,0,0,0,0,0,0,0,0,0,0,0,0,0,0,0,0,0,0,0,0,0,0,0,0,0,0,0,0,0,0,0,0,0,0,0,0,0,0,0,0,0,0,0,0,0,0,0,0,0,0,0,0,0,0,0,0,{"$f":"IF(XEF55<=0.01,$F$62*XEF55,IF(XEF55>=1,$F$63*XEF55,($F$62+(($F$63-$F$62)*(XEF55-0.01)/0.99))*XEF55))","v":0},0,0,0,0,0,0,0,0,0,0,0,0,0,0,0,0,0,0,0,0,0,0,0,0]
[null,null,null,null,"HRP",{"$f":"Inputs!E143","v":0.5},null,null,null,null,null,null,null,null,null,null,null,null,null,null,null,null,null,null,null,null,null,null,null,null,null,null,null,null,null,null,null,null,{"$f":"IF(AM55<=0.01,$F$62*AM55,IF(AM55>=1,$F$63*AM55,($F$62+(($F$63-$F$62)*(AM55-0.01)/0.99))*AM55))","v":0}]
[null,null,"Net Revenue for Bidder",null,"USD Mn",null,{"$f":"SUM(J64:AM64)","v":1070.3445142888688},null,null,{"$f":"J55-J62","v":0},0,181.10613215872914,62.436121497577091,73.498423464579133,84.030337674478972,94.103110243902293,129.56529706141134,103.74642705477643,112.79998434469366,94.103110243902293,84.030337674478972,50.925232870339343,0,0,0,0,0,0,0,0,0,0,0,0,0,0,0,0,0]
[]
[null,null,null,null,null,null,null,null,null,null,null,null,{"$f":"M62*10^6/365","v":62551.259495151156},{"$f":"N62*10^6/365","v":78965.408195587865},96832.674038770361,115957.86218462825,205688.4872617152,136259.64144979895,158177.20022444069,115957.86218462825,96832.674038770361,47366.115343305355,0,0,0,0,0]

{"sheet":"Depreciation","index":7,"n_rows":51,"n_cols":16384,"rows_kept":51,"cut":false,"hidden":true,"merged":[]}
[null,null,null,null,null,null,null,null,"Period No.",{"$f":"Timings!J1","v":1},{"$f":"Timings!K1","v":2},{"$f":"Timings!L1","v":3},{"$f":"Timings!M1","v":4},{"$f":"Timings!N1","v":5},{"$f":"Timings!O1","v":6},{"$f":"Timings!P1","v":7},{"$f":"Timings!Q1","v":8},{"$f":"Timings!R1","v":9},{"$f":"Timings!S1","v":10},{"$f":"Timings!T1","v":11},{"$f":"Timings!U1","v":12},{"$f":"Timings!V1","v":13},{"$f":"Timings!W1","v":14},{"$f":"Timings!X1","v":15},{"$f":"Timings!Y1","v":16},{"$f":"Timings!Z1","v":17},{"$f":"Timings!AA1","v":0},{"$f":"Timings!AB1","v":0},{"$f":"Timings!AC1","v":0},{"$f":"Timings!AD1","v":0},{"$f":"Timings!AE1","v":0},{"$f":"Timings!AF1","v":0},{"$f":"Timings!AG1","v":0},{"$f":"Timings!AH1","v":0},{"$f":"Timings!AI1","v":0},{"$f":"Timings!AJ1","v":0},{"$f":"Timings!AK1","v":0},{"$f":"Timings!AL1","v":0},{"$f":"Timings!AM1","v":0}]
[null,null,"Depreciation",null,null,null,null,null,"Start Date",{"$f":"Timings!J2","v":43556},{"$f":"Timings!K2","v":43922},{"$f":"Timings!L2","v":44287},{"$f":"Timings!M2","v":44652},{"$f":"Timings!N2","v":45017},{"$f":"Timings!O2","v":45383},{"$f":"Timings!P2","v":45748},{"$f":"Timings!Q2","v":46113},{"$f":"Timings!R2","v":46478},{"$f":"Timings!S2","v":46844},{"$f":"Timings!T2","v":47209},{"$f":"Timings!U2","v":47574},{"$f":"Timings!V2","v":47939},{"$f":"Timings!W2","v":48305},{"$f":"Timings!X2","v":48670},{"$f":"Timings!Y2","v":49035},{"$f":"Timings!Z2","v":49400},{"$f":"Timings!AA2","v":49766},{"$f":"Timings!AB2","v":50131},{"$f":"Timings!AC2","v":50496},{"$f":"Timings!AD2","v":50861},{"$f":"Timings!AE2","v":51227},{"$f":"Timings!AF2","v":51592},{"$f":"Timings!AG2","v":51957},{"$f":"Timings!AH2","v":52322},{"$f":"Timings!AI2","v":52688},{"$f":"Timings!AJ2","v":53053},{"$f":"Timings!AK2","v":53418},{"$f":"Timings!AL2","v":53783},{"$f":"Timings!AM2","v":54149}]
[null,null,null,null,null,null,null,null,"End Date",{"$f":"Timings!J3","v":43921},{"$f":"Timings!K3","v":44286},{"$f":"Timings!L3","v":44651},{"$f":"Timings!M3","v":45016},{"$f":"Timings!N3","v":45382},{"$f":"Timings!O3","v":45747},{"$f":"Timings!P3","v":46112},{"$f":"Timings!Q3","v":46477},{"$f":"Timings!R3","v":46843},{"$f":"Timings!S3","v":47208},{"$f":"Timings!T3","v":47573},{"$f":"Timings!U3","v":47938},{"$f":"Timings!V3","v":48304},{"$f":"Timings!W3","v":48669},{"$f":"Timings!X3","v":49034},{"$f":"Timings!Y3","v":49399},{"$f":"Timings!Z3","v":49765},{"$f":"Timings!AA3","v":50130},{"$f":"Timings!AB3","v":50495},{"$f":"Timings!AC3","v":50860},{"$f":"Timings!AD3","v":51226},{"$f":"Timings!AE3","v":51591},{"$f":"Timings!AF3","v":51956},{"$f":"Timings!AG3","v":52321},{"$f":"Timings!AH3","v":52687},{"$f":"Timings!AI3","v":53052},{"$f":"Timings!AJ3","v":53417},{"$f":"Timings!AK3","v":53782},{"$f":"Timings!AL3","v":54148},{"$f":"Timings!AM3","v":54513}]
[null,null,null,null,null,null,null,null,"Year",{"$f":"Timings!J4","v":2020},{"$f":"Timings!K4","v":2021},{"$f":"Timings!L4","v":2022},{"$f":"Timings!M4","v":2023},{"$f":"Timings!N4","v":2024},{"$f":"Timings!O4","v":2025},{"$f":"Timings!P4","v":2026},{"$f":"Timings!Q4","v":2027},{"$f":"Timings!R4","v":2028},{"$f":"Timings!S4","v":2029},{"$f":"Timings!T4","v":2030},{"$f":"Timings!U4","v":2031},{"$f":"Timings!V4","v":2032},{"$f":"Timings!W4","v":2033},{"$f":"Timings!X4","v":2034},{"$f":"Timings!Y4","v":2035},{"$f":"Timings!Z4","v":2036},{"$f":"Timings!AA4","v":2037},{"$f":"Timings!AB4","v":2038},{"$f":"Timings!AC4","v":2039},{"$f":"Timings!AD4","v":2040},{"$f":"Timings!AE4","v":2041},{"$f":"Timings!AF4","v":2042},{"$f":"Timings!AG4","v":2043},{"$f":"Timings!AH4","v":2044},{"$f":"Timings!AI4","v":2045},{"$f":"Timings!AJ4","v":2046},{"$f":"Timings!AK4","v":2047},{"$f":"Timings!AL4","v":2048},{"$f":"Timings!AM4","v":2049}]
[null,null,null,null,null,null,null,null,"Appraisal",{"$f":"Timings!J5","v":1},{"$f":"Timings!K5","v":0},{"$f":"Timings!L5","v":0},{"$f":"Timings!M5","v":0},{"$f":"Timings!N5","v":0},{"$f":"Timings!O5","v":0},{"$f":"Timings!P5","v":0},{"$f":"Timings!Q5","v":0},{"$f":"Timings!R5","v":0},{"$f":"Timings!S5","v":0},{"$f":"Timings!T5","v":0},{"$f":"Timings!U5","v":0},{"$f":"Timings!V5","v":0},{"$f":"Timings!W5","v":0},{"$f":"Timings!X5","v":0},{"$f":"Timings!Y5","v":0},{"$f":"Timings!Z5","v":0},{"$f":"Timings!AA5","v":0},{"$f":"Timings!AB5","v":0},{"$f":"Timings!AC5","v":0},{"$f":"Timings!AD5","v":0},{"$f":"Timings!AE5","v":0},{"$f":"Timings!AF5","v":0},{"$f":"Timings!AG5","v":0},{"$f":"Timings!AH5","v":0},{"$f":"Timings!AI5","v":0},{"$f":"Timings!AJ5","v":0},{"$f":"Timings!AK5","v":0},{"$f":"Timings!AL5","v":0},{"$f":"Timings!AM5","v":0}]
[null,null,null,null,null,null,null,null,"Well Development ",{"$f":"Timings!J6","v":1},{"$f":"Timings!K6","v":1},{"$f":"Timings!L6","v":0},{"$f":"Timings!M6","v":0},{"$f":"Timings!N6","v":0},{"$f":"Timings!O6","v":0},{"$f":"Timings!P6","v":0},{"$f":"Timings!Q6","v":0},{"$f":"Timings!R6","v":0},{"$f":"Timings!S6","v":0},{"$f":"Timings!T6","v":0},{"$f":"Timings!U6","v":0},{"$f":"Timings!V6","v":0},{"$f":"Timings!W6","v":0},{"$f":"Timings!X6","v":0},{"$f":"Timings!Y6","v":0},{"$f":"Timings!Z6","v":0},{"$f":"Timings!AA6","v":0},{"$f":"Timings!AB6","v":0},{"$f":"Timings!AC6","v":0},{"$f":"Timings!AD6","v":0},{"$f":"Timings!AE6","v":0},{"$f":"Timings!AF6","v":0},{"$f":"Timings!AG6","v":0},{"$f":"Timings!AH6","v":0},{"$f":"Timings!AI6","v":0},{"$f":"Timings!AJ6","v":0},{"$f":"Timings!AK6","v":0},{"$f":"Timings!AL6","v":0},{"$f":"Timings!AM6","v":0}]
[null,null,null,null,null,null,null,null,"Facilities",{"$f":"Timings!J7","v":1},{"$f":"Timings!K7","v":1},{"$f":"Timings!L7","v":0},{"$f":"Timings!M7","v":0},{"$f":"Timings!N7","v":0},{"$f":"Timings!O7","v":0},{"$f":"Timings!P7","v":0},{"$f":"Timings!Q7","v":0},{"$f":"Timings!R7","v":0},{"$f":"Timings!S7","v":0},{"$f":"Timings!T7","v":0},{"$f":"Timings!U7","v":0},{"$f":"Timings!V7","v":0},{"$f":"Timings!W7","v":0},{"$f":"Timings!X7","v":0},{"$f":"Timings!Y7","v":0},{"$f":"Timings!Z7","v":0},{"$f":"Timings!AA7","v":0},{"$f":"Timings!AB7","v":0},{"$f":"Timings!AC7","v":0},{"$f":"Timings!AD7","v":0},{"$f":"Timings!AE7","v":0},{"$f":"Timings!AF7","v":0},{"$f":"Timings!AG7","v":0},{"$f":"Timings!AH7","v":0},{"$f":"Timings!AI7","v":0},{"$f":"Timings!AJ7","v":0},{"$f":"Timings!AK7","v":0},{"$f":"Timings!AL7","v":0},{"$f":"Timings!AM7","v":0}]
[null,null,null,null,null,null,null,null,"Operations",{"$f":"Timings!J8","v":0},{"$f":"Timings!K8","v":1},{"$f":"Timings!L8","v":1},{"$f":"Timings!M8","v":1},{"$f":"Timings!N8","v":1},{"$f":"Timings!O8","v":1},{"$f":"Timings!P8","v":1},{"$f":"Timings!Q8","v":1},{"$f":"Timings!R8","v":1},{"$f":"Timings!S8","v":1},{"$f":"Timings!T8","v":1},{"$f":"Timings!U8","v":1},{"$f":"Timings!V8","v":1},{"$f":"Timings!W8","v":0},{"$f":"Timings!X8","v":0},{"$f":"Timings!Y8","v":0},{"$f":"Timings!Z8","v":0},{"$f":"Timings!AA8","v":0},{"$f":"Timings!AB8","v":0},{"$f":"Timings!AC8","v":0},{"$f":"Timings!AD8","v":0},{"$f":"Timings!AE8","v":0},{"$f":"Timings!AF8","v":0},{"$f":"Timings!AG8","v":0},{"$f":"Timings!AH8","v":0},{"$f":"Timings!AI8","v":0},{"$f":"Timings!AJ8","v":0},{"$f":"Timings!AK8","v":0},{"$f":"Timings!AL8","v":0},{"$f":"Timings!AM8","v":0}]
[]
[null,null,"Appraisal depreciation"]
[]
[null,null,"Opening balance",null,null,null,"USD Mn",null,null,{"$f":"I15","v":0},0,0,0,0,0,0,0,0,0,0,0,0,0,0,0,0,0,0,0,0,0,0,0,0,0,0,0,0,0]
[null,null,"Addition",null,null,{"$f":"SUM(J13:AM13)","v":0.26500000000000001},"USD Mn",null,null,{"$f":"Capex!J11","v":0.26500000000000001},{"$f":"Capex!K11","v":0},{"$f":"Capex!L11","v":0},{"$f":"Capex!M11","v":0},{"$f":"Capex!N11","v":0},{"$f":"Capex!O11","v":0},{"$f":"Capex!P11","v":0},{"$f":"Capex!Q11","v":0},{"$f":"Capex!R11","v":0},{"$f":"Capex!S11","v":0},{"$f":"Capex!T11","v":0},{"$f":"Capex!U11","v":0},{"$f":"Capex!V11","v":0},{"$f":"Capex!W11","v":0},{"$f":"Capex!X11","v":0},{"$f":"Capex!Y11","v":0},{"$f":"Capex!Z11","v":0},{"$f":"Capex!AA11","v":0},{"$f":"Capex!AB11","v":0},{"$f":"Capex!AC11","v":0},{"$f":"Capex!AD11","v":0},{"$f":"Capex!AE11","v":0},{"$f":"Capex!AF11","v":0},{"$f":"Capex!AG11","v":0},{"$f":"Capex!AH11","v":0},{"$f":"Capex!AI11","v":0},{"$f":"Capex!AJ11","v":0},{"$f":"Capex!AK11","v":0},{"$f":"Capex!AL11","v":0},{"$f":"Capex!AM11","v":0}]
[null,null,"Depreciation",null,null,{"$f":"SUM(J14:AM14)","v":-0.26500000000000001},"USD Mn",null,null,{"$f":"-J13*J5","v":-0.26500000000000001},{"$f":"-K13*K5","v":0},0,0,0,0,0,0,0,0,0,0,0,0,0,0,0,0,0,0,0,0,0,0,0,0,0,0,0,0]
[null,null,"Closing balance",null,null,null,"USD Mn",null,null,{"$f":"SUM(J12:J14)","v":0},0,0,0,0,0,0,0,0,0,0,0,0,0,0,0,0,0,0,0,0,0,0,0,0,0,0,0,0,0]
[]
[null,null,"Well Development depreciation"]
[]
[null,null,"Opening balance",null,null,null,"USD Mn",null,null,{"$f":"I22","v":0},0,0,0,0,0,0,0,0,0,0,0,0,0,0,0,0,0,0,0,0,0,0,0,0,0,0,0,0,0]
[null,null,"Addition",null,null,{"$f":"SUM(J20:AM20)","v":5.4590000000000005},"USD Mn",null,null,{"$f":"Capex!J12","v":2.6500000000000004},{"$f":"Capex!K12","v":2.8090000000000002},{"$f":"Capex!L12","v":0},{"$f":"Capex!M12","v":0},{"$f":"Capex!N12","v":0},{"$f":"Capex!O12","v":0},{"$f":"Capex!P12","v":0},{"$f":"Capex!Q12","v":0},{"$f":"Capex!R12","v":0},{"$f":"Capex!S12","v":0},{"$f":"Capex!T12","v":0},{"$f":"Capex!U12","v":0},{"$f":"Capex!V12","v":0},{"$f":"Capex!W12","v":0},{"$f":"Capex!X12","v":0},{"$f":"Capex!Y12","v":0},{"$f":"Capex!Z12","v":0},{"$f":"Capex!AA12","v":0},{"$f":"Capex!AB12","v":0},{"$f":"Capex!AC12","v":0},{"$f":"Capex!AD12","v":0},{"$f":"Capex!AE12","v":0},{"$f":"Capex!AF12","v":0},{"$f":"Capex!AG12","v":0},{"$f":"Capex!AH12","v":0},{"$f":"Capex!AI12","v":0},{"$f":"Capex!AJ12","v":0},{"$f":"Capex!AK12","v":0},{"$f":"Capex!AL12","v":0},{"$f":"Capex!AM12","v":0}]
[null,null,"Depreciation",null,null,{"$f":"SUM(J21:AM21)","v":-5.4590000000000005},"USD Mn",null,null,{"$f":"-J20*J6","v":-2.6500000000000004},{"$f":"-K20*K6","v":-2.8090000000000002},0,0,0,0,0,0,0,0,0,0,0,0,0,0,0,0,0,0,0,0,0,0,0,0,0,0,0,0]
[null,null,"Closing balance",null,null,null,"USD Mn",null,null,{"$f":"SUM(J19:J21)","v":0},0,0,0,0,0,0,0,0,0,0,0,0,0,0,0,0,0,0,0,0,0,0,0,0,0,0,0,0,0]
[]
[null,null,"Facilities and other additional infrastructure depreciation"]
[]
[null,null,"Regular Depreciation",{"$f":"Inputs!E128","v":0.15}]
[null,null,"Additional Depreciation",{"$f":"Inputs!F128","v":0.2}]
[]
[null,null,"Opening balance",null,null,null,"USD Mn",null,null,{"$f":"I36","v":0},0.26500000000000001,0.35483500000000001,0.30160975000000001,0.25636828750000001,0.217913044375,0.18522608771874999,0.15744217456093748,0.13382584837679687,0.11375197112027734,9.6689175452235737E-2,8.2185799134400384E-2,6.9857929264240323E-2,0,0,0,0,0,0,0,0,0,0,0,0,0,0,0,0,0]
[null,null,"Addition",null,null,{"$f":"SUM(J30:AM30)","v":0.54590000000000005},"USD Mn",null,null,{"$f":"Capex!J13+Capex!J15","v":0.26500000000000001},{"$f":"Capex!K13+Capex!K15","v":0.28090000000000004},{"$f":"Capex!L13+Capex!L15","v":0},{"$f":"Capex!M13+Capex!M15","v":0},{"$f":"Capex!N13+Capex!N15","v":0},{"$f":"Capex!O13+Capex!O15","v":0},{"$f":"Capex!P13+Capex!P15","v":0},{"$f":"Capex!Q13+Capex!Q15","v":0},{"$f":"Capex!R13+Capex!R15","v":0},{"$f":"Capex!S13+Capex!S15","v":0},{"$f":"Capex!T13+Capex!T15","v":0},{"$f":"Capex!U13+Capex!U15","v":0},{"$f":"Capex!V13+Capex!V15","v":0},{"$f":"Capex!W13+Capex!W15","v":0},{"$f":"Capex!X13+Capex!X15","v":0},{"$f":"Capex!Y13+Capex!Y15","v":0},{"$f":"Capex!Z13+Capex!Z15","v":0},{"$f":"Capex!AA13+Capex!AA15","v":0},{"$f":"Capex!AB13+Capex!AB15","v":0},{"$f":"Capex!AC13+Capex!AC15","v":0},{"$f":"Capex!AD13+Capex!AD15","v":0},{"$f":"Capex!AE13+Capex!AE15","v":0},{"$f":"Capex!AF13+Capex!AF15","v":0},{"$f":"Capex!AG13+Capex!AG15","v":0},{"$f":"Capex!AH13+Capex!AH15","v":0},{"$f":"Capex!AI13+Capex!AI15","v":0},{"$f":"Capex!AJ13+Capex!AJ15","v":0},{"$f":"Capex!AK13+Capex!AK15","v":0},{"$f":"Capex!AL13+Capex!AL15","v":0},{"$f":"Capex!AM13+Capex!AM15","v":0}]
[null,null,"Depreciation %",null,null,null,"%",null,null,{"$f":"IF(J2>=Inputs!$E$38,$D$26,0)","v":0},{"$f":"IF(K2>=Inputs!$E$38,$D$26,0)","v":0.15},{"$f":"IF(L2>=Inputs!$E$38,$D$26,0)","v":0.15},{"$f":"IF(M2>=Inputs!$E$38,$D$26,0)","v":0.15},{"$f":"IF(N2>=Inputs!$E$38,$D$26,0)","v":0.15},{"$f":"IF(O2>=Inputs!$E$38,$D$26,0)","v":0.15},{"$f":"IF(P2>=Inputs!$E$38,$D$26,0)","v":0.15},{"$f":"IF(Q2>=Inputs!$E$38,$D$26,0)","v":0.15},{"$f":"IF(R2>=Inputs!$E$38,$D$26,0)","v":0.15},{"$f":"IF(S2>=Inputs!$E$38,$D$26,0)","v":0.15},{"$f":"IF(T2>=Inputs!$E$38,$D$26,0)","v":0.15},{"$f":"IF(U2>=Inputs!$E$38,$D$26,0)","v":0.15},{"$f":"IF(V2>=Inputs!$E$38,$D$26,0)","v":0.15},{"$f":"IF(W2>=Inputs!$E$38,$D$26,0)","v":0.15},{"$f":"IF(X2>=Inputs!$E$38,$D$26,0)","v":0.15},{"$f":"IF(Y2>=Inputs!$E$38,$D$26,0)","v":0.15},{"$f":"IF(Z2>=Inputs!$E$38,$D$26,0)","v":0.15},{"$f":"IF(AA2>=Inputs!$E$38,$D$26,0)","v":0.15},{"$f":"IF(AB2>=Inputs!$E$38,$D$26,0)","v":0.15},{"$f":"IF(AC2>=Inputs!$E$38,$D$26,0)","v":0.15},{"$f":"IF(AD2>=Inputs!$E$38,$D$26,0)","v":0.15},{"$f":"IF(AE2>=Inputs!$E$38,$D$26,0)","v":0.15},{"$f":"IF(AF2>=Inputs!$E$38,$D$26,0)","v":0.15},{"$f":"IF(AG2>=Inputs!$E$38,$D$26,0)","v":0.15},{"$f":"IF(AH2>=Inputs!$E$38,$D$26,0)","v":0.15},{"$f":"IF(AI2>=Inputs!$E$38,$D$26,0)","v":0.15},{"$f":"IF(AJ2>=Inputs!$E$38,$D$26,0)","v":0.15},{"$f":"IF(AK2>=Inputs!$E$38,$D$26,0)","v":0.15},{"$f":"IF(AL2>=Inputs!$E$38,$D$26,0)","v":0.15},{"$f":"IF(AM2>=Inputs!$E$38,$D$26,0)","v":0.15},{"$f":"IF(AN2>=Inputs!$E$38,$D$26,0)","v":0},{"$f":"IF(AO2>=Inputs!$E$38,$D$26,0)","v":0},{"$f":"IF(AP2>=Inputs!$E$38,$D$26,0)","v":0},{"$f":"IF(AQ2>=Inputs!$E$38,$D$26,0)","v":0},{"$f":"IF(AR2>=Inputs!$E$38,$D$26,0)","v":0},{"$f":"IF(AS2>=Inputs!$E$38,$D$26,0)","v":0},{"$f":"IF(AT2>=Inputs!$E$38,$D$26,0)","v":0},{"$f":"IF(AU2>=Inputs!$E$38,$D$26,0)","v":0},{"$f":"IF(AV2>=Inputs!$E$38,$D$26,0)","v":0},{"$f":"IF(AW2>=Inputs!$E$38,$D$26,0)","v":0},{"$f":"IF(AX2>=Inputs!$E$38,$D$26,0)","v":0},{"$f":"IF(AY2>=Inputs!$E$38,$D$26,0)","v":0},{"$f":"IF(AZ2>=Inputs!$E$38,$D$26,0)","v":0},{"$f":"IF(BA2>=Inputs!$E$38,$D$26,0)","v":0},{"$f":"IF(BB2>=Inputs!$E$38,$D$26,0)","v":0},{"$f":"IF(BC2>=Inputs!$E$38,$D$26,0)","v":0},{"$f":"IF(BD2>=Inputs!$E$38,$D$26,0)","v":0},{"$f":"IF(BE2>=Inputs!$E$38,$D$26,0)","v":0},{"$f":"IF(BF2>=Inputs!$E$38,$D$26,0)","v":0},{"$f":"IF(BG2>=Inputs!$E$38,$D$26,0)","v":0},{"$f":"IF(BH2>=Inputs!$E$38,$D$26,0)","v":0},{"$f":"IF(BI2>=Inputs!$E$38,$D$26,0)","v":0},{"$f":"IF(BJ2>=Inputs!$E$38,$D$26,0)","v":0},{"$f":"IF(BK2>=Inputs!$E$38,$D$26,0)","v":0},{"$f":"IF(BL2>=Inputs!$E$38,$D$26,0)","v":0},{"$f":"IF(BM2>=Inputs!$E$38,$D$26,0)","v":0},{"$f":"IF(BN2>=Inputs!$E$38,$D$26,0)","v":0},{"$f":"IF(BO2>=Inputs!$E$38,$D$26,0)","v":0},{"$f":"IF(BP2>=Inputs!$E$38,$D$26,0)","v":0},{"$f":"IF(BQ2>=Inputs!$E$38,$D$26,0)","v":0},{"$f":"IF(BR2>=Inputs!$E$38,$D$26,0)","v":0},{"$f":"IF(BS2>=Inputs!$E$38,$D$26,0)","v":0},{"$f":"IF(BT2>=Inputs!$E$38,$D$26,0)","v":0},{"$f":"IF(BU2>=Inputs!$E$38,$D$26,0)","v":0},{"$f":"IF(BV2>=Inputs!$E$38,$D$26,0)","v":0},{"$f":"IF(BW2>=Inputs!$E$38,$D$26,0)","v":0},{"$f":"IF(BX2>=Inputs!$E$38,$D$26,0)","v":0},{"$f":"IF(BY2>=Inputs!$E$38,$D$26,0)","v":0},{"$f":"IF(BZ2>=Inputs!$E$38,$D$26,0)","v":0},{"$f":"IF(CA2>=Inputs!$E$38,$D$26,0)","v":0},{"$f":"IF(CB2>=Inputs!$E$38,$D$26,0)","v":0},{"$f":"IF(CC2>=Inputs!$E$38,$D$26,0)","v":0},{"$f":"IF(CD2>=Inputs!$E$38,$D$26,0)","v":0},{"$f":"IF(CE2>=Inputs!$E$38,$D$26,0)","v":0},{"$f":"IF(CF2>=Inputs!$E$38,$D$26,0)","v":0},{"$f":"IF(CG2>=Inputs!$E$38,$D$26,0)","v":0},{"$f":"IF(CH2>=Inputs!$E$38,$D$26,0)","v":0},{"$f":"IF(CI2>=Inputs!$E$38,$D$26,0)","v":0},{"$f":"IF(CJ2>=Inputs!$E$38,$D$26,0)","v":0},{"$f":"IF(CK2>=Inputs!$E$38,$D$26,0)","v":0},{"$f":"IF(CL2>=Inputs!$E$38,$D$26,0)","v":0},{"$f":"IF(CM2>=Inputs!$E$38,$D$26,0)","v":0},{"$f":"IF(CN2>=Inputs!$E$38,$D$26,0)","v":0},{"$f":"IF(CO2>=Inputs!$E$38,$D$26,0)","v":0},{"$f":"IF(CP2>=Inputs!$E$38,$D$26,0)","v":0},{"$f":"IF(CQ2>=Inputs!$E$38,$D$26,0)","v":0},{"$f":"IF(CR2>=Inputs!$E$38,$D$26,0)","v":0},{"$f":"IF(CS2>=Inputs!$E$38,$D$26,0)","v":0},{"$f":"IF(CT2>=Inputs!$E$38,$D$26,0)","v":0},{"$f":"IF(CU2>=Inputs!$E$38,$D$26,0)","v":0},{"$f":"IF(CV2>=Inputs!$E$38,$D$26,0)","v":0},{"$f":"IF(CW2>=Inputs!$E$38,$D$26,0)","v":0},{"$f":"IF(CX2>=Inputs!$E$38,$D$26,0)","v":0},{"$f":"IF(CY2>=Inputs!$E$38,$D$26,0)","v":0},{"$f":"IF(CZ2>=Inputs!$E$38,$D$26,0)","v":0},{"$f":"IF(DA2>=Inputs!$E$38,$D$26,0)","v":0},{"$f":"IF(DB2>=Inputs!$E$38,$D$26,0)","v":0},{"$f":"IF(DC2>=Inputs!$E$38,$D$26,0)","v":0},{"$f":"IF(DD2>=Inputs!$E$38,$D$26,0)","v":0},{"$f":"IF(DE2>=Inputs!$E$38,$D$26,0)","v":0},{"$f":"IF(DF2>=Inputs!$E$38,$D$26,0)","v":0},{"$f":"IF(DG2>=Inputs!$E$38,$D$26,0)","v":0},{"$f":"IF(DH2>=Inputs!$E$38,$D$26,0)","v":0},{"$f":"IF(DI2>=Inputs!$E$38,$D$26,0)","v":0},{"$f":"IF(DJ2>=Inputs!$E$38,$D$26,0)","v":0},{"$f":"IF(DK2>=Inputs!$E$38,$D$26,0)","v":0},{"$f":"IF(DL2>=Inputs!$E$38,$D$26,0)","v":0},{"$f":"IF(DM2>=Inputs!$E$38,$D$26,0)","v":0},{"$f":"IF(DN2>=Inputs!$E$38,$D$26,0)","v":0},{"$f":"IF(DO2>=Inputs!$E$38,$D$26,0)","v":0},{"$f":"IF(DP2>=Inputs!$E$38,$D$26,0)","v":0},{"$f":"IF(DQ2>=Inputs!$E$38,$D$26,0)","v":0},{"$f":"IF(DR2>=Inputs!$E$38,$D$26,0)","v":0},{"$f":"IF(DS2>=Inputs!$E$38,$D$26,0)","v":0},{"$f":"IF(DT2>=Inputs!$E$38,$D$26,0)","v":0},{"$f":"IF(DU2>=Inputs!$E$38,$D$26,0)","v":0},{"$f":"IF(DV2>=Inputs!$E$38,$D$26,0)","v":0},{"$f":"IF(DW2>=Inputs!$E$38,$D$26,0)","v":0},{"$f":"IF(DX2>=Inputs!$E$38,$D$26,0)","v":0},{"$f":"IF(DY2>=Inputs!$E$38,$D$26,0)","v":0},{"$f":"IF(DZ2>=Inputs!$E$38,$D$26,0)","v":0},{"$f":"IF(EA2>=Inputs!$E$38,$D$26,0)","v":0},{"$f":"IF(EB2>=Inputs!$E$38,$D$26,0)","v":0},{"$f":"IF(EC2>=Inputs!$E$38,$D$26,0)","v":0},{"$f":"IF(ED2>=Inputs!$E$38,$D$26,0)","v":0},{"$f":"IF(EE2>=Inputs!$E$38,$D$26,0)","v":0},{"$f":"IF(EF2>=Inputs!$E$38,$D$26,0)","v":0},{"$f":"IF(EG2>=Inputs!$E$38,$D$26,0)","v":0},{"$f":"IF(EH2>=Inputs!$E$38,$D$26,0)","v":0},{"$f":"IF(EI2>=Inputs!$E$38,$D$26,0)","v":0},{"$f":"IF(EJ2>=Inputs!$E$38,$D$26,0)","v":0},{"$f":"IF(EK2>=Inputs!$E$38,$D$26,0)","v":0},{"$f":"IF(EL2>=Inputs!$E$38,$D$26,0)","v":0},{"$f":"IF(EM2>=Inputs!$E$38,$D$26,0)","v":0},{"$f":"IF(EN2>=Inputs!$E$38,$D$26,0)","v":0},{"$f":"IF(EO2>=Inputs!$E$38,$D$26,0)","v":0},{"$f":"IF(EP2>=Inputs!$E$38,$D$26,0)","v":0},{"$f":"IF(EQ2>=Inputs!$E$38,$D$26,0)","v":0},{"$f":"IF(ER2>=Inputs!$E$38,$D$26,0)","v":0},{"$f":"IF(ES2>=Inputs!$E$38,$D$26,0)","v":0},{"$f":"IF(ET2>=Inputs!$E$38,$D$26,0)","v":0},{"$f":"IF(EU2>=Inputs!$E$38,$D$26,0)","v":0},{"$f":"IF(EV2>=Inputs!$E$38,$D$26,0)","v":0},{"$f":"IF(EW2>=Inputs!$E$38,$D$26,0)","v":0},{"$f":"IF(EX2>=Inputs!$E$38,$D$26,0)","v":0},{"$f":"IF(EY2>=Inputs!$E$38,$D$26,0)","v":0},{"$f":"IF(EZ2>=Inputs!$E$38,$D$26,0)","v":0},{"$f":"IF(FA2>=Inputs!$E$38,$D$26,0)","v":0},{"$f":"IF(FB2>=Inputs!$E$38,$D$26,0)","v":0},{"$f":"IF(FC2>=Inputs!$E$38,$D$26,0)","v":0},{"$f":"IF(FD2>=Inputs!$E$38,$D$26,0)","v":0},{"$f":"IF(FE2>=Inputs!$E$38,$D$26,0)","v":0},{"$f":"IF(FF2>=Inputs!$E$38,$D$26,0)","v":0},{"$f":"IF(FG2>=Inputs!$E$38,$D$26,0)","v":0},{"$f":"IF(FH2>=Inputs!$E$38,$D$26,0)","v":0},{"$f":"IF(FI2>=Inputs!$E$38,$D$26,0)","v":0},{"$f":"IF(FJ2>=Inputs!$E$38,$D$26,0)","v":0},{"$f":"IF(FK2>=Inputs!$E$38,$D$26,0)","v":0},{"$f":"IF(FL2>=Inputs!$E$38,$D$26,0)","v":0},{"$f":"IF(FM2>=Inputs!$E$38,$D$26,0)","v":0},{"$f":"IF(FN2>=Inputs!$E$38,$D$26,0)","v":0},{"$f":"IF(FO2>=Inputs!$E$38,$D$26,0)","v":0},{"$f":"IF(FP2>=Inputs!$E$38,$D$26,0)","v":0},{"$f":"IF(FQ2>=Inputs!$E$38,$D$26,0)","v":0},{"$f":"IF(FR2>=Inputs!$E$38,$D$26,0)","v":0},{"$f":"IF(FS2>=Inputs!$E$38,$D$26,0)","v":0},{"$f":"IF(FT2>=Inputs!$E$38,$D$26,0)","v":0},{"$f":"IF(FU2>=Inputs!$E$38,$D$26,0)","v":0},{"$f":"IF(FV2>=Inputs!$E$38,$D$26,0)","v":0},{"$f":"IF(FW2>=Inputs!$E$38,$D$26,0)","v":0},{"$f":"IF(FX2>=Inputs!$E$38,$D$26,0)","v":0},{"$f":"IF(FY2>=Inputs!$E$38,$D$26,0)","v":0},{"$f":"IF(FZ2>=Inputs!$E$38,$D$26,0)","v":0},{"$f":"IF(GA2>=Inputs!$E$38,$D$26,0)","v":0},{"$f":"IF(GB2>=Inputs!$E$38,$D$26,0)","v":0},{"$f":"IF(GC2>=Inputs!$E$38,$D$26,0)","v":0},{"$f":"IF(GD2>=Inputs!$E$38,$D$26,0)","v":0},{"$f":"IF(GE2>=Inputs!$E$38,$D$26,0)","v":0},{"$f":"IF(GF2>=Inputs!$E$38,$D$26,0)","v":0},{"$f":"IF(GG2>=Inputs!$E$38,$D$26,0)","v":0},{"$f":"IF(GH2>=Inputs!$E$38,$D$26,0)","v":0},{"$f":"IF(GI2>=Inputs!$E$38,$D$26,0)","v":0},{"$f":"IF(GJ2>=Inputs!$E$38,$D$26,0)","v":0},{"$f":"IF(GK2>=Inputs!$E$38,$D$26,0)","v":0},{"$f":"IF(GL2>=Inputs!$E$38,$D$26,0)","v":0},{"$f":"IF(GM2>=Inputs!$E$38,$D$26,0)","v":0},{"$f":"IF(GN2>=Inputs!$E$38,$D$26,0)","v":0},{"$f":"IF(GO2>=Inputs!$E$38,$D$26,0)","v":0},{"$f":"IF(GP2>=Inputs!$E$38,$D$26,0)","v":0},{"$f":"IF(GQ2>=Inputs!$E$38,$D$26,0)","v":0},{"$f":"IF(GR2>=Inputs!$E$38,$D$26,0)","v":0},{"$f":"IF(GS2>=Inputs!$E$38,$D$26,0)","v":0},{"$f":"IF(GT2>=Inputs!$E$38,$D$26,0)","v":0},{"$f":"IF(GU2>=Inputs!$E$38,$D$26,0)","v":0},{"$f":"IF(GV2>=Inputs!$E$38,$D$26,0)","v":0},{"$f":"IF(GW2>=Inputs!$E$38,$D$26,0)","v":0},{"$f":"IF(GX2>=Inputs!$E$38,$D$26,0)","v":0},{"$f":"IF(GY2>=Inputs!$E$38,$D$26,0)","v":0},{"$f":"IF(GZ2>=Inputs!$E$38,$D$26,0)","v":0},{"$f":"IF(HA2>=Inputs!$E$38,$D$26,0)","v":0},{"$f":"IF(HB2>=Inputs!$E$38,$D$26,0)","v":0},{"$f":"IF(HC2>=Inputs!$E$38,$D$26,0)","v":0},{"$f":"IF(HD2>=Inputs!$E$38,$D$26,0)","v":0},{"$f":"IF(HE2>=Inputs!$E$38,$D$26,0)","v":0},{"$f":"IF(HF2>=Inputs!$E$38,$D$26,0)","v":0},{"$f":"IF(HG2>=Inputs!$E$38,$D$26,0)","v":0},{"$f":"IF(HH2>=Inputs!$E$38,$D$26,0)","v":0},{"$f":"IF(HI2>=Inputs!$E$38,$D$26,0)","v":0},{"$f":"IF(HJ2>=Inputs!$E$38,$D$26,0)","v":0},{"$f":"IF(HK2>=Inputs!$E$38,$D$26,0)","v":0},{"$f":"IF(HL2>=Inputs!$E$38,$D$26,0)","v":0},{"$f":"IF(HM2>=Inputs!$E$38,$D$26,0)","v":0},{"$f":"IF(HN2>=Inputs!$E$38,$D$26,0)","v":0},{"$f":"IF(HO2>=Inputs!$E$38,$D$26,0)","v":0},{"$f":"IF(HP2>=Inputs!$E$38,$D$26,0)","v":0},{"$f":"IF(HQ2>=Inputs!$E$38,$D$26,0)","v":0},{"$f":"IF(HR2>=Inputs!$E$38,$D$26,0)","v":0},{"$f":"IF(HS2>=Inputs!$E$38,$D$26,0)","v":0},{"$f":"IF(HT2>=Inputs!$E$38,$D$26,0)","v":0},{"$f":"IF(HU2>=Inputs!$E$38,$D$26,0)","v":0},{"$f":"IF(HV2>=Inputs!$E$38,$D$26,0)","v":0},{"$f":"IF(HW2>=Inputs!$E$38,$D$26,0)","v":0},{"$f":"IF(HX2>=Inputs!$E$38,$D$26,0)","v":0},{"$f":"IF(HY2>=Inputs!$E$38,$D$26,0)","v":0},{"$f":"IF(HZ2>=Inputs!$E$38,$D$26,0)","v":0},{"$f":"IF(IA2>=Inputs!$E$38,$D$26,0)","v":0},{"$f":"IF(IB2>=Inputs!$E$38,$D$26,0)","v":0},{"$f":"IF(IC2>=Inputs!$E$38,$D$26,0)","v":0},{"$f":"IF(ID2>=Inputs!$E$38,$D$26,0)","v":0},{"$f":"IF(IE2>=Inputs!$E$38,$D$26,0)","v":0},{"$f":"IF(IF2>=Inputs!$E$38,$D$26,0)","v":0},{"$f":"IF(IG2>=Inputs!$E$38,$D$26,0)","v":0},{"$f":"IF(IH2>=Inputs!$E$38,$D$26,0)","v":0},{"$f":"IF(II2>=Inputs!$E$38,$D$26,0)","v":0},{"$f":"IF(IJ2>=Inputs!$E$38,$D$26,0)","v":0},{"$f":"IF(IK2>=Inputs!$E$38,$D$26,0)","v":0},{"$f":"IF(IL2>=Inputs!$E$38,$D$26,0)","v":0},{"$f":"IF(IM2>=Inputs!$E$38,$D$26,0)","v":0},{"$f":"IF(IN2>=Inputs!$E$38,$D$26,0)","v":0},{"$f":"IF(IO2>=Inputs!$E$38,$D$26,0)","v":0},{"$f":"IF(IP2>=Inputs!$E$38,$D$26,0)","v":0},{"$f":"IF(IQ2>=Inputs!$E$38,$D$26,0)","v":0},{"$f":"IF(IR2>=Inputs!$E$38,$D$26,0)","v":0},{"$f":"IF(IS2>=Inputs!$E$38,$D$26,0)","v":0},{"$f":"IF(IT2>=Inputs!$E$38,$D$26,0)","v":0},{"$f":"IF(IU2>=Inputs!$E$38,$D$26,0)","v":0},{"$f":"IF(IV2>=Inputs!$E$38,$D$26,0)","v":0},{"$f":"IF(IW2>=Inputs!$E$38,$D$26,0)","v":0},{"$f":"IF(IX2>=Inputs!$E$38,$D$26,0)","v":0},{"$f":"IF(IY2>=Inputs!$E$38,$D$26,0)","v":0},{"$f":"IF(IZ2>=Inputs!$E$38,$D$26,0)","v":0},{"$f":"IF(JA2>=Inputs!$E$38,$D$26,0)","v":0},{"$f":"IF(JB2>=Inputs!$E$38,$D$26,0)","v":0},{"$f":"IF(JC2>=Inputs!$E$38,$D$26,0)","v":0},{"$f":"IF(JD2>=Inputs!$E$38,$D$26,0)","v":0},{"$f":"IF(JE2>=Inputs!$E$38,$D$26,0)","v":0},{"$f":"IF(JF2>=Inputs!$E$38,$D$26,0)","v":0},{"$f":"IF(JG2>=Inputs!$E$38,$D$26,0)","v":0},{"$f":"IF(JH2>=Inputs!$E$38,$D$26,0)","v":0},{"$f":"IF(JI2>=Inputs!$E$38,$D$26,0)","v":0},{"$f":"IF(JJ2>=Inputs!$E$38,$D$26,0)","v":0},{"$f":"IF(JK2>=Inputs!$E$38,$D$26,0)","v":0},{"$f":"IF(JL2>=Inputs!$E$38,$D$26,0)","v":0},{"$f":"IF(JM2>=Inputs!$E$38,$D$26,0)","v":0},{"$f":"IF(JN2>=Inputs!$E$38,$D$26,0)","v":0},{"$f":"IF(JO2>=Inputs!$E$38,$D$26,0)","v":0},{"$f":"IF(JP2>=Inputs!$E$38,$D$26,0)","v":0},{"$f":"IF(JQ2>=Inputs!$E$38,$D$26,0)","v":0},{"$f":"IF(JR2>=Inputs!$E$38,$D$26,0)","v":0},{"$f":"IF(JS2>=Inputs!$E$38,$D$26,0)","v":0},{"$f":"IF(JT2>=Inputs!$E$38,$D$26,0)","v":0},{"$f":"IF(JU2>=Inputs!$E$38,$D$26,0)","v":0},{"$f":"IF(JV2>=Inputs!$E$38,$D$26,0)","v":0},{"$f":"IF(JW2>=Inputs!$E$38,$D$26,0)","v":0},{"$f":"IF(JX2>=Inputs!$E$38,$D$26,0)","v":0},{"$f":"IF(JY2>=Inputs!$E$38,$D$26,0)","v":0},{"$f":"IF(JZ2>=Inputs!$E$38,$D$26,0)","v":0},{"$f":"IF(KA2>=Inputs!$E$38,$D$26,0)","v":0},{"$f":"IF(KB2>=Inputs!$E$38,$D$26,0)","v":0},{"$f":"IF(KC2>=Inputs!$E$38,$D$26,0)","v":0},{"$f":"IF(KD2>=Inputs!$E$38,$D$26,0)","v":0},{"$f":"IF(KE2>=Inputs!$E$38,$D$26,0)","v":0},{"$f":"IF(KF2>=Inputs!$E$38,$D$26,0)","v":0},{"$f":"IF(KG2>=Inputs!$E$38,$D$26,0)","v":0},{"$f":"IF(KH2>=Inputs!$E$38,$D$26,0)","v":0},{"$f":"IF(KI2>=Inputs!$E$38,$D$26,0)","v":0},{"$f":"IF(KJ2>=Inputs!$E$38,$D$26,0)","v":0},{"$f":"IF(KK2>=Inputs!$E$38,$D$26,0)","v":0},{"$f":"IF(KL2>=Inputs!$E$38,$D$26,0)","v":0},{"$f":"IF(KM2>=Inputs!$E$38,$D$26,0)","v":0},{"$f":"IF(KN2>=Inputs!$E$38,$D$26,0)","v":0},{"$f":"IF(KO2>=Inputs!$E$38,$D$26,0)","v":0},{"$f":"IF(KP2>=Inputs!$E$38,$D$26,0)","v":0},{"$f":"IF(KQ2>=Inputs!$E$38,$D$26,0)","v":0},{"$f":"IF(KR2>=Inputs!$E$38,$D$26,0)","v":0},{"$f":"IF(KS2>=Inputs!$E$38,$D$26,0)","v":0},{"$f":"IF(KT2>=Inputs!$E$38,$D$26,0)","v":0},{"$f":"IF(KU2>=Inputs!$E$38,$D$26,0)","v":0},{"$f":"IF(KV2>=Inputs!$E$38,$D$26,0)","v":0},{"$f":"IF(KW2>=Inputs!$E$38,$D$26,0)","v":0},{"$f":"IF(KX2>=Inputs!$E$38,$D$26,0)","v":0},{"$f":"IF(KY2>=Inputs!$E$38,$D$26,0)","v":0},{"$f":"IF(KZ2>=Inputs!$E$38,$D$26,0)","v":0},{"$f":"IF(LA2>=Inputs!$E$38,$D$26,0)","v":0},{"$f":"IF(LB2>=Inputs!$E$38,$D$26,0)","v":0},{"$f":"IF(LC2>=Inputs!$E$38,$D$26,0)","v":0},{"$f":"IF(LD2>=Inputs!$E$38,$D$26,0)","v":0},{"$f":"IF(LE2>=Inputs!$E$38,$D$26,0)","v":0},{"$f":"IF(LF2>=Inputs!$E$38,$D$26,0)","v":0},{"$f":"IF(LG2>=Inputs!$E$38,$D$26,0)","v":0},{"$f":"IF(LH2>=Inputs!$E$38,$D$26,0)","v":0},{"$f":"IF(LI2>=Inputs!$E$38,$D$26,0)","v":0},{"$f":"IF(LJ2>=Inputs!$E$38,$D$26,0)","v":0},{"$f":"IF(LK2>=Inputs!$E$38,$D$26,0)","v":0},{"$f":"IF(LL2>=Inputs!$E$38,$D$26,0)","v":0},{"$f":"IF(LM2>=Inputs!$E$38,$D$26,0)","v":0},{"$f":"IF(LN2>=Inputs!$E$38,$D$26,0)","v":0},{"$f":"IF(LO2>=Inputs!$E$38,$D$26,0)","v":0},{"$f":"IF(LP2>=Inputs!$E$38,$D$26,0)","v":0},{"$f":"IF(LQ2>=Inputs!$E$38,$D$26,0)","v":0},{"$f":"IF(LR2>=Inputs!$E$38,$D$26,0)","v":0},{"$f":"IF(LS2>=Inputs!$E$38,$D$26,0)","v":0},{"$f":"IF(LT2>=Inputs!$E$38,$D$26,0)","v":0},{"$f":"IF(LU2>=Inputs!$E$38,$D$26,0)","v":0},{"$f":"IF(LV2>=Inputs!$E$38,$D$26,0)","v":0},{"$f":"IF(LW2>=Inputs!$E$38,$D$26,0)","v":0},{"$f":"IF(LX2>=Inputs!$E$38,$D$26,0)","v":0},{"$f":"IF(LY2>=Inputs!$E$38,$D$26,0)","v":0},{"$f":"IF(LZ2>=Inputs!$E$38,$D$26,0)","v":0},{"$f":"IF(MA2>=Inputs!$E$38,$D$26,0)","v":0},{"$f":"IF(MB2>=Inputs!$E$38,$D$26,0)","v":0},{"$f":"IF(MC2>=Inputs!$E$38,$D$26,0)","v":0},{"$f":"IF(MD2>=Inputs!$E$38,$D$26,0)","v":0},{"$f":"IF(ME2>=Inputs!$E$38,$D$26,0)","v":0},{"$f":"IF(MF2>=Inputs!$E$38,$D$26,0)","v":0},{"$f":"IF(MG2>=Inputs!$E$38,$D$26,0)","v":0},{"$f":"IF(MH2>=Inputs!$E$38,$D$26,0)","v":0},{"$f":"IF(MI2>=Inputs!$E$38,$D$26,0)","v":0},{"$f":"IF(MJ2>=Inputs!$E$38,$D$26,0)","v":0},{"$f":"IF(MK2>=Inputs!$E$38,$D$26,0)","v":0},{"$f":"IF(ML2>=Inputs!$E$38,$D$26,0)","v":0},{"$f":"IF(MM2>=Inputs!$E$38,$D$26,0)","v":0},{"$f":"IF(MN2>=Inputs!$E$38,$D$26,0)","v":0},{"$f":"IF(MO2>=Inputs!$E$38,$D$26,0)","v":0},{"$f":"IF(MP2>=Inputs!$E$38,$D$26,0)","v":0},{"$f":"IF(MQ2>=Inputs!$E$38,$D$26,0)","v":0},{"$f":"IF(MR2>=Inputs!$E$38,$D$26,0)","v":0},{"$f":"IF(MS2>=Inputs!$E$38,$D$26,0)","v":0},{"$f":"IF(MT2>=Inputs!$E$38,$D$26,0)","v":0},{"$f":"IF(MU2>=Inputs!$E$38,$D$26,0)","v":0},{"$f":"IF(MV2>=Inputs!$E$38,$D$26,0)","v":0},{"$f":"IF(MW2>=Inputs!$E$38,$D$26,0)","v":0},{"$f":"IF(MX2>=Inputs!$E$38,$D$26,0)","v":0},{"$f":"IF(MY2>=Inputs!$E$38,$D$26,0)","v":0},{"$f":"IF(MZ2>=Inputs!$E$38,$D$26,0)","v":0},{"$f":"IF(NA2>=Inputs!$E$38,$D$26,0)","v":0},{"$f":"IF(NB2>=Inputs!$E$38,$D$26,0)","v":0},{"$f":"IF(NC2>=Inputs!$E$38,$D$26,0)","v":0},{"$f":"IF(ND2>=Inputs!$E$38,$D$26,0)","v":0},{"$f":"IF(NE2>=Inputs!$E$38,$D$26,0)","v":0},{"$f":"IF(NF2>=Inputs!$E$38,$D$26,0)","v":0},{"$f":"IF(NG2>=Inputs!$E$38,$D$26,0)","v":0},{"$f":"IF(NH2>=Inputs!$E$38,$D$26,0)","v":0},{"$f":"IF(NI2>=Inputs!$E$38,$D$26,0)","v":0},{"$f":"IF(NJ2>=Inputs!$E$38,$D$26,0)","v":0},{"$f":"IF(NK2>=Inputs!$E$38,$D$26,0)","v":0},{"$f":"IF(NL2>=Inputs!$E$38,$D$26,0)","v":0},{"$f":"IF(NM2>=Inputs!$E$38,$D$26,0)","v":0},{"$f":"IF(NN2>=Inputs!$E$38,$D$26,0)","v":0},{"$f":"IF(NO2>=Inputs!$E$38,$D$26,0)","v":0},{"$f":"IF(NP2>=Inputs!$E$38,$D$26,0)","v":0},{"$f":"IF(NQ2>=Inputs!$E$38,$D$26,0)","v":0},{"$f":"IF(NR2>=Inputs!$E$38,$D$26,0)","v":0},{"$f":"IF(NS2>=Inputs!$E$38,$D$26,0)","v":0},{"$f":"IF(NT2>=Inputs!$E$38,$D$26,0)","v":0},{"$f":"IF(NU2>=Inputs!$E$38,$D$26,0)","v":0},{"$f":"IF(NV2>=Inputs!$E$38,$D$26,0)","v":0},{"$f":"IF(NW2>=Inputs!$E$38,$D$26,0)","v":0},{"$f":"IF(NX2>=Inputs!$E$38,$D$26,0)","v":0},{"$f":"IF(NY2>=Inputs!$E$38,$D$26,0)","v":0},{"$f":"IF(NZ2>=Inputs!$E$38,$D$26,0)","v":0},{"$f":"IF(OA2>=Inputs!$E$38,$D$26,0)","v":0},{"$f":"IF(OB2>=Inputs!$E$38,$D$26,0)","v":0},{"$f":"IF(OC2>=Inputs!$E$38,$D$26,0)","v":0},{"$f":"IF(OD2>=Inputs!$E$38,$D$26,0)","v":0},{"$f":"IF(OE2>=Inputs!$E$38,$D$26,0)","v":0},{"$f":"IF(OF2>=Inputs!$E$38,$D$26,0)","v":0},{"$f":"IF(OG2>=Inputs!$E$38,$D$26,0)","v":0},{"$f":"IF(OH2>=Inputs!$E$38,$D$26,0)","v":0},{"$f":"IF(OI2>=Inputs!$E$38,$D$26,0)","v":0},{"$f":"IF(OJ2>=Inputs!$E$38,$D$26,0)","v":0},{"$f":"IF(OK2>=Inputs!$E$38,$D$26,0)","v":0},{"$f":"IF(OL2>=Inputs!$E$38,$D$26,0)","v":0},{"$f":"IF(OM2>=Inputs!$E$38,$D$26,0)","v":0},{"$f":"IF(ON2>=Inputs!$E$38,$D$26,0)","v":0},{"$f":"IF(OO2>=Inputs!$E$38,$D$26,0)","v":0},{"$f":"IF(OP2>=Inputs!$E$38,$D$26,0)","v":0},{"$f":"IF(OQ2>=Inputs!$E$38,$D$26,0)","v":0},{"$f":"IF(OR2>=Inputs!$E$38,$D$26,0)","v":0},{"$f":"IF(OS2>=Inputs!$E$38,$D$26,0)","v":0},{"$f":"IF(OT2>=Inputs!$E$38,$D$26,0)","v":0},{"$f":"IF(OU2>=Inputs!$E$38,$D$26,0)","v":0},{"$f":"IF(OV2>=Inputs!$E$38,$D$26,0)","v":0},{"$f":"IF(OW2>=Inputs!$E$38,$D$26,0)","v":0},{"$f":"IF(OX2>=Inputs!$E$38,$D$26,0)","v":0},{"$f":"IF(OY2>=Inputs!$E$38,$D$26,0)","v":0},{"$f":"IF(OZ2>=Inputs!$E$38,$D$26,0)","v":0},{"$f":"IF(PA2>=Inputs!$E$38,$D$26,0)","v":0},{"$f":"IF(PB2>=Inputs!$E$38,$D$26,0)","v":0},{"$f":"IF(PC2>=Inputs!$E$38,$D$26,0)","v":0},{"$f":"IF(PD2>=Inputs!$E$38,$D$26,0)","v":0},{"$f":"IF(PE2>=Inputs!$E$38,$D$26,0)","v":0},{"$f":"IF(PF2>=Inputs!$E$38,$D$26,0)","v":0},{"$f":"IF(PG2>=Inputs!$E$38,$D$26,0)","v":0},{"$f":"IF(PH2>=Inputs!$E$38,$D$26,0)","v":0},{"$f":"IF(PI2>=Inputs!$E$38,$D$26,0)","v":0},{"$f":"IF(PJ2>=Inputs!$E$38,$D$26,0)","v":0},{"$f":"IF(PK2>=Inputs!$E$38,$D$26,0)","v":0},{"$f":"IF(PL2>=Inputs!$E$38,$D$26,0)","v":0},{"$f":"IF(PM2>=Inputs!$E$38,$D$26,0)","v":0},{"$f":"IF(PN2>=Inputs!$E$38,$D$26,0)","v":0},{"$f":"IF(PO2>=Inputs!$E$38,$D$26,0)","v":0},{"$f":"IF(PP2>=Inputs!$E$38,$D$26,0)","v":0},{"$f":"IF(PQ2>=Inputs!$E$38,$D$26,0)","v":0},{"$f":"IF(PR2>=Inputs!$E$38,$D$26,0)","v":0},{"$f":"IF(PS2>=Inputs!$E$38,$D$26,0)","v":0},{"$f":"IF(PT2>=Inputs!$E$38,$D$26,0)","v":0},{"$f":"IF(PU2>=Inputs!$E$38,$D$26,0)","v":0},{"$f":"IF(PV2>=Inputs!$E$38,$D$26,0)","v":0},{"$f":"IF(PW2>=Inputs!$E$38,$D$26,0)","v":0},{"$f":"IF(PX2>=Inputs!$E$38,$D$26,0)","v":0},{"$f":"IF(PY2>=Inputs!$E$38,$D$26,0)","v":0},{"$f":"IF(PZ2>=Inputs!$E$38,$D$26,0)","v":0},{"$f":"IF(QA2>=Inputs!$E$38,$D$26,0)","v":0},{"$f":"IF(QB2>=Inputs!$E$38,$D$26,0)","v":0},{"$f":"IF(QC2>=Inputs!$E$38,$D$26,0)","v":0},{"$f":"IF(QD2>=Inputs!$E$38,$D$26,0)","v":0},{"$f":"IF(QE2>=Inputs!$E$38,$D$26,0)","v":0},{"$f":"IF(QF2>=Inputs!$E$38,$D$26,0)","v":0},{"$f":"IF(QG2>=Inputs!$E$38,$D$26,0)","v":0},{"$f":"IF(QH2>=Inputs!$E$38,$D$26,0)","v":0},{"$f":"IF(QI2>=Inputs!$E$38,$D$26,0)","v":0},{"$f":"IF(QJ2>=Inputs!$E$38,$D$26,0)","v":0},{"$f":"IF(QK2>=Inputs!$E$38,$D$26,0)","v":0},{"$f":"IF(QL2>=Inputs!$E$38,$D$26,0)","v":0},{"$f":"IF(QM2>=Inputs!$E$38,$D$26,0)","v":0},{"$f":"IF(QN2>=Inputs!$E$38,$D$26,0)","v":0},{"$f":"IF(QO2>=Inputs!$E$38,$D$26,0)","v":0},{"$f":"IF(QP2>=Inputs!$E$38,$D$26,0)","v":0},{"$f":"IF(QQ2>=Inputs!$E$38,$D$26,0)","v":0},{"$f":"IF(QR2>=Inputs!$E$38,$D$26,0)","v":0},{"$f":"IF(QS2>=Inputs!$E$38,$D$26,0)","v":0},{"$f":"IF(QT2>=Inputs!$E$38,$D$26,0)","v":0},{"$f":"IF(QU2>=Inputs!$E$38,$D$26,0)","v":0},{"$f":"IF(QV2>=Inputs!$E$38,$D$26,0)","v":0},{"$f":"IF(QW2>=Inputs!$E$38,$D$26,0)","v":0},{"$f":"IF(QX2>=Inputs!$E$38,$D$26,0)","v":0},{"$f":"IF(QY2>=Inputs!$E$38,$D$26,0)","v":0},{"$f":"IF(QZ2>=Inputs!$E$38,$D$26,0)","v":0},{"$f":"IF(RA2>=Inputs!$E$38,$D$26,0)","v":0},{"$f":"IF(RB2>=Inputs!$E$38,$D$26,0)","v":0},{"$f":"IF(RC2>=Inputs!$E$38,$D$26,0)","v":0},{"$f":"IF(RD2>=Inputs!$E$38,$D$26,0)","v":0},{"$f":"IF(RE2>=Inputs!$E$38,$D$26,0)","v":0},{"$f":"IF(RF2>=Inputs!$E$38,$D$26,0)","v":0},{"$f":"IF(RG2>=Inputs!$E$38,$D$26,0)","v":0},{"$f":"IF(RH2>=Inputs!$E$38,$D$26,0)","v":0},{"$f":"IF(RI2>=Inputs!$E$38,$D$26,0)","v":0},{"$f":"IF(RJ2>=Inputs!$E$38,$D$26,0)","v":0},{"$f":"IF(RK2>=Inputs!$E$38,$D$26,0)","v":0},{"$f":"IF(RL2>=Inputs!$E$38,$D$26,0)","v":0},{"$f":"IF(RM2>=Inputs!$E$38,$D$26,0)","v":0},{"$f":"IF(RN2>=Inputs!$E$38,$D$26,0)","v":0},{"$f":"IF(RO2>=Inputs!$E$38,$D$26,0)","v":0},{"$f":"IF(RP2>=Inputs!$E$38,$D$26,0)","v":0},{"$f":"IF(RQ2>=Inputs!$E$38,$D$26,0)","v":0},{"$f":"IF(RR2>=Inputs!$E$38,$D$26,0)","v":0},{"$f":"IF(RS2>=Inputs!$E$38,$D$26,0)","v":0},{"$f":"IF(RT2>=Inputs!$E$38,$D$26,0)","v":0},{"$f":"IF(RU2>=Inputs!$E$38,$D$26,0)","v":0},{"$f":"IF(RV2>=Inputs!$E$38,$D$26,0)","v":0},{"$f":"IF(RW2>=Inputs!$E$38,$D$26,0)","v":0},{"$f":"IF(RX2>=Inputs!$E$38,$D$26,0)","v":0},{"$f":"IF(RY2>=Inputs!$E$38,$D$26,0)","v":0},{"$f":"IF(RZ2>=Inputs!$E$38,$D$26,0)","v":0},{"$f":"IF(SA2>=Inputs!$E$38,$D$26,0)","v":0},{"$f":"IF(SB2>=Inputs!$E$38,$D$26,0)","v":0},{"$f":"IF(SC2>=Inputs!$E$38,$D$26,0)","v":0},{"$f":"IF(SD2>=Inputs!$E$38,$D$26,0)","v":0},{"$f":"IF(SE2>=Inputs!$E$38,$D$26,0)","v":0},{"$f":"IF(SF2>=Inputs!$E$38,$D$26,0)","v":0},{"$f":"IF(SG2>=Inputs!$E$38,$D$26,0)","v":0},{"$f":"IF(SH2>=Inputs!$E$38,$D$26,0)","v":0},{"$f":"IF(SI2>=Inputs!$E$38,$D$26,0)","v":0},{"$f":"IF(SJ2>=Inputs!$E$38,$D$26,0)","v":0},{"$f":"IF(SK2>=Inputs!$E$38,$D$26,0)","v":0},{"$f":"IF(SL2>=Inputs!$E$38,$D$26,0)","v":0},{"$f":"IF(SM2>=Inputs!$E$38,$D$26,0)","v":0},{"$f":"IF(SN2>=Inputs!$E$38,$D$26,0)","v":0},{"$f":"IF(SO2>=Inputs!$E$38,$D$26,0)","v":0},{"$f":"IF(SP2>=Inputs!$E$38,$D$26,0)","v":0},{"$f":"IF(SQ2>=Inputs!$E$38,$D$26,0)","v":0},{"$f":"IF(SR2>=Inputs!$E$38,$D$26,0)","v":0},{"$f":"IF(SS2>=Inputs!$E$38,$D$26,0)","v":0},{"$f":"IF(ST2>=Inputs!$E$38,$D$26,0)","v":0},{"$f":"IF(SU2>=Inputs!$E$38,$D$26,0)","v":0},{"$f":"IF(SV2>=Inputs!$E$38,$D$26,0)","v":0},{"$f":"IF(SW2>=Inputs!$E$38,$D$26,0)","v":0},{"$f":"IF(SX2>=Inputs!$E$38,$D$26,0)","v":0},{"$f":"IF(SY2>=Inputs!$E$38,$D$26,0)","v":0},{"$f":"IF(SZ2>=Inputs!$E$38,$D$26,0)","v":0},{"$f":"IF(TA2>=Inputs!$E$38,$D$26,0)","v":0},{"$f":"IF(TB2>=Inputs!$E$38,$D$26,0)","v":0},{"$f":"IF(TC2>=Inputs!$E$38,$D$26,0)","v":0},{"$f":"IF(TD2>=Inputs!$E$38,$D$26,0)","v":0},{"$f":"IF(TE2>=Inputs!$E$38,$D$26,0)","v":0},{"$f":"IF(TF2>=Inputs!$E$38,$D$26,0)","v":0},{"$f":"IF(TG2>=Inputs!$E$38,$D$26,0)","v":0},{"$f":"IF(TH2>=Inputs!$E$38,$D$26,0)","v":0},{"$f":"IF(TI2>=Inputs!$E$38,$D$26,0)","v":0},{"$f":"IF(TJ2>=Inputs!$E$38,$D$26,0)","v":0},{"$f":"IF(TK2>=Inputs!$E$38,$D$26,0)","v":0},{"$f":"IF(TL2>=Inputs!$E$38,$D$26,0)","v":0},{"$f":"IF(TM2>=Inputs!$E$38,$D$26,0)","v":0},{"$f":"IF(TN2>=Inputs!$E$38,$D$26,0)","v":0},{"$f":"IF(TO2>=Inputs!$E$38,$D$26,0)","v":0},{"$f":"IF(TP2>=Inputs!$E$38,$D$26,0)","v":0},{"$f":"IF(TQ2>=Inputs!$E$38,$D$26,0)","v":0},{"$f":"IF(TR2>=Inputs!$E$38,$D$26,0)","v":0},{"$f":"IF(TS2>=Inputs!$E$38,$D$26,0)","v":0},{"$f":"IF(TT2>=Inputs!$E$38,$D$26,0)","v":0},{"$f":"IF(TU2>=Inputs!$E$38,$D$26,0)","v":0},{"$f":"IF(TV2>=Inputs!$E$38,$D$26,0)","v":0},{"$f":"IF(TW2>=Inputs!$E$38,$D$26,0)","v":0},{"$f":"IF(TX2>=Inputs!$E$38,$D$26,0)","v":0},{"$f":"IF(TY2>=Inputs!$E$38,$D$26,0)","v":0},{"$f":"IF(TZ2>=Inputs!$E$38,$D$26,0)","v":0},{"$f":"IF(UA2>=Inputs!$E$38,$D$26,0)","v":0},{"$f":"IF(UB2>=Inputs!$E$38,$D$26,0)","v":0},{"$f":"IF(UC2>=Inputs!$E$38,$D$26,0)","v":0},{"$f":"IF(UD2>=Inputs!$E$38,$D$26,0)","v":0},{"$f":"IF(UE2>=Inputs!$E$38,$D$26,0)","v":0},{"$f":"IF(UF2>=Inputs!$E$38,$D$26,0)","v":0},{"$f":"IF(UG2>=Inputs!$E$38,$D$26,0)","v":0},{"$f":"IF(UH2>=Inputs!$E$38,$D$26,0)","v":0},{"$f":"IF(UI2>=Inputs!$E$38,$D$26,0)","v":0},{"$f":"IF(UJ2>=Inputs!$E$38,$D$26,0)","v":0},{"$f":"IF(UK2>=Inputs!$E$38,$D$26,0)","v":0},{"$f":"IF(UL2>=Inputs!$E$38,$D$26,0)","v":0},{"$f":"IF(UM2>=Inputs!$E$38,$D$26,0)","v":0},{"$f":"IF(UN2>=Inputs!$E$38,$D$26,0)","v":0},{"$f":"IF(UO2>=Inputs!$E$38,$D$26,0)","v":0},{"$f":"IF(UP2>=Inputs!$E$38,$D$26,0)","v":0},{"$f":"IF(UQ2>=Inputs!$E$38,$D$26,0)","v":0},{"$f":"IF(UR2>=Inputs!$E$38,$D$26,0)","v":0},{"$f":"IF(US2>=Inputs!$E$38,$D$26,0)","v":0},{"$f":"IF(UT2>=Inputs!$E$38,$D$26,0)","v":0},{"$f":"IF(UU2>=Inputs!$E$38,$D$26,0)","v":0},{"$f":"IF(UV2>=Inputs!$E$38,$D$26,0)","v":0},{"$f":"IF(UW2>=Inputs!$E$38,$D$26,0)","v":0},{"$f":"IF(UX2>=Inputs!$E$38,$D$26,0)","v":0},{"$f":"IF(UY2>=Inputs!$E$38,$D$26,0)","v":0},{"$f":"IF(UZ2>=Inputs!$E$38,$D$26,0)","v":0},{"$f":"IF(VA2>=Inputs!$E$38,$D$26,0)","v":0},{"$f":"IF(VB2>=Inputs!$E$38,$D$26,0)","v":0},{"$f":"IF(VC2>=Inputs!$E$38,$D$26,0)","v":0},{"$f":"IF(VD2>=Inputs!$E$38,$D$26,0)","v":0},{"$f":"IF(VE2>=Inputs!$E$38,$D$26,0)","v":0},{"$f":"IF(VF2>=Inputs!$E$38,$D$26,0)","v":0},{"$f":"IF(VG2>=Inputs!$E$38,$D$26,0)","v":0},{"$f":"IF(VH2>=Inputs!$E$38,$D$26,0)","v":0},{"$f":"IF(VI2>=Inputs!$E$38,$D$26,0)","v":0},{"$f":"IF(VJ2>=Inputs!$E$38,$D$26,0)","v":0},{"$f":"IF(VK2>=Inputs!$E$38,$D$26,0)","v":0},{"$f":"IF(VL2>=Inputs!$E$38,$D$26,0)","v":0},{"$f":"IF(VM2>=Inputs!$E$38,$D$26,0)","v":0},{"$f":"IF(VN2>=Inputs!$E$38,$D$26,0)","v":0},{"$f":"IF(VO2>=Inputs!$E$38,$D$26,0)","v":0},{"$f":"IF(VP2>=Inputs!$E$38,$D$26,0)","v":0},{"$f":"IF(VQ2>=Inputs!$E$38,$D$26,0)","v":0},{"$f":"IF(VR2>=Inputs!$E$38,$D$26,0)","v":0},{"$f":"IF(VS2>=Inputs!$E$38,$D$26,0)","v":0},{"$f":"IF(VT2>=Inputs!$E$38,$D$26,0)","v":0},{"$f":"IF(VU2>=Inputs!$E$38,$D$26,0)","v":0},{"$f":"IF(VV2>=Inputs!$E$38,$D$26,0)","v":0},{"$f":"IF(VW2>=Inputs!$E$38,$D$26,0)","v":0},{"$f":"IF(VX2>=Inputs!$E$38,$D$26,0)","v":0},{"$f":"IF(VY2>=Inputs!$E$38,$D$26,0)","v":0},{"$f":"IF(VZ2>=Inputs!$E$38,$D$26,0)","v":0},{"$f":"IF(WA2>=Inputs!$E$38,$D$26,0)","v":0},{"$f":"IF(WB2>=Inputs!$E$38,$D$26,0)","v":0},{"$f":"IF(WC2>=Inputs!$E$38,$D$26,0)","v":0},{"$f":"IF(WD2>=Inputs!$E$38,$D$26,0)","v":0},{"$f":"IF(WE2>=Inputs!$E$38,$D$26,0)","v":0},{"$f":"IF(WF2>=Inputs!$E$38,$D$26,0)","v":0},{"$f":"IF(WG2>=Inputs!$E$38,$D$26,0)","v":0},{"$f":"IF(WH2>=Inputs!$E$38,$D$26,0)","v":0},{"$f":"IF(WI2>=Inputs!$E$38,$D$26,0)","v":0},{"$f":"IF(WJ2>=Inputs!$E$38,$D$26,0)","v":0},{"$f":"IF(WK2>=Inputs!$E$38,$D$26,0)","v":0},{"$f":"IF(WL2>=Inputs!$E$38,$D$26,0)","v":0},{"$f":"IF(WM2>=Inputs!$E$38,$D$26,0)","v":0},{"$f":"IF(WN2>=Inputs!$E$38,$D$26,0)","v":0},{"$f":"IF(WO2>=Inputs!$E$38,$D$26,0)","v":0},{"$f":"IF(WP2>=Inputs!$E$38,$D$26,0)","v":0},{"$f":"IF(WQ2>=Inputs!$E$38,$D$26,0)","v":0},{"$f":"IF(WR2>=Inputs!$E$38,$D$26,0)","v":0},{"$f":"IF(WS2>=Inputs!$E$38,$D$26,0)","v":0},{"$f":"IF(WT2>=Inputs!$E$38,$D$26,0)","v":0},{"$f":"IF(WU2>=Inputs!$E$38,$D$26,0)","v":0},{"$f":"IF(WV2>=Inputs!$E$38,$D$26,0)","v":0},{"$f":"IF(WW2>=Inputs!$E$38,$D$26,0)","v":0},{"$f":"IF(WX2>=Inputs!$E$38,$D$26,0)","v":0},{"$f":"IF(WY2>=Inputs!$E$38,$D$26,0)","v":0},{"$f":"IF(WZ2>=Inputs!$E$38,$D$26,0)","v":0},{"$f":"IF(XA2>=Inputs!$E$38,$D$26,0)","v":0},{"$f":"IF(XB2>=Inputs!$E$38,$D$26,0)","v":0},{"$f":"IF(XC2>=Inputs!$E$38,$D$26,0)","v":0},{"$f":"IF(XD2>=Inputs!$E$38,$D$26,0)","v":0},{"$f":"IF(XE2>=Inputs!$E$38,$D$26,0)","v":0},{"$f":"IF(XF2>=Inputs!$E$38,$D$26,0)","v":0},{"$f":"IF(XG2>=Inputs!$E$38,$D$26,0)","v":0},{"$f":"IF(XH2>=Inputs!$E$38,$D$26,0)","v":0},{"$f":"IF(XI2>=Inputs!$E$38,$D$26,0)","v":0},{"$f":"IF(XJ2>=Inputs!$E$38,$D$26,0)","v":0},{"$f":"IF(XK2>=Inputs!$E$38,$D$26,0)","v":0},{"$f":"IF(XL2>=Inputs!$E$38,$D$26,0)","v":0},{"$f":"IF(XM2>=Inputs!$E$38,$D$26,0)","v":0},{"$f":"IF(XN2>=Inputs!$E$38,$D$26,0)","v":0},{"$f":"IF(XO2>=Inputs!$E$38,$D$26,0)","v":0},{"$f":"IF(XP2>=Inputs!$E$38,$D$26,0)","v":0},{"$f":"IF(XQ2>=Inputs!$E$38,$D$26,0)","v":0},{"$f":"IF(XR2>=Inputs!$E$38,$D$26,0)","v":0},{"$f":"IF(XS2>=Inputs!$E$38,$D$26,0)","v":0},{"$f":"IF(XT2>=Inputs!$E$38,$D$26,0)","v":0},{"$f":"IF(XU2>=Inputs!$E$38,$D$26,0)","v":0},{"$f":"IF(XV2>=Inputs!$E$38,$D$26,0)","v":0},{"$f":"IF(XW2>=Inputs!$E$38,$D$26,0)","v":0},{"$f":"IF(XX2>=Inputs!$E$38,$D$26,0)","v":0},{"$f":"IF(XY2>=Inputs!$E$38,$D$26,0)","v":0},{"$f":"IF(XZ2>=Inputs!$E$38,$D$26,0)","v":0},{"$f":"IF(YA2>=Inputs!$E$38,$D$26,0)","v":0},{"$f":"IF(YB2>=Inputs!$E$38,$D$26,0)","v":0},{"$f":"IF(YC2>=Inputs!$E$38,$D$26,0)","v":0},{"$f":"IF(YD2>=Inputs!$E$38,$D$26,0)","v":0},{"$f":"IF(YE2>=Inputs!$E$38,$D$26,0)","v":0},{"$f":"IF(YF2>=Inputs!$E$38,$D$26,0)","v":0},{"$f":"IF(YG2>=Inputs!$E$38,$D$26,0)","v":0},{"$f":"IF(YH2>=Inputs!$E$38,$D$26,0)","v":0},{"$f":"IF(YI2>=Inputs!$E$38,$D$26,0)","v":0},{"$f":"IF(YJ2>=Inputs!$E$38,$D$26,0)","v":0},{"$f":"IF(YK2>=Inputs!$E$38,$D$26,0)","v":0},{"$f":"IF(YL2>=Inputs!$E$38,$D$26,0)","v":0},{"$f":"IF(YM2>=Inputs!$E$38,$D$26,0)","v":0},{"$f":"IF(YN2>=Inputs!$E$38,$D$26,0)","v":0},{"$f":"IF(YO2>=Inputs!$E$38,$D$26,0)","v":0},{"$f":"IF(YP2>=Inputs!$E$38,$D$26,0)","v":0},{"$f":"IF(YQ2>=Inputs!$E$38,$D$26,0)","v":0},{"$f":"IF(YR2>=Inputs!$E$38,$D$26,0)","v":0},{"$f":"IF(YS2>=Inputs!$E$38,$D$26,0)","v":0},{"$f":"IF(YT2>=Inputs!$E$38,$D$26,0)","v":0},{"$f":"IF(YU2>=Inputs!$E$38,$D$26,0)","v":0},{"$f":"IF(YV2>=Inputs!$E$38,$D$26,0)","v":0},{"$f":"IF(YW2>=Inputs!$E$38,$D$26,0)","v":0},{"$f":"IF(YX2>=Inputs!$E$38,$D$26,0)","v":0},{"$f":"IF(YY2>=Inputs!$E$38,$D$26,0)","v":0},{"$f":"IF(YZ2>=Inputs!$E$38,$D$26,0)","v":0},{"$f":"IF(ZA2>=Inputs!$E$38,$D$26,0)","v":0},{"$f":"IF(ZB2>=Inputs!$E$38,$D$26,0)","v":0},{"$f":"IF(ZC2>=Inputs!$E$38,$D$26,0)","v":0},{"$f":"IF(ZD2>=Inputs!$E$38,$D$26,0)","v":0},{"$f":"IF(ZE2>=Inputs!$E$38,$D$26,0)","v":0},{"$f":"IF(ZF2>=Inputs!$E$38,$D$26,0)","v":0},{"$f":"IF(ZG2>=Inputs!$E$38,$D$26,0)","v":0},{"$f":"IF(ZH2>=Inputs!$E$38,$D$26,0)","v":0},{"$f":"IF(ZI2>=Inputs!$E$38,$D$26,0)","v":0},{"$f":"IF(ZJ2>=Inputs!$E$38,$D$26,0)","v":0},{"$f":"IF(ZK2>=Inputs!$E$38,$D$26,0)","v":0},{"$f":"IF(ZL2>=Inputs!$E$38,$D$26,0)","v":0},{"$f":"IF(ZM2>=Inputs!$E$38,$D$26,0)","v":0},{"$f":"IF(ZN2>=Inputs!$E$38,$D$26,0)","v":0},{"$f":"IF(ZO2>=Inputs!$E$38,$D$26,0)","v":0},{"$f":"IF(ZP2>=Inputs!$E$38,$D$26,0)","v":0},{"$f":"IF(ZQ2>=Inputs!$E$38,$D$26,0)","v":0},{"$f":"IF(ZR2>=Inputs!$E$38,$D$26,0)","v":0},{"$f":"IF(ZS2>=Inputs!$E$38,$D$26,0)","v":0},{"$f":"IF(ZT2>=Inputs!$E$38,$D$26,0)","v":0},{"$f":"IF(ZU2>=Inputs!$E$38,$D$26,0)","v":0},{"$f":"IF(ZV2>=Inputs!$E$38,$D$26,0)","v":0},{"$f":"IF(ZW2>=Inputs!$E$38,$D$26,0)","v":0},{"$f":"IF(ZX2>=Inputs!$E$38,$D$26,0)","v":0},{"$f":"IF(ZY2>=Inputs!$E$38,$D$26,0)","v":0},{"$f":"IF(ZZ2>=Inputs!$E$38,$D$26,0)","v":0},{"$f":"IF(AAA2>=Inputs!$E$38,$D$26,0)","v":0},{"$f":"IF(AAB2>=Inputs!$E$38,$D$26,0)","v":0},{"$f":"IF(AAC2>=Inputs!$E$38,$D$26,0)","v":0},{"$f":"IF(AAD2>=Inputs!$E$38,$D$26,0)","v":0},{"$f":"IF(AAE2>=Inputs!$E$38,$D$26,0)","v":0},{"$f":"IF(AAF2>=Inputs!$E$38,$D$26,0)","v":0},{"$f":"IF(AAG2>=Inputs!$E$38,$D$26,0)","v":0},{"$f":"IF(AAH2>=Inputs!$E$38,$D$26,0)","v":0},{"$f":"IF(AAI2>=Inputs!$E$38,$D$26,0)","v":0},{"$f":"IF(AAJ2>=Inputs!$E$38,$D$26,0)","v":0},{"$f":"IF(AAK2>=Inputs!$E$38,$D$26,0)","v":0},{"$f":"IF(AAL2>=Inputs!$E$38,$D$26,0)","v":0},{"$f":"IF(AAM2>=Inputs!$E$38,$D$26,0)","v":0},{"$f":"IF(AAN2>=Inputs!$E$38,$D$26,0)","v":0},{"$f":"IF(AAO2>=Inputs!$E$38,$D$26,0)","v":0},{"$f":"IF(AAP2>=Inputs!$E$38,$D$26,0)","v":0},{"$f":"IF(AAQ2>=Inputs!$E$38,$D$26,0)","v":0},{"$f":"IF(AAR2>=Inputs!$E$38,$D$26,0)","v":0},{"$f":"IF(AAS2>=Inputs!$E$38,$D$26,0)","v":0},{"$f":"IF(AAT2>=Inputs!$E$38,$D$26,0)","v":0},{"$f":"IF(AAU2>=Inputs!$E$38,$D$26,0)","v":0},{"$f":"IF(AAV2>=Inputs!$E$38,$D$26,0)","v":0},{"$f":"IF(AAW2>=Inputs!$E$38,$D$26,0)","v":0},{"$f":"IF(AAX2>=Inputs!$E$38,$D$26,0)","v":0},{"$f":"IF(AAY2>=Inputs!$E$38,$D$26,0)","v":0},{"$f":"IF(AAZ2>=Inputs!$E$38,$D$26,0)","v":0},{"$f":"IF(ABA2>=Inputs!$E$38,$D$26,0)","v":0},{"$f":"IF(ABB2>=Inputs!$E$38,$D$26,0)","v":0},{"$f":"IF(ABC2>=Inputs!$E$38,$D$26,0)","v":0},{"$f":"IF(ABD2>=Inputs!$E$38,$D$26,0)","v":0},{"$f":"IF(ABE2>=Inputs!$E$38,$D$26,0)","v":0},{"$f":"IF(ABF2>=Inputs!$E$38,$D$26,0)","v":0},{"$f":"IF(ABG2>=Inputs!$E$38,$D$26,0)","v":0},{"$f":"IF(ABH2>=Inputs!$E$38,$D$26,0)","v":0},{"$f":"IF(ABI2>=Inputs!$E$38,$D$26,0)","v":0},{"$f":"IF(ABJ2>=Inputs!$E$38,$D$26,0)","v":0},{"$f":"IF(ABK2>=Inputs!$E$38,$D$26,0)","v":0},{"$f":"IF(ABL2>=Inputs!$E$38,$D$26,0)","v":0},{"$f":"IF(ABM2>=Inputs!$E$38,$D$26,0)","v":0},{"$f":"IF(ABN2>=Inputs!$E$38,$D$26,0)","v":0},{"$f":"IF(ABO2>=Inputs!$E$38,$D$26,0)","v":0},{"$f":"IF(ABP2>=Inputs!$E$38,$D$26,0)","v":0},{"$f":"IF(ABQ2>=Inputs!$E$38,$D$26,0)","v":0},{"$f":"IF(ABR2>=Inputs!$E$38,$D$26,0)","v":0},{"$f":"IF(ABS2>=Inputs!$E$38,$D$26,0)","v":0},{"$f":"IF(ABT2>=Inputs!$E$38,$D$26,0)","v":0},{"$f":"IF(ABU2>=Inputs!$E$38,$D$26,0)","v":0},{"$f":"IF(ABV2>=Inputs!$E$38,$D$26,0)","v":0},{"$f":"IF(ABW2>=Inputs!$E$38,$D$26,0)","v":0},{"$f":"IF(ABX2>=Inputs!$E$38,$D$26,0)","v":0},{"$f":"IF(ABY2>=Inputs!$E$38,$D$26,0)","v":0},{"$f":"IF(ABZ2>=Inputs!$E$38,$D$26,0)","v":0},{"$f":"IF(ACA2>=Inputs!$E$38,$D$26,0)","v":0},{"$f":"IF(ACB2>=Inputs!$E$38,$D$26,0)","v":0},{"$f":"IF(ACC2>=Inputs!$E$38,$D$26,0)","v":0},{"$f":"IF(ACD2>=Inputs!$E$38,$D$26,0)","v":0},{"$f":"IF(ACE2>=Inputs!$E$38,$D$26,0)","v":0},{"$f":"IF(ACF2>=Inputs!$E$38,$D$26,0)","v":0},{"$f":"IF(ACG2>=Inputs!$E$38,$D$26,0)","v":0},{"$f":"IF(ACH2>=Inputs!$E$38,$D$26,0)","v":0},{"$f":"IF(ACI2>=Inputs!$E$38,$D$26,0)","v":0},{"$f":"IF(ACJ2>=Inputs!$E$38,$D$26,0)","v":0},{"$f":"IF(ACK2>=Inputs!$E$38,$D$26,0)","v":0},{"$f":"IF(ACL2>=Inputs!$E$38,$D$26,0)","v":0},{"$f":"IF(ACM2>=Inputs!$E$38,$D$26,0)","v":0},{"$f":"IF(ACN2>=Inputs!$E$38,$D$26,0)","v":0},{"$f":"IF(ACO2>=Inputs!$E$38,$D$26,0)","v":0},{"$f":"IF(ACP2>=Inputs!$E$38,$D$26,0)","v":0},{"$f":"IF(ACQ2>=Inputs!$E$38,$D$26,0)","v":0},{"$f":"IF(ACR2>=Inputs!$E$38,$D$26,0)","v":0},{"$f":"IF(ACS2>=Inputs!$E$38,$D$26,0)","v":0},{"$f":"IF(ACT2>=Inputs!$E$38,$D$26,0)","v":0},{"$f":"IF(ACU2>=Inputs!$E$38,$D$26,0)","v":0},{"$f":"IF(ACV2>=Inputs!$E$38,$D$26,0)","v":0},{"$f":"IF(ACW2>=Inputs!$E$38,$D$26,0)","v":0},{"$f":"IF(ACX2>=Inputs!$E$38,$D$26,0)","v":0},{"$f":"IF(ACY2>=Inputs!$E$38,$D$26,0)","v":0},{"$f":"IF(ACZ2>=Inputs!$E$38,$D$26,0)","v":0},{"$f":"IF(ADA2>=Inputs!$E$38,$D$26,0)","v":0},{"$f":"IF(ADB2>=Inputs!$E$38,$D$26,0)","v":0},{"$f":"IF(ADC2>=Inputs!$E$38,$D$26,0)","v":0},{"$f":"IF(ADD2>=Inputs!$E$38,$D$26,0)","v":0},{"$f":"IF(ADE2>=Inputs!$E$38,$D$26,0)","v":0},{"$f":"IF(ADF2>=Inputs!$E$38,$D$26,0)","v":0},{"$f":"IF(ADG2>=Inputs!$E$38,$D$26,0)","v":0},{"$f":"IF(ADH2>=Inputs!$E$38,$D$26,0)","v":0},{"$f":"IF(ADI2>=Inputs!$E$38,$D$26,0)","v":0},{"$f":"IF(ADJ2>=Inputs!$E$38,$D$26,0)","v":0},{"$f":"IF(ADK2>=Inputs!$E$38,$D$26,0)","v":0},{"$f":"IF(ADL2>=Inputs!$E$38,$D$26,0)","v":0},{"$f":"IF(ADM2>=Inputs!$E$38,$D$26,0)","v":0},{"$f":"IF(ADN2>=Inputs!$E$38,$D$26,0)","v":0},{"$f":"IF(ADO2>=Inputs!$E$38,$D$26,0)","v":0},{"$f":"IF(ADP2>=Inputs!$E$38,$D$26,0)","v":0},{"$f":"IF(ADQ2>=Inputs!$E$38,$D$26,0)","v":0},{"$f":"IF(ADR2>=Inputs!$E$38,$D$26,0)","v":0},{"$f":"IF(ADS2>=Inputs!$E$38,$D$26,0)","v":0},{"$f":"IF(ADT2>=Inputs!$E$38,$D$26,0)","v":0},{"$f":"IF(ADU2>=Inputs!$E$38,$D$26,0)","v":0},{"$f":"IF(ADV2>=Inputs!$E$38,$D$26,0)","v":0},{"$f":"IF(ADW2>=Inputs!$E$38,$D$26,0)","v":0},{"$f":"IF(ADX2>=Inputs!$E$38,$D$26,0)","v":0},{"$f":"IF(ADY2>=Inputs!$E$38,$D$26,0)","v":0},{"$f":"IF(ADZ2>=Inputs!$E$38,$D$26,0)","v":0},{"$f":"IF(AEA2>=Inputs!$E$38,$D$26,0)","v":0},{"$f":"IF(AEB2>=Inputs!$E$38,$D$26,0)","v":0},{"$f":"IF(AEC2>=Inputs!$E$38,$D$26,0)","v":0},{"$f":"IF(AED2>=Inputs!$E$38,$D$26,0)","v":0},{"$f":"IF(AEE2>=Inputs!$E$38,$D$26,0)","v":0},{"$f":"IF(AEF2>=Inputs!$E$38,$D$26,0)","v":0},{"$f":"IF(AEG2>=Inputs!$E$38,$D$26,0)","v":0},{"$f":"IF(AEH2>=Inputs!$E$38,$D$26,0)","v":0},{"$f":"IF(AEI2>=Inputs!$E$38,$D$26,0)","v":0},{"$f":"IF(AEJ2>=Inputs!$E$38,$D$26,0)","v":0},{"$f":"IF(AEK2>=Inputs!$E$38,$D$26,0)","v":0},{"$f":"IF(AEL2>=Inputs!$E$38,$D$26,0)","v":0},{"$f":"IF(AEM2>=Inputs!$E$38,$D$26,0)","v":0},{"$f":"IF(AEN2>=Inputs!$E$38,$D$26,0)","v":0},{"$f":"IF(AEO2>=Inputs!$E$38,$D$26,0)","v":0},{"$f":"IF(AEP2>=Inputs!$E$38,$D$26,0)","v":0},{"$f":"IF(AEQ2>=Inputs!$E$38,$D$26,0)","v":0},{"$f":"IF(AER2>=Inputs!$E$38,$D$26,0)","v":0},{"$f":"IF(AES2>=Inputs!$E$38,$D$26,0)","v":0},{"$f":"IF(AET2>=Inputs!$E$38,$D$26,0)","v":0},{"$f":"IF(AEU2>=Inputs!$E$38,$D$26,0)","v":0},{"$f":"IF(AEV2>=Inputs!$E$38,$D$26,0)","v":0},{"$f":"IF(AEW2>=Inputs!$E$38,$D$26,0)","v":0},{"$f":"IF(AEX2>=Inputs!$E$38,$D$26,0)","v":0},{"$f":"IF(AEY2>=Inputs!$E$38,$D$26,0)","v":0},{"$f":"IF(AEZ2>=Inputs!$E$38,$D$26,0)","v":0},{"$f":"IF(AFA2>=Inputs!$E$38,$D$26,0)","v":0},{"$f":"IF(AFB2>=Inputs!$E$38,$D$26,0)","v":0},{"$f":"IF(AFC2>=Inputs!$E$38,$D$26,0)","v":0},{"$f":"IF(AFD2>=Inputs!$E$38,$D$26,0)","v":0},{"$f":"IF(AFE2>=Inputs!$E$38,$D$26,0)","v":0},{"$f":"IF(AFF2>=Inputs!$E$38,$D$26,0)","v":0},{"$f":"IF(AFG2>=Inputs!$E$38,$D$26,0)","v":0},{"$f":"IF(AFH2>=Inputs!$E$38,$D$26,0)","v":0},{"$f":"IF(AFI2>=Inputs!$E$38,$D$26,0)","v":0},{"$f":"IF(AFJ2>=Inputs!$E$38,$D$26,0)","v":0},{"$f":"IF(AFK2>=Inputs!$E$38,$D$26,0)","v":0},{"$f":"IF(AFL2>=Inputs!$E$38,$D$26,0)","v":0},{"$f":"IF(AFM2>=Inputs!$E$38,$D$26,0)","v":0},{"$f":"IF(AFN2>=Inputs!$E$38,$D$26,0)","v":0},{"$f":"IF(AFO2>=Inputs!$E$38,$D$26,0)","v":0},{"$f":"IF(AFP2>=Inputs!$E$38,$D$26,0)","v":0},{"$f":"IF(AFQ2>=Inputs!$E$38,$D$26,0)","v":0},{"$f":"IF(AFR2>=Inputs!$E$38,$D$26,0)","v":0},{"$f":"IF(AFS2>=Inputs!$E$38,$D$26,0)","v":0},{"$f":"IF(AFT2>=Inputs!$E$38,$D$26,0)","v":0},{"$f":"IF(AFU2>=Inputs!$E$38,$D$26,0)","v":0},{"$f":"IF(AFV2>=Inputs!$E$38,$D$26,0)","v":0},{"$f":"IF(AFW2>=Inputs!$E$38,$D$26,0)","v":0},{"$f":"IF(AFX2>=Inputs!$E$38,$D$26,0)","v":0},{"$f":"IF(AFY2>=Inputs!$E$38,$D$26,0)","v":0},{"$f":"IF(AFZ2>=Inputs!$E$38,$D$26,0)","v":0},{"$f":"IF(AGA2>=Inputs!$E$38,$D$26,0)","v":0},{"$f":"IF(AGB2>=Inputs!$E$38,$D$26,0)","v":0},{"$f":"IF(AGC2>=Inputs!$E$38,$D$26,0)","v":0},{"$f":"IF(AGD2>=Inputs!$E$38,$D$26,0)","v":0},{"$f":"IF(AGE2>=Inputs!$E$38,$D$26,0)","v":0},{"$f":"IF(AGF2>=Inputs!$E$38,$D$26,0)","v":0},{"$f":"IF(AGG2>=Inputs!$E$38,$D$26,0)","v":0},{"$f":"IF(AGH2>=Inputs!$E$38,$D$26,0)","v":0},{"$f":"IF(AGI2>=Inputs!$E$38,$D$26,0)","v":0},{"$f":"IF(AGJ2>=Inputs!$E$38,$D$26,0)","v":0},{"$f":"IF(AGK2>=Inputs!$E$38,$D$26,0)","v":0},{"$f":"IF(AGL2>=Inputs!$E$38,$D$26,0)","v":0},{"$f":"IF(AGM2>=Inputs!$E$38,$D$26,0)","v":0},{"$f":"IF(AGN2>=Inputs!$E$38,$D$26,0)","v":0},{"$f":"IF(AGO2>=Inputs!$E$38,$D$26,0)","v":0},{"$f":"IF(AGP2>=Inputs!$E$38,$D$26,0)","v":0},{"$f":"IF(AGQ2>=Inputs!$E$38,$D$26,0)","v":0},{"$f":"IF(AGR2>=Inputs!$E$38,$D$26,0)","v":0},{"$f":"IF(AGS2>=Inputs!$E$38,$D$26,0)","v":0},{"$f":"IF(AGT2>=Inputs!$E$38,$D$26,0)","v":0},{"$f":"IF(AGU2>=Inputs!$E$38,$D$26,0)","v":0},{"$f":"IF(AGV2>=Inputs!$E$38,$D$26,0)","v":0},{"$f":"IF(AGW2>=Inputs!$E$38,$D$26,0)","v":0},{"$f":"IF(AGX2>=Inputs!$E$38,$D$26,0)","v":0},{"$f":"IF(AGY2>=Inputs!$E$38,$D$26,0)","v":0},{"$f":"IF(AGZ2>=Inputs!$E$38,$D$26,0)","v":0},{"$f":"IF(AHA2>=Inputs!$E$38,$D$26,0)","v":0},{"$f":"IF(AHB2>=Inputs!$E$38,$D$26,0)","v":0},{"$f":"IF(AHC2>=Inputs!$E$38,$D$26,0)","v":0},{"$f":"IF(AHD2>=Inputs!$E$38,$D$26,0)","v":0},{"$f":"IF(AHE2>=Inputs!$E$38,$D$26,0)","v":0},{"$f":"IF(AHF2>=Inputs!$E$38,$D$26,0)","v":0},{"$f":"IF(AHG2>=Inputs!$E$38,$D$26,0)","v":0},{"$f":"IF(AHH2>=Inputs!$E$38,$D$26,0)","v":0},{"$f":"IF(AHI2>=Inputs!$E$38,$D$26,0)","v":0},{"$f":"IF(AHJ2>=Inputs!$E$38,$D$26,0)","v":0},{"$f":"IF(AHK2>=Inputs!$E$38,$D$26,0)","v":0},{"$f":"IF(AHL2>=Inputs!$E$38,$D$26,0)","v":0},{"$f":"IF(AHM2>=Inputs!$E$38,$D$26,0)","v":0},{"$f":"IF(AHN2>=Inputs!$E$38,$D$26,0)","v":0},{"$f":"IF(AHO2>=Inputs!$E$38,$D$26,0)","v":0},{"$f":"IF(AHP2>=Inputs!$E$38,$D$26,0)","v":0},{"$f":"IF(AHQ2>=Inputs!$E$38,$D$26,0)","v":0},{"$f":"IF(AHR2>=Inputs!$E$38,$D$26,0)","v":0},{"$f":"IF(AHS2>=Inputs!$E$38,$D$26,0)","v":0},{"$f":"IF(AHT2>=Inputs!$E$38,$D$26,0)","v":0},{"$f":"IF(AHU2>=Inputs!$E$38,$D$26,0)","v":0},{"$f":"IF(AHV2>=Inputs!$E$38,$D$26,0)","v":0},{"$f":"IF(AHW2>=Inputs!$E$38,$D$26,0)","v":0},{"$f":"IF(AHX2>=Inputs!$E$38,$D$26,0)","v":0},{"$f":"IF(AHY2>=Inputs!$E$38,$D$26,0)","v":0},{"$f":"IF(AHZ2>=Inputs!$E$38,$D$26,0)","v":0},{"$f":"IF(AIA2>=Inputs!$E$38,$D$26,0)","v":0},{"$f":"IF(AIB2>=Inputs!$E$38,$D$26,0)","v":0},{"$f":"IF(AIC2>=Inputs!$E$38,$D$26,0)","v":0},{"$f":"IF(AID2>=Inputs!$E$38,$D$26,0)","v":0},{"$f":"IF(AIE2>=Inputs!$E$38,$D$26,0)","v":0},{"$f":"IF(AIF2>=Inputs!$E$38,$D$26,0)","v":0},{"$f":"IF(AIG2>=Inputs!$E$38,$D$26,0)","v":0},{"$f":"IF(AIH2>=Inputs!$E$38,$D$26,0)","v":0},{"$f":"IF(AII2>=Inputs!$E$38,$D$26,0)","v":0},{"$f":"IF(AIJ2>=Inputs!$E$38,$D$26,0)","v":0},{"$f":"IF(AIK2>=Inputs!$E$38,$D$26,0)","v":0},{"$f":"IF(AIL2>=Inputs!$E$38,$D$26,0)","v":0},{"$f":"IF(AIM2>=Inputs!$E$38,$D$26,0)","v":0},{"$f":"IF(AIN2>=Inputs!$E$38,$D$26,0)","v":0},{"$f":"IF(AIO2>=Inputs!$E$38,$D$26,0)","v":0},{"$f":"IF(AIP2>=Inputs!$E$38,$D$26,0)","v":0},{"$f":"IF(AIQ2>=Inputs!$E$38,$D$26,0)","v":0},{"$f":"IF(AIR2>=Inputs!$E$38,$D$26,0)","v":0},{"$f":"IF(AIS2>=Inputs!$E$38,$D$26,0)","v":0},{"$f":"IF(AIT2>=Inputs!$E$38,$D$26,0)","v":0},{"$f":"IF(AIU2>=Inputs!$E$38,$D$26,0)","v":0},{"$f":"IF(AIV2>=Inputs!$E$38,$D$26,0)","v":0},{"$f":"IF(AIW2>=Inputs!$E$38,$D$26,0)","v":0},{"$f":"IF(AIX2>=Inputs!$E$38,$D$26,0)","v":0},{"$f":"IF(AIY2>=Inputs!$E$38,$D$26,0)","v":0},{"$f":"IF(AIZ2>=Inputs!$E$38,$D$26,0)","v":0},{"$f":"IF(AJA2>=Inputs!$E$38,$D$26,0)","v":0},{"$f":"IF(AJB2>=Inputs!$E$38,$D$26,0)","v":0},{"$f":"IF(AJC2>=Inputs!$E$38,$D$26,0)","v":0},{"$f":"IF(AJD2>=Inputs!$E$38,$D$26,0)","v":0},{"$f":"IF(AJE2>=Inputs!$E$38,$D$26,0)","v":0},{"$f":"IF(AJF2>=Inputs!$E$38,$D$26,0)","v":0},{"$f":"IF(AJG2>=Inputs!$E$38,$D$26,0)","v":0},{"$f":"IF(AJH2>=Inputs!$E$38,$D$26,0)","v":0},{"$f":"IF(AJI2>=Inputs!$E$38,$D$26,0)","v":0},{"$f":"IF(AJJ2>=Inputs!$E$38,$D$26,0)","v":0},{"$f":"IF(AJK2>=Inputs!$E$38,$D$26,0)","v":0},{"$f":"IF(AJL2>=Inputs!$E$38,$D$26,0)","v":0},{"$f":"IF(AJM2>=Inputs!$E$38,$D$26,0)","v":0},{"$f":"IF(AJN2>=Inputs!$E$38,$D$26,0)","v":0},{"$f":"IF(AJO2>=Inputs!$E$38,$D$26,0)","v":0},{"$f":"IF(AJP2>=Inputs!$E$38,$D$26,0)","v":0},{"$f":"IF(AJQ2>=Inputs!$E$38,$D$26,0)","v":0},{"$f":"IF(AJR2>=Inputs!$E$38,$D$26,0)","v":0},{"$f":"IF(AJS2>=Inputs!$E$38,$D$26,0)","v":0},{"$f":"IF(AJT2>=Inputs!$E$38,$D$26,0)","v":0},{"$f":"IF(AJU2>=Inputs!$E$38,$D$26,0)","v":0},{"$f":"IF(AJV2>=Inputs!$E$38,$D$26,0)","v":0},{"$f":"IF(AJW2>=Inputs!$E$38,$D$26,0)","v":0},{"$f":"IF(AJX2>=Inputs!$E$38,$D$26,0)","v":0},{"$f":"IF(AJY2>=Inputs!$E$38,$D$26,0)","v":0},{"$f":"IF(AJZ2>=Inputs!$E$38,$D$26,0)","v":0},{"$f":"IF(AKA2>=Inputs!$E$38,$D$26,0)","v":0},{"$f":"IF(AKB2>=Inputs!$E$38,$D$26,0)","v":0},{"$f":"IF(AKC2>=Inputs!$E$38,$D$26,0)","v":0},{"$f":"IF(AKD2>=Inputs!$E$38,$D$26,0)","v":0},{"$f":"IF(AKE2>=Inputs!$E$38,$D$26,0)","v":0},{"$f":"IF(AKF2>=Inputs!$E$38,$D$26,0)","v":0},{"$f":"IF(AKG2>=Inputs!$E$38,$D$26,0)","v":0},{"$f":"IF(AKH2>=Inputs!$E$38,$D$26,0)","v":0},{"$f":"IF(AKI2>=Inputs!$E$38,$D$26,0)","v":0},{"$f":"IF(AKJ2>=Inputs!$E$38,$D$26,0)","v":0},{"$f":"IF(AKK2>=Inputs!$E$38,$D$26,0)","v":0},{"$f":"IF(AKL2>=Inputs!$E$38,$D$26,0)","v":0},{"$f":"IF(AKM2>=Inputs!$E$38,$D$26,0)","v":0},{"$f":"IF(AKN2>=Inputs!$E$38,$D$26,0)","v":0},{"$f":"IF(AKO2>=Inputs!$E$38,$D$26,0)","v":0},{"$f":"IF(AKP2>=Inputs!$E$38,$D$26,0)","v":0},{"$f":"IF(AKQ2>=Inputs!$E$38,$D$26,0)","v":0},{"$f":"IF(AKR2>=Inputs!$E$38,$D$26,0)","v":0},{"$f":"IF(AKS2>=Inputs!$E$38,$D$26,0)","v":0},{"$f":"IF(AKT2>=Inputs!$E$38,$D$26,0)","v":0},{"$f":"IF(AKU2>=Inputs!$E$38,$D$26,0)","v":0},{"$f":"IF(AKV2>=Inputs!$E$38,$D$26,0)","v":0},{"$f":"IF(AKW2>=Inputs!$E$38,$D$26,0)","v":0},{"$f":"IF(AKX2>=Inputs!$E$38,$D$26,0)","v":0},{"$f":"IF(AKY2>=Inputs!$E$38,$D$26,0)","v":0},{"$f":"IF(AKZ2>=Inputs!$E$38,$D$26,0)","v":0},{"$f":"IF(ALA2>=Inputs!$E$38,$D$26,0)","v":0},{"$f":"IF(ALB2>=Inputs!$E$38,$D$26,0)","v":0},{"$f":"IF(ALC2>=Inputs!$E$38,$D$26,0)","v":0},{"$f":"IF(ALD2>=Inputs!$E$38,$D$26,0)","v":0},{"$f":"IF(ALE2>=Inputs!$E$38,$D$26,0)","v":0},{"$f":"IF(ALF2>=Inputs!$E$38,$D$26,0)","v":0},{"$f":"IF(ALG2>=Inputs!$E$38,$D$26,0)","v":0},{"$f":"IF(ALH2>=Inputs!$E$38,$D$26,0)","v":0},{"$f":"IF(ALI2>=Inputs!$E$38,$D$26,0)","v":0},{"$f":"IF(ALJ2>=Inputs!$E$38,$D$26,0)","v":0},{"$f":"IF(ALK2>=Inputs!$E$38,$D$26,0)","v":0},{"$f":"IF(ALL2>=Inputs!$E$38,$D$26,0)","v":0},{"$f":"IF(ALM2>=Inputs!$E$38,$D$26,0)","v":0},{"$f":"IF(ALN2>=Inputs!$E$38,$D$26,0)","v":0},{"$f":"IF(ALO2>=Inputs!$E$38,$D$26,0)","v":0},{"$f":"IF(ALP2>=Inputs!$E$38,$D$26,0)","v":0},{"$f":"IF(ALQ2>=Inputs!$E$38,$D$26,0)","v":0},{"$f":"IF(ALR2>=Inputs!$E$38,$D$26,0)","v":0},{"$f":"IF(ALS2>=Inputs!$E$38,$D$26,0)","v":0},{"$f":"IF(ALT2>=Inputs!$E$38,$D$26,0)","v":0},{"$f":"IF(ALU2>=Inputs!$E$38,$D$26,0)","v":0},{"$f":"IF(ALV2>=Inputs!$E$38,$D$26,0)","v":0},{"$f":"IF(ALW2>=Inputs!$E$38,$D$26,0)","v":0},{"$f":"IF(ALX2>=Inputs!$E$38,$D$26,0)","v":0},{"$f":"IF(ALY2>=Inputs!$E$38,$D$26,0)","v":0},{"$f":"IF(ALZ2>=Inputs!$E$38,$D$26,0)","v":0},{"$f":"IF(AMA2>=Inputs!$E$38,$D$26,0)","v":0},{"$f":"IF(AMB2>=Inputs!$E$38,$D$26,0)","v":0},{"$f":"IF(AMC2>=Inputs!$E$38,$D$26,0)","v":0},{"$f":"IF(AMD2>=Inputs!$E$38,$D$26,0)","v":0},{"$f":"IF(AME2>=Inputs!$E$38,$D$26,0)","v":0},{"$f":"IF(AMF2>=Inputs!$E$38,$D$26,0)","v":0},{"$f":"IF(AMG2>=Inputs!$E$38,$D$26,0)","v":0},{"$f":"IF(AMH2>=Inputs!$E$38,$D$26,0)","v":0},{"$f":"IF(AMI2>=Inputs!$E$38,$D$26,0)","v":0},{"$f":"IF(AMJ2>=Inputs!$E$38,$D$26,0)","v":0},{"$f":"IF(AMK2>=Inputs!$E$38,$D$26,0)","v":0},{"$f":"IF(AML2>=Inputs!$E$38,$D$26,0)","v":0},{"$f":"IF(AMM2>=Inputs!$E$38,$D$26,0)","v":0},{"$f":"IF(AMN2>=Inputs!$E$38,$D$26,0)","v":0},{"$f":"IF(AMO2>=Inputs!$E$38,$D$26,0)","v":0},{"$f":"IF(AMP2>=Inputs!$E$38,$D$26,0)","v":0},{"$f":"IF(AMQ2>=Inputs!$E$38,$D$26,0)","v":0},{"$f":"IF(AMR2>=Inputs!$E$38,$D$26,0)","v":0},{"$f":"IF(AMS2>=Inputs!$E$38,$D$26,0)","v":0},{"$f":"IF(AMT2>=Inputs!$E$38,$D$26,0)","v":0},{"$f":"IF(AMU2>=Inputs!$E$38,$D$26,0)","v":0},{"$f":"IF(AMV2>=Inputs!$E$38,$D$26,0)","v":0},{"$f":"IF(AMW2>=Inputs!$E$38,$D$26,0)","v":0},{"$f":"IF(AMX2>=Inputs!$E$38,$D$26,0)","v":0},{"$f":"IF(AMY2>=Inputs!$E$38,$D$26,0)","v":0},{"$f":"IF(AMZ2>=Inputs!$E$38,$D$26,0)","v":0},{"$f":"IF(ANA2>=Inputs!$E$38,$D$26,0)","v":0},{"$f":"IF(ANB2>=Inputs!$E$38,$D$26,0)","v":0},{"$f":"IF(ANC2>=Inputs!$E$38,$D$26,0)","v":0},{"$f":"IF(AND2>=Inputs!$E$38,$D$26,0)","v":0},{"$f":"IF(ANE2>=Inputs!$E$38,$D$26,0)","v":0},{"$f":"IF(ANF2>=Inputs!$E$38,$D$26,0)","v":0},{"$f":"IF(ANG2>=Inputs!$E$38,$D$26,0)","v":0},{"$f":"IF(ANH2>=Inputs!$E$38,$D$26,0)","v":0},{"$f":"IF(ANI2>=Inputs!$E$38,$D$26,0)","v":0},{"$f":"IF(ANJ2>=Inputs!$E$38,$D$26,0)","v":0},{"$f":"IF(ANK2>=Inputs!$E$38,$D$26,0)","v":0},{"$f":"IF(ANL2>=Inputs!$E$38,$D$26,0)","v":0},{"$f":"IF(ANM2>=Inputs!$E$38,$D$26,0)","v":0},{"$f":"IF(ANN2>=Inputs!$E$38,$D$26,0)","v":0},{"$f":"IF(ANO2>=Inputs!$E$38,$D$26,0)","v":0},{"$f":"IF(ANP2>=Inputs!$E$38,$D$26,0)","v":0},{"$f":"IF(ANQ2>=Inputs!$E$38,$D$26,0)","v":0},{"$f":"IF(ANR2>=Inputs!$E$38,$D$26,0)","v":0},{"$f":"IF(ANS2>=Inputs!$E$38,$D$26,0)","v":0},{"$f":"IF(ANT2>=Inputs!$E$38,$D$26,0)","v":0},{"$f":"IF(ANU2>=Inputs!$E$38,$D$26,0)","v":0},{"$f":"IF(ANV2>=Inputs!$E$38,$D$26,0)","v":0},{"$f":"IF(ANW2>=Inputs!$E$38,$D$26,0)","v":0},{"$f":"IF(ANX2>=Inputs!$E$38,$D$26,0)","v":0},{"$f":"IF(ANY2>=Inputs!$E$38,$D$26,0)","v":0},{"$f":"IF(ANZ2>=Inputs!$E$38,$D$26,0)","v":0},{"$f":"IF(AOA2>=Inputs!$E$38,$D$26,0)","v":0},{"$f":"IF(AOB2>=Inputs!$E$38,$D$26,0)","v":0},{"$f":"IF(AOC2>=Inputs!$E$38,$D$26,0)","v":0},{"$f":"IF(AOD2>=Inputs!$E$38,$D$26,0)","v":0},{"$f":"IF(AOE2>=Inputs!$E$38,$D$26,0)","v":0},{"$f":"IF(AOF2>=Inputs!$E$38,$D$26,0)","v":0},{"$f":"IF(AOG2>=Inputs!$E$38,$D$26,0)","v":0},{"$f":"IF(AOH2>=Inputs!$E$38,$D$26,0)","v":0},{"$f":"IF(AOI2>=Inputs!$E$38,$D$26,0)","v":0},{"$f":"IF(AOJ2>=Inputs!$E$38,$D$26,0)","v":0},{"$f":"IF(AOK2>=Inputs!$E$38,$D$26,0)","v":0},{"$f":"IF(AOL2>=Inputs!$E$38,$D$26,0)","v":0},{"$f":"IF(AOM2>=Inputs!$E$38,$D$26,0)","v":0},{"$f":"IF(AON2>=Inputs!$E$38,$D$26,0)","v":0},{"$f":"IF(AOO2>=Inputs!$E$38,$D$26,0)","v":0},{"$f":"IF(AOP2>=Inputs!$E$38,$D$26,0)","v":0},{"$f":"IF(AOQ2>=Inputs!$E$38,$D$26,0)","v":0},{"$f":"IF(AOR2>=Inputs!$E$38,$D$26,0)","v":0},{"$f":"IF(AOS2>=Inputs!$E$38,$D$26,0)","v":0},{"$f":"IF(AOT2>=Inputs!$E$38,$D$26,0)","v":0},{"$f":"IF(AOU2>=Inputs!$E$38,$D$26,0)","v":0},{"$f":"IF(AOV2>=Inputs!$E$38,$D$26,0)","v":0},{"$f":"IF(AOW2>=Inputs!$E$38,$D$26,0)","v":0},{"$f":"IF(AOX2>=Inputs!$E$38,$D$26,0)","v":0},{"$f":"IF(AOY2>=Inputs!$E$38,$D$26,0)","v":0},{"$f":"IF(AOZ2>=Inputs!$E$38,$D$26,0)","v":0},{"$f":"IF(APA2>=Inputs!$E$38,$D$26,0)","v":0},{"$f":"IF(APB2>=Inputs!$E$38,$D$26,0)","v":0},{"$f":"IF(APC2>=Inputs!$E$38,$D$26,0)","v":0},{"$f":"IF(APD2>=Inputs!$E$38,$D$26,0)","v":0},{"$f":"IF(APE2>=Inputs!$E$38,$D$26,0)","v":0},{"$f":"IF(APF2>=Inputs!$E$38,$D$26,0)","v":0},{"$f":"IF(APG2>=Inputs!$E$38,$D$26,0)","v":0},{"$f":"IF(APH2>=Inputs!$E$38,$D$26,0)","v":0},{"$f":"IF(API2>=Inputs!$E$38,$D$26,0)","v":0},{"$f":"IF(APJ2>=Inputs!$E$38,$D$26,0)","v":0},{"$f":"IF(APK2>=Inputs!$E$38,$D$26,0)","v":0},{"$f":"IF(APL2>=Inputs!$E$38,$D$26,0)","v":0},{"$f":"IF(APM2>=Inputs!$E$38,$D$26,0)","v":0},{"$f":"IF(APN2>=Inputs!$E$38,$D$26,0)","v":0},{"$f":"IF(APO2>=Inputs!$E$38,$D$26,0)","v":0},{"$f":"IF(APP2>=Inputs!$E$38,$D$26,0)","v":0},{"$f":"IF(APQ2>=Inputs!$E$38,$D$26,0)","v":0},{"$f":"IF(APR2>=Inputs!$E$38,$D$26,0)","v":0},{"$f":"IF(APS2>=Inputs!$E$38,$D$26,0)","v":0},{"$f":"IF(APT2>=Inputs!$E$38,$D$26,0)","v":0},{"$f":"IF(APU2>=Inputs!$E$38,$D$26,0)","v":0},{"$f":"IF(APV2>=Inputs!$E$38,$D$26,0)","v":0},{"$f":"IF(APW2>=Inputs!$E$38,$D$26,0)","v":0},{"$f":"IF(APX2>=Inputs!$E$38,$D$26,0)","v":0},{"$f":"IF(APY2>=Inputs!$E$38,$D$26,0)","v":0},{"$f":"IF(APZ2>=Inputs!$E$38,$D$26,0)","v":0},{"$f":"IF(AQA2>=Inputs!$E$38,$D$26,0)","v":0},{"$f":"IF(AQB2>=Inputs!$E$38,$D$26,0)","v":0},{"$f":"IF(AQC2>=Inputs!$E$38,$D$26,0)","v":0},{"$f":"IF(AQD2>=Inputs!$E$38,$D$26,0)","v":0},{"$f":"IF(AQE2>=Inputs!$E$38,$D$26,0)","v":0},{"$f":"IF(AQF2>=Inputs!$E$38,$D$26,0)","v":0},{"$f":"IF(AQG2>=Inputs!$E$38,$D$26,0)","v":0},{"$f":"IF(AQH2>=Inputs!$E$38,$D$26,0)","v":0},{"$f":"IF(AQI2>=Inputs!$E$38,$D$26,0)","v":0},{"$f":"IF(AQJ2>=Inputs!$E$38,$D$26,0)","v":0},{"$f":"IF(AQK2>=Inputs!$E$38,$D$26,0)","v":0},{"$f":"IF(AQL2>=Inputs!$E$38,$D$26,0)","v":0},{"$f":"IF(AQM2>=Inputs!$E$38,$D$26,0)","v":0},{"$f":"IF(AQN2>=Inputs!$E$38,$D$26,0)","v":0},{"$f":"IF(AQO2>=Inputs!$E$38,$D$26,0)","v":0},{"$f":"IF(AQP2>=Inputs!$E$38,$D$26,0)","v":0},{"$f":"IF(AQQ2>=Inputs!$E$38,$D$26,0)","v":0},{"$f":"IF(AQR2>=Inputs!$E$38,$D$26,0)","v":0},{"$f":"IF(AQS2>=Inputs!$E$38,$D$26,0)","v":0},{"$f":"IF(AQT2>=Inputs!$E$38,$D$26,0)","v":0},{"$f":"IF(AQU2>=Inputs!$E$38,$D$26,0)","v":0},{"$f":"IF(AQV2>=Inputs!$E$38,$D$26,0)","v":0},{"$f":"IF(AQW2>=Inputs!$E$38,$D$26,0)","v":0},{"$f":"IF(AQX2>=Inputs!$E$38,$D$26,0)","v":0},{"$f":"IF(AQY2>=Inputs!$E$38,$D$26,0)","v":0},{"$f":"IF(AQZ2>=Inputs!$E$38,$D$26,0)","v":0},{"$f":"IF(ARA2>=Inputs!$E$38,$D$26,0)","v":0},{"$f":"IF(ARB2>=Inputs!$E$38,$D$26,0)","v":0},{"$f":"IF(ARC2>=Inputs!$E$38,$D$26,0)","v":0},{"$f":"IF(ARD2>=Inputs!$E$38,$D$26,0)","v":0},{"$f":"IF(ARE2>=Inputs!$E$38,$D$26,0)","v":0},{"$f":"IF(ARF2>=Inputs!$E$38,$D$26,0)","v":0},{"$f":"IF(ARG2>=Inputs!$E$38,$D$26,0)","v":0},{"$f":"IF(ARH2>=Inputs!$E$38,$D$26,0)","v":0},{"$f":"IF(ARI2>=Inputs!$E$38,$D$26,0)","v":0},{"$f":"IF(ARJ2>=Inputs!$E$38,$D$26,0)","v":0},{"$f":"IF(ARK2>=Inputs!$E$38,$D$26,0)","v":0},{"$f":"IF(ARL2>=Inputs!$E$38,$D$26,0)","v":0},{"$f":"IF(ARM2>=Inputs!$E$38,$D$26,0)","v":0},{"$f":"IF(ARN2>=Inputs!$E$38,$D$26,0)","v":0},{"$f":"IF(ARO2>=Inputs!$E$38,$D$26,0)","v":0},{"$f":"IF(ARP2>=Inputs!$E$38,$D$26,0)","v":0},{"$f":"IF(ARQ2>=Inputs!$E$38,$D$26,0)","v":0},{"$f":"IF(ARR2>=Inputs!$E$38,$D$26,0)","v":0},{"$f":"IF(ARS2>=Inputs!$E$38,$D$26,0)","v":0},{"$f":"IF(ART2>=Inputs!$E$38,$D$26,0)","v":0},{"$f":"IF(ARU2>=Inputs!$E$38,$D$26,0)","v":0},{"$f":"IF(ARV2>=Inputs!$E$38,$D$26,0)","v":0},{"$f":"IF(ARW2>=Inputs!$E$38,$D$26,0)","v":0},{"$f":"IF(ARX2>=Inputs!$E$38,$D$26,0)","v":0},{"$f":"IF(ARY2>=Inputs!$E$38,$D$26,0)","v":0},{"$f":"IF(ARZ2>=Inputs!$E$38,$D$26,0)","v":0},{"$f":"IF(ASA2>=Inputs!$E$38,$D$26,0)","v":0},{"$f":"IF(ASB2>=Inputs!$E$38,$D$26,0)","v":0},{"$f":"IF(ASC2>=Inputs!$E$38,$D$26,0)","v":0},{"$f":"IF(ASD2>=Inputs!$E$38,$D$26,0)","v":0},{"$f":"IF(ASE2>=Inputs!$E$38,$D$26,0)","v":0},{"$f":"IF(ASF2>=Inputs!$E$38,$D$26,0)","v":0},{"$f":"IF(ASG2>=Inputs!$E$38,$D$26,0)","v":0},{"$f":"IF(ASH2>=Inputs!$E$38,$D$26,0)","v":0},{"$f":"IF(ASI2>=Inputs!$E$38,$D$26,0)","v":0},{"$f":"IF(ASJ2>=Inputs!$E$38,$D$26,0)","v":0},{"$f":"IF(ASK2>=Inputs!$E$38,$D$26,0)","v":0},{"$f":"IF(ASL2>=Inputs!$E$38,$D$26,0)","v":0},{"$f":"IF(ASM2>=Inputs!$E$38,$D$26,0)","v":0},{"$f":"IF(ASN2>=Inputs!$E$38,$D$26,0)","v":0},{"$f":"IF(ASO2>=Inputs!$E$38,$D$26,0)","v":0},{"$f":"IF(ASP2>=Inputs!$E$38,$D$26,0)","v":0},{"$f":"IF(ASQ2>=Inputs!$E$38,$D$26,0)","v":0},{"$f":"IF(ASR2>=Inputs!$E$38,$D$26,0)","v":0},{"$f":"IF(ASS2>=Inputs!$E$38,$D$26,0)","v":0},{"$f":"IF(AST2>=Inputs!$E$38,$D$26,0)","v":0},{"$f":"IF(ASU2>=Inputs!$E$38,$D$26,0)","v":0},{"$f":"IF(ASV2>=Inputs!$E$38,$D$26,0)","v":0},{"$f":"IF(ASW2>=Inputs!$E$38,$D$26,0)","v":0},{"$f":"IF(ASX2>=Inputs!$E$38,$D$26,0)","v":0},{"$f":"IF(ASY2>=Inputs!$E$38,$D$26,0)","v":0},{"$f":"IF(ASZ2>=Inputs!$E$38,$D$26,0)","v":0},{"$f":"IF(ATA2>=Inputs!$E$38,$D$26,0)","v":0},{"$f":"IF(ATB2>=Inputs!$E$38,$D$26,0)","v":0},{"$f":"IF(ATC2>=Inputs!$E$38,$D$26,0)","v":0},{"$f":"IF(ATD2>=Inputs!$E$38,$D$26,0)","v":0},{"$f":"IF(ATE2>=Inputs!$E$38,$D$26,0)","v":0},{"$f":"IF(ATF2>=Inputs!$E$38,$D$26,0)","v":0},{"$f":"IF(ATG2>=Inputs!$E$38,$D$26,0)","v":0},{"$f":"IF(ATH2>=Inputs!$E$38,$D$26,0)","v":0},{"$f":"IF(ATI2>=Inputs!$E$38,$D$26,0)","v":0},{"$f":"IF(ATJ2>=Inputs!$E$38,$D$26,0)","v":0},{"$f":"IF(ATK2>=Inputs!$E$38,$D$26,0)","v":0},{"$f":"IF(ATL2>=Inputs!$E$38,$D$26,0)","v":0},{"$f":"IF(ATM2>=Inputs!$E$38,$D$26,0)","v":0},{"$f":"IF(ATN2>=Inputs!$E$38,$D$26,0)","v":0},{"$f":"IF(ATO2>=Inputs!$E$38,$D$26,0)","v":0},{"$f":"IF(ATP2>=Inputs!$E$38,$D$26,0)","v":0},{"$f":"IF(ATQ2>=Inputs!$E$38,$D$26,0)","v":0},{"$f":"IF(ATR2>=Inputs!$E$38,$D$26,0)","v":0},{"$f":"IF(ATS2>=Inputs!$E$38,$D$26,0)","v":0},{"$f":"IF(ATT2>=Inputs!$E$38,$D$26,0)","v":0},{"$f":"IF(ATU2>=Inputs!$E$38,$D$26,0)","v":0},{"$f":"IF(ATV2>=Inputs!$E$38,$D$26,0)","v":0},{"$f":"IF(ATW2>=Inputs!$E$38,$D$26,0)","v":0},{"$f":"IF(ATX2>=Inputs!$E$38,$D$26,0)","v":0},{"$f":"IF(ATY2>=Inputs!$E$38,$D$26,0)","v":0},{"$f":"IF(ATZ2>=Inputs!$E$38,$D$26,0)","v":0},{"$f":"IF(AUA2>=Inputs!$E$38,$D$26,0)","v":0},{"$f":"IF(AUB2>=Inputs!$E$38,$D$26,0)","v":0},{"$f":"IF(AUC2>=Inputs!$E$38,$D$26,0)","v":0},{"$f":"IF(AUD2>=Inputs!$E$38,$D$26,0)","v":0},{"$f":"IF(AUE2>=Inputs!$E$38,$D$26,0)","v":0},{"$f":"IF(AUF2>=Inputs!$E$38,$D$26,0)","v":0},{"$f":"IF(AUG2>=Inputs!$E$38,$D$26,0)","v":0},{"$f":"IF(AUH2>=Inputs!$E$38,$D$26,0)","v":0},{"$f":"IF(AUI2>=Inputs!$E$38,$D$26,0)","v":0},{"$f":"IF(AUJ2>=Inputs!$E$38,$D$26,0)","v":0},{"$f":"IF(AUK2>=Inputs!$E$38,$D$26,0)","v":0},{"$f":"IF(AUL2>=Inputs!$E$38,$D$26,0)","v":0},{"$f":"IF(AUM2>=Inputs!$E$38,$D$26,0)","v":0},{"$f":"IF(AUN2>=Inputs!$E$38,$D$26,0)","v":0},{"$f":"IF(AUO2>=Inputs!$E$38,$D$26,0)","v":0},{"$f":"IF(AUP2>=Inputs!$E$38,$D$26,0)","v":0},{"$f":"IF(AUQ2>=Inputs!$E$38,$D$26,0)","v":0},{"$f":"IF(AUR2>=Inputs!$E$38,$D$26,0)","v":0},{"$f":"IF(AUS2>=Inputs!$E$38,$D$26,0)","v":0},{"$f":"IF(AUT2>=Inputs!$E$38,$D$26,0)","v":0},{"$f":"IF(AUU2>=Inputs!$E$38,$D$26,0)","v":0},{"$f":"IF(AUV2>=Inputs!$E$38,$D$26,0)","v":0},{"$f":"IF(AUW2>=Inputs!$E$38,$D$26,0)","v":0},{"$f":"IF(AUX2>=Inputs!$E$38,$D$26,0)","v":0},{"$f":"IF(AUY2>=Inputs!$E$38,$D$26,0)","v":0},{"$f":"IF(AUZ2>=Inputs!$E$38,$D$26,0)","v":0},{"$f":"IF(AVA2>=Inputs!$E$38,$D$26,0)","v":0},{"$f":"IF(AVB2>=Inputs!$E$38,$D$26,0)","v":0},{"$f":"IF(AVC2>=Inputs!$E$38,$D$26,0)","v":0},{"$f":"IF(AVD2>=Inputs!$E$38,$D$26,0)","v":0},{"$f":"IF(AVE2>=Inputs!$E$38,$D$26,0)","v":0},{"$f":"IF(AVF2>=Inputs!$E$38,$D$26,0)","v":0},{"$f":"IF(AVG2>=Inputs!$E$38,$D$26,0)","v":0},{"$f":"IF(AVH2>=Inputs!$E$38,$D$26,0)","v":0},{"$f":"IF(AVI2>=Inputs!$E$38,$D$26,0)","v":0},{"$f":"IF(AVJ2>=Inputs!$E$38,$D$26,0)","v":0},{"$f":"IF(AVK2>=Inputs!$E$38,$D$26,0)","v":0},{"$f":"IF(AVL2>=Inputs!$E$38,$D$26,0)","v":0},{"$f":"IF(AVM2>=Inputs!$E$38,$D$26,0)","v":0},{"$f":"IF(AVN2>=Inputs!$E$38,$D$26,0)","v":0},{"$f":"IF(AVO2>=Inputs!$E$38,$D$26,0)","v":0},{"$f":"IF(AVP2>=Inputs!$E$38,$D$26,0)","v":0},{"$f":"IF(AVQ2>=Inputs!$E$38,$D$26,0)","v":0},{"$f":"IF(AVR2>=Inputs!$E$38,$D$26,0)","v":0},{"$f":"IF(AVS2>=Inputs!$E$38,$D$26,0)","v":0},{"$f":"IF(AVT2>=Inputs!$E$38,$D$26,0)","v":0},{"$f":"IF(AVU2>=Inputs!$E$38,$D$26,0)","v":0},{"$f":"IF(AVV2>=Inputs!$E$38,$D$26,0)","v":0},{"$f":"IF(AVW2>=Inputs!$E$38,$D$26,0)","v":0},{"$f":"IF(AVX2>=Inputs!$E$38,$D$26,0)","v":0},{"$f":"IF(AVY2>=Inputs!$E$38,$D$26,0)","v":0},{"$f":"IF(AVZ2>=Inputs!$E$38,$D$26,0)","v":0},{"$f":"IF(AWA2>=Inputs!$E$38,$D$26,0)","v":0},{"$f":"IF(AWB2>=Inputs!$E$38,$D$26,0)","v":0},{"$f":"IF(AWC2>=Inputs!$E$38,$D$26,0)","v":0},{"$f":"IF(AWD2>=Inputs!$E$38,$D$26,0)","v":0},{"$f":"IF(AWE2>=Inputs!$E$38,$D$26,0)","v":0},{"$f":"IF(AWF2>=Inputs!$E$38,$D$26,0)","v":0},{"$f":"IF(AWG2>=Inputs!$E$38,$D$26,0)","v":0},{"$f":"IF(AWH2>=Inputs!$E$38,$D$26,0)","v":0},{"$f":"IF(AWI2>=Inputs!$E$38,$D$26,0)","v":0},{"$f":"IF(AWJ2>=Inputs!$E$38,$D$26,0)","v":0},{"$f":"IF(AWK2>=Inputs!$E$38,$D$26,0)","v":0},{"$f":"IF(AWL2>=Inputs!$E$38,$D$26,0)","v":0},{"$f":"IF(AWM2>=Inputs!$E$38,$D$26,0)","v":0},{"$f":"IF(AWN2>=Inputs!$E$38,$D$26,0)","v":0},{"$f":"IF(AWO2>=Inputs!$E$38,$D$26,0)","v":0},{"$f":"IF(AWP2>=Inputs!$E$38,$D$26,0)","v":0},{"$f":"IF(AWQ2>=Inputs!$E$38,$D$26,0)","v":0},{"$f":"IF(AWR2>=Inputs!$E$38,$D$26,0)","v":0},{"$f":"IF(AWS2>=Inputs!$E$38,$D$26,0)","v":0},{"$f":"IF(AWT2>=Inputs!$E$38,$D$26,0)","v":0},{"$f":"IF(AWU2>=Inputs!$E$38,$D$26,0)","v":0},{"$f":"IF(AWV2>=Inputs!$E$38,$D$26,0)","v":0},{"$f":"IF(AWW2>=Inputs!$E$38,$D$26,0)","v":0},{"$f":"IF(AWX2>=Inputs!$E$38,$D$26,0)","v":0},{"$f":"IF(AWY2>=Inputs!$E$38,$D$26,0)","v":0},{"$f":"IF(AWZ2>=Inputs!$E$38,$D$26,0)","v":0},{"$f":"IF(AXA2>=Inputs!$E$38,$D$26,0)","v":0},{"$f":"IF(AXB2>=Inputs!$E$38,$D$26,0)","v":0},{"$f":"IF(AXC2>=Inputs!$E$38,$D$26,0)","v":0},{"$f":"IF(AXD2>=Inputs!$E$38,$D$26,0)","v":0},{"$f":"IF(AXE2>=Inputs!$E$38,$D$26,0)","v":0},{"$f":"IF(AXF2>=Inputs!$E$38,$D$26,0)","v":0},{"$f":"IF(AXG2>=Inputs!$E$38,$D$26,0)","v":0},{"$f":"IF(AXH2>=Inputs!$E$38,$D$26,0)","v":0},{"$f":"IF(AXI2>=Inputs!$E$38,$D$26,0)","v":0},{"$f":"IF(AXJ2>=Inputs!$E$38,$D$26,0)","v":0},{"$f":"IF(AXK2>=Inputs!$E$38,$D$26,0)","v":0},{"$f":"IF(AXL2>=Inputs!$E$38,$D$26,0)","v":0},{"$f":"IF(AXM2>=Inputs!$E$38,$D$26,0)","v":0},{"$f":"IF(AXN2>=Inputs!$E$38,$D$26,0)","v":0},{"$f":"IF(AXO2>=Inputs!$E$38,$D$26,0)","v":0},{"$f":"IF(AXP2>=Inputs!$E$38,$D$26,0)","v":0},{"$f":"IF(AXQ2>=Inputs!$E$38,$D$26,0)","v":0},{"$f":"IF(AXR2>=Inputs!$E$38,$D$26,0)","v":0},{"$f":"IF(AXS2>=Inputs!$E$38,$D$26,0)","v":0},{"$f":"IF(AXT2>=Inputs!$E$38,$D$26,0)","v":0},{"$f":"IF(AXU2>=Inputs!$E$38,$D$26,0)","v":0},{"$f":"IF(AXV2>=Inputs!$E$38,$D$26,0)","v":0},{"$f":"IF(AXW2>=Inputs!$E$38,$D$26,0)","v":0},{"$f":"IF(AXX2>=Inputs!$E$38,$D$26,0)","v":0},{"$f":"IF(AXY2>=Inputs!$E$38,$D$26,0)","v":0},{"$f":"IF(AXZ2>=Inputs!$E$38,$D$26,0)","v":0},{"$f":"IF(AYA2>=Inputs!$E$38,$D$26,0)","v":0},{"$f":"IF(AYB2>=Inputs!$E$38,$D$26,0)","v":0},{"$f":"IF(AYC2>=Inputs!$E$38,$D$26,0)","v":0},{"$f":"IF(AYD2>=Inputs!$E$38,$D$26,0)","v":0},{"$f":"IF(AYE2>=Inputs!$E$38,$D$26,0)","v":0},{"$f":"IF(AYF2>=Inputs!$E$38,$D$26,0)","v":0},{"$f":"IF(AYG2>=Inputs!$E$38,$D$26,0)","v":0},{"$f":"IF(AYH2>=Inputs!$E$38,$D$26,0)","v":0},{"$f":"IF(AYI2>=Inputs!$E$38,$D$26,0)","v":0},{"$f":"IF(AYJ2>=Inputs!$E$38,$D$26,0)","v":0},{"$f":"IF(AYK2>=Inputs!$E$38,$D$26,0)","v":0},{"$f":"IF(AYL2>=Inputs!$E$38,$D$26,0)","v":0},{"$f":"IF(AYM2>=Inputs!$E$38,$D$26,0)","v":0},{"$f":"IF(AYN2>=Inputs!$E$38,$D$26,0)","v":0},{"$f":"IF(AYO2>=Inputs!$E$38,$D$26,0)","v":0},{"$f":"IF(AYP2>=Inputs!$E$38,$D$26,0)","v":0},{"$f":"IF(AYQ2>=Inputs!$E$38,$D$26,0)","v":0},{"$f":"IF(AYR2>=Inputs!$E$38,$D$26,0)","v":0},{"$f":"IF(AYS2>=Inputs!$E$38,$D$26,0)","v":0},{"$f":"IF(AYT2>=Inputs!$E$38,$D$26,0)","v":0},{"$f":"IF(AYU2>=Inputs!$E$38,$D$26,0)","v":0},{"$f":"IF(AYV2>=Inputs!$E$38,$D$26,0)","v":0},{"$f":"IF(AYW2>=Inputs!$E$38,$D$26,0)","v":0},{"$f":"IF(AYX2>=Inputs!$E$38,$D$26,0)","v":0},{"$f":"IF(AYY2>=Inputs!$E$38,$D$26,0)","v":0},{"$f":"IF(AYZ2>=Inputs!$E$38,$D$26,0)","v":0},{"$f":"IF(AZA2>=Inputs!$E$38,$D$26,0)","v":0},{"$f":"IF(AZB2>=Inputs!$E$38,$D$26,0)","v":0},{"$f":"IF(AZC2>=Inputs!$E$38,$D$26,0)","v":0},{"$f":"IF(AZD2>=Inputs!$E$38,$D$26,0)","v":0},{"$f":"IF(AZE2>=Inputs!$E$38,$D$26,0)","v":0},{"$f":"IF(AZF2>=Inputs!$E$38,$D$26,0)","v":0},{"$f":"IF(AZG2>=Inputs!$E$38,$D$26,0)","v":0},{"$f":"IF(AZH2>=Inputs!$E$38,$D$26,0)","v":0},{"$f":"IF(AZI2>=Inputs!$E$38,$D$26,0)","v":0},{"$f":"IF(AZJ2>=Inputs!$E$38,$D$26,0)","v":0},{"$f":"IF(AZK2>=Inputs!$E$38,$D$26,0)","v":0},{"$f":"IF(AZL2>=Inputs!$E$38,$D$26,0)","v":0},{"$f":"IF(AZM2>=Inputs!$E$38,$D$26,0)","v":0},{"$f":"IF(AZN2>=Inputs!$E$38,$D$26,0)","v":0},{"$f":"IF(AZO2>=Inputs!$E$38,$D$26,0)","v":0},{"$f":"IF(AZP2>=Inputs!$E$38,$D$26,0)","v":0},{"$f":"IF(AZQ2>=Inputs!$E$38,$D$26,0)","v":0},{"$f":"IF(AZR2>=Inputs!$E$38,$D$26,0)","v":0},{"$f":"IF(AZS2>=Inputs!$E$38,$D$26,0)","v":0},{"$f":"IF(AZT2>=Inputs!$E$38,$D$26,0)","v":0},{"$f":"IF(AZU2>=Inputs!$E$38,$D$26,0)","v":0},{"$f":"IF(AZV2>=Inputs!$E$38,$D$26,0)","v":0},{"$f":"IF(AZW2>=Inputs!$E$38,$D$26,0)","v":0},{"$f":"IF(AZX2>=Inputs!$E$38,$D$26,0)","v":0},{"$f":"IF(AZY2>=Inputs!$E$38,$D$26,0)","v":0},{"$f":"IF(AZZ2>=Inputs!$E$38,$D$26,0)","v":0},{"$f":"IF(BAA2>=Inputs!$E$38,$D$26,0)","v":0},{"$f":"IF(BAB2>=Inputs!$E$38,$D$26,0)","v":0},{"$f":"IF(BAC2>=Inputs!$E$38,$D$26,0)","v":0},{"$f":"IF(BAD2>=Inputs!$E$38,$D$26,0)","v":0},{"$f":"IF(BAE2>=Inputs!$E$38,$D$26,0)","v":0},{"$f":"IF(BAF2>=Inputs!$E$38,$D$26,0)","v":0},{"$f":"IF(BAG2>=Inputs!$E$38,$D$26,0)","v":0},{"$f":"IF(BAH2>=Inputs!$E$38,$D$26,0)","v":0},{"$f":"IF(BAI2>=Inputs!$E$38,$D$26,0)","v":0},{"$f":"IF(BAJ2>=Inputs!$E$38,$D$26,0)","v":0},{"$f":"IF(BAK2>=Inputs!$E$38,$D$26,0)","v":0},{"$f":"IF(BAL2>=Inputs!$E$38,$D$26,0)","v":0},{"$f":"IF(BAM2>=Inputs!$E$38,$D$26,0)","v":0},{"$f":"IF(BAN2>=Inputs!$E$38,$D$26,0)","v":0},{"$f":"IF(BAO2>=Inputs!$E$38,$D$26,0)","v":0},{"$f":"IF(BAP2>=Inputs!$E$38,$D$26,0)","v":0},{"$f":"IF(BAQ2>=Inputs!$E$38,$D$26,0)","v":0},{"$f":"IF(BAR2>=Inputs!$E$38,$D$26,0)","v":0},{"$f":"IF(BAS2>=Inputs!$E$38,$D$26,0)","v":0},{"$f":"IF(BAT2>=Inputs!$E$38,$D$26,0)","v":0},{"$f":"IF(BAU2>=Inputs!$E$38,$D$26,0)","v":0},{"$f":"IF(BAV2>=Inputs!$E$38,$D$26,0)","v":0},{"$f":"IF(BAW2>=Inputs!$E$38,$D$26,0)","v":0},{"$f":"IF(BAX2>=Inputs!$E$38,$D$26,0)","v":0},{"$f":"IF(BAY2>=Inputs!$E$38,$D$26,0)","v":0},{"$f":"IF(BAZ2>=Inputs!$E$38,$D$26,0)","v":0},{"$f":"IF(BBA2>=Inputs!$E$38,$D$26,0)","v":0},{"$f":"IF(BBB2>=Inputs!$E$38,$D$26,0)","v":0},{"$f":"IF(BBC2>=Inputs!$E$38,$D$26,0)","v":0},{"$f":"IF(BBD2>=Inputs!$E$38,$D$26,0)","v":0},{"$f":"IF(BBE2>=Inputs!$E$38,$D$26,0)","v":0},{"$f":"IF(BBF2>=Inputs!$E$38,$D$26,0)","v":0},{"$f":"IF(BBG2>=Inputs!$E$38,$D$26,0)","v":0},{"$f":"IF(BBH2>=Inputs!$E$38,$D$26,0)","v":0},{"$f":"IF(BBI2>=Inputs!$E$38,$D$26,0)","v":0},{"$f":"IF(BBJ2>=Inputs!$E$38,$D$26,0)","v":0},{"$f":"IF(BBK2>=Inputs!$E$38,$D$26,0)","v":0},{"$f":"IF(BBL2>=Inputs!$E$38,$D$26,0)","v":0},{"$f":"IF(BBM2>=Inputs!$E$38,$D$26,0)","v":0},{"$f":"IF(BBN2>=Inputs!$E$38,$D$26,0)","v":0},{"$f":"IF(BBO2>=Inputs!$E$38,$D$26,0)","v":0},{"$f":"IF(BBP2>=Inputs!$E$38,$D$26,0)","v":0},{"$f":"IF(BBQ2>=Inputs!$E$38,$D$26,0)","v":0},{"$f":"IF(BBR2>=Inputs!$E$38,$D$26,0)","v":0},{"$f":"IF(BBS2>=Inputs!$E$38,$D$26,0)","v":0},{"$f":"IF(BBT2>=Inputs!$E$38,$D$26,0)","v":0},{"$f":"IF(BBU2>=Inputs!$E$38,$D$26,0)","v":0},{"$f":"IF(BBV2>=Inputs!$E$38,$D$26,0)","v":0},{"$f":"IF(BBW2>=Inputs!$E$38,$D$26,0)","v":0},{"$f":"IF(BBX2>=Inputs!$E$38,$D$26,0)","v":0},{"$f":"IF(BBY2>=Inputs!$E$38,$D$26,0)","v":0},{"$f":"IF(BBZ2>=Inputs!$E$38,$D$26,0)","v":0},{"$f":"IF(BCA2>=Inputs!$E$38,$D$26,0)","v":0},{"$f":"IF(BCB2>=Inputs!$E$38,$D$26,0)","v":0},{"$f":"IF(BCC2>=Inputs!$E$38,$D$26,0)","v":0},{"$f":"IF(BCD2>=Inputs!$E$38,$D$26,0)","v":0},{"$f":"IF(BCE2>=Inputs!$E$38,$D$26,0)","v":0},{"$f":"IF(BCF2>=Inputs!$E$38,$D$26,0)","v":0},{"$f":"IF(BCG2>=Inputs!$E$38,$D$26,0)","v":0},{"$f":"IF(BCH2>=Inputs!$E$38,$D$26,0)","v":0},{"$f":"IF(BCI2>=Inputs!$E$38,$D$26,0)","v":0},{"$f":"IF(BCJ2>=Inputs!$E$38,$D$26,0)","v":0},{"$f":"IF(BCK2>=Inputs!$E$38,$D$26,0)","v":0},{"$f":"IF(BCL2>=Inputs!$E$38,$D$26,0)","v":0},{"$f":"IF(BCM2>=Inputs!$E$38,$D$26,0)","v":0},{"$f":"IF(BCN2>=Inputs!$E$38,$D$26,0)","v":0},{"$f":"IF(BCO2>=Inputs!$E$38,$D$26,0)","v":0},{"$f":"IF(BCP2>=Inputs!$E$38,$D$26,0)","v":0},{"$f":"IF(BCQ2>=Inputs!$E$38,$D$26,0)","v":0},{"$f":"IF(BCR2>=Inputs!$E$38,$D$26,0)","v":0},{"$f":"IF(BCS2>=Inputs!$E$38,$D$26,0)","v":0},{"$f":"IF(BCT2>=Inputs!$E$38,$D$26,0)","v":0},{"$f":"IF(BCU2>=Inputs!$E$38,$D$26,0)","v":0},{"$f":"IF(BCV2>=Inputs!$E$38,$D$26,0)","v":0},{"$f":"IF(BCW2>=Inputs!$E$38,$D$26,0)","v":0},{"$f":"IF(BCX2>=Inputs!$E$38,$D$26,0)","v":0},{"$f":"IF(BCY2>=Inputs!$E$38,$D$26,0)","v":0},{"$f":"IF(BCZ2>=Inputs!$E$38,$D$26,0)","v":0},{"$f":"IF(BDA2>=Inputs!$E$38,$D$26,0)","v":0},{"$f":"IF(BDB2>=Inputs!$E$38,$D$26,0)","v":0},{"$f":"IF(BDC2>=Inputs!$E$38,$D$26,0)","v":0},{"$f":"IF(BDD2>=Inputs!$E$38,$D$26,0)","v":0},{"$f":"IF(BDE2>=Inputs!$E$38,$D$26,0)","v":0},{"$f":"IF(BDF2>=Inputs!$E$38,$D$26,0)","v":0},{"$f":"IF(BDG2>=Inputs!$E$38,$D$26,0)","v":0},{"$f":"IF(BDH2>=Inputs!$E$38,$D$26,0)","v":0},{"$f":"IF(BDI2>=Inputs!$E$38,$D$26,0)","v":0},{"$f":"IF(BDJ2>=Inputs!$E$38,$D$26,0)","v":0},{"$f":"IF(BDK2>=Inputs!$E$38,$D$26,0)","v":0},{"$f":"IF(BDL2>=Inputs!$E$38,$D$26,0)","v":0},{"$f":"IF(BDM2>=Inputs!$E$38,$D$26,0)","v":0},{"$f":"IF(BDN2>=Inputs!$E$38,$D$26,0)","v":0},{"$f":"IF(BDO2>=Inputs!$E$38,$D$26,0)","v":0},{"$f":"IF(BDP2>=Inputs!$E$38,$D$26,0)","v":0},{"$f":"IF(BDQ2>=Inputs!$E$38,$D$26,0)","v":0},{"$f":"IF(BDR2>=Inputs!$E$38,$D$26,0)","v":0},{"$f":"IF(BDS2>=Inputs!$E$38,$D$26,0)","v":0},{"$f":"IF(BDT2>=Inputs!$E$38,$D$26,0)","v":0},{"$f":"IF(BDU2>=Inputs!$E$38,$D$26,0)","v":0},{"$f":"IF(BDV2>=Inputs!$E$38,$D$26,0)","v":0},{"$f":"IF(BDW2>=Inputs!$E$38,$D$26,0)","v":0},{"$f":"IF(BDX2>=Inputs!$E$38,$D$26,0)","v":0},{"$f":"IF(BDY2>=Inputs!$E$38,$D$26,0)","v":0},{"$f":"IF(BDZ2>=Inputs!$E$38,$D$26,0)","v":0},{"$f":"IF(BEA2>=Inputs!$E$38,$D$26,0)","v":0},{"$f":"IF(BEB2>=Inputs!$E$38,$D$26,0)","v":0},{"$f":"IF(BEC2>=Inputs!$E$38,$D$26,0)","v":0},{"$f":"IF(BED2>=Inputs!$E$38,$D$26,0)","v":0},{"$f":"IF(BEE2>=Inputs!$E$38,$D$26,0)","v":0},{"$f":"IF(BEF2>=Inputs!$E$38,$D$26,0)","v":0},{"$f":"IF(BEG2>=Inputs!$E$38,$D$26,0)","v":0},{"$f":"IF(BEH2>=Inputs!$E$38,$D$26,0)","v":0},{"$f":"IF(BEI2>=Inputs!$E$38,$D$26,0)","v":0},{"$f":"IF(BEJ2>=Inputs!$E$38,$D$26,0)","v":0},{"$f":"IF(BEK2>=Inputs!$E$38,$D$26,0)","v":0},{"$f":"IF(BEL2>=Inputs!$E$38,$D$26,0)","v":0},{"$f":"IF(BEM2>=Inputs!$E$38,$D$26,0)","v":0},{"$f":"IF(BEN2>=Inputs!$E$38,$D$26,0)","v":0},{"$f":"IF(BEO2>=Inputs!$E$38,$D$26,0)","v":0},{"$f":"IF(BEP2>=Inputs!$E$38,$D$26,0)","v":0},{"$f":"IF(BEQ2>=Inputs!$E$38,$D$26,0)","v":0},{"$f":"IF(BER2>=Inputs!$E$38,$D$26,0)","v":0},{"$f":"IF(BES2>=Inputs!$E$38,$D$26,0)","v":0},{"$f":"IF(BET2>=Inputs!$E$38,$D$26,0)","v":0},{"$f":"IF(BEU2>=Inputs!$E$38,$D$26,0)","v":0},{"$f":"IF(BEV2>=Inputs!$E$38,$D$26,0)","v":0},{"$f":"IF(BEW2>=Inputs!$E$38,$D$26,0)","v":0},{"$f":"IF(BEX2>=Inputs!$E$38,$D$26,0)","v":0},{"$f":"IF(BEY2>=Inputs!$E$38,$D$26,0)","v":0},{"$f":"IF(BEZ2>=Inputs!$E$38,$D$26,0)","v":0},{"$f":"IF(BFA2>=Inputs!$E$38,$D$26,0)","v":0},{"$f":"IF(BFB2>=Inputs!$E$38,$D$26,0)","v":0},{"$f":"IF(BFC2>=Inputs!$E$38,$D$26,0)","v":0},{"$f":"IF(BFD2>=Inputs!$E$38,$D$26,0)","v":0},{"$f":"IF(BFE2>=Inputs!$E$38,$D$26,0)","v":0},{"$f":"IF(BFF2>=Inputs!$E$38,$D$26,0)","v":0},{"$f":"IF(BFG2>=Inputs!$E$38,$D$26,0)","v":0},{"$f":"IF(BFH2>=Inputs!$E$38,$D$26,0)","v":0},{"$f":"IF(BFI2>=Inputs!$E$38,$D$26,0)","v":0},{"$f":"IF(BFJ2>=Inputs!$E$38,$D$26,0)","v":0},{"$f":"IF(BFK2>=Inputs!$E$38,$D$26,0)","v":0},{"$f":"IF(BFL2>=Inputs!$E$38,$D$26,0)","v":0},{"$f":"IF(BFM2>=Inputs!$E$38,$D$26,0)","v":0},{"$f":"IF(BFN2>=Inputs!$E$38,$D$26,0)","v":0},{"$f":"IF(BFO2>=Inputs!$E$38,$D$26,0)","v":0},{"$f":"IF(BFP2>=Inputs!$E$38,$D$26,0)","v":0},{"$f":"IF(BFQ2>=Inputs!$E$38,$D$26,0)","v":0},{"$f":"IF(BFR2>=Inputs!$E$38,$D$26,0)","v":0},{"$f":"IF(BFS2>=Inputs!$E$38,$D$26,0)","v":0},{"$f":"IF(BFT2>=Inputs!$E$38,$D$26,0)","v":0},{"$f":"IF(BFU2>=Inputs!$E$38,$D$26,0)","v":0},{"$f":"IF(BFV2>=Inputs!$E$38,$D$26,0)","v":0},{"$f":"IF(BFW2>=Inputs!$E$38,$D$26,0)","v":0},{"$f":"IF(BFX2>=Inputs!$E$38,$D$26,0)","v":0},{"$f":"IF(BFY2>=Inputs!$E$38,$D$26,0)","v":0},{"$f":"IF(BFZ2>=Inputs!$E$38,$D$26,0)","v":0},{"$f":"IF(BGA2>=Inputs!$E$38,$D$26,0)","v":0},{"$f":"IF(BGB2>=Inputs!$E$38,$D$26,0)","v":0},{"$f":"IF(BGC2>=Inputs!$E$38,$D$26,0)","v":0},{"$f":"IF(BGD2>=Inputs!$E$38,$D$26,0)","v":0},{"$f":"IF(BGE2>=Inputs!$E$38,$D$26,0)","v":0},{"$f":"IF(BGF2>=Inputs!$E$38,$D$26,0)","v":0},{"$f":"IF(BGG2>=Inputs!$E$38,$D$26,0)","v":0},{"$f":"IF(BGH2>=Inputs!$E$38,$D$26,0)","v":0},{"$f":"IF(BGI2>=Inputs!$E$38,$D$26,0)","v":0},{"$f":"IF(BGJ2>=Inputs!$E$38,$D$26,0)","v":0},{"$f":"IF(BGK2>=Inputs!$E$38,$D$26,0)","v":0},{"$f":"IF(BGL2>=Inputs!$E$38,$D$26,0)","v":0},{"$f":"IF(BGM2>=Inputs!$E$38,$D$26,0)","v":0},{"$f":"IF(BGN2>=Inputs!$E$38,$D$26,0)","v":0},{"$f":"IF(BGO2>=Inputs!$E$38,$D$26,0)","v":0},{"$f":"IF(BGP2>=Inputs!$E$38,$D$26,0)","v":0},{"$f":"IF(BGQ2>=Inputs!$E$38,$D$26,0)","v":0},{"$f":"IF(BGR2>=Inputs!$E$38,$D$26,0)","v":0},{"$f":"IF(BGS2>=Inputs!$E$38,$D$26,0)","v":0},{"$f":"IF(BGT2>=Inputs!$E$38,$D$26,0)","v":0},{"$f":"IF(BGU2>=Inputs!$E$38,$D$26,0)","v":0},{"$f":"IF(BGV2>=Inputs!$E$38,$D$26,0)","v":0},{"$f":"IF(BGW2>=Inputs!$E$38,$D$26,0)","v":0},{"$f":"IF(BGX2>=Inputs!$E$38,$D$26,0)","v":0},{"$f":"IF(BGY2>=Inputs!$E$38,$D$26,0)","v":0},{"$f":"IF(BGZ2>=Inputs!$E$38,$D$26,0)","v":0},{"$f":"IF(BHA2>=Inputs!$E$38,$D$26,0)","v":0},{"$f":"IF(BHB2>=Inputs!$E$38,$D$26,0)","v":0},{"$f":"IF(BHC2>=Inputs!$E$38,$D$26,0)","v":0},{"$f":"IF(BHD2>=Inputs!$E$38,$D$26,0)","v":0},{"$f":"IF(BHE2>=Inputs!$E$38,$D$26,0)","v":0},{"$f":"IF(BHF2>=Inputs!$E$38,$D$26,0)","v":0},{"$f":"IF(BHG2>=Inputs!$E$38,$D$26,0)","v":0},{"$f":"IF(BHH2>=Inputs!$E$38,$D$26,0)","v":0},{"$f":"IF(BHI2>=Inputs!$E$38,$D$26,0)","v":0},{"$f":"IF(BHJ2>=Inputs!$E$38,$D$26,0)","v":0},{"$f":"IF(BHK2>=Inputs!$E$38,$D$26,0)","v":0},{"$f":"IF(BHL2>=Inputs!$E$38,$D$26,0)","v":0},{"$f":"IF(BHM2>=Inputs!$E$38,$D$26,0)","v":0},{"$f":"IF(BHN2>=Inputs!$E$38,$D$26,0)","v":0},{"$f":"IF(BHO2>=Inputs!$E$38,$D$26,0)","v":0},{"$f":"IF(BHP2>=Inputs!$E$38,$D$26,0)","v":0},{"$f":"IF(BHQ2>=Inputs!$E$38,$D$26,0)","v":0},{"$f":"IF(BHR2>=Inputs!$E$38,$D$26,0)","v":0},{"$f":"IF(BHS2>=Inputs!$E$38,$D$26,0)","v":0},{"$f":"IF(BHT2>=Inputs!$E$38,$D$26,0)","v":0},{"$f":"IF(BHU2>=Inputs!$E$38,$D$26,0)","v":0},{"$f":"IF(BHV2>=Inputs!$E$38,$D$26,0)","v":0},{"$f":"IF(BHW2>=Inputs!$E$38,$D$26,0)","v":0},{"$f":"IF(BHX2>=Inputs!$E$38,$D$26,0)","v":0},{"$f":"IF(BHY2>=Inputs!$E$38,$D$26,0)","v":0},{"$f":"IF(BHZ2>=Inputs!$E$38,$D$26,0)","v":0},{"$f":"IF(BIA2>=Inputs!$E$38,$D$26,0)","v":0},{"$f":"IF(BIB2>=Inputs!$E$38,$D$26,0)","v":0},{"$f":"IF(BIC2>=Inputs!$E$38,$D$26,0)","v":0},{"$f":"IF(BID2>=Inputs!$E$38,$D$26,0)","v":0},{"$f":"IF(BIE2>=Inputs!$E$38,$D$26,0)","v":0},{"$f":"IF(BIF2>=Inputs!$E$38,$D$26,0)","v":0},{"$f":"IF(BIG2>=Inputs!$E$38,$D$26,0)","v":0},{"$f":"IF(BIH2>=Inputs!$E$38,$D$26,0)","v":0},{"$f":"IF(BII2>=Inputs!$E$38,$D$26,0)","v":0},{"$f":"IF(BIJ2>=Inputs!$E$38,$D$26,0)","v":0},{"$f":"IF(BIK2>=Inputs!$E$38,$D$26,0)","v":0},{"$f":"IF(BIL2>=Inputs!$E$38,$D$26,0)","v":0},{"$f":"IF(BIM2>=Inputs!$E$38,$D$26,0)","v":0},{"$f":"IF(BIN2>=Inputs!$E$38,$D$26,0)","v":0},{"$f":"IF(BIO2>=Inputs!$E$38,$D$26,0)","v":0},{"$f":"IF(BIP2>=Inputs!$E$38,$D$26,0)","v":0},{"$f":"IF(BIQ2>=Inputs!$E$38,$D$26,0)","v":0},{"$f":"IF(BIR2>=Inputs!$E$38,$D$26,0)","v":0},{"$f":"IF(BIS2>=Inputs!$E$38,$D$26,0)","v":0},{"$f":"IF(BIT2>=Inputs!$E$38,$D$26,0)","v":0},{"$f":"IF(BIU2>=Inputs!$E$38,$D$26,0)","v":0},{"$f":"IF(BIV2>=Inputs!$E$38,$D$26,0)","v":0},{"$f":"IF(BIW2>=Inputs!$E$38,$D$26,0)","v":0},{"$f":"IF(BIX2>=Inputs!$E$38,$D$26,0)","v":0},{"$f":"IF(BIY2>=Inputs!$E$38,$D$26,0)","v":0},{"$f":"IF(BIZ2>=Inputs!$E$38,$D$26,0)","v":0},{"$f":"IF(BJA2>=Inputs!$E$38,$D$26,0)","v":0},{"$f":"IF(BJB2>=Inputs!$E$38,$D$26,0)","v":0},{"$f":"IF(BJC2>=Inputs!$E$38,$D$26,0)","v":0},{"$f":"IF(BJD2>=Inputs!$E$38,$D$26,0)","v":0},{"$f":"IF(BJE2>=Inputs!$E$38,$D$26,0)","v":0},{"$f":"IF(BJF2>=Inputs!$E$38,$D$26,0)","v":0},{"$f":"IF(BJG2>=Inputs!$E$38,$D$26,0)","v":0},{"$f":"IF(BJH2>=Inputs!$E$38,$D$26,0)","v":0},{"$f":"IF(BJI2>=Inputs!$E$38,$D$26,0)","v":0},{"$f":"IF(BJJ2>=Inputs!$E$38,$D$26,0)","v":0},{"$f":"IF(BJK2>=Inputs!$E$38,$D$26,0)","v":0},{"$f":"IF(BJL2>=Inputs!$E$38,$D$26,0)","v":0},{"$f":"IF(BJM2>=Inputs!$E$38,$D$26,0)","v":0},{"$f":"IF(BJN2>=Inputs!$E$38,$D$26,0)","v":0},{"$f":"IF(BJO2>=Inputs!$E$38,$D$26,0)","v":0},{"$f":"IF(BJP2>=Inputs!$E$38,$D$26,0)","v":0},{"$f":"IF(BJQ2>=Inputs!$E$38,$D$26,0)","v":0},{"$f":"IF(BJR2>=Inputs!$E$38,$D$26,0)","v":0},{"$f":"IF(BJS2>=Inputs!$E$38,$D$26,0)","v":0},{"$f":"IF(BJT2>=Inputs!$E$38,$D$26,0)","v":0},{"$f":"IF(BJU2>=Inputs!$E$38,$D$26,0)","v":0},{"$f":"IF(BJV2>=Inputs!$E$38,$D$26,0)","v":0},{"$f":"IF(BJW2>=Inputs!$E$38,$D$26,0)","v":0},{"$f":"IF(BJX2>=Inputs!$E$38,$D$26,0)","v":0},{"$f":"IF(BJY2>=Inputs!$E$38,$D$26,0)","v":0},{"$f":"IF(BJZ2>=Inputs!$E$38,$D$26,0)","v":0},{"$f":"IF(BKA2>=Inputs!$E$38,$D$26,0)","v":0},{"$f":"IF(BKB2>=Inputs!$E$38,$D$26,0)","v":0},{"$f":"IF(BKC2>=Inputs!$E$38,$D$26,0)","v":0},{"$f":"IF(BKD2>=Inputs!$E$38,$D$26,0)","v":0},{"$f":"IF(BKE2>=Inputs!$E$38,$D$26,0)","v":0},{"$f":"IF(BKF2>=Inputs!$E$38,$D$26,0)","v":0},{"$f":"IF(BKG2>=Inputs!$E$38,$D$26,0)","v":0},{"$f":"IF(BKH2>=Inputs!$E$38,$D$26,0)","v":0},{"$f":"IF(BKI2>=Inputs!$E$38,$D$26,0)","v":0},{"$f":"IF(BKJ2>=Inputs!$E$38,$D$26,0)","v":0},{"$f":"IF(BKK2>=Inputs!$E$38,$D$26,0)","v":0},{"$f":"IF(BKL2>=Inputs!$E$38,$D$26,0)","v":0},{"$f":"IF(BKM2>=Inputs!$E$38,$D$26,0)","v":0},{"$f":"IF(BKN2>=Inputs!$E$38,$D$26,0)","v":0},{"$f":"IF(BKO2>=Inputs!$E$38,$D$26,0)","v":0},{"$f":"IF(BKP2>=Inputs!$E$38,$D$26,0)","v":0},{"$f":"IF(BKQ2>=Inputs!$E$38,$D$26,0)","v":0},{"$f":"IF(BKR2>=Inputs!$E$38,$D$26,0)","v":0},{"$f":"IF(BKS2>=Inputs!$E$38,$D$26,0)","v":0},{"$f":"IF(BKT2>=Inputs!$E$38,$D$26,0)","v":0},{"$f":"IF(BKU2>=Inputs!$E$38,$D$26,0)","v":0},{"$f":"IF(BKV2>=Inputs!$E$38,$D$26,0)","v":0},{"$f":"IF(BKW2>=Inputs!$E$38,$D$26,0)","v":0},{"$f":"IF(BKX2>=Inputs!$E$38,$D$26,0)","v":0},{"$f":"IF(BKY2>=Inputs!$E$38,$D$26,0)","v":0},{"$f":"IF(BKZ2>=Inputs!$E$38,$D$26,0)","v":0},{"$f":"IF(BLA2>=Inputs!$E$38,$D$26,0)","v":0},{"$f":"IF(BLB2>=Inputs!$E$38,$D$26,0)","v":0},{"$f":"IF(BLC2>=Inputs!$E$38,$D$26,0)","v":0},{"$f":"IF(BLD2>=Inputs!$E$38,$D$26,0)","v":0},{"$f":"IF(BLE2>=Inputs!$E$38,$D$26,0)","v":0},{"$f":"IF(BLF2>=Inputs!$E$38,$D$26,0)","v":0},{"$f":"IF(BLG2>=Inputs!$E$38,$D$26,0)","v":0},{"$f":"IF(BLH2>=Inputs!$E$38,$D$26,0)","v":0},{"$f":"IF(BLI2>=Inputs!$E$38,$D$26,0)","v":0},{"$f":"IF(BLJ2>=Inputs!$E$38,$D$26,0)","v":0},{"$f":"IF(BLK2>=Inputs!$E$38,$D$26,0)","v":0},{"$f":"IF(BLL2>=Inputs!$E$38,$D$26,0)","v":0},{"$f":"IF(BLM2>=Inputs!$E$38,$D$26,0)","v":0},{"$f":"IF(BLN2>=Inputs!$E$38,$D$26,0)","v":0},{"$f":"IF(BLO2>=Inputs!$E$38,$D$26,0)","v":0},{"$f":"IF(BLP2>=Inputs!$E$38,$D$26,0)","v":0},{"$f":"IF(BLQ2>=Inputs!$E$38,$D$26,0)","v":0},{"$f":"IF(BLR2>=Inputs!$E$38,$D$26,0)","v":0},{"$f":"IF(BLS2>=Inputs!$E$38,$D$26,0)","v":0},{"$f":"IF(BLT2>=Inputs!$E$38,$D$26,0)","v":0},{"$f":"IF(BLU2>=Inputs!$E$38,$D$26,0)","v":0},{"$f":"IF(BLV2>=Inputs!$E$38,$D$26,0)","v":0},{"$f":"IF(BLW2>=Inputs!$E$38,$D$26,0)","v":0},{"$f":"IF(BLX2>=Inputs!$E$38,$D$26,0)","v":0},{"$f":"IF(BLY2>=Inputs!$E$38,$D$26,0)","v":0},{"$f":"IF(BLZ2>=Inputs!$E$38,$D$26,0)","v":0},{"$f":"IF(BMA2>=Inputs!$E$38,$D$26,0)","v":0},{"$f":"IF(BMB2>=Inputs!$E$38,$D$26,0)","v":0},{"$f":"IF(BMC2>=Inputs!$E$38,$D$26,0)","v":0},{"$f":"IF(BMD2>=Inputs!$E$38,$D$26,0)","v":0},{"$f":"IF(BME2>=Inputs!$E$38,$D$26,0)","v":0},{"$f":"IF(BMF2>=Inputs!$E$38,$D$26,0)","v":0},{"$f":"IF(BMG2>=Inputs!$E$38,$D$26,0)","v":0},{"$f":"IF(BMH2>=Inputs!$E$38,$D$26,0)","v":0},{"$f":"IF(BMI2>=Inputs!$E$38,$D$26,0)","v":0},{"$f":"IF(BMJ2>=Inputs!$E$38,$D$26,0)","v":0},{"$f":"IF(BMK2>=Inputs!$E$38,$D$26,0)","v":0},{"$f":"IF(BML2>=Inputs!$E$38,$D$26,0)","v":0},{"$f":"IF(BMM2>=Inputs!$E$38,$D$26,0)","v":0},{"$f":"IF(BMN2>=Inputs!$E$38,$D$26,0)","v":0},{"$f":"IF(BMO2>=Inputs!$E$38,$D$26,0)","v":0},{"$f":"IF(BMP2>=Inputs!$E$38,$D$26,0)","v":0},{"$f":"IF(BMQ2>=Inputs!$E$38,$D$26,0)","v":0},{"$f":"IF(BMR2>=Inputs!$E$38,$D$26,0)","v":0},{"$f":"IF(BMS2>=Inputs!$E$38,$D$26,0)","v":0},{"$f":"IF(BMT2>=Inputs!$E$38,$D$26,0)","v":0},{"$f":"IF(BMU2>=Inputs!$E$38,$D$26,0)","v":0},{"$f":"IF(BMV2>=Inputs!$E$38,$D$26,0)","v":0},{"$f":"IF(BMW2>=Inputs!$E$38,$D$26,0)","v":0},{"$f":"IF(BMX2>=Inputs!$E$38,$D$26,0)","v":0},{"$f":"IF(BMY2>=Inputs!$E$38,$D$26,0)","v":0},{"$f":"IF(BMZ2>=Inputs!$E$38,$D$26,0)","v":0},{"$f":"IF(BNA2>=Inputs!$E$38,$D$26,0)","v":0},{"$f":"IF(BNB2>=Inputs!$E$38,$D$26,0)","v":0},{"$f":"IF(BNC2>=Inputs!$E$38,$D$26,0)","v":0},{"$f":"IF(BND2>=Inputs!$E$38,$D$26,0)","v":0},{"$f":"IF(BNE2>=Inputs!$E$38,$D$26,0)","v":0},{"$f":"IF(BNF2>=Inputs!$E$38,$D$26,0)","v":0},{"$f":"IF(BNG2>=Inputs!$E$38,$D$26,0)","v":0},{"$f":"IF(BNH2>=Inputs!$E$38,$D$26,0)","v":0},{"$f":"IF(BNI2>=Inputs!$E$38,$D$26,0)","v":0},{"$f":"IF(BNJ2>=Inputs!$E$38,$D$26,0)","v":0},{"$f":"IF(BNK2>=Inputs!$E$38,$D$26,0)","v":0},{"$f":"IF(BNL2>=Inputs!$E$38,$D$26,0)","v":0},{"$f":"IF(BNM2>=Inputs!$E$38,$D$26,0)","v":0},{"$f":"IF(BNN2>=Inputs!$E$38,$D$26,0)","v":0},{"$f":"IF(BNO2>=Inputs!$E$38,$D$26,0)","v":0},{"$f":"IF(BNP2>=Inputs!$E$38,$D$26,0)","v":0},{"$f":"IF(BNQ2>=Inputs!$E$38,$D$26,0)","v":0},{"$f":"IF(BNR2>=Inputs!$E$38,$D$26,0)","v":0},{"$f":"IF(BNS2>=Inputs!$E$38,$D$26,0)","v":0},{"$f":"IF(BNT2>=Inputs!$E$38,$D$26,0)","v":0},{"$f":"IF(BNU2>=Inputs!$E$38,$D$26,0)","v":0},{"$f":"IF(BNV2>=Inputs!$E$38,$D$26,0)","v":0},{"$f":"IF(BNW2>=Inputs!$E$38,$D$26,0)","v":0},{"$f":"IF(BNX2>=Inputs!$E$38,$D$26,0)","v":0},{"$f":"IF(BNY2>=Inputs!$E$38,$D$26,0)","v":0},{"$f":"IF(BNZ2>=Inputs!$E$38,$D$26,0)","v":0},{"$f":"IF(BOA2>=Inputs!$E$38,$D$26,0)","v":0},{"$f":"IF(BOB2>=Inputs!$E$38,$D$26,0)","v":0},{"$f":"IF(BOC2>=Inputs!$E$38,$D$26,0)","v":0},{"$f":"IF(BOD2>=Inputs!$E$38,$D$26,0)","v":0},{"$f":"IF(BOE2>=Inputs!$E$38,$D$26,0)","v":0},{"$f":"IF(BOF2>=Inputs!$E$38,$D$26,0)","v":0},{"$f":"IF(BOG2>=Inputs!$E$38,$D$26,0)","v":0},{"$f":"IF(BOH2>=Inputs!$E$38,$D$26,0)","v":0},{"$f":"IF(BOI2>=Inputs!$E$38,$D$26,0)","v":0},{"$f":"IF(BOJ2>=Inputs!$E$38,$D$26,0)","v":0},{"$f":"IF(BOK2>=Inputs!$E$38,$D$26,0)","v":0},{"$f":"IF(BOL2>=Inputs!$E$38,$D$26,0)","v":0},{"$f":"IF(BOM2>=Inputs!$E$38,$D$26,0)","v":0},{"$f":"IF(BON2>=Inputs!$E$38,$D$26,0)","v":0},{"$f":"IF(BOO2>=Inputs!$E$38,$D$26,0)","v":0},{"$f":"IF(BOP2>=Inputs!$E$38,$D$26,0)","v":0},{"$f":"IF(BOQ2>=Inputs!$E$38,$D$26,0)","v":0},{"$f":"IF(BOR2>=Inputs!$E$38,$D$26,0)","v":0},{"$f":"IF(BOS2>=Inputs!$E$38,$D$26,0)","v":0},{"$f":"IF(BOT2>=Inputs!$E$38,$D$26,0)","v":0},{"$f":"IF(BOU2>=Inputs!$E$38,$D$26,0)","v":0},{"$f":"IF(BOV2>=Inputs!$E$38,$D$26,0)","v":0},{"$f":"IF(BOW2>=Inputs!$E$38,$D$26,0)","v":0},{"$f":"IF(BOX2>=Inputs!$E$38,$D$26,0)","v":0},{"$f":"IF(BOY2>=Inputs!$E$38,$D$26,0)","v":0},{"$f":"IF(BOZ2>=Inputs!$E$38,$D$26,0)","v":0},{"$f":"IF(BPA2>=Inputs!$E$38,$D$26,0)","v":0},{"$f":"IF(BPB2>=Inputs!$E$38,$D$26,0)","v":0},{"$f":"IF(BPC2>=Inputs!$E$38,$D$26,0)","v":0},{"$f":"IF(BPD2>=Inputs!$E$38,$D$26,0)","v":0},{"$f":"IF(BPE2>=Inputs!$E$38,$D$26,0)","v":0},{"$f":"IF(BPF2>=Inputs!$E$38,$D$26,0)","v":0},{"$f":"IF(BPG2>=Inputs!$E$38,$D$26,0)","v":0},{"$f":"IF(BPH2>=Inputs!$E$38,$D$26,0)","v":0},{"$f":"IF(BPI2>=Inputs!$E$38,$D$26,0)","v":0},{"$f":"IF(BPJ2>=Inputs!$E$38,$D$26,0)","v":0},{"$f":"IF(BPK2>=Inputs!$E$38,$D$26,0)","v":0},{"$f":"IF(BPL2>=Inputs!$E$38,$D$26,0)","v":0},{"$f":"IF(BPM2>=Inputs!$E$38,$D$26,0)","v":0},{"$f":"IF(BPN2>=Inputs!$E$38,$D$26,0)","v":0},{"$f":"IF(BPO2>=Inputs!$E$38,$D$26,0)","v":0},{"$f":"IF(BPP2>=Inputs!$E$38,$D$26,0)","v":0},{"$f":"IF(BPQ2>=Inputs!$E$38,$D$26,0)","v":0},{"$f":"IF(BPR2>=Inputs!$E$38,$D$26,0)","v":0},{"$f":"IF(BPS2>=Inputs!$E$38,$D$26,0)","v":0},{"$f":"IF(BPT2>=Inputs!$E$38,$D$26,0)","v":0},{"$f":"IF(BPU2>=Inputs!$E$38,$D$26,0)","v":0},{"$f":"IF(BPV2>=Inputs!$E$38,$D$26,0)","v":0},{"$f":"IF(BPW2>=Inputs!$E$38,$D$26,0)","v":0},{"$f":"IF(BPX2>=Inputs!$E$38,$D$26,0)","v":0},{"$f":"IF(BPY2>=Inputs!$E$38,$D$26,0)","v":0},{"$f":"IF(BPZ2>=Inputs!$E$38,$D$26,0)","v":0},{"$f":"IF(BQA2>=Inputs!$E$38,$D$26,0)","v":0},{"$f":"IF(BQB2>=Inputs!$E$38,$D$26,0)","v":0},{"$f":"IF(BQC2>=Inputs!$E$38,$D$26,0)","v":0},{"$f":"IF(BQD2>=Inputs!$E$38,$D$26,0)","v":0},{"$f":"IF(BQE2>=Inputs!$E$38,$D$26,0)","v":0},{"$f":"IF(BQF2>=Inputs!$E$38,$D$26,0)","v":0},{"$f":"IF(BQG2>=Inputs!$E$38,$D$26,0)","v":0},{"$f":"IF(BQH2>=Inputs!$E$38,$D$26,0)","v":0},{"$f":"IF(BQI2>=Inputs!$E$38,$D$26,0)","v":0},{"$f":"IF(BQJ2>=Inputs!$E$38,$D$26,0)","v":0},{"$f":"IF(BQK2>=Inputs!$E$38,$D$26,0)","v":0},{"$f":"IF(BQL2>=Inputs!$E$38,$D$26,0)","v":0},{"$f":"IF(BQM2>=Inputs!$E$38,$D$26,0)","v":0},{"$f":"IF(BQN2>=Inputs!$E$38,$D$26,0)","v":0},{"$f":"IF(BQO2>=Inputs!$E$38,$D$26,0)","v":0},{"$f":"IF(BQP2>=Inputs!$E$38,$D$26,0)","v":0},{"$f":"IF(BQQ2>=Inputs!$E$38,$D$26,0)","v":0},{"$f":"IF(BQR2>=Inputs!$E$38,$D$26,0)","v":0},{"$f":"IF(BQS2>=Inputs!$E$38,$D$26,0)","v":0},{"$f":"IF(BQT2>=Inputs!$E$38,$D$26,0)","v":0},{"$f":"IF(BQU2>=Inputs!$E$38,$D$26,0)","v":0},{"$f":"IF(BQV2>=Inputs!$E$38,$D$26,0)","v":0},{"$f":"IF(BQW2>=Inputs!$E$38,$D$26,0)","v":0},{"$f":"IF(BQX2>=Inputs!$E$38,$D$26,0)","v":0},{"$f":"IF(BQY2>=Inputs!$E$38,$D$26,0)","v":0},{"$f":"IF(BQZ2>=Inputs!$E$38,$D$26,0)","v":0},{"$f":"IF(BRA2>=Inputs!$E$38,$D$26,0)","v":0},{"$f":"IF(BRB2>=Inputs!$E$38,$D$26,0)","v":0},{"$f":"IF(BRC2>=Inputs!$E$38,$D$26,0)","v":0},{"$f":"IF(BRD2>=Inputs!$E$38,$D$26,0)","v":0},{"$f":"IF(BRE2>=Inputs!$E$38,$D$26,0)","v":0},{"$f":"IF(BRF2>=Inputs!$E$38,$D$26,0)","v":0},{"$f":"IF(BRG2>=Inputs!$E$38,$D$26,0)","v":0},{"$f":"IF(BRH2>=Inputs!$E$38,$D$26,0)","v":0},{"$f":"IF(BRI2>=Inputs!$E$38,$D$26,0)","v":0},{"$f":"IF(BRJ2>=Inputs!$E$38,$D$26,0)","v":0},{"$f":"IF(BRK2>=Inputs!$E$38,$D$26,0)","v":0},{"$f":"IF(BRL2>=Inputs!$E$38,$D$26,0)","v":0},{"$f":"IF(BRM2>=Inputs!$E$38,$D$26,0)","v":0},{"$f":"IF(BRN2>=Inputs!$E$38,$D$26,0)","v":0},{"$f":"IF(BRO2>=Inputs!$E$38,$D$26,0)","v":0},{"$f":"IF(BRP2>=Inputs!$E$38,$D$26,0)","v":0},{"$f":"IF(BRQ2>=Inputs!$E$38,$D$26,0)","v":0},{"$f":"IF(BRR2>=Inputs!$E$38,$D$26,0)","v":0},{"$f":"IF(BRS2>=Inputs!$E$38,$D$26,0)","v":0},{"$f":"IF(BRT2>=Inputs!$E$38,$D$26,0)","v":0},{"$f":"IF(BRU2>=Inputs!$E$38,$D$26,0)","v":0},{"$f":"IF(BRV2>=Inputs!$E$38,$D$26,0)","v":0},{"$f":"IF(BRW2>=Inputs!$E$38,$D$26,0)","v":0},{"$f":"IF(BRX2>=Inputs!$E$38,$D$26,0)","v":0},{"$f":"IF(BRY2>=Inputs!$E$38,$D$26,0)","v":0},{"$f":"IF(BRZ2>=Inputs!$E$38,$D$26,0)","v":0},{"$f":"IF(BSA2>=Inputs!$E$38,$D$26,0)","v":0},{"$f":"IF(BSB2>=Inputs!$E$38,$D$26,0)","v":0},{"$f":"IF(BSC2>=Inputs!$E$38,$D$26,0)","v":0},{"$f":"IF(BSD2>=Inputs!$E$38,$D$26,0)","v":0},{"$f":"IF(BSE2>=Inputs!$E$38,$D$26,0)","v":0},{"$f":"IF(BSF2>=Inputs!$E$38,$D$26,0)","v":0},{"$f":"IF(BSG2>=Inputs!$E$38,$D$26,0)","v":0},{"$f":"IF(BSH2>=Inputs!$E$38,$D$26,0)","v":0},{"$f":"IF(BSI2>=Inputs!$E$38,$D$26,0)","v":0},{"$f":"IF(BSJ2>=Inputs!$E$38,$D$26,0)","v":0},{"$f":"IF(BSK2>=Inputs!$E$38,$D$26,0)","v":0},{"$f":"IF(BSL2>=Inputs!$E$38,$D$26,0)","v":0},{"$f":"IF(BSM2>=Inputs!$E$38,$D$26,0)","v":0},{"$f":"IF(BSN2>=Inputs!$E$38,$D$26,0)","v":0},{"$f":"IF(BSO2>=Inputs!$E$38,$D$26,0)","v":0},{"$f":"IF(BSP2>=Inputs!$E$38,$D$26,0)","v":0},{"$f":"IF(BSQ2>=Inputs!$E$38,$D$26,0)","v":0},{"$f":"IF(BSR2>=Inputs!$E$38,$D$26,0)","v":0},{"$f":"IF(BSS2>=Inputs!$E$38,$D$26,0)","v":0},{"$f":"IF(BST2>=Inputs!$E$38,$D$26,0)","v":0},{"$f":"IF(BSU2>=Inputs!$E$38,$D$26,0)","v":0},{"$f":"IF(BSV2>=Inputs!$E$38,$D$26,0)","v":0},{"$f":"IF(BSW2>=Inputs!$E$38,$D$26,0)","v":0},{"$f":"IF(BSX2>=Inputs!$E$38,$D$26,0)","v":0},{"$f":"IF(BSY2>=Inputs!$E$38,$D$26,0)","v":0},{"$f":"IF(BSZ2>=Inputs!$E$38,$D$26,0)","v":0},{"$f":"IF(BTA2>=Inputs!$E$38,$D$26,0)","v":0},{"$f":"IF(BTB2>=Inputs!$E$38,$D$26,0)","v":0},{"$f":"IF(BTC2>=Inputs!$E$38,$D$26,0)","v":0},{"$f":"IF(BTD2>=Inputs!$E$38,$D$26,0)","v":0},{"$f":"IF(BTE2>=Inputs!$E$38,$D$26,0)","v":0},{"$f":"IF(BTF2>=Inputs!$E$38,$D$26,0)","v":0},{"$f":"IF(BTG2>=Inputs!$E$38,$D$26,0)","v":0},{"$f":"IF(BTH2>=Inputs!$E$38,$D$26,0)","v":0},{"$f":"IF(BTI2>=Inputs!$E$38,$D$26,0)","v":0},{"$f":"IF(BTJ2>=Inputs!$E$38,$D$26,0)","v":0},{"$f":"IF(BTK2>=Inputs!$E$38,$D$26,0)","v":0},{"$f":"IF(BTL2>=Inputs!$E$38,$D$26,0)","v":0},{"$f":"IF(BTM2>=Inputs!$E$38,$D$26,0)","v":0},{"$f":"IF(BTN2>=Inputs!$E$38,$D$26,0)","v":0},{"$f":"IF(BTO2>=Inputs!$E$38,$D$26,0)","v":0},{"$f":"IF(BTP2>=Inputs!$E$38,$D$26,0)","v":0},{"$f":"IF(BTQ2>=Inputs!$E$38,$D$26,0)","v":0},{"$f":"IF(BTR2>=Inputs!$E$38,$D$26,0)","v":0},{"$f":"IF(BTS2>=Inputs!$E$38,$D$26,0)","v":0},{"$f":"IF(BTT2>=Inputs!$E$38,$D$26,0)","v":0},{"$f":"IF(BTU2>=Inputs!$E$38,$D$26,0)","v":0},{"$f":"IF(BTV2>=Inputs!$E$38,$D$26,0)","v":0},{"$f":"IF(BTW2>=Inputs!$E$38,$D$26,0)","v":0},{"$f":"IF(BTX2>=Inputs!$E$38,$D$26,0)","v":0},{"$f":"IF(BTY2>=Inputs!$E$38,$D$26,0)","v":0},{"$f":"IF(BTZ2>=Inputs!$E$38,$D$26,0)","v":0},{"$f":"IF(BUA2>=Inputs!$E$38,$D$26,0)","v":0},{"$f":"IF(BUB2>=Inputs!$E$38,$D$26,0)","v":0},{"$f":"IF(BUC2>=Inputs!$E$38,$D$26,0)","v":0},{"$f":"IF(BUD2>=Inputs!$E$38,$D$26,0)","v":0},{"$f":"IF(BUE2>=Inputs!$E$38,$D$26,0)","v":0},{"$f":"IF(BUF2>=Inputs!$E$38,$D$26,0)","v":0},{"$f":"IF(BUG2>=Inputs!$E$38,$D$26,0)","v":0},{"$f":"IF(BUH2>=Inputs!$E$38,$D$26,0)","v":0},{"$f":"IF(BUI2>=Inputs!$E$38,$D$26,0)","v":0},{"$f":"IF(BUJ2>=Inputs!$E$38,$D$26,0)","v":0},{"$f":"IF(BUK2>=Inputs!$E$38,$D$26,0)","v":0},{"$f":"IF(BUL2>=Inputs!$E$38,$D$26,0)","v":0},{"$f":"IF(BUM2>=Inputs!$E$38,$D$26,0)","v":0},{"$f":"IF(BUN2>=Inputs!$E$38,$D$26,0)","v":0},{"$f":"IF(BUO2>=Inputs!$E$38,$D$26,0)","v":0},{"$f":"IF(BUP2>=Inputs!$E$38,$D$26,0)","v":0},{"$f":"IF(BUQ2>=Inputs!$E$38,$D$26,0)","v":0},{"$f":"IF(BUR2>=Inputs!$E$38,$D$26,0)","v":0},{"$f":"IF(BUS2>=Inputs!$E$38,$D$26,0)","v":0},{"$f":"IF(BUT2>=Inputs!$E$38,$D$26,0)","v":0},{"$f":"IF(BUU2>=Inputs!$E$38,$D$26,0)","v":0},{"$f":"IF(BUV2>=Inputs!$E$38,$D$26,0)","v":0},{"$f":"IF(BUW2>=Inputs!$E$38,$D$26,0)","v":0},{"$f":"IF(BUX2>=Inputs!$E$38,$D$26,0)","v":0},{"$f":"IF(BUY2>=Inputs!$E$38,$D$26,0)","v":0},{"$f":"IF(BUZ2>=Inputs!$E$38,$D$26,0)","v":0},{"$f":"IF(BVA2>=Inputs!$E$38,$D$26,0)","v":0},{"$f":"IF(BVB2>=Inputs!$E$38,$D$26,0)","v":0},{"$f":"IF(BVC2>=Inputs!$E$38,$D$26,0)","v":0},{"$f":"IF(BVD2>=Inputs!$E$38,$D$26,0)","v":0},{"$f":"IF(BVE2>=Inputs!$E$38,$D$26,0)","v":0},{"$f":"IF(BVF2>=Inputs!$E$38,$D$26,0)","v":0},{"$f":"IF(BVG2>=Inputs!$E$38,$D$26,0)","v":0},{"$f":"IF(BVH2>=Inputs!$E$38,$D$26,0)","v":0},{"$f":"IF(BVI2>=Inputs!$E$38,$D$26,0)","v":0},{"$f":"IF(BVJ2>=Inputs!$E$38,$D$26,0)","v":0},{"$f":"IF(BVK2>=Inputs!$E$38,$D$26,0)","v":0},{"$f":"IF(BVL2>=Inputs!$E$38,$D$26,0)","v":0},{"$f":"IF(BVM2>=Inputs!$E$38,$D$26,0)","v":0},{"$f":"IF(BVN2>=Inputs!$E$38,$D$26,0)","v":0},{"$f":"IF(BVO2>=Inputs!$E$38,$D$26,0)","v":0},{"$f":"IF(BVP2>=Inputs!$E$38,$D$26,0)","v":0},{"$f":"IF(BVQ2>=Inputs!$E$38,$D$26,0)","v":0},{"$f":"IF(BVR2>=Inputs!$E$38,$D$26,0)","v":0},{"$f":"IF(BVS2>=Inputs!$E$38,$D$26,0)","v":0},{"$f":"IF(BVT2>=Inputs!$E$38,$D$26,0)","v":0},{"$f":"IF(BVU2>=Inputs!$E$38,$D$26,0)","v":0},{"$f":"IF(BVV2>=Inputs!$E$38,$D$26,0)","v":0},{"$f":"IF(BVW2>=Inputs!$E$38,$D$26,0)","v":0},{"$f":"IF(BVX2>=Inputs!$E$38,$D$26,0)","v":0},{"$f":"IF(BVY2>=Inputs!$E$38,$D$26,0)","v":0},{"$f":"IF(BVZ2>=Inputs!$E$38,$D$26,0)","v":0},{"$f":"IF(BWA2>=Inputs!$E$38,$D$26,0)","v":0},{"$f":"IF(BWB2>=Inputs!$E$38,$D$26,0)","v":0},{"$f":"IF(BWC2>=Inputs!$E$38,$D$26,0)","v":0},{"$f":"IF(BWD2>=Inputs!$E$38,$D$26,0)","v":0},{"$f":"IF(BWE2>=Inputs!$E$38,$D$26,0)","v":0},{"$f":"IF(BWF2>=Inputs!$E$38,$D$26,0)","v":0},{"$f":"IF(BWG2>=Inputs!$E$38,$D$26,0)","v":0},{"$f":"IF(BWH2>=Inputs!$E$38,$D$26,0)","v":0},{"$f":"IF(BWI2>=Inputs!$E$38,$D$26,0)","v":0},{"$f":"IF(BWJ2>=Inputs!$E$38,$D$26,0)","v":0},{"$f":"IF(BWK2>=Inputs!$E$38,$D$26,0)","v":0},{"$f":"IF(BWL2>=Inputs!$E$38,$D$26,0)","v":0},{"$f":"IF(BWM2>=Inputs!$E$38,$D$26,0)","v":0},{"$f":"IF(BWN2>=Inputs!$E$38,$D$26,0)","v":0},{"$f":"IF(BWO2>=Inputs!$E$38,$D$26,0)","v":0},{"$f":"IF(BWP2>=Inputs!$E$38,$D$26,0)","v":0},{"$f":"IF(BWQ2>=Inputs!$E$38,$D$26,0)","v":0},{"$f":"IF(BWR2>=Inputs!$E$38,$D$26,0)","v":0},{"$f":"IF(BWS2>=Inputs!$E$38,$D$26,0)","v":0},{"$f":"IF(BWT2>=Inputs!$E$38,$D$26,0)","v":0},{"$f":"IF(BWU2>=Inputs!$E$38,$D$26,0)","v":0},{"$f":"IF(BWV2>=Inputs!$E$38,$D$26,0)","v":0},{"$f":"IF(BWW2>=Inputs!$E$38,$D$26,0)","v":0},{"$f":"IF(BWX2>=Inputs!$E$38,$D$26,0)","v":0},{"$f":"IF(BWY2>=Inputs!$E$38,$D$26,0)","v":0},{"$f":"IF(BWZ2>=Inputs!$E$38,$D$26,0)","v":0},{"$f":"IF(BXA2>=Inputs!$E$38,$D$26,0)","v":0},{"$f":"IF(BXB2>=Inputs!$E$38,$D$26,0)","v":0},{"$f":"IF(BXC2>=Inputs!$E$38,$D$26,0)","v":0},{"$f":"IF(BXD2>=Inputs!$E$38,$D$26,0)","v":0},{"$f":"IF(BXE2>=Inputs!$E$38,$D$26,0)","v":0},{"$f":"IF(BXF2>=Inputs!$E$38,$D$26,0)","v":0},{"$f":"IF(BXG2>=Inputs!$E$38,$D$26,0)","v":0},{"$f":"IF(BXH2>=Inputs!$E$38,$D$26,0)","v":0},{"$f":"IF(BXI2>=Inputs!$E$38,$D$26,0)","v":0},{"$f":"IF(BXJ2>=Inputs!$E$38,$D$26,0)","v":0},{"$f":"IF(BXK2>=Inputs!$E$38,$D$26,0)","v":0},{"$f":"IF(BXL2>=Inputs!$E$38,$D$26,0)","v":0},{"$f":"IF(BXM2>=Inputs!$E$38,$D$26,0)","v":0},{"$f":"IF(BXN2>=Inputs!$E$38,$D$26,0)","v":0},{"$f":"IF(BXO2>=Inputs!$E$38,$D$26,0)","v":0},{"$f":"IF(BXP2>=Inputs!$E$38,$D$26,0)","v":0},{"$f":"IF(BXQ2>=Inputs!$E$38,$D$26,0)","v":0},{"$f":"IF(BXR2>=Inputs!$E$38,$D$26,0)","v":0},{"$f":"IF(BXS2>=Inputs!$E$38,$D$26,0)","v":0},{"$f":"IF(BXT2>=Inputs!$E$38,$D$26,0)","v":0},{"$f":"IF(BXU2>=Inputs!$E$38,$D$26,0)","v":0},{"$f":"IF(BXV2>=Inputs!$E$38,$D$26,0)","v":0},{"$f":"IF(BXW2>=Inputs!$E$38,$D$26,0)","v":0},{"$f":"IF(BXX2>=Inputs!$E$38,$D$26,0)","v":0},{"$f":"IF(BXY2>=Inputs!$E$38,$D$26,0)","v":0},{"$f":"IF(BXZ2>=Inputs!$E$38,$D$26,0)","v":0},{"$f":"IF(BYA2>=Inputs!$E$38,$D$26,0)","v":0},{"$f":"IF(BYB2>=Inputs!$E$38,$D$26,0)","v":0},{"$f":"IF(BYC2>=Inputs!$E$38,$D$26,0)","v":0},{"$f":"IF(BYD2>=Inputs!$E$38,$D$26,0)","v":0},{"$f":"IF(BYE2>=Inputs!$E$38,$D$26,0)","v":0},{"$f":"IF(BYF2>=Inputs!$E$38,$D$26,0)","v":0},{"$f":"IF(BYG2>=Inputs!$E$38,$D$26,0)","v":0},{"$f":"IF(BYH2>=Inputs!$E$38,$D$26,0)","v":0},{"$f":"IF(BYI2>=Inputs!$E$38,$D$26,0)","v":0},{"$f":"IF(BYJ2>=Inputs!$E$38,$D$26,0)","v":0},{"$f":"IF(BYK2>=Inputs!$E$38,$D$26,0)","v":0},{"$f":"IF(BYL2>=Inputs!$E$38,$D$26,0)","v":0},{"$f":"IF(BYM2>=Inputs!$E$38,$D$26,0)","v":0},{"$f":"IF(BYN2>=Inputs!$E$38,$D$26,0)","v":0},{"$f":"IF(BYO2>=Inputs!$E$38,$D$26,0)","v":0},{"$f":"IF(BYP2>=Inputs!$E$38,$D$26,0)","v":0},{"$f":"IF(BYQ2>=Inputs!$E$38,$D$26,0)","v":0},{"$f":"IF(BYR2>=Inputs!$E$38,$D$26,0)","v":0},{"$f":"IF(BYS2>=Inputs!$E$38,$D$26,0)","v":0},{"$f":"IF(BYT2>=Inputs!$E$38,$D$26,0)","v":0},{"$f":"IF(BYU2>=Inputs!$E$38,$D$26,0)","v":0},{"$f":"IF(BYV2>=Inputs!$E$38,$D$26,0)","v":0},{"$f":"IF(BYW2>=Inputs!$E$38,$D$26,0)","v":0},{"$f":"IF(BYX2>=Inputs!$E$38,$D$26,0)","v":0},{"$f":"IF(BYY2>=Inputs!$E$38,$D$26,0)","v":0},{"$f":"IF(BYZ2>=Inputs!$E$38,$D$26,0)","v":0},{"$f":"IF(BZA2>=Inputs!$E$38,$D$26,0)","v":0},{"$f":"IF(BZB2>=Inputs!$E$38,$D$26,0)","v":0},{"$f":"IF(BZC2>=Inputs!$E$38,$D$26,0)","v":0},{"$f":"IF(BZD2>=Inputs!$E$38,$D$26,0)","v":0},{"$f":"IF(BZE2>=Inputs!$E$38,$D$26,0)","v":0},{"$f":"IF(BZF2>=Inputs!$E$38,$D$26,0)","v":0},{"$f":"IF(BZG2>=Inputs!$E$38,$D$26,0)","v":0},{"$f":"IF(BZH2>=Inputs!$E$38,$D$26,0)","v":0},{"$f":"IF(BZI2>=Inputs!$E$38,$D$26,0)","v":0},{"$f":"IF(BZJ2>=Inputs!$E$38,$D$26,0)","v":0},{"$f":"IF(BZK2>=Inputs!$E$38,$D$26,0)","v":0},{"$f":"IF(BZL2>=Inputs!$E$38,$D$26,0)","v":0},{"$f":"IF(BZM2>=Inputs!$E$38,$D$26,0)","v":0},{"$f":"IF(BZN2>=Inputs!$E$38,$D$26,0)","v":0},{"$f":"IF(BZO2>=Inputs!$E$38,$D$26,0)","v":0},{"$f":"IF(BZP2>=Inputs!$E$38,$D$26,0)","v":0},{"$f":"IF(BZQ2>=Inputs!$E$38,$D$26,0)","v":0},{"$f":"IF(BZR2>=Inputs!$E$38,$D$26,0)","v":0},{"$f":"IF(BZS2>=Inputs!$E$38,$D$26,0)","v":0},{"$f":"IF(BZT2>=Inputs!$E$38,$D$26,0)","v":0},{"$f":"IF(BZU2>=Inputs!$E$38,$D$26,0)","v":0},{"$f":"IF(BZV2>=Inputs!$E$38,$D$26,0)","v":0},{"$f":"IF(BZW2>=Inputs!$E$38,$D$26,0)","v":0},{"$f":"IF(BZX2>=Inputs!$E$38,$D$26,0)","v":0},{"$f":"IF(BZY2>=Inputs!$E$38,$D$26,0)","v":0},{"$f":"IF(BZZ2>=Inputs!$E$38,$D$26,0)","v":0},{"$f":"IF(CAA2>=Inputs!$E$38,$D$26,0)","v":0},{"$f":"IF(CAB2>=Inputs!$E$38,$D$26,0)","v":0},{"$f":"IF(CAC2>=Inputs!$E$38,$D$26,0)","v":0},{"$f":"IF(CAD2>=Inputs!$E$38,$D$26,0)","v":0},{"$f":"IF(CAE2>=Inputs!$E$38,$D$26,0)","v":0},{"$f":"IF(CAF2>=Inputs!$E$38,$D$26,0)","v":0},{"$f":"IF(CAG2>=Inputs!$E$38,$D$26,0)","v":0},{"$f":"IF(CAH2>=Inputs!$E$38,$D$26,0)","v":0},{"$f":"IF(CAI2>=Inputs!$E$38,$D$26,0)","v":0},{"$f":"IF(CAJ2>=Inputs!$E$38,$D$26,0)","v":0},{"$f":"IF(CAK2>=Inputs!$E$38,$D$26,0)","v":0},{"$f":"IF(CAL2>=Inputs!$E$38,$D$26,0)","v":0},{"$f":"IF(CAM2>=Inputs!$E$38,$D$26,0)","v":0},{"$f":"IF(CAN2>=Inputs!$E$38,$D$26,0)","v":0},{"$f":"IF(CAO2>=Inputs!$E$38,$D$26,0)","v":0},{"$f":"IF(CAP2>=Inputs!$E$38,$D$26,0)","v":0},{"$f":"IF(CAQ2>=Inputs!$E$38,$D$26,0)","v":0},{"$f":"IF(CAR2>=Inputs!$E$38,$D$26,0)","v":0},{"$f":"IF(CAS2>=Inputs!$E$38,$D$26,0)","v":0},{"$f":"IF(CAT2>=Inputs!$E$38,$D$26,0)","v":0},{"$f":"IF(CAU2>=Inputs!$E$38,$D$26,0)","v":0},{"$f":"IF(CAV2>=Inputs!$E$38,$D$26,0)","v":0},{"$f":"IF(CAW2>=Inputs!$E$38,$D$26,0)","v":0},{"$f":"IF(CAX2>=Inputs!$E$38,$D$26,0)","v":0},{"$f":"IF(CAY2>=Inputs!$E$38,$D$26,0)","v":0},{"$f":"IF(CAZ2>=Inputs!$E$38,$D$26,0)","v":0},{"$f":"IF(CBA2>=Inputs!$E$38,$D$26,0)","v":0},{"$f":"IF(CBB2>=Inputs!$E$38,$D$26,0)","v":0},{"$f":"IF(CBC2>=Inputs!$E$38,$D$26,0)","v":0},{"$f":"IF(CBD2>=Inputs!$E$38,$D$26,0)","v":0},{"$f":"IF(CBE2>=Inputs!$E$38,$D$26,0)","v":0},{"$f":"IF(CBF2>=Inputs!$E$38,$D$26,0)","v":0},{"$f":"IF(CBG2>=Inputs!$E$38,$D$26,0)","v":0},{"$f":"IF(CBH2>=Inputs!$E$38,$D$26,0)","v":0},{"$f":"IF(CBI2>=Inputs!$E$38,$D$26,0)","v":0},{"$f":"IF(CBJ2>=Inputs!$E$38,$D$26,0)","v":0},{"$f":"IF(CBK2>=Inputs!$E$38,$D$26,0)","v":0},{"$f":"IF(CBL2>=Inputs!$E$38,$D$26,0)","v":0},{"$f":"IF(CBM2>=Inputs!$E$38,$D$26,0)","v":0},{"$f":"IF(CBN2>=Inputs!$E$38,$D$26,0)","v":0},{"$f":"IF(CBO2>=Inputs!$E$38,$D$26,0)","v":0},{"$f":"IF(CBP2>=Inputs!$E$38,$D$26,0)","v":0},{"$f":"IF(CBQ2>=Inputs!$E$38,$D$26,0)","v":0},{"$f":"IF(CBR2>=Inputs!$E$38,$D$26,0)","v":0},{"$f":"IF(CBS2>=Inputs!$E$38,$D$26,0)","v":0},{"$f":"IF(CBT2>=Inputs!$E$38,$D$26,0)","v":0},{"$f":"IF(CBU2>=Inputs!$E$38,$D$26,0)","v":0},{"$f":"IF(CBV2>=Inputs!$E$38,$D$26,0)","v":0},{"$f":"IF(CBW2>=Inputs!$E$38,$D$26,0)","v":0},{"$f":"IF(CBX2>=Inputs!$E$38,$D$26,0)","v":0},{"$f":"IF(CBY2>=Inputs!$E$38,$D$26,0)","v":0},{"$f":"IF(CBZ2>=Inputs!$E$38,$D$26,0)","v":0},{"$f":"IF(CCA2>=Inputs!$E$38,$D$26,0)","v":0},{"$f":"IF(CCB2>=Inputs!$E$38,$D$26,0)","v":0},{"$f":"IF(CCC2>=Inputs!$E$38,$D$26,0)","v":0},{"$f":"IF(CCD2>=Inputs!$E$38,$D$26,0)","v":0},{"$f":"IF(CCE2>=Inputs!$E$38,$D$26,0)","v":0},{"$f":"IF(CCF2>=Inputs!$E$38,$D$26,0)","v":0},{"$f":"IF(CCG2>=Inputs!$E$38,$D$26,0)","v":0},{"$f":"IF(CCH2>=Inputs!$E$38,$D$26,0)","v":0},{"$f":"IF(CCI2>=Inputs!$E$38,$D$26,0)","v":0},{"$f":"IF(CCJ2>=Inputs!$E$38,$D$26,0)","v":0},{"$f":"IF(CCK2>=Inputs!$E$38,$D$26,0)","v":0},{"$f":"IF(CCL2>=Inputs!$E$38,$D$26,0)","v":0},{"$f":"IF(CCM2>=Inputs!$E$38,$D$26,0)","v":0},{"$f":"IF(CCN2>=Inputs!$E$38,$D$26,0)","v":0},{"$f":"IF(CCO2>=Inputs!$E$38,$D$26,0)","v":0},{"$f":"IF(CCP2>=Inputs!$E$38,$D$26,0)","v":0},{"$f":"IF(CCQ2>=Inputs!$E$38,$D$26,0)","v":0},{"$f":"IF(CCR2>=Inputs!$E$38,$D$26,0)","v":0},{"$f":"IF(CCS2>=Inputs!$E$38,$D$26,0)","v":0},{"$f":"IF(CCT2>=Inputs!$E$38,$D$26,0)","v":0},{"$f":"IF(CCU2>=Inputs!$E$38,$D$26,0)","v":0},{"$f":"IF(CCV2>=Inputs!$E$38,$D$26,0)","v":0},{"$f":"IF(CCW2>=Inputs!$E$38,$D$26,0)","v":0},{"$f":"IF(CCX2>=Inputs!$E$38,$D$26,0)","v":0},{"$f":"IF(CCY2>=Inputs!$E$38,$D$26,0)","v":0},{"$f":"IF(CCZ2>=Inputs!$E$38,$D$26,0)","v":0},{"$f":"IF(CDA2>=Inputs!$E$38,$D$26,0)","v":0},{"$f":"IF(CDB2>=Inputs!$E$38,$D$26,0)","v":0},{"$f":"IF(CDC2>=Inputs!$E$38,$D$26,0)","v":0},{"$f":"IF(CDD2>=Inputs!$E$38,$D$26,0)","v":0},{"$f":"IF(CDE2>=Inputs!$E$38,$D$26,0)","v":0},{"$f":"IF(CDF2>=Inputs!$E$38,$D$26,0)","v":0},{"$f":"IF(CDG2>=Inputs!$E$38,$D$26,0)","v":0},{"$f":"IF(CDH2>=Inputs!$E$38,$D$26,0)","v":0},{"$f":"IF(CDI2>=Inputs!$E$38,$D$26,0)","v":0},{"$f":"IF(CDJ2>=Inputs!$E$38,$D$26,0)","v":0},{"$f":"IF(CDK2>=Inputs!$E$38,$D$26,0)","v":0},{"$f":"IF(CDL2>=Inputs!$E$38,$D$26,0)","v":0},{"$f":"IF(CDM2>=Inputs!$E$38,$D$26,0)","v":0},{"$f":"IF(CDN2>=Inputs!$E$38,$D$26,0)","v":0},{"$f":"IF(CDO2>=Inputs!$E$38,$D$26,0)","v":0},{"$f":"IF(CDP2>=Inputs!$E$38,$D$26,0)","v":0},{"$f":"IF(CDQ2>=Inputs!$E$38,$D$26,0)","v":0},{"$f":"IF(CDR2>=Inputs!$E$38,$D$26,0)","v":0},{"$f":"IF(CDS2>=Inputs!$E$38,$D$26,0)","v":0},{"$f":"IF(CDT2>=Inputs!$E$38,$D$26,0)","v":0},{"$f":"IF(CDU2>=Inputs!$E$38,$D$26,0)","v":0},{"$f":"IF(CDV2>=Inputs!$E$38,$D$26,0)","v":0},{"$f":"IF(CDW2>=Inputs!$E$38,$D$26,0)","v":0},{"$f":"IF(CDX2>=Inputs!$E$38,$D$26,0)","v":0},{"$f":"IF(CDY2>=Inputs!$E$38,$D$26,0)","v":0},{"$f":"IF(CDZ2>=Inputs!$E$38,$D$26,0)","v":0},{"$f":"IF(CEA2>=Inputs!$E$38,$D$26,0)","v":0},{"$f":"IF(CEB2>=Inputs!$E$38,$D$26,0)","v":0},{"$f":"IF(CEC2>=Inputs!$E$38,$D$26,0)","v":0},{"$f":"IF(CED2>=Inputs!$E$38,$D$26,0)","v":0},{"$f":"IF(CEE2>=Inputs!$E$38,$D$26,0)","v":0},{"$f":"IF(CEF2>=Inputs!$E$38,$D$26,0)","v":0},{"$f":"IF(CEG2>=Inputs!$E$38,$D$26,0)","v":0},{"$f":"IF(CEH2>=Inputs!$E$38,$D$26,0)","v":0},{"$f":"IF(CEI2>=Inputs!$E$38,$D$26,0)","v":0},{"$f":"IF(CEJ2>=Inputs!$E$38,$D$26,0)","v":0},{"$f":"IF(CEK2>=Inputs!$E$38,$D$26,0)","v":0},{"$f":"IF(CEL2>=Inputs!$E$38,$D$26,0)","v":0},{"$f":"IF(CEM2>=Inputs!$E$38,$D$26,0)","v":0},{"$f":"IF(CEN2>=Inputs!$E$38,$D$26,0)","v":0},{"$f":"IF(CEO2>=Inputs!$E$38,$D$26,0)","v":0},{"$f":"IF(CEP2>=Inputs!$E$38,$D$26,0)","v":0},{"$f":"IF(CEQ2>=Inputs!$E$38,$D$26,0)","v":0},{"$f":"IF(CER2>=Inputs!$E$38,$D$26,0)","v":0},{"$f":"IF(CES2>=Inputs!$E$38,$D$26,0)","v":0},{"$f":"IF(CET2>=Inputs!$E$38,$D$26,0)","v":0},{"$f":"IF(CEU2>=Inputs!$E$38,$D$26,0)","v":0},{"$f":"IF(CEV2>=Inputs!$E$38,$D$26,0)","v":0},{"$f":"IF(CEW2>=Inputs!$E$38,$D$26,0)","v":0},{"$f":"IF(CEX2>=Inputs!$E$38,$D$26,0)","v":0},{"$f":"IF(CEY2>=Inputs!$E$38,$D$26,0)","v":0},{"$f":"IF(CEZ2>=Inputs!$E$38,$D$26,0)","v":0},{"$f":"IF(CFA2>=Inputs!$E$38,$D$26,0)","v":0},{"$f":"IF(CFB2>=Inputs!$E$38,$D$26,0)","v":0},{"$f":"IF(CFC2>=Inputs!$E$38,$D$26,0)","v":0},{"$f":"IF(CFD2>=Inputs!$E$38,$D$26,0)","v":0},{"$f":"IF(CFE2>=Inputs!$E$38,$D$26,0)","v":0},{"$f":"IF(CFF2>=Inputs!$E$38,$D$26,0)","v":0},{"$f":"IF(CFG2>=Inputs!$E$38,$D$26,0)","v":0},{"$f":"IF(CFH2>=Inputs!$E$38,$D$26,0)","v":0},{"$f":"IF(CFI2>=Inputs!$E$38,$D$26,0)","v":0},{"$f":"IF(CFJ2>=Inputs!$E$38,$D$26,0)","v":0},{"$f":"IF(CFK2>=Inputs!$E$38,$D$26,0)","v":0},{"$f":"IF(CFL2>=Inputs!$E$38,$D$26,0)","v":0},{"$f":"IF(CFM2>=Inputs!$E$38,$D$26,0)","v":0},{"$f":"IF(CFN2>=Inputs!$E$38,$D$26,0)","v":0},{"$f":"IF(CFO2>=Inputs!$E$38,$D$26,0)","v":0},{"$f":"IF(CFP2>=Inputs!$E$38,$D$26,0)","v":0},{"$f":"IF(CFQ2>=Inputs!$E$38,$D$26,0)","v":0},{"$f":"IF(CFR2>=Inputs!$E$38,$D$26,0)","v":0},{"$f":"IF(CFS2>=Inputs!$E$38,$D$26,0)","v":0},{"$f":"IF(CFT2>=Inputs!$E$38,$D$26,0)","v":0},{"$f":"IF(CFU2>=Inputs!$E$38,$D$26,0)","v":0},{"$f":"IF(CFV2>=Inputs!$E$38,$D$26,0)","v":0},{"$f":"IF(CFW2>=Inputs!$E$38,$D$26,0)","v":0},{"$f":"IF(CFX2>=Inputs!$E$38,$D$26,0)","v":0},{"$f":"IF(CFY2>=Inputs!$E$38,$D$26,0)","v":0},{"$f":"IF(CFZ2>=Inputs!$E$38,$D$26,0)","v":0},{"$f":"IF(CGA2>=Inputs!$E$38,$D$26,0)","v":0},{"$f":"IF(CGB2>=Inputs!$E$38,$D$26,0)","v":0},{"$f":"IF(CGC2>=Inputs!$E$38,$D$26,0)","v":0},{"$f":"IF(CGD2>=Inputs!$E$38,$D$26,0)","v":0},{"$f":"IF(CGE2>=Inputs!$E$38,$D$26,0)","v":0},{"$f":"IF(CGF2>=Inputs!$E$38,$D$26,0)","v":0},{"$f":"IF(CGG2>=Inputs!$E$38,$D$26,0)","v":0},{"$f":"IF(CGH2>=Inputs!$E$38,$D$26,0)","v":0},{"$f":"IF(CGI2>=Inputs!$E$38,$D$26,0)","v":0},{"$f":"IF(CGJ2>=Inputs!$E$38,$D$26,0)","v":0},{"$f":"IF(CGK2>=Inputs!$E$38,$D$26,0)","v":0},{"$f":"IF(CGL2>=Inputs!$E$38,$D$26,0)","v":0},{"$f":"IF(CGM2>=Inputs!$E$38,$D$26,0)","v":0},{"$f":"IF(CGN2>=Inputs!$E$38,$D$26,0)","v":0},{"$f":"IF(CGO2>=Inputs!$E$38,$D$26,0)","v":0},{"$f":"IF(CGP2>=Inputs!$E$38,$D$26,0)","v":0},{"$f":"IF(CGQ2>=Inputs!$E$38,$D$26,0)","v":0},{"$f":"IF(CGR2>=Inputs!$E$38,$D$26,0)","v":0},{"$f":"IF(CGS2>=Inputs!$E$38,$D$26,0)","v":0},{"$f":"IF(CGT2>=Inputs!$E$38,$D$26,0)","v":0},{"$f":"IF(CGU2>=Inputs!$E$38,$D$26,0)","v":0},{"$f":"IF(CGV2>=Inputs!$E$38,$D$26,0)","v":0},{"$f":"IF(CGW2>=Inputs!$E$38,$D$26,0)","v":0},{"$f":"IF(CGX2>=Inputs!$E$38,$D$26,0)","v":0},{"$f":"IF(CGY2>=Inputs!$E$38,$D$26,0)","v":0},{"$f":"IF(CGZ2>=Inputs!$E$38,$D$26,0)","v":0},{"$f":"IF(CHA2>=Inputs!$E$38,$D$26,0)","v":0},{"$f":"IF(CHB2>=Inputs!$E$38,$D$26,0)","v":0},{"$f":"IF(CHC2>=Inputs!$E$38,$D$26,0)","v":0},{"$f":"IF(CHD2>=Inputs!$E$38,$D$26,0)","v":0},{"$f":"IF(CHE2>=Inputs!$E$38,$D$26,0)","v":0},{"$f":"IF(CHF2>=Inputs!$E$38,$D$26,0)","v":0},{"$f":"IF(CHG2>=Inputs!$E$38,$D$26,0)","v":0},{"$f":"IF(CHH2>=Inputs!$E$38,$D$26,0)","v":0},{"$f":"IF(CHI2>=Inputs!$E$38,$D$26,0)","v":0},{"$f":"IF(CHJ2>=Inputs!$E$38,$D$26,0)","v":0},{"$f":"IF(CHK2>=Inputs!$E$38,$D$26,0)","v":0},{"$f":"IF(CHL2>=Inputs!$E$38,$D$26,0)","v":0},{"$f":"IF(CHM2>=Inputs!$E$38,$D$26,0)","v":0},{"$f":"IF(CHN2>=Inputs!$E$38,$D$26,0)","v":0},{"$f":"IF(CHO2>=Inputs!$E$38,$D$26,0)","v":0},{"$f":"IF(CHP2>=Inputs!$E$38,$D$26,0)","v":0},{"$f":"IF(CHQ2>=Inputs!$E$38,$D$26,0)","v":0},{"$f":"IF(CHR2>=Inputs!$E$38,$D$26,0)","v":0},{"$f":"IF(CHS2>=Inputs!$E$38,$D$26,0)","v":0},{"$f":"IF(CHT2>=Inputs!$E$38,$D$26,0)","v":0},{"$f":"IF(CHU2>=Inputs!$E$38,$D$26,0)","v":0},{"$f":"IF(CHV2>=Inputs!$E$38,$D$26,0)","v":0},{"$f":"IF(CHW2>=Inputs!$E$38,$D$26,0)","v":0},{"$f":"IF(CHX2>=Inputs!$E$38,$D$26,0)","v":0},{"$f":"IF(CHY2>=Inputs!$E$38,$D$26,0)","v":0},{"$f":"IF(CHZ2>=Inputs!$E$38,$D$26,0)","v":0},{"$f":"IF(CIA2>=Inputs!$E$38,$D$26,0)","v":0},{"$f":"IF(CIB2>=Inputs!$E$38,$D$26,0)","v":0},{"$f":"IF(CIC2>=Inputs!$E$38,$D$26,0)","v":0},{"$f":"IF(CID2>=Inputs!$E$38,$D$26,0)","v":0},{"$f":"IF(CIE2>=Inputs!$E$38,$D$26,0)","v":0},{"$f":"IF(CIF2>=Inputs!$E$38,$D$26,0)","v":0},{"$f":"IF(CIG2>=Inputs!$E$38,$D$26,0)","v":0},{"$f":"IF(CIH2>=Inputs!$E$38,$D$26,0)","v":0},{"$f":"IF(CII2>=Inputs!$E$38,$D$26,0)","v":0},{"$f":"IF(CIJ2>=Inputs!$E$38,$D$26,0)","v":0},{"$f":"IF(CIK2>=Inputs!$E$38,$D$26,0)","v":0},{"$f":"IF(CIL2>=Inputs!$E$38,$D$26,0)","v":0},{"$f":"IF(CIM2>=Inputs!$E$38,$D$26,0)","v":0},{"$f":"IF(CIN2>=Inputs!$E$38,$D$26,0)","v":0},{"$f":"IF(CIO2>=Inputs!$E$38,$D$26,0)","v":0},{"$f":"IF(CIP2>=Inputs!$E$38,$D$26,0)","v":0},{"$f":"IF(CIQ2>=Inputs!$E$38,$D$26,0)","v":0},{"$f":"IF(CIR2>=Inputs!$E$38,$D$26,0)","v":0},{"$f":"IF(CIS2>=Inputs!$E$38,$D$26,0)","v":0},{"$f":"IF(CIT2>=Inputs!$E$38,$D$26,0)","v":0},{"$f":"IF(CIU2>=Inputs!$E$38,$D$26,0)","v":0},{"$f":"IF(CIV2>=Inputs!$E$38,$D$26,0)","v":0},{"$f":"IF(CIW2>=Inputs!$E$38,$D$26,0)","v":0},{"$f":"IF(CIX2>=Inputs!$E$38,$D$26,0)","v":0},{"$f":"IF(CIY2>=Inputs!$E$38,$D$26,0)","v":0},{"$f":"IF(CIZ2>=Inputs!$E$38,$D$26,0)","v":0},{"$f":"IF(CJA2>=Inputs!$E$38,$D$26,0)","v":0},{"$f":"IF(CJB2>=Inputs!$E$38,$D$26,0)","v":0},{"$f":"IF(CJC2>=Inputs!$E$38,$D$26,0)","v":0},{"$f":"IF(CJD2>=Inputs!$E$38,$D$26,0)","v":0},{"$f":"IF(CJE2>=Inputs!$E$38,$D$26,0)","v":0},{"$f":"IF(CJF2>=Inputs!$E$38,$D$26,0)","v":0},{"$f":"IF(CJG2>=Inputs!$E$38,$D$26,0)","v":0},{"$f":"IF(CJH2>=Inputs!$E$38,$D$26,0)","v":0},{"$f":"IF(CJI2>=Inputs!$E$38,$D$26,0)","v":0},{"$f":"IF(CJJ2>=Inputs!$E$38,$D$26,0)","v":0},{"$f":"IF(CJK2>=Inputs!$E$38,$D$26,0)","v":0},{"$f":"IF(CJL2>=Inputs!$E$38,$D$26,0)","v":0},{"$f":"IF(CJM2>=Inputs!$E$38,$D$26,0)","v":0},{"$f":"IF(CJN2>=Inputs!$E$38,$D$26,0)","v":0},{"$f":"IF(CJO2>=Inputs!$E$38,$D$26,0)","v":0},{"$f":"IF(CJP2>=Inputs!$E$38,$D$26,0)","v":0},{"$f":"IF(CJQ2>=Inputs!$E$38,$D$26,0)","v":0},{"$f":"IF(CJR2>=Inputs!$E$38,$D$26,0)","v":0},{"$f":"IF(CJS2>=Inputs!$E$38,$D$26,0)","v":0},{"$f":"IF(CJT2>=Inputs!$E$38,$D$26,0)","v":0},{"$f":"IF(CJU2>=Inputs!$E$38,$D$26,0)","v":0},{"$f":"IF(CJV2>=Inputs!$E$38,$D$26,0)","v":0},{"$f":"IF(CJW2>=Inputs!$E$38,$D$26,0)","v":0},{"$f":"IF(CJX2>=Inputs!$E$38,$D$26,0)","v":0},{"$f":"IF(CJY2>=Inputs!$E$38,$D$26,0)","v":0},{"$f":"IF(CJZ2>=Inputs!$E$38,$D$26,0)","v":0},{"$f":"IF(CKA2>=Inputs!$E$38,$D$26,0)","v":0},{"$f":"IF(CKB2>=Inputs!$E$38,$D$26,0)","v":0},{"$f":"IF(CKC2>=Inputs!$E$38,$D$26,0)","v":0},{"$f":"IF(CKD2>=Inputs!$E$38,$D$26,0)","v":0},{"$f":"IF(CKE2>=Inputs!$E$38,$D$26,0)","v":0},{"$f":"IF(CKF2>=Inputs!$E$38,$D$26,0)","v":0},{"$f":"IF(CKG2>=Inputs!$E$38,$D$26,0)","v":0},{"$f":"IF(CKH2>=Inputs!$E$38,$D$26,0)","v":0},{"$f":"IF(CKI2>=Inputs!$E$38,$D$26,0)","v":0},{"$f":"IF(CKJ2>=Inputs!$E$38,$D$26,0)","v":0},{"$f":"IF(CKK2>=Inputs!$E$38,$D$26,0)","v":0},{"$f":"IF(CKL2>=Inputs!$E$38,$D$26,0)","v":0},{"$f":"IF(CKM2>=Inputs!$E$38,$D$26,0)","v":0},{"$f":"IF(CKN2>=Inputs!$E$38,$D$26,0)","v":0},{"$f":"IF(CKO2>=Inputs!$E$38,$D$26,0)","v":0},{"$f":"IF(CKP2>=Inputs!$E$38,$D$26,0)","v":0},{"$f":"IF(CKQ2>=Inputs!$E$38,$D$26,0)","v":0},{"$f":"IF(CKR2>=Inputs!$E$38,$D$26,0)","v":0},{"$f":"IF(CKS2>=Inputs!$E$38,$D$26,0)","v":0},{"$f":"IF(CKT2>=Inputs!$E$38,$D$26,0)","v":0},{"$f":"IF(CKU2>=Inputs!$E$38,$D$26,0)","v":0},{"$f":"IF(CKV2>=Inputs!$E$38,$D$26,0)","v":0},{"$f":"IF(CKW2>=Inputs!$E$38,$D$26,0)","v":0},{"$f":"IF(CKX2>=Inputs!$E$38,$D$26,0)","v":0},{"$f":"IF(CKY2>=Inputs!$E$38,$D$26,0)","v":0},{"$f":"IF(CKZ2>=Inputs!$E$38,$D$26,0)","v":0},{"$f":"IF(CLA2>=Inputs!$E$38,$D$26,0)","v":0},{"$f":"IF(CLB2>=Inputs!$E$38,$D$26,0)","v":0},{"$f":"IF(CLC2>=Inputs!$E$38,$D$26,0)","v":0},{"$f":"IF(CLD2>=Inputs!$E$38,$D$26,0)","v":0},{"$f":"IF(CLE2>=Inputs!$E$38,$D$26,0)","v":0},{"$f":"IF(CLF2>=Inputs!$E$38,$D$26,0)","v":0},{"$f":"IF(CLG2>=Inputs!$E$38,$D$26,0)","v":0},{"$f":"IF(CLH2>=Inputs!$E$38,$D$26,0)","v":0},{"$f":"IF(CLI2>=Inputs!$E$38,$D$26,0)","v":0},{"$f":"IF(CLJ2>=Inputs!$E$38,$D$26,0)","v":0},{"$f":"IF(CLK2>=Inputs!$E$38,$D$26,0)","v":0},{"$f":"IF(CLL2>=Inputs!$E$38,$D$26,0)","v":0},{"$f":"IF(CLM2>=Inputs!$E$38,$D$26,0)","v":0},{"$f":"IF(CLN2>=Inputs!$E$38,$D$26,0)","v":0},{"$f":"IF(CLO2>=Inputs!$E$38,$D$26,0)","v":0},{"$f":"IF(CLP2>=Inputs!$E$38,$D$26,0)","v":0},{"$f":"IF(CLQ2>=Inputs!$E$38,$D$26,0)","v":0},{"$f":"IF(CLR2>=Inputs!$E$38,$D$26,0)","v":0},{"$f":"IF(CLS2>=Inputs!$E$38,$D$26,0)","v":0},{"$f":"IF(CLT2>=Inputs!$E$38,$D$26,0)","v":0},{"$f":"IF(CLU2>=Inputs!$E$38,$D$26,0)","v":0},{"$f":"IF(CLV2>=Inputs!$E$38,$D$26,0)","v":0},{"$f":"IF(CLW2>=Inputs!$E$38,$D$26,0)","v":0},{"$f":"IF(CLX2>=Inputs!$E$38,$D$26,0)","v":0},{"$f":"IF(CLY2>=Inputs!$E$38,$D$26,0)","v":0},{"$f":"IF(CLZ2>=Inputs!$E$38,$D$26,0)","v":0},{"$f":"IF(CMA2>=Inputs!$E$38,$D$26,0)","v":0},{"$f":"IF(CMB2>=Inputs!$E$38,$D$26,0)","v":0},{"$f":"IF(CMC2>=Inputs!$E$38,$D$26,0)","v":0},{"$f":"IF(CMD2>=Inputs!$E$38,$D$26,0)","v":0},{"$f":"IF(CME2>=Inputs!$E$38,$D$26,0)","v":0},{"$f":"IF(CMF2>=Inputs!$E$38,$D$26,0)","v":0},{"$f":"IF(CMG2>=Inputs!$E$38,$D$26,0)","v":0},{"$f":"IF(CMH2>=Inputs!$E$38,$D$26,0)","v":0},{"$f":"IF(CMI2>=Inputs!$E$38,$D$26,0)","v":0},{"$f":"IF(CMJ2>=Inputs!$E$38,$D$26,0)","v":0},{"$f":"IF(CMK2>=Inputs!$E$38,$D$26,0)","v":0},{"$f":"IF(CML2>=Inputs!$E$38,$D$26,0)","v":0},{"$f":"IF(CMM2>=Inputs!$E$38,$D$26,0)","v":0},{"$f":"IF(CMN2>=Inputs!$E$38,$D$26,0)","v":0},{"$f":"IF(CMO2>=Inputs!$E$38,$D$26,0)","v":0},{"$f":"IF(CMP2>=Inputs!$E$38,$D$26,0)","v":0},{"$f":"IF(CMQ2>=Inputs!$E$38,$D$26,0)","v":0},{"$f":"IF(CMR2>=Inputs!$E$38,$D$26,0)","v":0},{"$f":"IF(CMS2>=Inputs!$E$38,$D$26,0)","v":0},{"$f":"IF(CMT2>=Inputs!$E$38,$D$26,0)","v":0},{"$f":"IF(CMU2>=Inputs!$E$38,$D$26,0)","v":0},{"$f":"IF(CMV2>=Inputs!$E$38,$D$26,0)","v":0},{"$f":"IF(CMW2>=Inputs!$E$38,$D$26,0)","v":0},{"$f":"IF(CMX2>=Inputs!$E$38,$D$26,0)","v":0},{"$f":"IF(CMY2>=Inputs!$E$38,$D$26,0)","v":0},{"$f":"IF(CMZ2>=Inputs!$E$38,$D$26,0)","v":0},{"$f":"IF(CNA2>=Inputs!$E$38,$D$26,0)","v":0},{"$f":"IF(CNB2>=Inputs!$E$38,$D$26,0)","v":0},{"$f":"IF(CNC2>=Inputs!$E$38,$D$26,0)","v":0},{"$f":"IF(CND2>=Inputs!$E$38,$D$26,0)","v":0},{"$f":"IF(CNE2>=Inputs!$E$38,$D$26,0)","v":0},{"$f":"IF(CNF2>=Inputs!$E$38,$D$26,0)","v":0},{"$f":"IF(CNG2>=Inputs!$E$38,$D$26,0)","v":0},{"$f":"IF(CNH2>=Inputs!$E$38,$D$26,0)","v":0},{"$f":"IF(CNI2>=Inputs!$E$38,$D$26,0)","v":0},{"$f":"IF(CNJ2>=Inputs!$E$38,$D$26,0)","v":0},{"$f":"IF(CNK2>=Inputs!$E$38,$D$26,0)","v":0},{"$f":"IF(CNL2>=Inputs!$E$38,$D$26,0)","v":0},{"$f":"IF(CNM2>=Inputs!$E$38,$D$26,0)","v":0},{"$f":"IF(CNN2>=Inputs!$E$38,$D$26,0)","v":0},{"$f":"IF(CNO2>=Inputs!$E$38,$D$26,0)","v":0},{"$f":"IF(CNP2>=Inputs!$E$38,$D$26,0)","v":0},{"$f":"IF(CNQ2>=Inputs!$E$38,$D$26,0)","v":0},{"$f":"IF(CNR2>=Inputs!$E$38,$D$26,0)","v":0},{"$f":"IF(CNS2>=Inputs!$E$38,$D$26,0)","v":0},{"$f":"IF(CNT2>=Inputs!$E$38,$D$26,0)","v":0},{"$f":"IF(CNU2>=Inputs!$E$38,$D$26,0)","v":0},{"$f":"IF(CNV2>=Inputs!$E$38,$D$26,0)","v":0},{"$f":"IF(CNW2>=Inputs!$E$38,$D$26,0)","v":0},{"$f":"IF(CNX2>=Inputs!$E$38,$D$26,0)","v":0},{"$f":"IF(CNY2>=Inputs!$E$38,$D$26,0)","v":0},{"$f":"IF(CNZ2>=Inputs!$E$38,$D$26,0)","v":0},{"$f":"IF(COA2>=Inputs!$E$38,$D$26,0)","v":0},{"$f":"IF(COB2>=Inputs!$E$38,$D$26,0)","v":0},{"$f":"IF(COC2>=Inputs!$E$38,$D$26,0)","v":0},{"$f":"IF(COD2>=Inputs!$E$38,$D$26,0)","v":0},{"$f":"IF(COE2>=Inputs!$E$38,$D$26,0)","v":0},{"$f":"IF(COF2>=Inputs!$E$38,$D$26,0)","v":0},{"$f":"IF(COG2>=Inputs!$E$38,$D$26,0)","v":0},{"$f":"IF(COH2>=Inputs!$E$38,$D$26,0)","v":0},{"$f":"IF(COI2>=Inputs!$E$38,$D$26,0)","v":0},{"$f":"IF(COJ2>=Inputs!$E$38,$D$26,0)","v":0},{"$f":"IF(COK2>=Inputs!$E$38,$D$26,0)","v":0},{"$f":"IF(COL2>=Inputs!$E$38,$D$26,0)","v":0},{"$f":"IF(COM2>=Inputs!$E$38,$D$26,0)","v":0},{"$f":"IF(CON2>=Inputs!$E$38,$D$26,0)","v":0},{"$f":"IF(COO2>=Inputs!$E$38,$D$26,0)","v":0},{"$f":"IF(COP2>=Inputs!$E$38,$D$26,0)","v":0},{"$f":"IF(COQ2>=Inputs!$E$38,$D$26,0)","v":0},{"$f":"IF(COR2>=Inputs!$E$38,$D$26,0)","v":0},{"$f":"IF(COS2>=Inputs!$E$38,$D$26,0)","v":0},{"$f":"IF(COT2>=Inputs!$E$38,$D$26,0)","v":0},{"$f":"IF(COU2>=Inputs!$E$38,$D$26,0)","v":0},{"$f":"IF(COV2>=Inputs!$E$38,$D$26,0)","v":0},{"$f":"IF(COW2>=Inputs!$E$38,$D$26,0)","v":0},{"$f":"IF(COX2>=Inputs!$E$38,$D$26,0)","v":0},{"$f":"IF(COY2>=Inputs!$E$38,$D$26,0)","v":0},{"$f":"IF(COZ2>=Inputs!$E$38,$D$26,0)","v":0},{"$f":"IF(CPA2>=Inputs!$E$38,$D$26,0)","v":0},{"$f":"IF(CPB2>=Inputs!$E$38,$D$26,0)","v":0},{"$f":"IF(CPC2>=Inputs!$E$38,$D$26,0)","v":0},{"$f":"IF(CPD2>=Inputs!$E$38,$D$26,0)","v":0},{"$f":"IF(CPE2>=Inputs!$E$38,$D$26,0)","v":0},{"$f":"IF(CPF2>=Inputs!$E$38,$D$26,0)","v":0},{"$f":"IF(CPG2>=Inputs!$E$38,$D$26,0)","v":0},{"$f":"IF(CPH2>=Inputs!$E$38,$D$26,0)","v":0},{"$f":"IF(CPI2>=Inputs!$E$38,$D$26,0)","v":0},{"$f":"IF(CPJ2>=Inputs!$E$38,$D$26,0)","v":0},{"$f":"IF(CPK2>=Inputs!$E$38,$D$26,0)","v":0},{"$f":"IF(CPL2>=Inputs!$E$38,$D$26,0)","v":0},{"$f":"IF(CPM2>=Inputs!$E$38,$D$26,0)","v":0},{"$f":"IF(CPN2>=Inputs!$E$38,$D$26,0)","v":0},{"$f":"IF(CPO2>=Inputs!$E$38,$D$26,0)","v":0},{"$f":"IF(CPP2>=Inputs!$E$38,$D$26,0)","v":0},{"$f":"IF(CPQ2>=Inputs!$E$38,$D$26,0)","v":0},{"$f":"IF(CPR2>=Inputs!$E$38,$D$26,0)","v":0},{"$f":"IF(CPS2>=Inputs!$E$38,$D$26,0)","v":0},{"$f":"IF(CPT2>=Inputs!$E$38,$D$26,0)","v":0},{"$f":"IF(CPU2>=Inputs!$E$38,$D$26,0)","v":0},{"$f":"IF(CPV2>=Inputs!$E$38,$D$26,0)","v":0},{"$f":"IF(CPW2>=Inputs!$E$38,$D$26,0)","v":0},{"$f":"IF(CPX2>=Inputs!$E$38,$D$26,0)","v":0},{"$f":"IF(CPY2>=Inputs!$E$38,$D$26,0)","v":0},{"$f":"IF(CPZ2>=Inputs!$E$38,$D$26,0)","v":0},{"$f":"IF(CQA2>=Inputs!$E$38,$D$26,0)","v":0},{"$f":"IF(CQB2>=Inputs!$E$38,$D$26,0)","v":0},{"$f":"IF(CQC2>=Inputs!$E$38,$D$26,0)","v":0},{"$f":"IF(CQD2>=Inputs!$E$38,$D$26,0)","v":0},{"$f":"IF(CQE2>=Inputs!$E$38,$D$26,0)","v":0},{"$f":"IF(CQF2>=Inputs!$E$38,$D$26,0)","v":0},{"$f":"IF(CQG2>=Inputs!$E$38,$D$26,0)","v":0},{"$f":"IF(CQH2>=Inputs!$E$38,$D$26,0)","v":0},{"$f":"IF(CQI2>=Inputs!$E$38,$D$26,0)","v":0},{"$f":"IF(CQJ2>=Inputs!$E$38,$D$26,0)","v":0},{"$f":"IF(CQK2>=Inputs!$E$38,$D$26,0)","v":0},{"$f":"IF(CQL2>=Inputs!$E$38,$D$26,0)","v":0},{"$f":"IF(CQM2>=Inputs!$E$38,$D$26,0)","v":0},{"$f":"IF(CQN2>=Inputs!$E$38,$D$26,0)","v":0},{"$f":"IF(CQO2>=Inputs!$E$38,$D$26,0)","v":0},{"$f":"IF(CQP2>=Inputs!$E$38,$D$26,0)","v":0},{"$f":"IF(CQQ2>=Inputs!$E$38,$D$26,0)","v":0},{"$f":"IF(CQR2>=Inputs!$E$38,$D$26,0)","v":0},{"$f":"IF(CQS2>=Inputs!$E$38,$D$26,0)","v":0},{"$f":"IF(CQT2>=Inputs!$E$38,$D$26,0)","v":0},{"$f":"IF(CQU2>=Inputs!$E$38,$D$26,0)","v":0},{"$f":"IF(CQV2>=Inputs!$E$38,$D$26,0)","v":0},{"$f":"IF(CQW2>=Inputs!$E$38,$D$26,0)","v":0},{"$f":"IF(CQX2>=Inputs!$E$38,$D$26,0)","v":0},{"$f":"IF(CQY2>=Inputs!$E$38,$D$26,0)","v":0},{"$f":"IF(CQZ2>=Inputs!$E$38,$D$26,0)","v":0},{"$f":"IF(CRA2>=Inputs!$E$38,$D$26,0)","v":0},{"$f":"IF(CRB2>=Inputs!$E$38,$D$26,0)","v":0},{"$f":"IF(CRC2>=Inputs!$E$38,$D$26,0)","v":0},{"$f":"IF(CRD2>=Inputs!$E$38,$D$26,0)","v":0},{"$f":"IF(CRE2>=Inputs!$E$38,$D$26,0)","v":0},{"$f":"IF(CRF2>=Inputs!$E$38,$D$26,0)","v":0},{"$f":"IF(CRG2>=Inputs!$E$38,$D$26,0)","v":0},{"$f":"IF(CRH2>=Inputs!$E$38,$D$26,0)","v":0},{"$f":"IF(CRI2>=Inputs!$E$38,$D$26,0)","v":0},{"$f":"IF(CRJ2>=Inputs!$E$38,$D$26,0)","v":0},{"$f":"IF(CRK2>=Inputs!$E$38,$D$26,0)","v":0},{"$f":"IF(CRL2>=Inputs!$E$38,$D$26,0)","v":0},{"$f":"IF(CRM2>=Inputs!$E$38,$D$26,0)","v":0},{"$f":"IF(CRN2>=Inputs!$E$38,$D$26,0)","v":0},{"$f":"IF(CRO2>=Inputs!$E$38,$D$26,0)","v":0},{"$f":"IF(CRP2>=Inputs!$E$38,$D$26,0)","v":0},{"$f":"IF(CRQ2>=Inputs!$E$38,$D$26,0)","v":0},{"$f":"IF(CRR2>=Inputs!$E$38,$D$26,0)","v":0},{"$f":"IF(CRS2>=Inputs!$E$38,$D$26,0)","v":0},{"$f":"IF(CRT2>=Inputs!$E$38,$D$26,0)","v":0},{"$f":"IF(CRU2>=Inputs!$E$38,$D$26,0)","v":0},{"$f":"IF(CRV2>=Inputs!$E$38,$D$26,0)","v":0},{"$f":"IF(CRW2>=Inputs!$E$38,$D$26,0)","v":0},{"$f":"IF(CRX2>=Inputs!$E$38,$D$26,0)","v":0},{"$f":"IF(CRY2>=Inputs!$E$38,$D$26,0)","v":0},{"$f":"IF(CRZ2>=Inputs!$E$38,$D$26,0)","v":0},{"$f":"IF(CSA2>=Inputs!$E$38,$D$26,0)","v":0},{"$f":"IF(CSB2>=Inputs!$E$38,$D$26,0)","v":0},{"$f":"IF(CSC2>=Inputs!$E$38,$D$26,0)","v":0},{"$f":"IF(CSD2>=Inputs!$E$38,$D$26,0)","v":0},{"$f":"IF(CSE2>=Inputs!$E$38,$D$26,0)","v":0},{"$f":"IF(CSF2>=Inputs!$E$38,$D$26,0)","v":0},{"$f":"IF(CSG2>=Inputs!$E$38,$D$26,0)","v":0},{"$f":"IF(CSH2>=Inputs!$E$38,$D$26,0)","v":0},{"$f":"IF(CSI2>=Inputs!$E$38,$D$26,0)","v":0},{"$f":"IF(CSJ2>=Inputs!$E$38,$D$26,0)","v":0},{"$f":"IF(CSK2>=Inputs!$E$38,$D$26,0)","v":0},{"$f":"IF(CSL2>=Inputs!$E$38,$D$26,0)","v":0},{"$f":"IF(CSM2>=Inputs!$E$38,$D$26,0)","v":0},{"$f":"IF(CSN2>=Inputs!$E$38,$D$26,0)","v":0},{"$f":"IF(CSO2>=Inputs!$E$38,$D$26,0)","v":0},{"$f":"IF(CSP2>=Inputs!$E$38,$D$26,0)","v":0},{"$f":"IF(CSQ2>=Inputs!$E$38,$D$26,0)","v":0},{"$f":"IF(CSR2>=Inputs!$E$38,$D$26,0)","v":0},{"$f":"IF(CSS2>=Inputs!$E$38,$D$26,0)","v":0},{"$f":"IF(CST2>=Inputs!$E$38,$D$26,0)","v":0},{"$f":"IF(CSU2>=Inputs!$E$38,$D$26,0)","v":0},{"$f":"IF(CSV2>=Inputs!$E$38,$D$26,0)","v":0},{"$f":"IF(CSW2>=Inputs!$E$38,$D$26,0)","v":0},{"$f":"IF(CSX2>=Inputs!$E$38,$D$26,0)","v":0},{"$f":"IF(CSY2>=Inputs!$E$38,$D$26,0)","v":0},{"$f":"IF(CSZ2>=Inputs!$E$38,$D$26,0)","v":0},{"$f":"IF(CTA2>=Inputs!$E$38,$D$26,0)","v":0},{"$f":"IF(CTB2>=Inputs!$E$38,$D$26,0)","v":0},{"$f":"IF(CTC2>=Inputs!$E$38,$D$26,0)","v":0},{"$f":"IF(CTD2>=Inputs!$E$38,$D$26,0)","v":0},{"$f":"IF(CTE2>=Inputs!$E$38,$D$26,0)","v":0},{"$f":"IF(CTF2>=Inputs!$E$38,$D$26,0)","v":0},{"$f":"IF(CTG2>=Inputs!$E$38,$D$26,0)","v":0},{"$f":"IF(CTH2>=Inputs!$E$38,$D$26,0)","v":0},{"$f":"IF(CTI2>=Inputs!$E$38,$D$26,0)","v":0},{"$f":"IF(CTJ2>=Inputs!$E$38,$D$26,0)","v":0},{"$f":"IF(CTK2>=Inputs!$E$38,$D$26,0)","v":0},{"$f":"IF(CTL2>=Inputs!$E$38,$D$26,0)","v":0},{"$f":"IF(CTM2>=Inputs!$E$38,$D$26,0)","v":0},{"$f":"IF(CTN2>=Inputs!$E$38,$D$26,0)","v":0},{"$f":"IF(CTO2>=Inputs!$E$38,$D$26,0)","v":0},{"$f":"IF(CTP2>=Inputs!$E$38,$D$26,0)","v":0},{"$f":"IF(CTQ2>=Inputs!$E$38,$D$26,0)","v":0},{"$f":"IF(CTR2>=Inputs!$E$38,$D$26,0)","v":0},{"$f":"IF(CTS2>=Inputs!$E$38,$D$26,0)","v":0},{"$f":"IF(CTT2>=Inputs!$E$38,$D$26,0)","v":0},{"$f":"IF(CTU2>=Inputs!$E$38,$D$26,0)","v":0},{"$f":"IF(CTV2>=Inputs!$E$38,$D$26,0)","v":0},{"$f":"IF(CTW2>=Inputs!$E$38,$D$26,0)","v":0},{"$f":"IF(CTX2>=Inputs!$E$38,$D$26,0)","v":0},{"$f":"IF(CTY2>=Inputs!$E$38,$D$26,0)","v":0},{"$f":"IF(CTZ2>=Inputs!$E$38,$D$26,0)","v":0},{"$f":"IF(CUA2>=Inputs!$E$38,$D$26,0)","v":0},{"$f":"IF(CUB2>=Inputs!$E$38,$D$26,0)","v":0},{"$f":"IF(CUC2>=Inputs!$E$38,$D$26,0)","v":0},{"$f":"IF(CUD2>=Inputs!$E$38,$D$26,0)","v":0},{"$f":"IF(CUE2>=Inputs!$E$38,$D$26,0)","v":0},{"$f":"IF(CUF2>=Inputs!$E$38,$D$26,0)","v":0},{"$f":"IF(CUG2>=Inputs!$E$38,$D$26,0)","v":0},{"$f":"IF(CUH2>=Inputs!$E$38,$D$26,0)","v":0},{"$f":"IF(CUI2>=Inputs!$E$38,$D$26,0)","v":0},{"$f":"IF(CUJ2>=Inputs!$E$38,$D$26,0)","v":0},{"$f":"IF(CUK2>=Inputs!$E$38,$D$26,0)","v":0},{"$f":"IF(CUL2>=Inputs!$E$38,$D$26,0)","v":0},{"$f":"IF(CUM2>=Inputs!$E$38,$D$26,0)","v":0},{"$f":"IF(CUN2>=Inputs!$E$38,$D$26,0)","v":0},{"$f":"IF(CUO2>=Inputs!$E$38,$D$26,0)","v":0},{"$f":"IF(CUP2>=Inputs!$E$38,$D$26,0)","v":0},{"$f":"IF(CUQ2>=Inputs!$E$38,$D$26,0)","v":0},{"$f":"IF(CUR2>=Inputs!$E$38,$D$26,0)","v":0},{"$f":"IF(CUS2>=Inputs!$E$38,$D$26,0)","v":0},{"$f":"IF(CUT2>=Inputs!$E$38,$D$26,0)","v":0},{"$f":"IF(CUU2>=Inputs!$E$38,$D$26,0)","v":0},{"$f":"IF(CUV2>=Inputs!$E$38,$D$26,0)","v":0},{"$f":"IF(CUW2>=Inputs!$E$38,$D$26,0)","v":0},{"$f":"IF(CUX2>=Inputs!$E$38,$D$26,0)","v":0},{"$f":"IF(CUY2>=Inputs!$E$38,$D$26,0)","v":0},{"$f":"IF(CUZ2>=Inputs!$E$38,$D$26,0)","v":0},{"$f":"IF(CVA2>=Inputs!$E$38,$D$26,0)","v":0},{"$f":"IF(CVB2>=Inputs!$E$38,$D$26,0)","v":0},{"$f":"IF(CVC2>=Inputs!$E$38,$D$26,0)","v":0},{"$f":"IF(CVD2>=Inputs!$E$38,$D$26,0)","v":0},{"$f":"IF(CVE2>=Inputs!$E$38,$D$26,0)","v":0},{"$f":"IF(CVF2>=Inputs!$E$38,$D$26,0)","v":0},{"$f":"IF(CVG2>=Inputs!$E$38,$D$26,0)","v":0},{"$f":"IF(CVH2>=Inputs!$E$38,$D$26,0)","v":0},{"$f":"IF(CVI2>=Inputs!$E$38,$D$26,0)","v":0},{"$f":"IF(CVJ2>=Inputs!$E$38,$D$26,0)","v":0},{"$f":"IF(CVK2>=Inputs!$E$38,$D$26,0)","v":0},{"$f":"IF(CVL2>=Inputs!$E$38,$D$26,0)","v":0},{"$f":"IF(CVM2>=Inputs!$E$38,$D$26,0)","v":0},{"$f":"IF(CVN2>=Inputs!$E$38,$D$26,0)","v":0},{"$f":"IF(CVO2>=Inputs!$E$38,$D$26,0)","v":0},{"$f":"IF(CVP2>=Inputs!$E$38,$D$26,0)","v":0},{"$f":"IF(CVQ2>=Inputs!$E$38,$D$26,0)","v":0},{"$f":"IF(CVR2>=Inputs!$E$38,$D$26,0)","v":0},{"$f":"IF(CVS2>=Inputs!$E$38,$D$26,0)","v":0},{"$f":"IF(CVT2>=Inputs!$E$38,$D$26,0)","v":0},{"$f":"IF(CVU2>=Inputs!$E$38,$D$26,0)","v":0},{"$f":"IF(CVV2>=Inputs!$E$38,$D$26,0)","v":0},{"$f":"IF(CVW2>=Inputs!$E$38,$D$26,0)","v":0},{"$f":"IF(CVX2>=Inputs!$E$38,$D$26,0)","v":0},{"$f":"IF(CVY2>=Inputs!$E$38,$D$26,0)","v":0},{"$f":"IF(CVZ2>=Inputs!$E$38,$D$26,0)","v":0},{"$f":"IF(CWA2>=Inputs!$E$38,$D$26,0)","v":0},{"$f":"IF(CWB2>=Inputs!$E$38,$D$26,0)","v":0},{"$f":"IF(CWC2>=Inputs!$E$38,$D$26,0)","v":0},{"$f":"IF(CWD2>=Inputs!$E$38,$D$26,0)","v":0},{"$f":"IF(CWE2>=Inputs!$E$38,$D$26,0)","v":0},{"$f":"IF(CWF2>=Inputs!$E$38,$D$26,0)","v":0},{"$f":"IF(CWG2>=Inputs!$E$38,$D$26,0)","v":0},{"$f":"IF(CWH2>=Inputs!$E$38,$D$26,0)","v":0},{"$f":"IF(CWI2>=Inputs!$E$38,$D$26,0)","v":0},{"$f":"IF(CWJ2>=Inputs!$E$38,$D$26,0)","v":0},{"$f":"IF(CWK2>=Inputs!$E$38,$D$26,0)","v":0},{"$f":"IF(CWL2>=Inputs!$E$38,$D$26,0)","v":0},{"$f":"IF(CWM2>=Inputs!$E$38,$D$26,0)","v":0},{"$f":"IF(CWN2>=Inputs!$E$38,$D$26,0)","v":0},{"$f":"IF(CWO2>=Inputs!$E$38,$D$26,0)","v":0},{"$f":"IF(CWP2>=Inputs!$E$38,$D$26,0)","v":0},{"$f":"IF(CWQ2>=Inputs!$E$38,$D$26,0)","v":0},{"$f":"IF(CWR2>=Inputs!$E$38,$D$26,0)","v":0},{"$f":"IF(CWS2>=Inputs!$E$38,$D$26,0)","v":0},{"$f":"IF(CWT2>=Inputs!$E$38,$D$26,0)","v":0},{"$f":"IF(CWU2>=Inputs!$E$38,$D$26,0)","v":0},{"$f":"IF(CWV2>=Inputs!$E$38,$D$26,0)","v":0},{"$f":"IF(CWW2>=Inputs!$E$38,$D$26,0)","v":0},{"$f":"IF(CWX2>=Inputs!$E$38,$D$26,0)","v":0},{"$f":"IF(CWY2>=Inputs!$E$38,$D$26,0)","v":0},{"$f":"IF(CWZ2>=Inputs!$E$38,$D$26,0)","v":0},{"$f":"IF(CXA2>=Inputs!$E$38,$D$26,0)","v":0},{"$f":"IF(CXB2>=Inputs!$E$38,$D$26,0)","v":0},{"$f":"IF(CXC2>=Inputs!$E$38,$D$26,0)","v":0},{"$f":"IF(CXD2>=Inputs!$E$38,$D$26,0)","v":0},{"$f":"IF(CXE2>=Inputs!$E$38,$D$26,0)","v":0},{"$f":"IF(CXF2>=Inputs!$E$38,$D$26,0)","v":0},{"$f":"IF(CXG2>=Inputs!$E$38,$D$26,0)","v":0},{"$f":"IF(CXH2>=Inputs!$E$38,$D$26,0)","v":0},{"$f":"IF(CXI2>=Inputs!$E$38,$D$26,0)","v":0},{"$f":"IF(CXJ2>=Inputs!$E$38,$D$26,0)","v":0},{"$f":"IF(CXK2>=Inputs!$E$38,$D$26,0)","v":0},{"$f":"IF(CXL2>=Inputs!$E$38,$D$26,0)","v":0},{"$f":"IF(CXM2>=Inputs!$E$38,$D$26,0)","v":0},{"$f":"IF(CXN2>=Inputs!$E$38,$D$26,0)","v":0},{"$f":"IF(CXO2>=Inputs!$E$38,$D$26,0)","v":0},{"$f":"IF(CXP2>=Inputs!$E$38,$D$26,0)","v":0},{"$f":"IF(CXQ2>=Inputs!$E$38,$D$26,0)","v":0},{"$f":"IF(CXR2>=Inputs!$E$38,$D$26,0)","v":0},{"$f":"IF(CXS2>=Inputs!$E$38,$D$26,0)","v":0},{"$f":"IF(CXT2>=Inputs!$E$38,$D$26,0)","v":0},{"$f":"IF(CXU2>=Inputs!$E$38,$D$26,0)","v":0},{"$f":"IF(CXV2>=Inputs!$E$38,$D$26,0)","v":0},{"$f":"IF(CXW2>=Inputs!$E$38,$D$26,0)","v":0},{"$f":"IF(CXX2>=Inputs!$E$38,$D$26,0)","v":0},{"$f":"IF(CXY2>=Inputs!$E$38,$D$26,0)","v":0},{"$f":"IF(CXZ2>=Inputs!$E$38,$D$26,0)","v":0},{"$f":"IF(CYA2>=Inputs!$E$38,$D$26,0)","v":0},{"$f":"IF(CYB2>=Inputs!$E$38,$D$26,0)","v":0},{"$f":"IF(CYC2>=Inputs!$E$38,$D$26,0)","v":0},{"$f":"IF(CYD2>=Inputs!$E$38,$D$26,0)","v":0},{"$f":"IF(CYE2>=Inputs!$E$38,$D$26,0)","v":0},{"$f":"IF(CYF2>=Inputs!$E$38,$D$26,0)","v":0},{"$f":"IF(CYG2>=Inputs!$E$38,$D$26,0)","v":0},{"$f":"IF(CYH2>=Inputs!$E$38,$D$26,0)","v":0},{"$f":"IF(CYI2>=Inputs!$E$38,$D$26,0)","v":0},{"$f":"IF(CYJ2>=Inputs!$E$38,$D$26,0)","v":0},{"$f":"IF(CYK2>=Inputs!$E$38,$D$26,0)","v":0},{"$f":"IF(CYL2>=Inputs!$E$38,$D$26,0)","v":0},{"$f":"IF(CYM2>=Inputs!$E$38,$D$26,0)","v":0},{"$f":"IF(CYN2>=Inputs!$E$38,$D$26,0)","v":0},{"$f":"IF(CYO2>=Inputs!$E$38,$D$26,0)","v":0},{"$f":"IF(CYP2>=Inputs!$E$38,$D$26,0)","v":0},{"$f":"IF(CYQ2>=Inputs!$E$38,$D$26,0)","v":0},{"$f":"IF(CYR2>=Inputs!$E$38,$D$26,0)","v":0},{"$f":"IF(CYS2>=Inputs!$E$38,$D$26,0)","v":0},{"$f":"IF(CYT2>=Inputs!$E$38,$D$26,0)","v":0},{"$f":"IF(CYU2>=Inputs!$E$38,$D$26,0)","v":0},{"$f":"IF(CYV2>=Inputs!$E$38,$D$26,0)","v":0},{"$f":"IF(CYW2>=Inputs!$E$38,$D$26,0)","v":0},{"$f":"IF(CYX2>=Inputs!$E$38,$D$26,0)","v":0},{"$f":"IF(CYY2>=Inputs!$E$38,$D$26,0)","v":0},{"$f":"IF(CYZ2>=Inputs!$E$38,$D$26,0)","v":0},{"$f":"IF(CZA2>=Inputs!$E$38,$D$26,0)","v":0},{"$f":"IF(CZB2>=Inputs!$E$38,$D$26,0)","v":0},{"$f":"IF(CZC2>=Inputs!$E$38,$D$26,0)","v":0},{"$f":"IF(CZD2>=Inputs!$E$38,$D$26,0)","v":0},{"$f":"IF(CZE2>=Inputs!$E$38,$D$26,0)","v":0},{"$f":"IF(CZF2>=Inputs!$E$38,$D$26,0)","v":0},{"$f":"IF(CZG2>=Inputs!$E$38,$D$26,0)","v":0},{"$f":"IF(CZH2>=Inputs!$E$38,$D$26,0)","v":0},{"$f":"IF(CZI2>=Inputs!$E$38,$D$26,0)","v":0},{"$f":"IF(CZJ2>=Inputs!$E$38,$D$26,0)","v":0},{"$f":"IF(CZK2>=Inputs!$E$38,$D$26,0)","v":0},{"$f":"IF(CZL2>=Inputs!$E$38,$D$26,0)","v":0},{"$f":"IF(CZM2>=Inputs!$E$38,$D$26,0)","v":0},{"$f":"IF(CZN2>=Inputs!$E$38,$D$26,0)","v":0},{"$f":"IF(CZO2>=Inputs!$E$38,$D$26,0)","v":0},{"$f":"IF(CZP2>=Inputs!$E$38,$D$26,0)","v":0},{"$f":"IF(CZQ2>=Inputs!$E$38,$D$26,0)","v":0},{"$f":"IF(CZR2>=Inputs!$E$38,$D$26,0)","v":0},{"$f":"IF(CZS2>=Inputs!$E$38,$D$26,0)","v":0},{"$f":"IF(CZT2>=Inputs!$E$38,$D$26,0)","v":0},{"$f":"IF(CZU2>=Inputs!$E$38,$D$26,0)","v":0},{"$f":"IF(CZV2>=Inputs!$E$38,$D$26,0)","v":0},{"$f":"IF(CZW2>=Inputs!$E$38,$D$26,0)","v":0},{"$f":"IF(CZX2>=Inputs!$E$38,$D$26,0)","v":0},{"$f":"IF(CZY2>=Inputs!$E$38,$D$26,0)","v":0},{"$f":"IF(CZZ2>=Inputs!$E$38,$D$26,0)","v":0},{"$f":"IF(DAA2>=Inputs!$E$38,$D$26,0)","v":0},{"$f":"IF(DAB2>=Inputs!$E$38,$D$26,0)","v":0},{"$f":"IF(DAC2>=Inputs!$E$38,$D$26,0)","v":0},{"$f":"IF(DAD2>=Inputs!$E$38,$D$26,0)","v":0},{"$f":"IF(DAE2>=Inputs!$E$38,$D$26,0)","v":0},{"$f":"IF(DAF2>=Inputs!$E$38,$D$26,0)","v":0},{"$f":"IF(DAG2>=Inputs!$E$38,$D$26,0)","v":0},{"$f":"IF(DAH2>=Inputs!$E$38,$D$26,0)","v":0},{"$f":"IF(DAI2>=Inputs!$E$38,$D$26,0)","v":0},{"$f":"IF(DAJ2>=Inputs!$E$38,$D$26,0)","v":0},{"$f":"IF(DAK2>=Inputs!$E$38,$D$26,0)","v":0},{"$f":"IF(DAL2>=Inputs!$E$38,$D$26,0)","v":0},{"$f":"IF(DAM2>=Inputs!$E$38,$D$26,0)","v":0},{"$f":"IF(DAN2>=Inputs!$E$38,$D$26,0)","v":0},{"$f":"IF(DAO2>=Inputs!$E$38,$D$26,0)","v":0},{"$f":"IF(DAP2>=Inputs!$E$38,$D$26,0)","v":0},{"$f":"IF(DAQ2>=Inputs!$E$38,$D$26,0)","v":0},{"$f":"IF(DAR2>=Inputs!$E$38,$D$26,0)","v":0},{"$f":"IF(DAS2>=Inputs!$E$38,$D$26,0)","v":0},{"$f":"IF(DAT2>=Inputs!$E$38,$D$26,0)","v":0},{"$f":"IF(DAU2>=Inputs!$E$38,$D$26,0)","v":0},{"$f":"IF(DAV2>=Inputs!$E$38,$D$26,0)","v":0},{"$f":"IF(DAW2>=Inputs!$E$38,$D$26,0)","v":0},{"$f":"IF(DAX2>=Inputs!$E$38,$D$26,0)","v":0},{"$f":"IF(DAY2>=Inputs!$E$38,$D$26,0)","v":0},{"$f":"IF(DAZ2>=Inputs!$E$38,$D$26,0)","v":0},{"$f":"IF(DBA2>=Inputs!$E$38,$D$26,0)","v":0},{"$f":"IF(DBB2>=Inputs!$E$38,$D$26,0)","v":0},{"$f":"IF(DBC2>=Inputs!$E$38,$D$26,0)","v":0},{"$f":"IF(DBD2>=Inputs!$E$38,$D$26,0)","v":0},{"$f":"IF(DBE2>=Inputs!$E$38,$D$26,0)","v":0},{"$f":"IF(DBF2>=Inputs!$E$38,$D$26,0)","v":0},{"$f":"IF(DBG2>=Inputs!$E$38,$D$26,0)","v":0},{"$f":"IF(DBH2>=Inputs!$E$38,$D$26,0)","v":0},{"$f":"IF(DBI2>=Inputs!$E$38,$D$26,0)","v":0},{"$f":"IF(DBJ2>=Inputs!$E$38,$D$26,0)","v":0},{"$f":"IF(DBK2>=Inputs!$E$38,$D$26,0)","v":0},{"$f":"IF(DBL2>=Inputs!$E$38,$D$26,0)","v":0},{"$f":"IF(DBM2>=Inputs!$E$38,$D$26,0)","v":0},{"$f":"IF(DBN2>=Inputs!$E$38,$D$26,0)","v":0},{"$f":"IF(DBO2>=Inputs!$E$38,$D$26,0)","v":0},{"$f":"IF(DBP2>=Inputs!$E$38,$D$26,0)","v":0},{"$f":"IF(DBQ2>=Inputs!$E$38,$D$26,0)","v":0},{"$f":"IF(DBR2>=Inputs!$E$38,$D$26,0)","v":0},{"$f":"IF(DBS2>=Inputs!$E$38,$D$26,0)","v":0},{"$f":"IF(DBT2>=Inputs!$E$38,$D$26,0)","v":0},{"$f":"IF(DBU2>=Inputs!$E$38,$D$26,0)","v":0},{"$f":"IF(DBV2>=Inputs!$E$38,$D$26,0)","v":0},{"$f":"IF(DBW2>=Inputs!$E$38,$D$26,0)","v":0},{"$f":"IF(DBX2>=Inputs!$E$38,$D$26,0)","v":0},{"$f":"IF(DBY2>=Inputs!$E$38,$D$26,0)","v":0},{"$f":"IF(DBZ2>=Inputs!$E$38,$D$26,0)","v":0},{"$f":"IF(DCA2>=Inputs!$E$38,$D$26,0)","v":0},{"$f":"IF(DCB2>=Inputs!$E$38,$D$26,0)","v":0},{"$f":"IF(DCC2>=Inputs!$E$38,$D$26,0)","v":0},{"$f":"IF(DCD2>=Inputs!$E$38,$D$26,0)","v":0},{"$f":"IF(DCE2>=Inputs!$E$38,$D$26,0)","v":0},{"$f":"IF(DCF2>=Inputs!$E$38,$D$26,0)","v":0},{"$f":"IF(DCG2>=Inputs!$E$38,$D$26,0)","v":0},{"$f":"IF(DCH2>=Inputs!$E$38,$D$26,0)","v":0},{"$f":"IF(DCI2>=Inputs!$E$38,$D$26,0)","v":0},{"$f":"IF(DCJ2>=Inputs!$E$38,$D$26,0)","v":0},{"$f":"IF(DCK2>=Inputs!$E$38,$D$26,0)","v":0},{"$f":"IF(DCL2>=Inputs!$E$38,$D$26,0)","v":0},{"$f":"IF(DCM2>=Inputs!$E$38,$D$26,0)","v":0},{"$f":"IF(DCN2>=Inputs!$E$38,$D$26,0)","v":0},{"$f":"IF(DCO2>=Inputs!$E$38,$D$26,0)","v":0},{"$f":"IF(DCP2>=Inputs!$E$38,$D$26,0)","v":0},{"$f":"IF(DCQ2>=Inputs!$E$38,$D$26,0)","v":0},{"$f":"IF(DCR2>=Inputs!$E$38,$D$26,0)","v":0},{"$f":"IF(DCS2>=Inputs!$E$38,$D$26,0)","v":0},{"$f":"IF(DCT2>=Inputs!$E$38,$D$26,0)","v":0},{"$f":"IF(DCU2>=Inputs!$E$38,$D$26,0)","v":0},{"$f":"IF(DCV2>=Inputs!$E$38,$D$26,0)","v":0},{"$f":"IF(DCW2>=Inputs!$E$38,$D$26,0)","v":0},{"$f":"IF(DCX2>=Inputs!$E$38,$D$26,0)","v":0},{"$f":"IF(DCY2>=Inputs!$E$38,$D$26,0)","v":0},{"$f":"IF(DCZ2>=Inputs!$E$38,$D$26,0)","v":0},{"$f":"IF(DDA2>=Inputs!$E$38,$D$26,0)","v":0},{"$f":"IF(DDB2>=Inputs!$E$38,$D$26,0)","v":0},{"$f":"IF(DDC2>=Inputs!$E$38,$D$26,0)","v":0},{"$f":"IF(DDD2>=Inputs!$E$38,$D$26,0)","v":0},{"$f":"IF(DDE2>=Inputs!$E$38,$D$26,0)","v":0},{"$f":"IF(DDF2>=Inputs!$E$38,$D$26,0)","v":0},{"$f":"IF(DDG2>=Inputs!$E$38,$D$26,0)","v":0},{"$f":"IF(DDH2>=Inputs!$E$38,$D$26,0)","v":0},{"$f":"IF(DDI2>=Inputs!$E$38,$D$26,0)","v":0},{"$f":"IF(DDJ2>=Inputs!$E$38,$D$26,0)","v":0},{"$f":"IF(DDK2>=Inputs!$E$38,$D$26,0)","v":0},{"$f":"IF(DDL2>=Inputs!$E$38,$D$26,0)","v":0},{"$f":"IF(DDM2>=Inputs!$E$38,$D$26,0)","v":0},{"$f":"IF(DDN2>=Inputs!$E$38,$D$26,0)","v":0},{"$f":"IF(DDO2>=Inputs!$E$38,$D$26,0)","v":0},{"$f":"IF(DDP2>=Inputs!$E$38,$D$26,0)","v":0},{"$f":"IF(DDQ2>=Inputs!$E$38,$D$26,0)","v":0},{"$f":"IF(DDR2>=Inputs!$E$38,$D$26,0)","v":0},{"$f":"IF(DDS2>=Inputs!$E$38,$D$26,0)","v":0},{"$f":"IF(DDT2>=Inputs!$E$38,$D$26,0)","v":0},{"$f":"IF(DDU2>=Inputs!$E$38,$D$26,0)","v":0},{"$f":"IF(DDV2>=Inputs!$E$38,$D$26,0)","v":0},{"$f":"IF(DDW2>=Inputs!$E$38,$D$26,0)","v":0},{"$f":"IF(DDX2>=Inputs!$E$38,$D$26,0)","v":0},{"$f":"IF(DDY2>=Inputs!$E$38,$D$26,0)","v":0},{"$f":"IF(DDZ2>=Inputs!$E$38,$D$26,0)","v":0},{"$f":"IF(DEA2>=Inputs!$E$38,$D$26,0)","v":0},{"$f":"IF(DEB2>=Inputs!$E$38,$D$26,0)","v":0},{"$f":"IF(DEC2>=Inputs!$E$38,$D$26,0)","v":0},{"$f":"IF(DED2>=Inputs!$E$38,$D$26,0)","v":0},{"$f":"IF(DEE2>=Inputs!$E$38,$D$26,0)","v":0},{"$f":"IF(DEF2>=Inputs!$E$38,$D$26,0)","v":0},{"$f":"IF(DEG2>=Inputs!$E$38,$D$26,0)","v":0},{"$f":"IF(DEH2>=Inputs!$E$38,$D$26,0)","v":0},{"$f":"IF(DEI2>=Inputs!$E$38,$D$26,0)","v":0},{"$f":"IF(DEJ2>=Inputs!$E$38,$D$26,0)","v":0},{"$f":"IF(DEK2>=Inputs!$E$38,$D$26,0)","v":0},{"$f":"IF(DEL2>=Inputs!$E$38,$D$26,0)","v":0},{"$f":"IF(DEM2>=Inputs!$E$38,$D$26,0)","v":0},{"$f":"IF(DEN2>=Inputs!$E$38,$D$26,0)","v":0},{"$f":"IF(DEO2>=Inputs!$E$38,$D$26,0)","v":0},{"$f":"IF(DEP2>=Inputs!$E$38,$D$26,0)","v":0},{"$f":"IF(DEQ2>=Inputs!$E$38,$D$26,0)","v":0},{"$f":"IF(DER2>=Inputs!$E$38,$D$26,0)","v":0},{"$f":"IF(DES2>=Inputs!$E$38,$D$26,0)","v":0},{"$f":"IF(DET2>=Inputs!$E$38,$D$26,0)","v":0},{"$f":"IF(DEU2>=Inputs!$E$38,$D$26,0)","v":0},{"$f":"IF(DEV2>=Inputs!$E$38,$D$26,0)","v":0},{"$f":"IF(DEW2>=Inputs!$E$38,$D$26,0)","v":0},{"$f":"IF(DEX2>=Inputs!$E$38,$D$26,0)","v":0},{"$f":"IF(DEY2>=Inputs!$E$38,$D$26,0)","v":0},{"$f":"IF(DEZ2>=Inputs!$E$38,$D$26,0)","v":0},{"$f":"IF(DFA2>=Inputs!$E$38,$D$26,0)","v":0},{"$f":"IF(DFB2>=Inputs!$E$38,$D$26,0)","v":0},{"$f":"IF(DFC2>=Inputs!$E$38,$D$26,0)","v":0},{"$f":"IF(DFD2>=Inputs!$E$38,$D$26,0)","v":0},{"$f":"IF(DFE2>=Inputs!$E$38,$D$26,0)","v":0},{"$f":"IF(DFF2>=Inputs!$E$38,$D$26,0)","v":0},{"$f":"IF(DFG2>=Inputs!$E$38,$D$26,0)","v":0},{"$f":"IF(DFH2>=Inputs!$E$38,$D$26,0)","v":0},{"$f":"IF(DFI2>=Inputs!$E$38,$D$26,0)","v":0},{"$f":"IF(DFJ2>=Inputs!$E$38,$D$26,0)","v":0},{"$f":"IF(DFK2>=Inputs!$E$38,$D$26,0)","v":0},{"$f":"IF(DFL2>=Inputs!$E$38,$D$26,0)","v":0},{"$f":"IF(DFM2>=Inputs!$E$38,$D$26,0)","v":0},{"$f":"IF(DFN2>=Inputs!$E$38,$D$26,0)","v":0},{"$f":"IF(DFO2>=Inputs!$E$38,$D$26,0)","v":0},{"$f":"IF(DFP2>=Inputs!$E$38,$D$26,0)","v":0},{"$f":"IF(DFQ2>=Inputs!$E$38,$D$26,0)","v":0},{"$f":"IF(DFR2>=Inputs!$E$38,$D$26,0)","v":0},{"$f":"IF(DFS2>=Inputs!$E$38,$D$26,0)","v":0},{"$f":"IF(DFT2>=Inputs!$E$38,$D$26,0)","v":0},{"$f":"IF(DFU2>=Inputs!$E$38,$D$26,0)","v":0},{"$f":"IF(DFV2>=Inputs!$E$38,$D$26,0)","v":0},{"$f":"IF(DFW2>=Inputs!$E$38,$D$26,0)","v":0},{"$f":"IF(DFX2>=Inputs!$E$38,$D$26,0)","v":0},{"$f":"IF(DFY2>=Inputs!$E$38,$D$26,0)","v":0},{"$f":"IF(DFZ2>=Inputs!$E$38,$D$26,0)","v":0},{"$f":"IF(DGA2>=Inputs!$E$38,$D$26,0)","v":0},{"$f":"IF(DGB2>=Inputs!$E$38,$D$26,0)","v":0},{"$f":"IF(DGC2>=Inputs!$E$38,$D$26,0)","v":0},{"$f":"IF(DGD2>=Inputs!$E$38,$D$26,0)","v":0},{"$f":"IF(DGE2>=Inputs!$E$38,$D$26,0)","v":0},{"$f":"IF(DGF2>=Inputs!$E$38,$D$26,0)","v":0},{"$f":"IF(DGG2>=Inputs!$E$38,$D$26,0)","v":0},{"$f":"IF(DGH2>=Inputs!$E$38,$D$26,0)","v":0},{"$f":"IF(DGI2>=Inputs!$E$38,$D$26,0)","v":0},{"$f":"IF(DGJ2>=Inputs!$E$38,$D$26,0)","v":0},{"$f":"IF(DGK2>=Inputs!$E$38,$D$26,0)","v":0},{"$f":"IF(DGL2>=Inputs!$E$38,$D$26,0)","v":0},{"$f":"IF(DGM2>=Inputs!$E$38,$D$26,0)","v":0},{"$f":"IF(DGN2>=Inputs!$E$38,$D$26,0)","v":0},{"$f":"IF(DGO2>=Inputs!$E$38,$D$26,0)","v":0},{"$f":"IF(DGP2>=Inputs!$E$38,$D$26,0)","v":0},{"$f":"IF(DGQ2>=Inputs!$E$38,$D$26,0)","v":0},{"$f":"IF(DGR2>=Inputs!$E$38,$D$26,0)","v":0},{"$f":"IF(DGS2>=Inputs!$E$38,$D$26,0)","v":0},{"$f":"IF(DGT2>=Inputs!$E$38,$D$26,0)","v":0},{"$f":"IF(DGU2>=Inputs!$E$38,$D$26,0)","v":0},{"$f":"IF(DGV2>=Inputs!$E$38,$D$26,0)","v":0},{"$f":"IF(DGW2>=Inputs!$E$38,$D$26,0)","v":0},{"$f":"IF(DGX2>=Inputs!$E$38,$D$26,0)","v":0},{"$f":"IF(DGY2>=Inputs!$E$38,$D$26,0)","v":0},{"$f":"IF(DGZ2>=Inputs!$E$38,$D$26,0)","v":0},{"$f":"IF(DHA2>=Inputs!$E$38,$D$26,0)","v":0},{"$f":"IF(DHB2>=Inputs!$E$38,$D$26,0)","v":0},{"$f":"IF(DHC2>=Inputs!$E$38,$D$26,0)","v":0},{"$f":"IF(DHD2>=Inputs!$E$38,$D$26,0)","v":0},{"$f":"IF(DHE2>=Inputs!$E$38,$D$26,0)","v":0},{"$f":"IF(DHF2>=Inputs!$E$38,$D$26,0)","v":0},{"$f":"IF(DHG2>=Inputs!$E$38,$D$26,0)","v":0},{"$f":"IF(DHH2>=Inputs!$E$38,$D$26,0)","v":0},{"$f":"IF(DHI2>=Inputs!$E$38,$D$26,0)","v":0},{"$f":"IF(DHJ2>=Inputs!$E$38,$D$26,0)","v":0},{"$f":"IF(DHK2>=Inputs!$E$38,$D$26,0)","v":0},{"$f":"IF(DHL2>=Inputs!$E$38,$D$26,0)","v":0},{"$f":"IF(DHM2>=Inputs!$E$38,$D$26,0)","v":0},{"$f":"IF(DHN2>=Inputs!$E$38,$D$26,0)","v":0},{"$f":"IF(DHO2>=Inputs!$E$38,$D$26,0)","v":0},{"$f":"IF(DHP2>=Inputs!$E$38,$D$26,0)","v":0},{"$f":"IF(DHQ2>=Inputs!$E$38,$D$26,0)","v":0},{"$f":"IF(DHR2>=Inputs!$E$38,$D$26,0)","v":0},{"$f":"IF(DHS2>=Inputs!$E$38,$D$26,0)","v":0},{"$f":"IF(DHT2>=Inputs!$E$38,$D$26,0)","v":0},{"$f":"IF(DHU2>=Inputs!$E$38,$D$26,0)","v":0},{"$f":"IF(DHV2>=Inputs!$E$38,$D$26,0)","v":0},{"$f":"IF(DHW2>=Inputs!$E$38,$D$26,0)","v":0},{"$f":"IF(DHX2>=Inputs!$E$38,$D$26,0)","v":0},{"$f":"IF(DHY2>=Inputs!$E$38,$D$26,0)","v":0},{"$f":"IF(DHZ2>=Inputs!$E$38,$D$26,0)","v":0},{"$f":"IF(DIA2>=Inputs!$E$38,$D$26,0)","v":0},{"$f":"IF(DIB2>=Inputs!$E$38,$D$26,0)","v":0},{"$f":"IF(DIC2>=Inputs!$E$38,$D$26,0)","v":0},{"$f":"IF(DID2>=Inputs!$E$38,$D$26,0)","v":0},{"$f":"IF(DIE2>=Inputs!$E$38,$D$26,0)","v":0},{"$f":"IF(DIF2>=Inputs!$E$38,$D$26,0)","v":0},{"$f":"IF(DIG2>=Inputs!$E$38,$D$26,0)","v":0},{"$f":"IF(DIH2>=Inputs!$E$38,$D$26,0)","v":0},{"$f":"IF(DII2>=Inputs!$E$38,$D$26,0)","v":0},{"$f":"IF(DIJ2>=Inputs!$E$38,$D$26,0)","v":0},{"$f":"IF(DIK2>=Inputs!$E$38,$D$26,0)","v":0},{"$f":"IF(DIL2>=Inputs!$E$38,$D$26,0)","v":0},{"$f":"IF(DIM2>=Inputs!$E$38,$D$26,0)","v":0},{"$f":"IF(DIN2>=Inputs!$E$38,$D$26,0)","v":0},{"$f":"IF(DIO2>=Inputs!$E$38,$D$26,0)","v":0},{"$f":"IF(DIP2>=Inputs!$E$38,$D$26,0)","v":0},{"$f":"IF(DIQ2>=Inputs!$E$38,$D$26,0)","v":0},{"$f":"IF(DIR2>=Inputs!$E$38,$D$26,0)","v":0},{"$f":"IF(DIS2>=Inputs!$E$38,$D$26,0)","v":0},{"$f":"IF(DIT2>=Inputs!$E$38,$D$26,0)","v":0},{"$f":"IF(DIU2>=Inputs!$E$38,$D$26,0)","v":0},{"$f":"IF(DIV2>=Inputs!$E$38,$D$26,0)","v":0},{"$f":"IF(DIW2>=Inputs!$E$38,$D$26,0)","v":0},{"$f":"IF(DIX2>=Inputs!$E$38,$D$26,0)","v":0},{"$f":"IF(DIY2>=Inputs!$E$38,$D$26,0)","v":0},{"$f":"IF(DIZ2>=Inputs!$E$38,$D$26,0)","v":0},{"$f":"IF(DJA2>=Inputs!$E$38,$D$26,0)","v":0},{"$f":"IF(DJB2>=Inputs!$E$38,$D$26,0)","v":0},{"$f":"IF(DJC2>=Inputs!$E$38,$D$26,0)","v":0},{"$f":"IF(DJD2>=Inputs!$E$38,$D$26,0)","v":0},{"$f":"IF(DJE2>=Inputs!$E$38,$D$26,0)","v":0},{"$f":"IF(DJF2>=Inputs!$E$38,$D$26,0)","v":0},{"$f":"IF(DJG2>=Inputs!$E$38,$D$26,0)","v":0},{"$f":"IF(DJH2>=Inputs!$E$38,$D$26,0)","v":0},{"$f":"IF(DJI2>=Inputs!$E$38,$D$26,0)","v":0},{"$f":"IF(DJJ2>=Inputs!$E$38,$D$26,0)","v":0},{"$f":"IF(DJK2>=Inputs!$E$38,$D$26,0)","v":0},{"$f":"IF(DJL2>=Inputs!$E$38,$D$26,0)","v":0},{"$f":"IF(DJM2>=Inputs!$E$38,$D$26,0)","v":0},{"$f":"IF(DJN2>=Inputs!$E$38,$D$26,0)","v":0},{"$f":"IF(DJO2>=Inputs!$E$38,$D$26,0)","v":0},{"$f":"IF(DJP2>=Inputs!$E$38,$D$26,0)","v":0},{"$f":"IF(DJQ2>=Inputs!$E$38,$D$26,0)","v":0},{"$f":"IF(DJR2>=Inputs!$E$38,$D$26,0)","v":0},{"$f":"IF(DJS2>=Inputs!$E$38,$D$26,0)","v":0},{"$f":"IF(DJT2>=Inputs!$E$38,$D$26,0)","v":0},{"$f":"IF(DJU2>=Inputs!$E$38,$D$26,0)","v":0},{"$f":"IF(DJV2>=Inputs!$E$38,$D$26,0)","v":0},{"$f":"IF(DJW2>=Inputs!$E$38,$D$26,0)","v":0},{"$f":"IF(DJX2>=Inputs!$E$38,$D$26,0)","v":0},{"$f":"IF(DJY2>=Inputs!$E$38,$D$26,0)","v":0},{"$f":"IF(DJZ2>=Inputs!$E$38,$D$26,0)","v":0},{"$f":"IF(DKA2>=Inputs!$E$38,$D$26,0)","v":0},{"$f":"IF(DKB2>=Inputs!$E$38,$D$26,0)","v":0},{"$f":"IF(DKC2>=Inputs!$E$38,$D$26,0)","v":0},{"$f":"IF(DKD2>=Inputs!$E$38,$D$26,0)","v":0},{"$f":"IF(DKE2>=Inputs!$E$38,$D$26,0)","v":0},{"$f":"IF(DKF2>=Inputs!$E$38,$D$26,0)","v":0},{"$f":"IF(DKG2>=Inputs!$E$38,$D$26,0)","v":0},{"$f":"IF(DKH2>=Inputs!$E$38,$D$26,0)","v":0},{"$f":"IF(DKI2>=Inputs!$E$38,$D$26,0)","v":0},{"$f":"IF(DKJ2>=Inputs!$E$38,$D$26,0)","v":0},{"$f":"IF(DKK2>=Inputs!$E$38,$D$26,0)","v":0},{"$f":"IF(DKL2>=Inputs!$E$38,$D$26,0)","v":0},{"$f":"IF(DKM2>=Inputs!$E$38,$D$26,0)","v":0},{"$f":"IF(DKN2>=Inputs!$E$38,$D$26,0)","v":0},{"$f":"IF(DKO2>=Inputs!$E$38,$D$26,0)","v":0},{"$f":"IF(DKP2>=Inputs!$E$38,$D$26,0)","v":0},{"$f":"IF(DKQ2>=Inputs!$E$38,$D$26,0)","v":0},{"$f":"IF(DKR2>=Inputs!$E$38,$D$26,0)","v":0},{"$f":"IF(DKS2>=Inputs!$E$38,$D$26,0)","v":0},{"$f":"IF(DKT2>=Inputs!$E$38,$D$26,0)","v":0},{"$f":"IF(DKU2>=Inputs!$E$38,$D$26,0)","v":0},{"$f":"IF(DKV2>=Inputs!$E$38,$D$26,0)","v":0},{"$f":"IF(DKW2>=Inputs!$E$38,$D$26,0)","v":0},{"$f":"IF(DKX2>=Inputs!$E$38,$D$26,0)","v":0},{"$f":"IF(DKY2>=Inputs!$E$38,$D$26,0)","v":0},{"$f":"IF(DKZ2>=Inputs!$E$38,$D$26,0)","v":0},{"$f":"IF(DLA2>=Inputs!$E$38,$D$26,0)","v":0},{"$f":"IF(DLB2>=Inputs!$E$38,$D$26,0)","v":0},{"$f":"IF(DLC2>=Inputs!$E$38,$D$26,0)","v":0},{"$f":"IF(DLD2>=Inputs!$E$38,$D$26,0)","v":0},{"$f":"IF(DLE2>=Inputs!$E$38,$D$26,0)","v":0},{"$f":"IF(DLF2>=Inputs!$E$38,$D$26,0)","v":0},{"$f":"IF(DLG2>=Inputs!$E$38,$D$26,0)","v":0},{"$f":"IF(DLH2>=Inputs!$E$38,$D$26,0)","v":0},{"$f":"IF(DLI2>=Inputs!$E$38,$D$26,0)","v":0},{"$f":"IF(DLJ2>=Inputs!$E$38,$D$26,0)","v":0},{"$f":"IF(DLK2>=Inputs!$E$38,$D$26,0)","v":0},{"$f":"IF(DLL2>=Inputs!$E$38,$D$26,0)","v":0},{"$f":"IF(DLM2>=Inputs!$E$38,$D$26,0)","v":0},{"$f":"IF(DLN2>=Inputs!$E$38,$D$26,0)","v":0},{"$f":"IF(DLO2>=Inputs!$E$38,$D$26,0)","v":0},{"$f":"IF(DLP2>=Inputs!$E$38,$D$26,0)","v":0},{"$f":"IF(DLQ2>=Inputs!$E$38,$D$26,0)","v":0},{"$f":"IF(DLR2>=Inputs!$E$38,$D$26,0)","v":0},{"$f":"IF(DLS2>=Inputs!$E$38,$D$26,0)","v":0},{"$f":"IF(DLT2>=Inputs!$E$38,$D$26,0)","v":0},{"$f":"IF(DLU2>=Inputs!$E$38,$D$26,0)","v":0},{"$f":"IF(DLV2>=Inputs!$E$38,$D$26,0)","v":0},{"$f":"IF(DLW2>=Inputs!$E$38,$D$26,0)","v":0},{"$f":"IF(DLX2>=Inputs!$E$38,$D$26,0)","v":0},{"$f":"IF(DLY2>=Inputs!$E$38,$D$26,0)","v":0},{"$f":"IF(DLZ2>=Inputs!$E$38,$D$26,0)","v":0},{"$f":"IF(DMA2>=Inputs!$E$38,$D$26,0)","v":0},{"$f":"IF(DMB2>=Inputs!$E$38,$D$26,0)","v":0},{"$f":"IF(DMC2>=Inputs!$E$38,$D$26,0)","v":0},{"$f":"IF(DMD2>=Inputs!$E$38,$D$26,0)","v":0},{"$f":"IF(DME2>=Inputs!$E$38,$D$26,0)","v":0},{"$f":"IF(DMF2>=Inputs!$E$38,$D$26,0)","v":0},{"$f":"IF(DMG2>=Inputs!$E$38,$D$26,0)","v":0},{"$f":"IF(DMH2>=Inputs!$E$38,$D$26,0)","v":0},{"$f":"IF(DMI2>=Inputs!$E$38,$D$26,0)","v":0},{"$f":"IF(DMJ2>=Inputs!$E$38,$D$26,0)","v":0},{"$f":"IF(DMK2>=Inputs!$E$38,$D$26,0)","v":0},{"$f":"IF(DML2>=Inputs!$E$38,$D$26,0)","v":0},{"$f":"IF(DMM2>=Inputs!$E$38,$D$26,0)","v":0},{"$f":"IF(DMN2>=Inputs!$E$38,$D$26,0)","v":0},{"$f":"IF(DMO2>=Inputs!$E$38,$D$26,0)","v":0},{"$f":"IF(DMP2>=Inputs!$E$38,$D$26,0)","v":0},{"$f":"IF(DMQ2>=Inputs!$E$38,$D$26,0)","v":0},{"$f":"IF(DMR2>=Inputs!$E$38,$D$26,0)","v":0},{"$f":"IF(DMS2>=Inputs!$E$38,$D$26,0)","v":0},{"$f":"IF(DMT2>=Inputs!$E$38,$D$26,0)","v":0},{"$f":"IF(DMU2>=Inputs!$E$38,$D$26,0)","v":0},{"$f":"IF(DMV2>=Inputs!$E$38,$D$26,0)","v":0},{"$f":"IF(DMW2>=Inputs!$E$38,$D$26,0)","v":0},{"$f":"IF(DMX2>=Inputs!$E$38,$D$26,0)","v":0},{"$f":"IF(DMY2>=Inputs!$E$38,$D$26,0)","v":0},{"$f":"IF(DMZ2>=Inputs!$E$38,$D$26,0)","v":0},{"$f":"IF(DNA2>=Inputs!$E$38,$D$26,0)","v":0},{"$f":"IF(DNB2>=Inputs!$E$38,$D$26,0)","v":0},{"$f":"IF(DNC2>=Inputs!$E$38,$D$26,0)","v":0},{"$f":"IF(DND2>=Inputs!$E$38,$D$26,0)","v":0},{"$f":"IF(DNE2>=Inputs!$E$38,$D$26,0)","v":0},{"$f":"IF(DNF2>=Inputs!$E$38,$D$26,0)","v":0},{"$f":"IF(DNG2>=Inputs!$E$38,$D$26,0)","v":0},{"$f":"IF(DNH2>=Inputs!$E$38,$D$26,0)","v":0},{"$f":"IF(DNI2>=Inputs!$E$38,$D$26,0)","v":0},{"$f":"IF(DNJ2>=Inputs!$E$38,$D$26,0)","v":0},{"$f":"IF(DNK2>=Inputs!$E$38,$D$26,0)","v":0},{"$f":"IF(DNL2>=Inputs!$E$38,$D$26,0)","v":0},{"$f":"IF(DNM2>=Inputs!$E$38,$D$26,0)","v":0},{"$f":"IF(DNN2>=Inputs!$E$38,$D$26,0)","v":0},{"$f":"IF(DNO2>=Inputs!$E$38,$D$26,0)","v":0},{"$f":"IF(DNP2>=Inputs!$E$38,$D$26,0)","v":0},{"$f":"IF(DNQ2>=Inputs!$E$38,$D$26,0)","v":0},{"$f":"IF(DNR2>=Inputs!$E$38,$D$26,0)","v":0},{"$f":"IF(DNS2>=Inputs!$E$38,$D$26,0)","v":0},{"$f":"IF(DNT2>=Inputs!$E$38,$D$26,0)","v":0},{"$f":"IF(DNU2>=Inputs!$E$38,$D$26,0)","v":0},{"$f":"IF(DNV2>=Inputs!$E$38,$D$26,0)","v":0},{"$f":"IF(DNW2>=Inputs!$E$38,$D$26,0)","v":0},{"$f":"IF(DNX2>=Inputs!$E$38,$D$26,0)","v":0},{"$f":"IF(DNY2>=Inputs!$E$38,$D$26,0)","v":0},{"$f":"IF(DNZ2>=Inputs!$E$38,$D$26,0)","v":0},{"$f":"IF(DOA2>=Inputs!$E$38,$D$26,0)","v":0},{"$f":"IF(DOB2>=Inputs!$E$38,$D$26,0)","v":0},{"$f":"IF(DOC2>=Inputs!$E$38,$D$26,0)","v":0},{"$f":"IF(DOD2>=Inputs!$E$38,$D$26,0)","v":0},{"$f":"IF(DOE2>=Inputs!$E$38,$D$26,0)","v":0},{"$f":"IF(DOF2>=Inputs!$E$38,$D$26,0)","v":0},{"$f":"IF(DOG2>=Inputs!$E$38,$D$26,0)","v":0},{"$f":"IF(DOH2>=Inputs!$E$38,$D$26,0)","v":0},{"$f":"IF(DOI2>=Inputs!$E$38,$D$26,0)","v":0},{"$f":"IF(DOJ2>=Inputs!$E$38,$D$26,0)","v":0},{"$f":"IF(DOK2>=Inputs!$E$38,$D$26,0)","v":0},{"$f":"IF(DOL2>=Inputs!$E$38,$D$26,0)","v":0},{"$f":"IF(DOM2>=Inputs!$E$38,$D$26,0)","v":0},{"$f":"IF(DON2>=Inputs!$E$38,$D$26,0)","v":0},{"$f":"IF(DOO2>=Inputs!$E$38,$D$26,0)","v":0},{"$f":"IF(DOP2>=Inputs!$E$38,$D$26,0)","v":0},{"$f":"IF(DOQ2>=Inputs!$E$38,$D$26,0)","v":0},{"$f":"IF(DOR2>=Inputs!$E$38,$D$26,0)","v":0},{"$f":"IF(DOS2>=Inputs!$E$38,$D$26,0)","v":0},{"$f":"IF(DOT2>=Inputs!$E$38,$D$26,0)","v":0},{"$f":"IF(DOU2>=Inputs!$E$38,$D$26,0)","v":0},{"$f":"IF(DOV2>=Inputs!$E$38,$D$26,0)","v":0},{"$f":"IF(DOW2>=Inputs!$E$38,$D$26,0)","v":0},{"$f":"IF(DOX2>=Inputs!$E$38,$D$26,0)","v":0},{"$f":"IF(DOY2>=Inputs!$E$38,$D$26,0)","v":0},{"$f":"IF(DOZ2>=Inputs!$E$38,$D$26,0)","v":0},{"$f":"IF(DPA2>=Inputs!$E$38,$D$26,0)","v":0},{"$f":"IF(DPB2>=Inputs!$E$38,$D$26,0)","v":0},{"$f":"IF(DPC2>=Inputs!$E$38,$D$26,0)","v":0},{"$f":"IF(DPD2>=Inputs!$E$38,$D$26,0)","v":0},{"$f":"IF(DPE2>=Inputs!$E$38,$D$26,0)","v":0},{"$f":"IF(DPF2>=Inputs!$E$38,$D$26,0)","v":0},{"$f":"IF(DPG2>=Inputs!$E$38,$D$26,0)","v":0},{"$f":"IF(DPH2>=Inputs!$E$38,$D$26,0)","v":0},{"$f":"IF(DPI2>=Inputs!$E$38,$D$26,0)","v":0},{"$f":"IF(DPJ2>=Inputs!$E$38,$D$26,0)","v":0},{"$f":"IF(DPK2>=Inputs!$E$38,$D$26,0)","v":0},{"$f":"IF(DPL2>=Inputs!$E$38,$D$26,0)","v":0},{"$f":"IF(DPM2>=Inputs!$E$38,$D$26,0)","v":0},{"$f":"IF(DPN2>=Inputs!$E$38,$D$26,0)","v":0},{"$f":"IF(DPO2>=Inputs!$E$38,$D$26,0)","v":0},{"$f":"IF(DPP2>=Inputs!$E$38,$D$26,0)","v":0},{"$f":"IF(DPQ2>=Inputs!$E$38,$D$26,0)","v":0},{"$f":"IF(DPR2>=Inputs!$E$38,$D$26,0)","v":0},{"$f":"IF(DPS2>=Inputs!$E$38,$D$26,0)","v":0},{"$f":"IF(DPT2>=Inputs!$E$38,$D$26,0)","v":0},{"$f":"IF(DPU2>=Inputs!$E$38,$D$26,0)","v":0},{"$f":"IF(DPV2>=Inputs!$E$38,$D$26,0)","v":0},{"$f":"IF(DPW2>=Inputs!$E$38,$D$26,0)","v":0},{"$f":"IF(DPX2>=Inputs!$E$38,$D$26,0)","v":0},{"$f":"IF(DPY2>=Inputs!$E$38,$D$26,0)","v":0},{"$f":"IF(DPZ2>=Inputs!$E$38,$D$26,0)","v":0},{"$f":"IF(DQA2>=Inputs!$E$38,$D$26,0)","v":0},{"$f":"IF(DQB2>=Inputs!$E$38,$D$26,0)","v":0},{"$f":"IF(DQC2>=Inputs!$E$38,$D$26,0)","v":0},{"$f":"IF(DQD2>=Inputs!$E$38,$D$26,0)","v":0},{"$f":"IF(DQE2>=Inputs!$E$38,$D$26,0)","v":0},{"$f":"IF(DQF2>=Inputs!$E$38,$D$26,0)","v":0},{"$f":"IF(DQG2>=Inputs!$E$38,$D$26,0)","v":0},{"$f":"IF(DQH2>=Inputs!$E$38,$D$26,0)","v":0},{"$f":"IF(DQI2>=Inputs!$E$38,$D$26,0)","v":0},{"$f":"IF(DQJ2>=Inputs!$E$38,$D$26,0)","v":0},{"$f":"IF(DQK2>=Inputs!$E$38,$D$26,0)","v":0},{"$f":"IF(DQL2>=Inputs!$E$38,$D$26,0)","v":0},{"$f":"IF(DQM2>=Inputs!$E$38,$D$26,0)","v":0},{"$f":"IF(DQN2>=Inputs!$E$38,$D$26,0)","v":0},{"$f":"IF(DQO2>=Inputs!$E$38,$D$26,0)","v":0},{"$f":"IF(DQP2>=Inputs!$E$38,$D$26,0)","v":0},{"$f":"IF(DQQ2>=Inputs!$E$38,$D$26,0)","v":0},{"$f":"IF(DQR2>=Inputs!$E$38,$D$26,0)","v":0},{"$f":"IF(DQS2>=Inputs!$E$38,$D$26,0)","v":0},{"$f":"IF(DQT2>=Inputs!$E$38,$D$26,0)","v":0},{"$f":"IF(DQU2>=Inputs!$E$38,$D$26,0)","v":0},{"$f":"IF(DQV2>=Inputs!$E$38,$D$26,0)","v":0},{"$f":"IF(DQW2>=Inputs!$E$38,$D$26,0)","v":0},{"$f":"IF(DQX2>=Inputs!$E$38,$D$26,0)","v":0},{"$f":"IF(DQY2>=Inputs!$E$38,$D$26,0)","v":0},{"$f":"IF(DQZ2>=Inputs!$E$38,$D$26,0)","v":0},{"$f":"IF(DRA2>=Inputs!$E$38,$D$26,0)","v":0},{"$f":"IF(DRB2>=Inputs!$E$38,$D$26,0)","v":0},{"$f":"IF(DRC2>=Inputs!$E$38,$D$26,0)","v":0},{"$f":"IF(DRD2>=Inputs!$E$38,$D$26,0)","v":0},{"$f":"IF(DRE2>=Inputs!$E$38,$D$26,0)","v":0},{"$f":"IF(DRF2>=Inputs!$E$38,$D$26,0)","v":0},{"$f":"IF(DRG2>=Inputs!$E$38,$D$26,0)","v":0},{"$f":"IF(DRH2>=Inputs!$E$38,$D$26,0)","v":0},{"$f":"IF(DRI2>=Inputs!$E$38,$D$26,0)","v":0},{"$f":"IF(DRJ2>=Inputs!$E$38,$D$26,0)","v":0},{"$f":"IF(DRK2>=Inputs!$E$38,$D$26,0)","v":0},{"$f":"IF(DRL2>=Inputs!$E$38,$D$26,0)","v":0},{"$f":"IF(DRM2>=Inputs!$E$38,$D$26,0)","v":0},{"$f":"IF(DRN2>=Inputs!$E$38,$D$26,0)","v":0},{"$f":"IF(DRO2>=Inputs!$E$38,$D$26,0)","v":0},{"$f":"IF(DRP2>=Inputs!$E$38,$D$26,0)","v":0},{"$f":"IF(DRQ2>=Inputs!$E$38,$D$26,0)","v":0},{"$f":"IF(DRR2>=Inputs!$E$38,$D$26,0)","v":0},{"$f":"IF(DRS2>=Inputs!$E$38,$D$26,0)","v":0},{"$f":"IF(DRT2>=Inputs!$E$38,$D$26,0)","v":0},{"$f":"IF(DRU2>=Inputs!$E$38,$D$26,0)","v":0},{"$f":"IF(DRV2>=Inputs!$E$38,$D$26,0)","v":0},{"$f":"IF(DRW2>=Inputs!$E$38,$D$26,0)","v":0},{"$f":"IF(DRX2>=Inputs!$E$38,$D$26,0)","v":0},{"$f":"IF(DRY2>=Inputs!$E$38,$D$26,0)","v":0},{"$f":"IF(DRZ2>=Inputs!$E$38,$D$26,0)","v":0},{"$f":"IF(DSA2>=Inputs!$E$38,$D$26,0)","v":0},{"$f":"IF(DSB2>=Inputs!$E$38,$D$26,0)","v":0},{"$f":"IF(DSC2>=Inputs!$E$38,$D$26,0)","v":0},{"$f":"IF(DSD2>=Inputs!$E$38,$D$26,0)","v":0},{"$f":"IF(DSE2>=Inputs!$E$38,$D$26,0)","v":0},{"$f":"IF(DSF2>=Inputs!$E$38,$D$26,0)","v":0},{"$f":"IF(DSG2>=Inputs!$E$38,$D$26,0)","v":0},{"$f":"IF(DSH2>=Inputs!$E$38,$D$26,0)","v":0},{"$f":"IF(DSI2>=Inputs!$E$38,$D$26,0)","v":0},{"$f":"IF(DSJ2>=Inputs!$E$38,$D$26,0)","v":0},{"$f":"IF(DSK2>=Inputs!$E$38,$D$26,0)","v":0},{"$f":"IF(DSL2>=Inputs!$E$38,$D$26,0)","v":0},{"$f":"IF(DSM2>=Inputs!$E$38,$D$26,0)","v":0},{"$f":"IF(DSN2>=Inputs!$E$38,$D$26,0)","v":0},{"$f":"IF(DSO2>=Inputs!$E$38,$D$26,0)","v":0},{"$f":"IF(DSP2>=Inputs!$E$38,$D$26,0)","v":0},{"$f":"IF(DSQ2>=Inputs!$E$38,$D$26,0)","v":0},{"$f":"IF(DSR2>=Inputs!$E$38,$D$26,0)","v":0},{"$f":"IF(DSS2>=Inputs!$E$38,$D$26,0)","v":0},{"$f":"IF(DST2>=Inputs!$E$38,$D$26,0)","v":0},{"$f":"IF(DSU2>=Inputs!$E$38,$D$26,0)","v":0},{"$f":"IF(DSV2>=Inputs!$E$38,$D$26,0)","v":0},{"$f":"IF(DSW2>=Inputs!$E$38,$D$26,0)","v":0},{"$f":"IF(DSX2>=Inputs!$E$38,$D$26,0)","v":0},{"$f":"IF(DSY2>=Inputs!$E$38,$D$26,0)","v":0},{"$f":"IF(DSZ2>=Inputs!$E$38,$D$26,0)","v":0},{"$f":"IF(DTA2>=Inputs!$E$38,$D$26,0)","v":0},{"$f":"IF(DTB2>=Inputs!$E$38,$D$26,0)","v":0},{"$f":"IF(DTC2>=Inputs!$E$38,$D$26,0)","v":0},{"$f":"IF(DTD2>=Inputs!$E$38,$D$26,0)","v":0},{"$f":"IF(DTE2>=Inputs!$E$38,$D$26,0)","v":0},{"$f":"IF(DTF2>=Inputs!$E$38,$D$26,0)","v":0},{"$f":"IF(DTG2>=Inputs!$E$38,$D$26,0)","v":0},{"$f":"IF(DTH2>=Inputs!$E$38,$D$26,0)","v":0},{"$f":"IF(DTI2>=Inputs!$E$38,$D$26,0)","v":0},{"$f":"IF(DTJ2>=Inputs!$E$38,$D$26,0)","v":0},{"$f":"IF(DTK2>=Inputs!$E$38,$D$26,0)","v":0},{"$f":"IF(DTL2>=Inputs!$E$38,$D$26,0)","v":0},{"$f":"IF(DTM2>=Inputs!$E$38,$D$26,0)","v":0},{"$f":"IF(DTN2>=Inputs!$E$38,$D$26,0)","v":0},{"$f":"IF(DTO2>=Inputs!$E$38,$D$26,0)","v":0},{"$f":"IF(DTP2>=Inputs!$E$38,$D$26,0)","v":0},{"$f":"IF(DTQ2>=Inputs!$E$38,$D$26,0)","v":0},{"$f":"IF(DTR2>=Inputs!$E$38,$D$26,0)","v":0},{"$f":"IF(DTS2>=Inputs!$E$38,$D$26,0)","v":0},{"$f":"IF(DTT2>=Inputs!$E$38,$D$26,0)","v":0},{"$f":"IF(DTU2>=Inputs!$E$38,$D$26,0)","v":0},{"$f":"IF(DTV2>=Inputs!$E$38,$D$26,0)","v":0},{"$f":"IF(DTW2>=Inputs!$E$38,$D$26,0)","v":0},{"$f":"IF(DTX2>=Inputs!$E$38,$D$26,0)","v":0},{"$f":"IF(DTY2>=Inputs!$E$38,$D$26,0)","v":0},{"$f":"IF(DTZ2>=Inputs!$E$38,$D$26,0)","v":0},{"$f":"IF(DUA2>=Inputs!$E$38,$D$26,0)","v":0},{"$f":"IF(DUB2>=Inputs!$E$38,$D$26,0)","v":0},{"$f":"IF(DUC2>=Inputs!$E$38,$D$26,0)","v":0},{"$f":"IF(DUD2>=Inputs!$E$38,$D$26,0)","v":0},{"$f":"IF(DUE2>=Inputs!$E$38,$D$26,0)","v":0},{"$f":"IF(DUF2>=Inputs!$E$38,$D$26,0)","v":0},{"$f":"IF(DUG2>=Inputs!$E$38,$D$26,0)","v":0},{"$f":"IF(DUH2>=Inputs!$E$38,$D$26,0)","v":0},{"$f":"IF(DUI2>=Inputs!$E$38,$D$26,0)","v":0},{"$f":"IF(DUJ2>=Inputs!$E$38,$D$26,0)","v":0},{"$f":"IF(DUK2>=Inputs!$E$38,$D$26,0)","v":0},{"$f":"IF(DUL2>=Inputs!$E$38,$D$26,0)","v":0},{"$f":"IF(DUM2>=Inputs!$E$38,$D$26,0)","v":0},{"$f":"IF(DUN2>=Inputs!$E$38,$D$26,0)","v":0},{"$f":"IF(DUO2>=Inputs!$E$38,$D$26,0)","v":0},{"$f":"IF(DUP2>=Inputs!$E$38,$D$26,0)","v":0},{"$f":"IF(DUQ2>=Inputs!$E$38,$D$26,0)","v":0},{"$f":"IF(DUR2>=Inputs!$E$38,$D$26,0)","v":0},{"$f":"IF(DUS2>=Inputs!$E$38,$D$26,0)","v":0},{"$f":"IF(DUT2>=Inputs!$E$38,$D$26,0)","v":0},{"$f":"IF(DUU2>=Inputs!$E$38,$D$26,0)","v":0},{"$f":"IF(DUV2>=Inputs!$E$38,$D$26,0)","v":0},{"$f":"IF(DUW2>=Inputs!$E$38,$D$26,0)","v":0},{"$f":"IF(DUX2>=Inputs!$E$38,$D$26,0)","v":0},{"$f":"IF(DUY2>=Inputs!$E$38,$D$26,0)","v":0},{"$f":"IF(DUZ2>=Inputs!$E$38,$D$26,0)","v":0},{"$f":"IF(DVA2>=Inputs!$E$38,$D$26,0)","v":0},{"$f":"IF(DVB2>=Inputs!$E$38,$D$26,0)","v":0},{"$f":"IF(DVC2>=Inputs!$E$38,$D$26,0)","v":0},{"$f":"IF(DVD2>=Inputs!$E$38,$D$26,0)","v":0},{"$f":"IF(DVE2>=Inputs!$E$38,$D$26,0)","v":0},{"$f":"IF(DVF2>=Inputs!$E$38,$D$26,0)","v":0},{"$f":"IF(DVG2>=Inputs!$E$38,$D$26,0)","v":0},{"$f":"IF(DVH2>=Inputs!$E$38,$D$26,0)","v":0},{"$f":"IF(DVI2>=Inputs!$E$38,$D$26,0)","v":0},{"$f":"IF(DVJ2>=Inputs!$E$38,$D$26,0)","v":0},{"$f":"IF(DVK2>=Inputs!$E$38,$D$26,0)","v":0},{"$f":"IF(DVL2>=Inputs!$E$38,$D$26,0)","v":0},{"$f":"IF(DVM2>=Inputs!$E$38,$D$26,0)","v":0},{"$f":"IF(DVN2>=Inputs!$E$38,$D$26,0)","v":0},{"$f":"IF(DVO2>=Inputs!$E$38,$D$26,0)","v":0},{"$f":"IF(DVP2>=Inputs!$E$38,$D$26,0)","v":0},{"$f":"IF(DVQ2>=Inputs!$E$38,$D$26,0)","v":0},{"$f":"IF(DVR2>=Inputs!$E$38,$D$26,0)","v":0},{"$f":"IF(DVS2>=Inputs!$E$38,$D$26,0)","v":0},{"$f":"IF(DVT2>=Inputs!$E$38,$D$26,0)","v":0},{"$f":"IF(DVU2>=Inputs!$E$38,$D$26,0)","v":0},{"$f":"IF(DVV2>=Inputs!$E$38,$D$26,0)","v":0},{"$f":"IF(DVW2>=Inputs!$E$38,$D$26,0)","v":0},{"$f":"IF(DVX2>=Inputs!$E$38,$D$26,0)","v":0},{"$f":"IF(DVY2>=Inputs!$E$38,$D$26,0)","v":0},{"$f":"IF(DVZ2>=Inputs!$E$38,$D$26,0)","v":0},{"$f":"IF(DWA2>=Inputs!$E$38,$D$26,0)","v":0},{"$f":"IF(DWB2>=Inputs!$E$38,$D$26,0)","v":0},{"$f":"IF(DWC2>=Inputs!$E$38,$D$26,0)","v":0},{"$f":"IF(DWD2>=Inputs!$E$38,$D$26,0)","v":0},{"$f":"IF(DWE2>=Inputs!$E$38,$D$26,0)","v":0},{"$f":"IF(DWF2>=Inputs!$E$38,$D$26,0)","v":0},{"$f":"IF(DWG2>=Inputs!$E$38,$D$26,0)","v":0},{"$f":"IF(DWH2>=Inputs!$E$38,$D$26,0)","v":0},{"$f":"IF(DWI2>=Inputs!$E$38,$D$26,0)","v":0},{"$f":"IF(DWJ2>=Inputs!$E$38,$D$26,0)","v":0},{"$f":"IF(DWK2>=Inputs!$E$38,$D$26,0)","v":0},{"$f":"IF(DWL2>=Inputs!$E$38,$D$26,0)","v":0},{"$f":"IF(DWM2>=Inputs!$E$38,$D$26,0)","v":0},{"$f":"IF(DWN2>=Inputs!$E$38,$D$26,0)","v":0},{"$f":"IF(DWO2>=Inputs!$E$38,$D$26,0)","v":0},{"$f":"IF(DWP2>=Inputs!$E$38,$D$26,0)","v":0},{"$f":"IF(DWQ2>=Inputs!$E$38,$D$26,0)","v":0},{"$f":"IF(DWR2>=Inputs!$E$38,$D$26,0)","v":0},{"$f":"IF(DWS2>=Inputs!$E$38,$D$26,0)","v":0},{"$f":"IF(DWT2>=Inputs!$E$38,$D$26,0)","v":0},{"$f":"IF(DWU2>=Inputs!$E$38,$D$26,0)","v":0},{"$f":"IF(DWV2>=Inputs!$E$38,$D$26,0)","v":0},{"$f":"IF(DWW2>=Inputs!$E$38,$D$26,0)","v":0},{"$f":"IF(DWX2>=Inputs!$E$38,$D$26,0)","v":0},{"$f":"IF(DWY2>=Inputs!$E$38,$D$26,0)","v":0},{"$f":"IF(DWZ2>=Inputs!$E$38,$D$26,0)","v":0},{"$f":"IF(DXA2>=Inputs!$E$38,$D$26,0)","v":0},{"$f":"IF(DXB2>=Inputs!$E$38,$D$26,0)","v":0},{"$f":"IF(DXC2>=Inputs!$E$38,$D$26,0)","v":0},{"$f":"IF(DXD2>=Inputs!$E$38,$D$26,0)","v":0},{"$f":"IF(DXE2>=Inputs!$E$38,$D$26,0)","v":0},{"$f":"IF(DXF2>=Inputs!$E$38,$D$26,0)","v":0},{"$f":"IF(DXG2>=Inputs!$E$38,$D$26,0)","v":0},{"$f":"IF(DXH2>=Inputs!$E$38,$D$26,0)","v":0},{"$f":"IF(DXI2>=Inputs!$E$38,$D$26,0)","v":0},{"$f":"IF(DXJ2>=Inputs!$E$38,$D$26,0)","v":0},{"$f":"IF(DXK2>=Inputs!$E$38,$D$26,0)","v":0},{"$f":"IF(DXL2>=Inputs!$E$38,$D$26,0)","v":0},{"$f":"IF(DXM2>=Inputs!$E$38,$D$26,0)","v":0},{"$f":"IF(DXN2>=Inputs!$E$38,$D$26,0)","v":0},{"$f":"IF(DXO2>=Inputs!$E$38,$D$26,0)","v":0},{"$f":"IF(DXP2>=Inputs!$E$38,$D$26,0)","v":0},{"$f":"IF(DXQ2>=Inputs!$E$38,$D$26,0)","v":0},{"$f":"IF(DXR2>=Inputs!$E$38,$D$26,0)","v":0},{"$f":"IF(DXS2>=Inputs!$E$38,$D$26,0)","v":0},{"$f":"IF(DXT2>=Inputs!$E$38,$D$26,0)","v":0},{"$f":"IF(DXU2>=Inputs!$E$38,$D$26,0)","v":0},{"$f":"IF(DXV2>=Inputs!$E$38,$D$26,0)","v":0},{"$f":"IF(DXW2>=Inputs!$E$38,$D$26,0)","v":0},{"$f":"IF(DXX2>=Inputs!$E$38,$D$26,0)","v":0},{"$f":"IF(DXY2>=Inputs!$E$38,$D$26,0)","v":0},{"$f":"IF(DXZ2>=Inputs!$E$38,$D$26,0)","v":0},{"$f":"IF(DYA2>=Inputs!$E$38,$D$26,0)","v":0},{"$f":"IF(DYB2>=Inputs!$E$38,$D$26,0)","v":0},{"$f":"IF(DYC2>=Inputs!$E$38,$D$26,0)","v":0},{"$f":"IF(DYD2>=Inputs!$E$38,$D$26,0)","v":0},{"$f":"IF(DYE2>=Inputs!$E$38,$D$26,0)","v":0},{"$f":"IF(DYF2>=Inputs!$E$38,$D$26,0)","v":0},{"$f":"IF(DYG2>=Inputs!$E$38,$D$26,0)","v":0},{"$f":"IF(DYH2>=Inputs!$E$38,$D$26,0)","v":0},{"$f":"IF(DYI2>=Inputs!$E$38,$D$26,0)","v":0},{"$f":"IF(DYJ2>=Inputs!$E$38,$D$26,0)","v":0},{"$f":"IF(DYK2>=Inputs!$E$38,$D$26,0)","v":0},{"$f":"IF(DYL2>=Inputs!$E$38,$D$26,0)","v":0},{"$f":"IF(DYM2>=Inputs!$E$38,$D$26,0)","v":0},{"$f":"IF(DYN2>=Inputs!$E$38,$D$26,0)","v":0},{"$f":"IF(DYO2>=Inputs!$E$38,$D$26,0)","v":0},{"$f":"IF(DYP2>=Inputs!$E$38,$D$26,0)","v":0},{"$f":"IF(DYQ2>=Inputs!$E$38,$D$26,0)","v":0},{"$f":"IF(DYR2>=Inputs!$E$38,$D$26,0)","v":0},{"$f":"IF(DYS2>=Inputs!$E$38,$D$26,0)","v":0},{"$f":"IF(DYT2>=Inputs!$E$38,$D$26,0)","v":0},{"$f":"IF(DYU2>=Inputs!$E$38,$D$26,0)","v":0},{"$f":"IF(DYV2>=Inputs!$E$38,$D$26,0)","v":0},{"$f":"IF(DYW2>=Inputs!$E$38,$D$26,0)","v":0},{"$f":"IF(DYX2>=Inputs!$E$38,$D$26,0)","v":0},{"$f":"IF(DYY2>=Inputs!$E$38,$D$26,0)","v":0},{"$f":"IF(DYZ2>=Inputs!$E$38,$D$26,0)","v":0},{"$f":"IF(DZA2>=Inputs!$E$38,$D$26,0)","v":0},{"$f":"IF(DZB2>=Inputs!$E$38,$D$26,0)","v":0},{"$f":"IF(DZC2>=Inputs!$E$38,$D$26,0)","v":0},{"$f":"IF(DZD2>=Inputs!$E$38,$D$26,0)","v":0},{"$f":"IF(DZE2>=Inputs!$E$38,$D$26,0)","v":0},{"$f":"IF(DZF2>=Inputs!$E$38,$D$26,0)","v":0},{"$f":"IF(DZG2>=Inputs!$E$38,$D$26,0)","v":0},{"$f":"IF(DZH2>=Inputs!$E$38,$D$26,0)","v":0},{"$f":"IF(DZI2>=Inputs!$E$38,$D$26,0)","v":0},{"$f":"IF(DZJ2>=Inputs!$E$38,$D$26,0)","v":0},{"$f":"IF(DZK2>=Inputs!$E$38,$D$26,0)","v":0},{"$f":"IF(DZL2>=Inputs!$E$38,$D$26,0)","v":0},{"$f":"IF(DZM2>=Inputs!$E$38,$D$26,0)","v":0},{"$f":"IF(DZN2>=Inputs!$E$38,$D$26,0)","v":0},{"$f":"IF(DZO2>=Inputs!$E$38,$D$26,0)","v":0},{"$f":"IF(DZP2>=Inputs!$E$38,$D$26,0)","v":0},{"$f":"IF(DZQ2>=Inputs!$E$38,$D$26,0)","v":0},{"$f":"IF(DZR2>=Inputs!$E$38,$D$26,0)","v":0},{"$f":"IF(DZS2>=Inputs!$E$38,$D$26,0)","v":0},{"$f":"IF(DZT2>=Inputs!$E$38,$D$26,0)","v":0},{"$f":"IF(DZU2>=Inputs!$E$38,$D$26,0)","v":0},{"$f":"IF(DZV2>=Inputs!$E$38,$D$26,0)","v":0},{"$f":"IF(DZW2>=Inputs!$E$38,$D$26,0)","v":0},{"$f":"IF(DZX2>=Inputs!$E$38,$D$26,0)","v":0},{"$f":"IF(DZY2>=Inputs!$E$38,$D$26,0)","v":0},{"$f":"IF(DZZ2>=Inputs!$E$38,$D$26,0)","v":0},{"$f":"IF(EAA2>=Inputs!$E$38,$D$26,0)","v":0},{"$f":"IF(EAB2>=Inputs!$E$38,$D$26,0)","v":0},{"$f":"IF(EAC2>=Inputs!$E$38,$D$26,0)","v":0},{"$f":"IF(EAD2>=Inputs!$E$38,$D$26,0)","v":0},{"$f":"IF(EAE2>=Inputs!$E$38,$D$26,0)","v":0},{"$f":"IF(EAF2>=Inputs!$E$38,$D$26,0)","v":0},{"$f":"IF(EAG2>=Inputs!$E$38,$D$26,0)","v":0},{"$f":"IF(EAH2>=Inputs!$E$38,$D$26,0)","v":0},{"$f":"IF(EAI2>=Inputs!$E$38,$D$26,0)","v":0},{"$f":"IF(EAJ2>=Inputs!$E$38,$D$26,0)","v":0},{"$f":"IF(EAK2>=Inputs!$E$38,$D$26,0)","v":0},{"$f":"IF(EAL2>=Inputs!$E$38,$D$26,0)","v":0},{"$f":"IF(EAM2>=Inputs!$E$38,$D$26,0)","v":0},{"$f":"IF(EAN2>=Inputs!$E$38,$D$26,0)","v":0},{"$f":"IF(EAO2>=Inputs!$E$38,$D$26,0)","v":0},{"$f":"IF(EAP2>=Inputs!$E$38,$D$26,0)","v":0},{"$f":"IF(EAQ2>=Inputs!$E$38,$D$26,0)","v":0},{"$f":"IF(EAR2>=Inputs!$E$38,$D$26,0)","v":0},{"$f":"IF(EAS2>=Inputs!$E$38,$D$26,0)","v":0},{"$f":"IF(EAT2>=Inputs!$E$38,$D$26,0)","v":0},{"$f":"IF(EAU2>=Inputs!$E$38,$D$26,0)","v":0},{"$f":"IF(EAV2>=Inputs!$E$38,$D$26,0)","v":0},{"$f":"IF(EAW2>=Inputs!$E$38,$D$26,0)","v":0},{"$f":"IF(EAX2>=Inputs!$E$38,$D$26,0)","v":0},{"$f":"IF(EAY2>=Inputs!$E$38,$D$26,0)","v":0},{"$f":"IF(EAZ2>=Inputs!$E$38,$D$26,0)","v":0},{"$f":"IF(EBA2>=Inputs!$E$38,$D$26,0)","v":0},{"$f":"IF(EBB2>=Inputs!$E$38,$D$26,0)","v":0},{"$f":"IF(EBC2>=Inputs!$E$38,$D$26,0)","v":0},{"$f":"IF(EBD2>=Inputs!$E$38,$D$26,0)","v":0},{"$f":"IF(EBE2>=Inputs!$E$38,$D$26,0)","v":0},{"$f":"IF(EBF2>=Inputs!$E$38,$D$26,0)","v":0},{"$f":"IF(EBG2>=Inputs!$E$38,$D$26,0)","v":0},{"$f":"IF(EBH2>=Inputs!$E$38,$D$26,0)","v":0},{"$f":"IF(EBI2>=Inputs!$E$38,$D$26,0)","v":0},{"$f":"IF(EBJ2>=Inputs!$E$38,$D$26,0)","v":0},{"$f":"IF(EBK2>=Inputs!$E$38,$D$26,0)","v":0},{"$f":"IF(EBL2>=Inputs!$E$38,$D$26,0)","v":0},{"$f":"IF(EBM2>=Inputs!$E$38,$D$26,0)","v":0},{"$f":"IF(EBN2>=Inputs!$E$38,$D$26,0)","v":0},{"$f":"IF(EBO2>=Inputs!$E$38,$D$26,0)","v":0},{"$f":"IF(EBP2>=Inputs!$E$38,$D$26,0)","v":0},{"$f":"IF(EBQ2>=Inputs!$E$38,$D$26,0)","v":0},{"$f":"IF(EBR2>=Inputs!$E$38,$D$26,0)","v":0},{"$f":"IF(EBS2>=Inputs!$E$38,$D$26,0)","v":0},{"$f":"IF(EBT2>=Inputs!$E$38,$D$26,0)","v":0},{"$f":"IF(EBU2>=Inputs!$E$38,$D$26,0)","v":0},{"$f":"IF(EBV2>=Inputs!$E$38,$D$26,0)","v":0},{"$f":"IF(EBW2>=Inputs!$E$38,$D$26,0)","v":0},{"$f":"IF(EBX2>=Inputs!$E$38,$D$26,0)","v":0},{"$f":"IF(EBY2>=Inputs!$E$38,$D$26,0)","v":0},{"$f":"IF(EBZ2>=Inputs!$E$38,$D$26,0)","v":0},{"$f":"IF(ECA2>=Inputs!$E$38,$D$26,0)","v":0},{"$f":"IF(ECB2>=Inputs!$E$38,$D$26,0)","v":0},{"$f":"IF(ECC2>=Inputs!$E$38,$D$26,0)","v":0},{"$f":"IF(ECD2>=Inputs!$E$38,$D$26,0)","v":0},{"$f":"IF(ECE2>=Inputs!$E$38,$D$26,0)","v":0},{"$f":"IF(ECF2>=Inputs!$E$38,$D$26,0)","v":0},{"$f":"IF(ECG2>=Inputs!$E$38,$D$26,0)","v":0},{"$f":"IF(ECH2>=Inputs!$E$38,$D$26,0)","v":0},{"$f":"IF(ECI2>=Inputs!$E$38,$D$26,0)","v":0},{"$f":"IF(ECJ2>=Inputs!$E$38,$D$26,0)","v":0},{"$f":"IF(ECK2>=Inputs!$E$38,$D$26,0)","v":0},{"$f":"IF(ECL2>=Inputs!$E$38,$D$26,0)","v":0},{"$f":"IF(ECM2>=Inputs!$E$38,$D$26,0)","v":0},{"$f":"IF(ECN2>=Inputs!$E$38,$D$26,0)","v":0},{"$f":"IF(ECO2>=Inputs!$E$38,$D$26,0)","v":0},{"$f":"IF(ECP2>=Inputs!$E$38,$D$26,0)","v":0},{"$f":"IF(ECQ2>=Inputs!$E$38,$D$26,0)","v":0},{"$f":"IF(ECR2>=Inputs!$E$38,$D$26,0)","v":0},{"$f":"IF(ECS2>=Inputs!$E$38,$D$26,0)","v":0},{"$f":"IF(ECT2>=Inputs!$E$38,$D$26,0)","v":0},{"$f":"IF(ECU2>=Inputs!$E$38,$D$26,0)","v":0},{"$f":"IF(ECV2>=Inputs!$E$38,$D$26,0)","v":0},{"$f":"IF(ECW2>=Inputs!$E$38,$D$26,0)","v":0},{"$f":"IF(ECX2>=Inputs!$E$38,$D$26,0)","v":0},{"$f":"IF(ECY2>=Inputs!$E$38,$D$26,0)","v":0},{"$f":"IF(ECZ2>=Inputs!$E$38,$D$26,0)","v":0},{"$f":"IF(EDA2>=Inputs!$E$38,$D$26,0)","v":0},{"$f":"IF(EDB2>=Inputs!$E$38,$D$26,0)","v":0},{"$f":"IF(EDC2>=Inputs!$E$38,$D$26,0)","v":0},{"$f":"IF(EDD2>=Inputs!$E$38,$D$26,0)","v":0},{"$f":"IF(EDE2>=Inputs!$E$38,$D$26,0)","v":0},{"$f":"IF(EDF2>=Inputs!$E$38,$D$26,0)","v":0},{"$f":"IF(EDG2>=Inputs!$E$38,$D$26,0)","v":0},{"$f":"IF(EDH2>=Inputs!$E$38,$D$26,0)","v":0},{"$f":"IF(EDI2>=Inputs!$E$38,$D$26,0)","v":0},{"$f":"IF(EDJ2>=Inputs!$E$38,$D$26,0)","v":0},{"$f":"IF(EDK2>=Inputs!$E$38,$D$26,0)","v":0},{"$f":"IF(EDL2>=Inputs!$E$38,$D$26,0)","v":0},{"$f":"IF(EDM2>=Inputs!$E$38,$D$26,0)","v":0},{"$f":"IF(EDN2>=Inputs!$E$38,$D$26,0)","v":0},{"$f":"IF(EDO2>=Inputs!$E$38,$D$26,0)","v":0},{"$f":"IF(EDP2>=Inputs!$E$38,$D$26,0)","v":0},{"$f":"IF(EDQ2>=Inputs!$E$38,$D$26,0)","v":0},{"$f":"IF(EDR2>=Inputs!$E$38,$D$26,0)","v":0},{"$f":"IF(EDS2>=Inputs!$E$38,$D$26,0)","v":0},{"$f":"IF(EDT2>=Inputs!$E$38,$D$26,0)","v":0},{"$f":"IF(EDU2>=Inputs!$E$38,$D$26,0)","v":0},{"$f":"IF(EDV2>=Inputs!$E$38,$D$26,0)","v":0},{"$f":"IF(EDW2>=Inputs!$E$38,$D$26,0)","v":0},{"$f":"IF(EDX2>=Inputs!$E$38,$D$26,0)","v":0},{"$f":"IF(EDY2>=Inputs!$E$38,$D$26,0)","v":0},{"$f":"IF(EDZ2>=Inputs!$E$38,$D$26,0)","v":0},{"$f":"IF(EEA2>=Inputs!$E$38,$D$26,0)","v":0},{"$f":"IF(EEB2>=Inputs!$E$38,$D$26,0)","v":0},{"$f":"IF(EEC2>=Inputs!$E$38,$D$26,0)","v":0},{"$f":"IF(EED2>=Inputs!$E$38,$D$26,0)","v":0},{"$f":"IF(EEE2>=Inputs!$E$38,$D$26,0)","v":0},{"$f":"IF(EEF2>=Inputs!$E$38,$D$26,0)","v":0},{"$f":"IF(EEG2>=Inputs!$E$38,$D$26,0)","v":0},{"$f":"IF(EEH2>=Inputs!$E$38,$D$26,0)","v":0},{"$f":"IF(EEI2>=Inputs!$E$38,$D$26,0)","v":0},{"$f":"IF(EEJ2>=Inputs!$E$38,$D$26,0)","v":0},{"$f":"IF(EEK2>=Inputs!$E$38,$D$26,0)","v":0},{"$f":"IF(EEL2>=Inputs!$E$38,$D$26,0)","v":0},{"$f":"IF(EEM2>=Inputs!$E$38,$D$26,0)","v":0},{"$f":"IF(EEN2>=Inputs!$E$38,$D$26,0)","v":0},{"$f":"IF(EEO2>=Inputs!$E$38,$D$26,0)","v":0},{"$f":"IF(EEP2>=Inputs!$E$38,$D$26,0)","v":0},{"$f":"IF(EEQ2>=Inputs!$E$38,$D$26,0)","v":0},{"$f":"IF(EER2>=Inputs!$E$38,$D$26,0)","v":0},{"$f":"IF(EES2>=Inputs!$E$38,$D$26,0)","v":0},{"$f":"IF(EET2>=Inputs!$E$38,$D$26,0)","v":0},{"$f":"IF(EEU2>=Inputs!$E$38,$D$26,0)","v":0},{"$f":"IF(EEV2>=Inputs!$E$38,$D$26,0)","v":0},{"$f":"IF(EEW2>=Inputs!$E$38,$D$26,0)","v":0},{"$f":"IF(EEX2>=Inputs!$E$38,$D$26,0)","v":0},{"$f":"IF(EEY2>=Inputs!$E$38,$D$26,0)","v":0},{"$f":"IF(EEZ2>=Inputs!$E$38,$D$26,0)","v":0},{"$f":"IF(EFA2>=Inputs!$E$38,$D$26,0)","v":0},{"$f":"IF(EFB2>=Inputs!$E$38,$D$26,0)","v":0},{"$f":"IF(EFC2>=Inputs!$E$38,$D$26,0)","v":0},{"$f":"IF(EFD2>=Inputs!$E$38,$D$26,0)","v":0},{"$f":"IF(EFE2>=Inputs!$E$38,$D$26,0)","v":0},{"$f":"IF(EFF2>=Inputs!$E$38,$D$26,0)","v":0},{"$f":"IF(EFG2>=Inputs!$E$38,$D$26,0)","v":0},{"$f":"IF(EFH2>=Inputs!$E$38,$D$26,0)","v":0},{"$f":"IF(EFI2>=Inputs!$E$38,$D$26,0)","v":0},{"$f":"IF(EFJ2>=Inputs!$E$38,$D$26,0)","v":0},{"$f":"IF(EFK2>=Inputs!$E$38,$D$26,0)","v":0},{"$f":"IF(EFL2>=Inputs!$E$38,$D$26,0)","v":0},{"$f":"IF(EFM2>=Inputs!$E$38,$D$26,0)","v":0},{"$f":"IF(EFN2>=Inputs!$E$38,$D$26,0)","v":0},{"$f":"IF(EFO2>=Inputs!$E$38,$D$26,0)","v":0},{"$f":"IF(EFP2>=Inputs!$E$38,$D$26,0)","v":0},{"$f":"IF(EFQ2>=Inputs!$E$38,$D$26,0)","v":0},{"$f":"IF(EFR2>=Inputs!$E$38,$D$26,0)","v":0},{"$f":"IF(EFS2>=Inputs!$E$38,$D$26,0)","v":0},{"$f":"IF(EFT2>=Inputs!$E$38,$D$26,0)","v":0},{"$f":"IF(EFU2>=Inputs!$E$38,$D$26,0)","v":0},{"$f":"IF(EFV2>=Inputs!$E$38,$D$26,0)","v":0},{"$f":"IF(EFW2>=Inputs!$E$38,$D$26,0)","v":0},{"$f":"IF(EFX2>=Inputs!$E$38,$D$26,0)","v":0},{"$f":"IF(EFY2>=Inputs!$E$38,$D$26,0)","v":0},{"$f":"IF(EFZ2>=Inputs!$E$38,$D$26,0)","v":0},{"$f":"IF(EGA2>=Inputs!$E$38,$D$26,0)","v":0},{"$f":"IF(EGB2>=Inputs!$E$38,$D$26,0)","v":0},{"$f":"IF(EGC2>=Inputs!$E$38,$D$26,0)","v":0},{"$f":"IF(EGD2>=Inputs!$E$38,$D$26,0)","v":0},{"$f":"IF(EGE2>=Inputs!$E$38,$D$26,0)","v":0},{"$f":"IF(EGF2>=Inputs!$E$38,$D$26,0)","v":0},{"$f":"IF(EGG2>=Inputs!$E$38,$D$26,0)","v":0},{"$f":"IF(EGH2>=Inputs!$E$38,$D$26,0)","v":0},{"$f":"IF(EGI2>=Inputs!$E$38,$D$26,0)","v":0},{"$f":"IF(EGJ2>=Inputs!$E$38,$D$26,0)","v":0},{"$f":"IF(EGK2>=Inputs!$E$38,$D$26,0)","v":0},{"$f":"IF(EGL2>=Inputs!$E$38,$D$26,0)","v":0},{"$f":"IF(EGM2>=Inputs!$E$38,$D$26,0)","v":0},{"$f":"IF(EGN2>=Inputs!$E$38,$D$26,0)","v":0},{"$f":"IF(EGO2>=Inputs!$E$38,$D$26,0)","v":0},{"$f":"IF(EGP2>=Inputs!$E$38,$D$26,0)","v":0},{"$f":"IF(EGQ2>=Inputs!$E$38,$D$26,0)","v":0},{"$f":"IF(EGR2>=Inputs!$E$38,$D$26,0)","v":0},{"$f":"IF(EGS2>=Inputs!$E$38,$D$26,0)","v":0},{"$f":"IF(EGT2>=Inputs!$E$38,$D$26,0)","v":0},{"$f":"IF(EGU2>=Inputs!$E$38,$D$26,0)","v":0},{"$f":"IF(EGV2>=Inputs!$E$38,$D$26,0)","v":0},{"$f":"IF(EGW2>=Inputs!$E$38,$D$26,0)","v":0},{"$f":"IF(EGX2>=Inputs!$E$38,$D$26,0)","v":0},{"$f":"IF(EGY2>=Inputs!$E$38,$D$26,0)","v":0},{"$f":"IF(EGZ2>=Inputs!$E$38,$D$26,0)","v":0},{"$f":"IF(EHA2>=Inputs!$E$38,$D$26,0)","v":0},{"$f":"IF(EHB2>=Inputs!$E$38,$D$26,0)","v":0},{"$f":"IF(EHC2>=Inputs!$E$38,$D$26,0)","v":0},{"$f":"IF(EHD2>=Inputs!$E$38,$D$26,0)","v":0},{"$f":"IF(EHE2>=Inputs!$E$38,$D$26,0)","v":0},{"$f":"IF(EHF2>=Inputs!$E$38,$D$26,0)","v":0},{"$f":"IF(EHG2>=Inputs!$E$38,$D$26,0)","v":0},{"$f":"IF(EHH2>=Inputs!$E$38,$D$26,0)","v":0},{"$f":"IF(EHI2>=Inputs!$E$38,$D$26,0)","v":0},{"$f":"IF(EHJ2>=Inputs!$E$38,$D$26,0)","v":0},{"$f":"IF(EHK2>=Inputs!$E$38,$D$26,0)","v":0},{"$f":"IF(EHL2>=Inputs!$E$38,$D$26,0)","v":0},{"$f":"IF(EHM2>=Inputs!$E$38,$D$26,0)","v":0},{"$f":"IF(EHN2>=Inputs!$E$38,$D$26,0)","v":0},{"$f":"IF(EHO2>=Inputs!$E$38,$D$26,0)","v":0},{"$f":"IF(EHP2>=Inputs!$E$38,$D$26,0)","v":0},{"$f":"IF(EHQ2>=Inputs!$E$38,$D$26,0)","v":0},{"$f":"IF(EHR2>=Inputs!$E$38,$D$26,0)","v":0},{"$f":"IF(EHS2>=Inputs!$E$38,$D$26,0)","v":0},{"$f":"IF(EHT2>=Inputs!$E$38,$D$26,0)","v":0},{"$f":"IF(EHU2>=Inputs!$E$38,$D$26,0)","v":0},{"$f":"IF(EHV2>=Inputs!$E$38,$D$26,0)","v":0},{"$f":"IF(EHW2>=Inputs!$E$38,$D$26,0)","v":0},{"$f":"IF(EHX2>=Inputs!$E$38,$D$26,0)","v":0},{"$f":"IF(EHY2>=Inputs!$E$38,$D$26,0)","v":0},{"$f":"IF(EHZ2>=Inputs!$E$38,$D$26,0)","v":0},{"$f":"IF(EIA2>=Inputs!$E$38,$D$26,0)","v":0},{"$f":"IF(EIB2>=Inputs!$E$38,$D$26,0)","v":0},{"$f":"IF(EIC2>=Inputs!$E$38,$D$26,0)","v":0},{"$f":"IF(EID2>=Inputs!$E$38,$D$26,0)","v":0},{"$f":"IF(EIE2>=Inputs!$E$38,$D$26,0)","v":0},{"$f":"IF(EIF2>=Inputs!$E$38,$D$26,0)","v":0},{"$f":"IF(EIG2>=Inputs!$E$38,$D$26,0)","v":0},{"$f":"IF(EIH2>=Inputs!$E$38,$D$26,0)","v":0},{"$f":"IF(EII2>=Inputs!$E$38,$D$26,0)","v":0},{"$f":"IF(EIJ2>=Inputs!$E$38,$D$26,0)","v":0},{"$f":"IF(EIK2>=Inputs!$E$38,$D$26,0)","v":0},{"$f":"IF(EIL2>=Inputs!$E$38,$D$26,0)","v":0},{"$f":"IF(EIM2>=Inputs!$E$38,$D$26,0)","v":0},{"$f":"IF(EIN2>=Inputs!$E$38,$D$26,0)","v":0},{"$f":"IF(EIO2>=Inputs!$E$38,$D$26,0)","v":0},{"$f":"IF(EIP2>=Inputs!$E$38,$D$26,0)","v":0},{"$f":"IF(EIQ2>=Inputs!$E$38,$D$26,0)","v":0},{"$f":"IF(EIR2>=Inputs!$E$38,$D$26,0)","v":0},{"$f":"IF(EIS2>=Inputs!$E$38,$D$26,0)","v":0},{"$f":"IF(EIT2>=Inputs!$E$38,$D$26,0)","v":0},{"$f":"IF(EIU2>=Inputs!$E$38,$D$26,0)","v":0},{"$f":"IF(EIV2>=Inputs!$E$38,$D$26,0)","v":0},{"$f":"IF(EIW2>=Inputs!$E$38,$D$26,0)","v":0},{"$f":"IF(EIX2>=Inputs!$E$38,$D$26,0)","v":0},{"$f":"IF(EIY2>=Inputs!$E$38,$D$26,0)","v":0},{"$f":"IF(EIZ2>=Inputs!$E$38,$D$26,0)","v":0},{"$f":"IF(EJA2>=Inputs!$E$38,$D$26,0)","v":0},{"$f":"IF(EJB2>=Inputs!$E$38,$D$26,0)","v":0},{"$f":"IF(EJC2>=Inputs!$E$38,$D$26,0)","v":0},{"$f":"IF(EJD2>=Inputs!$E$38,$D$26,0)","v":0},{"$f":"IF(EJE2>=Inputs!$E$38,$D$26,0)","v":0},{"$f":"IF(EJF2>=Inputs!$E$38,$D$26,0)","v":0},{"$f":"IF(EJG2>=Inputs!$E$38,$D$26,0)","v":0},{"$f":"IF(EJH2>=Inputs!$E$38,$D$26,0)","v":0},{"$f":"IF(EJI2>=Inputs!$E$38,$D$26,0)","v":0},{"$f":"IF(EJJ2>=Inputs!$E$38,$D$26,0)","v":0},{"$f":"IF(EJK2>=Inputs!$E$38,$D$26,0)","v":0},{"$f":"IF(EJL2>=Inputs!$E$38,$D$26,0)","v":0},{"$f":"IF(EJM2>=Inputs!$E$38,$D$26,0)","v":0},{"$f":"IF(EJN2>=Inputs!$E$38,$D$26,0)","v":0},{"$f":"IF(EJO2>=Inputs!$E$38,$D$26,0)","v":0},{"$f":"IF(EJP2>=Inputs!$E$38,$D$26,0)","v":0},{"$f":"IF(EJQ2>=Inputs!$E$38,$D$26,0)","v":0},{"$f":"IF(EJR2>=Inputs!$E$38,$D$26,0)","v":0},{"$f":"IF(EJS2>=Inputs!$E$38,$D$26,0)","v":0},{"$f":"IF(EJT2>=Inputs!$E$38,$D$26,0)","v":0},{"$f":"IF(EJU2>=Inputs!$E$38,$D$26,0)","v":0},{"$f":"IF(EJV2>=Inputs!$E$38,$D$26,0)","v":0},{"$f":"IF(EJW2>=Inputs!$E$38,$D$26,0)","v":0},{"$f":"IF(EJX2>=Inputs!$E$38,$D$26,0)","v":0},{"$f":"IF(EJY2>=Inputs!$E$38,$D$26,0)","v":0},{"$f":"IF(EJZ2>=Inputs!$E$38,$D$26,0)","v":0},{"$f":"IF(EKA2>=Inputs!$E$38,$D$26,0)","v":0},{"$f":"IF(EKB2>=Inputs!$E$38,$D$26,0)","v":0},{"$f":"IF(EKC2>=Inputs!$E$38,$D$26,0)","v":0},{"$f":"IF(EKD2>=Inputs!$E$38,$D$26,0)","v":0},{"$f":"IF(EKE2>=Inputs!$E$38,$D$26,0)","v":0},{"$f":"IF(EKF2>=Inputs!$E$38,$D$26,0)","v":0},{"$f":"IF(EKG2>=Inputs!$E$38,$D$26,0)","v":0},{"$f":"IF(EKH2>=Inputs!$E$38,$D$26,0)","v":0},{"$f":"IF(EKI2>=Inputs!$E$38,$D$26,0)","v":0},{"$f":"IF(EKJ2>=Inputs!$E$38,$D$26,0)","v":0},{"$f":"IF(EKK2>=Inputs!$E$38,$D$26,0)","v":0},{"$f":"IF(EKL2>=Inputs!$E$38,$D$26,0)","v":0},{"$f":"IF(EKM2>=Inputs!$E$38,$D$26,0)","v":0},{"$f":"IF(EKN2>=Inputs!$E$38,$D$26,0)","v":0},{"$f":"IF(EKO2>=Inputs!$E$38,$D$26,0)","v":0},{"$f":"IF(EKP2>=Inputs!$E$38,$D$26,0)","v":0},{"$f":"IF(EKQ2>=Inputs!$E$38,$D$26,0)","v":0},{"$f":"IF(EKR2>=Inputs!$E$38,$D$26,0)","v":0},{"$f":"IF(EKS2>=Inputs!$E$38,$D$26,0)","v":0},{"$f":"IF(EKT2>=Inputs!$E$38,$D$26,0)","v":0},{"$f":"IF(EKU2>=Inputs!$E$38,$D$26,0)","v":0},{"$f":"IF(EKV2>=Inputs!$E$38,$D$26,0)","v":0},{"$f":"IF(EKW2>=Inputs!$E$38,$D$26,0)","v":0},{"$f":"IF(EKX2>=Inputs!$E$38,$D$26,0)","v":0},{"$f":"IF(EKY2>=Inputs!$E$38,$D$26,0)","v":0},{"$f":"IF(EKZ2>=Inputs!$E$38,$D$26,0)","v":0},{"$f":"IF(ELA2>=Inputs!$E$38,$D$26,0)","v":0},{"$f":"IF(ELB2>=Inputs!$E$38,$D$26,0)","v":0},{"$f":"IF(ELC2>=Inputs!$E$38,$D$26,0)","v":0},{"$f":"IF(ELD2>=Inputs!$E$38,$D$26,0)","v":0},{"$f":"IF(ELE2>=Inputs!$E$38,$D$26,0)","v":0},{"$f":"IF(ELF2>=Inputs!$E$38,$D$26,0)","v":0},{"$f":"IF(ELG2>=Inputs!$E$38,$D$26,0)","v":0},{"$f":"IF(ELH2>=Inputs!$E$38,$D$26,0)","v":0},{"$f":"IF(ELI2>=Inputs!$E$38,$D$26,0)","v":0},{"$f":"IF(ELJ2>=Inputs!$E$38,$D$26,0)","v":0},{"$f":"IF(ELK2>=Inputs!$E$38,$D$26,0)","v":0},{"$f":"IF(ELL2>=Inputs!$E$38,$D$26,0)","v":0},{"$f":"IF(ELM2>=Inputs!$E$38,$D$26,0)","v":0},{"$f":"IF(ELN2>=Inputs!$E$38,$D$26,0)","v":0},{"$f":"IF(ELO2>=Inputs!$E$38,$D$26,0)","v":0},{"$f":"IF(ELP2>=Inputs!$E$38,$D$26,0)","v":0},{"$f":"IF(ELQ2>=Inputs!$E$38,$D$26,0)","v":0},{"$f":"IF(ELR2>=Inputs!$E$38,$D$26,0)","v":0},{"$f":"IF(ELS2>=Inputs!$E$38,$D$26,0)","v":0},{"$f":"IF(ELT2>=Inputs!$E$38,$D$26,0)","v":0},{"$f":"IF(ELU2>=Inputs!$E$38,$D$26,0)","v":0},{"$f":"IF(ELV2>=Inputs!$E$38,$D$26,0)","v":0},{"$f":"IF(ELW2>=Inputs!$E$38,$D$26,0)","v":0},{"$f":"IF(ELX2>=Inputs!$E$38,$D$26,0)","v":0},{"$f":"IF(ELY2>=Inputs!$E$38,$D$26,0)","v":0},{"$f":"IF(ELZ2>=Inputs!$E$38,$D$26,0)","v":0},{"$f":"IF(EMA2>=Inputs!$E$38,$D$26,0)","v":0},{"$f":"IF(EMB2>=Inputs!$E$38,$D$26,0)","v":0},{"$f":"IF(EMC2>=Inputs!$E$38,$D$26,0)","v":0},{"$f":"IF(EMD2>=Inputs!$E$38,$D$26,0)","v":0},{"$f":"IF(EME2>=Inputs!$E$38,$D$26,0)","v":0},{"$f":"IF(EMF2>=Inputs!$E$38,$D$26,0)","v":0},{"$f":"IF(EMG2>=Inputs!$E$38,$D$26,0)","v":0},{"$f":"IF(EMH2>=Inputs!$E$38,$D$26,0)","v":0},{"$f":"IF(EMI2>=Inputs!$E$38,$D$26,0)","v":0},{"$f":"IF(EMJ2>=Inputs!$E$38,$D$26,0)","v":0},{"$f":"IF(EMK2>=Inputs!$E$38,$D$26,0)","v":0},{"$f":"IF(EML2>=Inputs!$E$38,$D$26,0)","v":0},{"$f":"IF(EMM2>=Inputs!$E$38,$D$26,0)","v":0},{"$f":"IF(EMN2>=Inputs!$E$38,$D$26,0)","v":0},{"$f":"IF(EMO2>=Inputs!$E$38,$D$26,0)","v":0},{"$f":"IF(EMP2>=Inputs!$E$38,$D$26,0)","v":0},{"$f":"IF(EMQ2>=Inputs!$E$38,$D$26,0)","v":0},{"$f":"IF(EMR2>=Inputs!$E$38,$D$26,0)","v":0},{"$f":"IF(EMS2>=Inputs!$E$38,$D$26,0)","v":0},{"$f":"IF(EMT2>=Inputs!$E$38,$D$26,0)","v":0},{"$f":"IF(EMU2>=Inputs!$E$38,$D$26,0)","v":0},{"$f":"IF(EMV2>=Inputs!$E$38,$D$26,0)","v":0},{"$f":"IF(EMW2>=Inputs!$E$38,$D$26,0)","v":0},{"$f":"IF(EMX2>=Inputs!$E$38,$D$26,0)","v":0},{"$f":"IF(EMY2>=Inputs!$E$38,$D$26,0)","v":0},{"$f":"IF(EMZ2>=Inputs!$E$38,$D$26,0)","v":0},{"$f":"IF(ENA2>=Inputs!$E$38,$D$26,0)","v":0},{"$f":"IF(ENB2>=Inputs!$E$38,$D$26,0)","v":0},{"$f":"IF(ENC2>=Inputs!$E$38,$D$26,0)","v":0},{"$f":"IF(END2>=Inputs!$E$38,$D$26,0)","v":0},{"$f":"IF(ENE2>=Inputs!$E$38,$D$26,0)","v":0},{"$f":"IF(ENF2>=Inputs!$E$38,$D$26,0)","v":0},{"$f":"IF(ENG2>=Inputs!$E$38,$D$26,0)","v":0},{"$f":"IF(ENH2>=Inputs!$E$38,$D$26,0)","v":0},{"$f":"IF(ENI2>=Inputs!$E$38,$D$26,0)","v":0},{"$f":"IF(ENJ2>=Inputs!$E$38,$D$26,0)","v":0},{"$f":"IF(ENK2>=Inputs!$E$38,$D$26,0)","v":0},{"$f":"IF(ENL2>=Inputs!$E$38,$D$26,0)","v":0},{"$f":"IF(ENM2>=Inputs!$E$38,$D$26,0)","v":0},{"$f":"IF(ENN2>=Inputs!$E$38,$D$26,0)","v":0},{"$f":"IF(ENO2>=Inputs!$E$38,$D$26,0)","v":0},{"$f":"IF(ENP2>=Inputs!$E$38,$D$26,0)","v":0},{"$f":"IF(ENQ2>=Inputs!$E$38,$D$26,0)","v":0},{"$f":"IF(ENR2>=Inputs!$E$38,$D$26,0)","v":0},{"$f":"IF(ENS2>=Inputs!$E$38,$D$26,0)","v":0},{"$f":"IF(ENT2>=Inputs!$E$38,$D$26,0)","v":0},{"$f":"IF(ENU2>=Inputs!$E$38,$D$26,0)","v":0},{"$f":"IF(ENV2>=Inputs!$E$38,$D$26,0)","v":0},{"$f":"IF(ENW2>=Inputs!$E$38,$D$26,0)","v":0},{"$f":"IF(ENX2>=Inputs!$E$38,$D$26,0)","v":0},{"$f":"IF(ENY2>=Inputs!$E$38,$D$26,0)","v":0},{"$f":"IF(ENZ2>=Inputs!$E$38,$D$26,0)","v":0},{"$f":"IF(EOA2>=Inputs!$E$38,$D$26,0)","v":0},{"$f":"IF(EOB2>=Inputs!$E$38,$D$26,0)","v":0},{"$f":"IF(EOC2>=Inputs!$E$38,$D$26,0)","v":0},{"$f":"IF(EOD2>=Inputs!$E$38,$D$26,0)","v":0},{"$f":"IF(EOE2>=Inputs!$E$38,$D$26,0)","v":0},{"$f":"IF(EOF2>=Inputs!$E$38,$D$26,0)","v":0},{"$f":"IF(EOG2>=Inputs!$E$38,$D$26,0)","v":0},{"$f":"IF(EOH2>=Inputs!$E$38,$D$26,0)","v":0},{"$f":"IF(EOI2>=Inputs!$E$38,$D$26,0)","v":0},{"$f":"IF(EOJ2>=Inputs!$E$38,$D$26,0)","v":0},{"$f":"IF(EOK2>=Inputs!$E$38,$D$26,0)","v":0},{"$f":"IF(EOL2>=Inputs!$E$38,$D$26,0)","v":0},{"$f":"IF(EOM2>=Inputs!$E$38,$D$26,0)","v":0},{"$f":"IF(EON2>=Inputs!$E$38,$D$26,0)","v":0},{"$f":"IF(EOO2>=Inputs!$E$38,$D$26,0)","v":0},{"$f":"IF(EOP2>=Inputs!$E$38,$D$26,0)","v":0},{"$f":"IF(EOQ2>=Inputs!$E$38,$D$26,0)","v":0},{"$f":"IF(EOR2>=Inputs!$E$38,$D$26,0)","v":0},{"$f":"IF(EOS2>=Inputs!$E$38,$D$26,0)","v":0},{"$f":"IF(EOT2>=Inputs!$E$38,$D$26,0)","v":0},{"$f":"IF(EOU2>=Inputs!$E$38,$D$26,0)","v":0},{"$f":"IF(EOV2>=Inputs!$E$38,$D$26,0)","v":0},{"$f":"IF(EOW2>=Inputs!$E$38,$D$26,0)","v":0},{"$f":"IF(EOX2>=Inputs!$E$38,$D$26,0)","v":0},{"$f":"IF(EOY2>=Inputs!$E$38,$D$26,0)","v":0},{"$f":"IF(EOZ2>=Inputs!$E$38,$D$26,0)","v":0},{"$f":"IF(EPA2>=Inputs!$E$38,$D$26,0)","v":0},{"$f":"IF(EPB2>=Inputs!$E$38,$D$26,0)","v":0},{"$f":"IF(EPC2>=Inputs!$E$38,$D$26,0)","v":0},{"$f":"IF(EPD2>=Inputs!$E$38,$D$26,0)","v":0},{"$f":"IF(EPE2>=Inputs!$E$38,$D$26,0)","v":0},{"$f":"IF(EPF2>=Inputs!$E$38,$D$26,0)","v":0},{"$f":"IF(EPG2>=Inputs!$E$38,$D$26,0)","v":0},{"$f":"IF(EPH2>=Inputs!$E$38,$D$26,0)","v":0},{"$f":"IF(EPI2>=Inputs!$E$38,$D$26,0)","v":0},{"$f":"IF(EPJ2>=Inputs!$E$38,$D$26,0)","v":0},{"$f":"IF(EPK2>=Inputs!$E$38,$D$26,0)","v":0},{"$f":"IF(EPL2>=Inputs!$E$38,$D$26,0)","v":0},{"$f":"IF(EPM2>=Inputs!$E$38,$D$26,0)","v":0},{"$f":"IF(EPN2>=Inputs!$E$38,$D$26,0)","v":0},{"$f":"IF(EPO2>=Inputs!$E$38,$D$26,0)","v":0},{"$f":"IF(EPP2>=Inputs!$E$38,$D$26,0)","v":0},{"$f":"IF(EPQ2>=Inputs!$E$38,$D$26,0)","v":0},{"$f":"IF(EPR2>=Inputs!$E$38,$D$26,0)","v":0},{"$f":"IF(EPS2>=Inputs!$E$38,$D$26,0)","v":0},{"$f":"IF(EPT2>=Inputs!$E$38,$D$26,0)","v":0},{"$f":"IF(EPU2>=Inputs!$E$38,$D$26,0)","v":0},{"$f":"IF(EPV2>=Inputs!$E$38,$D$26,0)","v":0},{"$f":"IF(EPW2>=Inputs!$E$38,$D$26,0)","v":0},{"$f":"IF(EPX2>=Inputs!$E$38,$D$26,0)","v":0},{"$f":"IF(EPY2>=Inputs!$E$38,$D$26,0)","v":0},{"$f":"IF(EPZ2>=Inputs!$E$38,$D$26,0)","v":0},{"$f":"IF(EQA2>=Inputs!$E$38,$D$26,0)","v":0},{"$f":"IF(EQB2>=Inputs!$E$38,$D$26,0)","v":0},{"$f":"IF(EQC2>=Inputs!$E$38,$D$26,0)","v":0},{"$f":"IF(EQD2>=Inputs!$E$38,$D$26,0)","v":0},{"$f":"IF(EQE2>=Inputs!$E$38,$D$26,0)","v":0},{"$f":"IF(EQF2>=Inputs!$E$38,$D$26,0)","v":0},{"$f":"IF(EQG2>=Inputs!$E$38,$D$26,0)","v":0},{"$f":"IF(EQH2>=Inputs!$E$38,$D$26,0)","v":0},{"$f":"IF(EQI2>=Inputs!$E$38,$D$26,0)","v":0},{"$f":"IF(EQJ2>=Inputs!$E$38,$D$26,0)","v":0},{"$f":"IF(EQK2>=Inputs!$E$38,$D$26,0)","v":0},{"$f":"IF(EQL2>=Inputs!$E$38,$D$26,0)","v":0},{"$f":"IF(EQM2>=Inputs!$E$38,$D$26,0)","v":0},{"$f":"IF(EQN2>=Inputs!$E$38,$D$26,0)","v":0},{"$f":"IF(EQO2>=Inputs!$E$38,$D$26,0)","v":0},{"$f":"IF(EQP2>=Inputs!$E$38,$D$26,0)","v":0},{"$f":"IF(EQQ2>=Inputs!$E$38,$D$26,0)","v":0},{"$f":"IF(EQR2>=Inputs!$E$38,$D$26,0)","v":0},{"$f":"IF(EQS2>=Inputs!$E$38,$D$26,0)","v":0},{"$f":"IF(EQT2>=Inputs!$E$38,$D$26,0)","v":0},{"$f":"IF(EQU2>=Inputs!$E$38,$D$26,0)","v":0},{"$f":"IF(EQV2>=Inputs!$E$38,$D$26,0)","v":0},{"$f":"IF(EQW2>=Inputs!$E$38,$D$26,0)","v":0},{"$f":"IF(EQX2>=Inputs!$E$38,$D$26,0)","v":0},{"$f":"IF(EQY2>=Inputs!$E$38,$D$26,0)","v":0},{"$f":"IF(EQZ2>=Inputs!$E$38,$D$26,0)","v":0},{"$f":"IF(ERA2>=Inputs!$E$38,$D$26,0)","v":0},{"$f":"IF(ERB2>=Inputs!$E$38,$D$26,0)","v":0},{"$f":"IF(ERC2>=Inputs!$E$38,$D$26,0)","v":0},{"$f":"IF(ERD2>=Inputs!$E$38,$D$26,0)","v":0},{"$f":"IF(ERE2>=Inputs!$E$38,$D$26,0)","v":0},{"$f":"IF(ERF2>=Inputs!$E$38,$D$26,0)","v":0},{"$f":"IF(ERG2>=Inputs!$E$38,$D$26,0)","v":0},{"$f":"IF(ERH2>=Inputs!$E$38,$D$26,0)","v":0},{"$f":"IF(ERI2>=Inputs!$E$38,$D$26,0)","v":0},{"$f":"IF(ERJ2>=Inputs!$E$38,$D$26,0)","v":0},{"$f":"IF(ERK2>=Inputs!$E$38,$D$26,0)","v":0},{"$f":"IF(ERL2>=Inputs!$E$38,$D$26,0)","v":0},{"$f":"IF(ERM2>=Inputs!$E$38,$D$26,0)","v":0},{"$f":"IF(ERN2>=Inputs!$E$38,$D$26,0)","v":0},{"$f":"IF(ERO2>=Inputs!$E$38,$D$26,0)","v":0},{"$f":"IF(ERP2>=Inputs!$E$38,$D$26,0)","v":0},{"$f":"IF(ERQ2>=Inputs!$E$38,$D$26,0)","v":0},{"$f":"IF(ERR2>=Inputs!$E$38,$D$26,0)","v":0},{"$f":"IF(ERS2>=Inputs!$E$38,$D$26,0)","v":0},{"$f":"IF(ERT2>=Inputs!$E$38,$D$26,0)","v":0},{"$f":"IF(ERU2>=Inputs!$E$38,$D$26,0)","v":0},{"$f":"IF(ERV2>=Inputs!$E$38,$D$26,0)","v":0},{"$f":"IF(ERW2>=Inputs!$E$38,$D$26,0)","v":0},{"$f":"IF(ERX2>=Inputs!$E$38,$D$26,0)","v":0},{"$f":"IF(ERY2>=Inputs!$E$38,$D$26,0)","v":0},{"$f":"IF(ERZ2>=Inputs!$E$38,$D$26,0)","v":0},{"$f":"IF(ESA2>=Inputs!$E$38,$D$26,0)","v":0},{"$f":"IF(ESB2>=Inputs!$E$38,$D$26,0)","v":0},{"$f":"IF(ESC2>=Inputs!$E$38,$D$26,0)","v":0},{"$f":"IF(ESD2>=Inputs!$E$38,$D$26,0)","v":0},{"$f":"IF(ESE2>=Inputs!$E$38,$D$26,0)","v":0},{"$f":"IF(ESF2>=Inputs!$E$38,$D$26,0)","v":0},{"$f":"IF(ESG2>=Inputs!$E$38,$D$26,0)","v":0},{"$f":"IF(ESH2>=Inputs!$E$38,$D$26,0)","v":0},{"$f":"IF(ESI2>=Inputs!$E$38,$D$26,0)","v":0},{"$f":"IF(ESJ2>=Inputs!$E$38,$D$26,0)","v":0},{"$f":"IF(ESK2>=Inputs!$E$38,$D$26,0)","v":0},{"$f":"IF(ESL2>=Inputs!$E$38,$D$26,0)","v":0},{"$f":"IF(ESM2>=Inputs!$E$38,$D$26,0)","v":0},{"$f":"IF(ESN2>=Inputs!$E$38,$D$26,0)","v":0},{"$f":"IF(ESO2>=Inputs!$E$38,$D$26,0)","v":0},{"$f":"IF(ESP2>=Inputs!$E$38,$D$26,0)","v":0},{"$f":"IF(ESQ2>=Inputs!$E$38,$D$26,0)","v":0},{"$f":"IF(ESR2>=Inputs!$E$38,$D$26,0)","v":0},{"$f":"IF(ESS2>=Inputs!$E$38,$D$26,0)","v":0},{"$f":"IF(EST2>=Inputs!$E$38,$D$26,0)","v":0},{"$f":"IF(ESU2>=Inputs!$E$38,$D$26,0)","v":0},{"$f":"IF(ESV2>=Inputs!$E$38,$D$26,0)","v":0},{"$f":"IF(ESW2>=Inputs!$E$38,$D$26,0)","v":0},{"$f":"IF(ESX2>=Inputs!$E$38,$D$26,0)","v":0},{"$f":"IF(ESY2>=Inputs!$E$38,$D$26,0)","v":0},{"$f":"IF(ESZ2>=Inputs!$E$38,$D$26,0)","v":0},{"$f":"IF(ETA2>=Inputs!$E$38,$D$26,0)","v":0},{"$f":"IF(ETB2>=Inputs!$E$38,$D$26,0)","v":0},{"$f":"IF(ETC2>=Inputs!$E$38,$D$26,0)","v":0},{"$f":"IF(ETD2>=Inputs!$E$38,$D$26,0)","v":0},{"$f":"IF(ETE2>=Inputs!$E$38,$D$26,0)","v":0},{"$f":"IF(ETF2>=Inputs!$E$38,$D$26,0)","v":0},{"$f":"IF(ETG2>=Inputs!$E$38,$D$26,0)","v":0},{"$f":"IF(ETH2>=Inputs!$E$38,$D$26,0)","v":0},{"$f":"IF(ETI2>=Inputs!$E$38,$D$26,0)","v":0},{"$f":"IF(ETJ2>=Inputs!$E$38,$D$26,0)","v":0},{"$f":"IF(ETK2>=Inputs!$E$38,$D$26,0)","v":0},{"$f":"IF(ETL2>=Inputs!$E$38,$D$26,0)","v":0},{"$f":"IF(ETM2>=Inputs!$E$38,$D$26,0)","v":0},{"$f":"IF(ETN2>=Inputs!$E$38,$D$26,0)","v":0},{"$f":"IF(ETO2>=Inputs!$E$38,$D$26,0)","v":0},{"$f":"IF(ETP2>=Inputs!$E$38,$D$26,0)","v":0},{"$f":"IF(ETQ2>=Inputs!$E$38,$D$26,0)","v":0},{"$f":"IF(ETR2>=Inputs!$E$38,$D$26,0)","v":0},{"$f":"IF(ETS2>=Inputs!$E$38,$D$26,0)","v":0},{"$f":"IF(ETT2>=Inputs!$E$38,$D$26,0)","v":0},{"$f":"IF(ETU2>=Inputs!$E$38,$D$26,0)","v":0},{"$f":"IF(ETV2>=Inputs!$E$38,$D$26,0)","v":0},{"$f":"IF(ETW2>=Inputs!$E$38,$D$26,0)","v":0},{"$f":"IF(ETX2>=Inputs!$E$38,$D$26,0)","v":0},{"$f":"IF(ETY2>=Inputs!$E$38,$D$26,0)","v":0},{"$f":"IF(ETZ2>=Inputs!$E$38,$D$26,0)","v":0},{"$f":"IF(EUA2>=Inputs!$E$38,$D$26,0)","v":0},{"$f":"IF(EUB2>=Inputs!$E$38,$D$26,0)","v":0},{"$f":"IF(EUC2>=Inputs!$E$38,$D$26,0)","v":0},{"$f":"IF(EUD2>=Inputs!$E$38,$D$26,0)","v":0},{"$f":"IF(EUE2>=Inputs!$E$38,$D$26,0)","v":0},{"$f":"IF(EUF2>=Inputs!$E$38,$D$26,0)","v":0},{"$f":"IF(EUG2>=Inputs!$E$38,$D$26,0)","v":0},{"$f":"IF(EUH2>=Inputs!$E$38,$D$26,0)","v":0},{"$f":"IF(EUI2>=Inputs!$E$38,$D$26,0)","v":0},{"$f":"IF(EUJ2>=Inputs!$E$38,$D$26,0)","v":0},{"$f":"IF(EUK2>=Inputs!$E$38,$D$26,0)","v":0},{"$f":"IF(EUL2>=Inputs!$E$38,$D$26,0)","v":0},{"$f":"IF(EUM2>=Inputs!$E$38,$D$26,0)","v":0},{"$f":"IF(EUN2>=Inputs!$E$38,$D$26,0)","v":0},{"$f":"IF(EUO2>=Inputs!$E$38,$D$26,0)","v":0},{"$f":"IF(EUP2>=Inputs!$E$38,$D$26,0)","v":0},{"$f":"IF(EUQ2>=Inputs!$E$38,$D$26,0)","v":0},{"$f":"IF(EUR2>=Inputs!$E$38,$D$26,0)","v":0},{"$f":"IF(EUS2>=Inputs!$E$38,$D$26,0)","v":0},{"$f":"IF(EUT2>=Inputs!$E$38,$D$26,0)","v":0},{"$f":"IF(EUU2>=Inputs!$E$38,$D$26,0)","v":0},{"$f":"IF(EUV2>=Inputs!$E$38,$D$26,0)","v":0},{"$f":"IF(EUW2>=Inputs!$E$38,$D$26,0)","v":0},{"$f":"IF(EUX2>=Inputs!$E$38,$D$26,0)","v":0},{"$f":"IF(EUY2>=Inputs!$E$38,$D$26,0)","v":0},{"$f":"IF(EUZ2>=Inputs!$E$38,$D$26,0)","v":0},{"$f":"IF(EVA2>=Inputs!$E$38,$D$26,0)","v":0},{"$f":"IF(EVB2>=Inputs!$E$38,$D$26,0)","v":0},{"$f":"IF(EVC2>=Inputs!$E$38,$D$26,0)","v":0},{"$f":"IF(EVD2>=Inputs!$E$38,$D$26,0)","v":0},{"$f":"IF(EVE2>=Inputs!$E$38,$D$26,0)","v":0},{"$f":"IF(EVF2>=Inputs!$E$38,$D$26,0)","v":0},{"$f":"IF(EVG2>=Inputs!$E$38,$D$26,0)","v":0},{"$f":"IF(EVH2>=Inputs!$E$38,$D$26,0)","v":0},{"$f":"IF(EVI2>=Inputs!$E$38,$D$26,0)","v":0},{"$f":"IF(EVJ2>=Inputs!$E$38,$D$26,0)","v":0},{"$f":"IF(EVK2>=Inputs!$E$38,$D$26,0)","v":0},{"$f":"IF(EVL2>=Inputs!$E$38,$D$26,0)","v":0},{"$f":"IF(EVM2>=Inputs!$E$38,$D$26,0)","v":0},{"$f":"IF(EVN2>=Inputs!$E$38,$D$26,0)","v":0},{"$f":"IF(EVO2>=Inputs!$E$38,$D$26,0)","v":0},{"$f":"IF(EVP2>=Inputs!$E$38,$D$26,0)","v":0},{"$f":"IF(EVQ2>=Inputs!$E$38,$D$26,0)","v":0},{"$f":"IF(EVR2>=Inputs!$E$38,$D$26,0)","v":0},{"$f":"IF(EVS2>=Inputs!$E$38,$D$26,0)","v":0},{"$f":"IF(EVT2>=Inputs!$E$38,$D$26,0)","v":0},{"$f":"IF(EVU2>=Inputs!$E$38,$D$26,0)","v":0},{"$f":"IF(EVV2>=Inputs!$E$38,$D$26,0)","v":0},{"$f":"IF(EVW2>=Inputs!$E$38,$D$26,0)","v":0},{"$f":"IF(EVX2>=Inputs!$E$38,$D$26,0)","v":0},{"$f":"IF(EVY2>=Inputs!$E$38,$D$26,0)","v":0},{"$f":"IF(EVZ2>=Inputs!$E$38,$D$26,0)","v":0},{"$f":"IF(EWA2>=Inputs!$E$38,$D$26,0)","v":0},{"$f":"IF(EWB2>=Inputs!$E$38,$D$26,0)","v":0},{"$f":"IF(EWC2>=Inputs!$E$38,$D$26,0)","v":0},{"$f":"IF(EWD2>=Inputs!$E$38,$D$26,0)","v":0},{"$f":"IF(EWE2>=Inputs!$E$38,$D$26,0)","v":0},{"$f":"IF(EWF2>=Inputs!$E$38,$D$26,0)","v":0},{"$f":"IF(EWG2>=Inputs!$E$38,$D$26,0)","v":0},{"$f":"IF(EWH2>=Inputs!$E$38,$D$26,0)","v":0},{"$f":"IF(EWI2>=Inputs!$E$38,$D$26,0)","v":0},{"$f":"IF(EWJ2>=Inputs!$E$38,$D$26,0)","v":0},{"$f":"IF(EWK2>=Inputs!$E$38,$D$26,0)","v":0},{"$f":"IF(EWL2>=Inputs!$E$38,$D$26,0)","v":0},{"$f":"IF(EWM2>=Inputs!$E$38,$D$26,0)","v":0},{"$f":"IF(EWN2>=Inputs!$E$38,$D$26,0)","v":0},{"$f":"IF(EWO2>=Inputs!$E$38,$D$26,0)","v":0},{"$f":"IF(EWP2>=Inputs!$E$38,$D$26,0)","v":0},{"$f":"IF(EWQ2>=Inputs!$E$38,$D$26,0)","v":0},{"$f":"IF(EWR2>=Inputs!$E$38,$D$26,0)","v":0},{"$f":"IF(EWS2>=Inputs!$E$38,$D$26,0)","v":0},{"$f":"IF(EWT2>=Inputs!$E$38,$D$26,0)","v":0},{"$f":"IF(EWU2>=Inputs!$E$38,$D$26,0)","v":0},{"$f":"IF(EWV2>=Inputs!$E$38,$D$26,0)","v":0},{"$f":"IF(EWW2>=Inputs!$E$38,$D$26,0)","v":0},{"$f":"IF(EWX2>=Inputs!$E$38,$D$26,0)","v":0},{"$f":"IF(EWY2>=Inputs!$E$38,$D$26,0)","v":0},{"$f":"IF(EWZ2>=Inputs!$E$38,$D$26,0)","v":0},{"$f":"IF(EXA2>=Inputs!$E$38,$D$26,0)","v":0},{"$f":"IF(EXB2>=Inputs!$E$38,$D$26,0)","v":0},{"$f":"IF(EXC2>=Inputs!$E$38,$D$26,0)","v":0},{"$f":"IF(EXD2>=Inputs!$E$38,$D$26,0)","v":0},{"$f":"IF(EXE2>=Inputs!$E$38,$D$26,0)","v":0},{"$f":"IF(EXF2>=Inputs!$E$38,$D$26,0)","v":0},{"$f":"IF(EXG2>=Inputs!$E$38,$D$26,0)","v":0},{"$f":"IF(EXH2>=Inputs!$E$38,$D$26,0)","v":0},{"$f":"IF(EXI2>=Inputs!$E$38,$D$26,0)","v":0},{"$f":"IF(EXJ2>=Inputs!$E$38,$D$26,0)","v":0},{"$f":"IF(EXK2>=Inputs!$E$38,$D$26,0)","v":0},{"$f":"IF(EXL2>=Inputs!$E$38,$D$26,0)","v":0},{"$f":"IF(EXM2>=Inputs!$E$38,$D$26,0)","v":0},{"$f":"IF(EXN2>=Inputs!$E$38,$D$26,0)","v":0},{"$f":"IF(EXO2>=Inputs!$E$38,$D$26,0)","v":0},{"$f":"IF(EXP2>=Inputs!$E$38,$D$26,0)","v":0},{"$f":"IF(EXQ2>=Inputs!$E$38,$D$26,0)","v":0},{"$f":"IF(EXR2>=Inputs!$E$38,$D$26,0)","v":0},{"$f":"IF(EXS2>=Inputs!$E$38,$D$26,0)","v":0},{"$f":"IF(EXT2>=Inputs!$E$38,$D$26,0)","v":0},{"$f":"IF(EXU2>=Inputs!$E$38,$D$26,0)","v":0},{"$f":"IF(EXV2>=Inputs!$E$38,$D$26,0)","v":0},{"$f":"IF(EXW2>=Inputs!$E$38,$D$26,0)","v":0},{"$f":"IF(EXX2>=Inputs!$E$38,$D$26,0)","v":0},{"$f":"IF(EXY2>=Inputs!$E$38,$D$26,0)","v":0},{"$f":"IF(EXZ2>=Inputs!$E$38,$D$26,0)","v":0},{"$f":"IF(EYA2>=Inputs!$E$38,$D$26,0)","v":0},{"$f":"IF(EYB2>=Inputs!$E$38,$D$26,0)","v":0},{"$f":"IF(EYC2>=Inputs!$E$38,$D$26,0)","v":0},{"$f":"IF(EYD2>=Inputs!$E$38,$D$26,0)","v":0},{"$f":"IF(EYE2>=Inputs!$E$38,$D$26,0)","v":0},{"$f":"IF(EYF2>=Inputs!$E$38,$D$26,0)","v":0},{"$f":"IF(EYG2>=Inputs!$E$38,$D$26,0)","v":0},{"$f":"IF(EYH2>=Inputs!$E$38,$D$26,0)","v":0},{"$f":"IF(EYI2>=Inputs!$E$38,$D$26,0)","v":0},{"$f":"IF(EYJ2>=Inputs!$E$38,$D$26,0)","v":0},{"$f":"IF(EYK2>=Inputs!$E$38,$D$26,0)","v":0},{"$f":"IF(EYL2>=Inputs!$E$38,$D$26,0)","v":0},{"$f":"IF(EYM2>=Inputs!$E$38,$D$26,0)","v":0},{"$f":"IF(EYN2>=Inputs!$E$38,$D$26,0)","v":0},{"$f":"IF(EYO2>=Inputs!$E$38,$D$26,0)","v":0},{"$f":"IF(EYP2>=Inputs!$E$38,$D$26,0)","v":0},{"$f":"IF(EYQ2>=Inputs!$E$38,$D$26,0)","v":0},{"$f":"IF(EYR2>=Inputs!$E$38,$D$26,0)","v":0},{"$f":"IF(EYS2>=Inputs!$E$38,$D$26,0)","v":0},{"$f":"IF(EYT2>=Inputs!$E$38,$D$26,0)","v":0},{"$f":"IF(EYU2>=Inputs!$E$38,$D$26,0)","v":0},{"$f":"IF(EYV2>=Inputs!$E$38,$D$26,0)","v":0},{"$f":"IF(EYW2>=Inputs!$E$38,$D$26,0)","v":0},{"$f":"IF(EYX2>=Inputs!$E$38,$D$26,0)","v":0},{"$f":"IF(EYY2>=Inputs!$E$38,$D$26,0)","v":0},{"$f":"IF(EYZ2>=Inputs!$E$38,$D$26,0)","v":0},{"$f":"IF(EZA2>=Inputs!$E$38,$D$26,0)","v":0},{"$f":"IF(EZB2>=Inputs!$E$38,$D$26,0)","v":0},{"$f":"IF(EZC2>=Inputs!$E$38,$D$26,0)","v":0},{"$f":"IF(EZD2>=Inputs!$E$38,$D$26,0)","v":0},{"$f":"IF(EZE2>=Inputs!$E$38,$D$26,0)","v":0},{"$f":"IF(EZF2>=Inputs!$E$38,$D$26,0)","v":0},{"$f":"IF(EZG2>=Inputs!$E$38,$D$26,0)","v":0},{"$f":"IF(EZH2>=Inputs!$E$38,$D$26,0)","v":0},{"$f":"IF(EZI2>=Inputs!$E$38,$D$26,0)","v":0},{"$f":"IF(EZJ2>=Inputs!$E$38,$D$26,0)","v":0},{"$f":"IF(EZK2>=Inputs!$E$38,$D$26,0)","v":0},{"$f":"IF(EZL2>=Inputs!$E$38,$D$26,0)","v":0},{"$f":"IF(EZM2>=Inputs!$E$38,$D$26,0)","v":0},{"$f":"IF(EZN2>=Inputs!$E$38,$D$26,0)","v":0},{"$f":"IF(EZO2>=Inputs!$E$38,$D$26,0)","v":0},{"$f":"IF(EZP2>=Inputs!$E$38,$D$26,0)","v":0},{"$f":"IF(EZQ2>=Inputs!$E$38,$D$26,0)","v":0},{"$f":"IF(EZR2>=Inputs!$E$38,$D$26,0)","v":0},{"$f":"IF(EZS2>=Inputs!$E$38,$D$26,0)","v":0},{"$f":"IF(EZT2>=Inputs!$E$38,$D$26,0)","v":0},{"$f":"IF(EZU2>=Inputs!$E$38,$D$26,0)","v":0},{"$f":"IF(EZV2>=Inputs!$E$38,$D$26,0)","v":0},{"$f":"IF(EZW2>=Inputs!$E$38,$D$26,0)","v":0},{"$f":"IF(EZX2>=Inputs!$E$38,$D$26,0)","v":0},{"$f":"IF(EZY2>=Inputs!$E$38,$D$26,0)","v":0},{"$f":"IF(EZZ2>=Inputs!$E$38,$D$26,0)","v":0},{"$f":"IF(FAA2>=Inputs!$E$38,$D$26,0)","v":0},{"$f":"IF(FAB2>=Inputs!$E$38,$D$26,0)","v":0},{"$f":"IF(FAC2>=Inputs!$E$38,$D$26,0)","v":0},{"$f":"IF(FAD2>=Inputs!$E$38,$D$26,0)","v":0},{"$f":"IF(FAE2>=Inputs!$E$38,$D$26,0)","v":0},{"$f":"IF(FAF2>=Inputs!$E$38,$D$26,0)","v":0},{"$f":"IF(FAG2>=Inputs!$E$38,$D$26,0)","v":0},{"$f":"IF(FAH2>=Inputs!$E$38,$D$26,0)","v":0},{"$f":"IF(FAI2>=Inputs!$E$38,$D$26,0)","v":0},{"$f":"IF(FAJ2>=Inputs!$E$38,$D$26,0)","v":0},{"$f":"IF(FAK2>=Inputs!$E$38,$D$26,0)","v":0},{"$f":"IF(FAL2>=Inputs!$E$38,$D$26,0)","v":0},{"$f":"IF(FAM2>=Inputs!$E$38,$D$26,0)","v":0},{"$f":"IF(FAN2>=Inputs!$E$38,$D$26,0)","v":0},{"$f":"IF(FAO2>=Inputs!$E$38,$D$26,0)","v":0},{"$f":"IF(FAP2>=Inputs!$E$38,$D$26,0)","v":0},{"$f":"IF(FAQ2>=Inputs!$E$38,$D$26,0)","v":0},{"$f":"IF(FAR2>=Inputs!$E$38,$D$26,0)","v":0},{"$f":"IF(FAS2>=Inputs!$E$38,$D$26,0)","v":0},{"$f":"IF(FAT2>=Inputs!$E$38,$D$26,0)","v":0},{"$f":"IF(FAU2>=Inputs!$E$38,$D$26,0)","v":0},{"$f":"IF(FAV2>=Inputs!$E$38,$D$26,0)","v":0},{"$f":"IF(FAW2>=Inputs!$E$38,$D$26,0)","v":0},{"$f":"IF(FAX2>=Inputs!$E$38,$D$26,0)","v":0},{"$f":"IF(FAY2>=Inputs!$E$38,$D$26,0)","v":0},{"$f":"IF(FAZ2>=Inputs!$E$38,$D$26,0)","v":0},{"$f":"IF(FBA2>=Inputs!$E$38,$D$26,0)","v":0},{"$f":"IF(FBB2>=Inputs!$E$38,$D$26,0)","v":0},{"$f":"IF(FBC2>=Inputs!$E$38,$D$26,0)","v":0},{"$f":"IF(FBD2>=Inputs!$E$38,$D$26,0)","v":0},{"$f":"IF(FBE2>=Inputs!$E$38,$D$26,0)","v":0},{"$f":"IF(FBF2>=Inputs!$E$38,$D$26,0)","v":0},{"$f":"IF(FBG2>=Inputs!$E$38,$D$26,0)","v":0},{"$f":"IF(FBH2>=Inputs!$E$38,$D$26,0)","v":0},{"$f":"IF(FBI2>=Inputs!$E$38,$D$26,0)","v":0},{"$f":"IF(FBJ2>=Inputs!$E$38,$D$26,0)","v":0},{"$f":"IF(FBK2>=Inputs!$E$38,$D$26,0)","v":0},{"$f":"IF(FBL2>=Inputs!$E$38,$D$26,0)","v":0},{"$f":"IF(FBM2>=Inputs!$E$38,$D$26,0)","v":0},{"$f":"IF(FBN2>=Inputs!$E$38,$D$26,0)","v":0},{"$f":"IF(FBO2>=Inputs!$E$38,$D$26,0)","v":0},{"$f":"IF(FBP2>=Inputs!$E$38,$D$26,0)","v":0},{"$f":"IF(FBQ2>=Inputs!$E$38,$D$26,0)","v":0},{"$f":"IF(FBR2>=Inputs!$E$38,$D$26,0)","v":0},{"$f":"IF(FBS2>=Inputs!$E$38,$D$26,0)","v":0},{"$f":"IF(FBT2>=Inputs!$E$38,$D$26,0)","v":0},{"$f":"IF(FBU2>=Inputs!$E$38,$D$26,0)","v":0},{"$f":"IF(FBV2>=Inputs!$E$38,$D$26,0)","v":0},{"$f":"IF(FBW2>=Inputs!$E$38,$D$26,0)","v":0},{"$f":"IF(FBX2>=Inputs!$E$38,$D$26,0)","v":0},{"$f":"IF(FBY2>=Inputs!$E$38,$D$26,0)","v":0},{"$f":"IF(FBZ2>=Inputs!$E$38,$D$26,0)","v":0},{"$f":"IF(FCA2>=Inputs!$E$38,$D$26,0)","v":0},{"$f":"IF(FCB2>=Inputs!$E$38,$D$26,0)","v":0},{"$f":"IF(FCC2>=Inputs!$E$38,$D$26,0)","v":0},{"$f":"IF(FCD2>=Inputs!$E$38,$D$26,0)","v":0},{"$f":"IF(FCE2>=Inputs!$E$38,$D$26,0)","v":0},{"$f":"IF(FCF2>=Inputs!$E$38,$D$26,0)","v":0},{"$f":"IF(FCG2>=Inputs!$E$38,$D$26,0)","v":0},{"$f":"IF(FCH2>=Inputs!$E$38,$D$26,0)","v":0},{"$f":"IF(FCI2>=Inputs!$E$38,$D$26,0)","v":0},{"$f":"IF(FCJ2>=Inputs!$E$38,$D$26,0)","v":0},{"$f":"IF(FCK2>=Inputs!$E$38,$D$26,0)","v":0},{"$f":"IF(FCL2>=Inputs!$E$38,$D$26,0)","v":0},{"$f":"IF(FCM2>=Inputs!$E$38,$D$26,0)","v":0},{"$f":"IF(FCN2>=Inputs!$E$38,$D$26,0)","v":0},{"$f":"IF(FCO2>=Inputs!$E$38,$D$26,0)","v":0},{"$f":"IF(FCP2>=Inputs!$E$38,$D$26,0)","v":0},{"$f":"IF(FCQ2>=Inputs!$E$38,$D$26,0)","v":0},{"$f":"IF(FCR2>=Inputs!$E$38,$D$26,0)","v":0},{"$f":"IF(FCS2>=Inputs!$E$38,$D$26,0)","v":0},{"$f":"IF(FCT2>=Inputs!$E$38,$D$26,0)","v":0},{"$f":"IF(FCU2>=Inputs!$E$38,$D$26,0)","v":0},{"$f":"IF(FCV2>=Inputs!$E$38,$D$26,0)","v":0},{"$f":"IF(FCW2>=Inputs!$E$38,$D$26,0)","v":0},{"$f":"IF(FCX2>=Inputs!$E$38,$D$26,0)","v":0},{"$f":"IF(FCY2>=Inputs!$E$38,$D$26,0)","v":0},{"$f":"IF(FCZ2>=Inputs!$E$38,$D$26,0)","v":0},{"$f":"IF(FDA2>=Inputs!$E$38,$D$26,0)","v":0},{"$f":"IF(FDB2>=Inputs!$E$38,$D$26,0)","v":0},{"$f":"IF(FDC2>=Inputs!$E$38,$D$26,0)","v":0},{"$f":"IF(FDD2>=Inputs!$E$38,$D$26,0)","v":0},{"$f":"IF(FDE2>=Inputs!$E$38,$D$26,0)","v":0},{"$f":"IF(FDF2>=Inputs!$E$38,$D$26,0)","v":0},{"$f":"IF(FDG2>=Inputs!$E$38,$D$26,0)","v":0},{"$f":"IF(FDH2>=Inputs!$E$38,$D$26,0)","v":0},{"$f":"IF(FDI2>=Inputs!$E$38,$D$26,0)","v":0},{"$f":"IF(FDJ2>=Inputs!$E$38,$D$26,0)","v":0},{"$f":"IF(FDK2>=Inputs!$E$38,$D$26,0)","v":0},{"$f":"IF(FDL2>=Inputs!$E$38,$D$26,0)","v":0},{"$f":"IF(FDM2>=Inputs!$E$38,$D$26,0)","v":0},{"$f":"IF(FDN2>=Inputs!$E$38,$D$26,0)","v":0},{"$f":"IF(FDO2>=Inputs!$E$38,$D$26,0)","v":0},{"$f":"IF(FDP2>=Inputs!$E$38,$D$26,0)","v":0},{"$f":"IF(FDQ2>=Inputs!$E$38,$D$26,0)","v":0},{"$f":"IF(FDR2>=Inputs!$E$38,$D$26,0)","v":0},{"$f":"IF(FDS2>=Inputs!$E$38,$D$26,0)","v":0},{"$f":"IF(FDT2>=Inputs!$E$38,$D$26,0)","v":0},{"$f":"IF(FDU2>=Inputs!$E$38,$D$26,0)","v":0},{"$f":"IF(FDV2>=Inputs!$E$38,$D$26,0)","v":0},{"$f":"IF(FDW2>=Inputs!$E$38,$D$26,0)","v":0},{"$f":"IF(FDX2>=Inputs!$E$38,$D$26,0)","v":0},{"$f":"IF(FDY2>=Inputs!$E$38,$D$26,0)","v":0},{"$f":"IF(FDZ2>=Inputs!$E$38,$D$26,0)","v":0},{"$f":"IF(FEA2>=Inputs!$E$38,$D$26,0)","v":0},{"$f":"IF(FEB2>=Inputs!$E$38,$D$26,0)","v":0},{"$f":"IF(FEC2>=Inputs!$E$38,$D$26,0)","v":0},{"$f":"IF(FED2>=Inputs!$E$38,$D$26,0)","v":0},{"$f":"IF(FEE2>=Inputs!$E$38,$D$26,0)","v":0},{"$f":"IF(FEF2>=Inputs!$E$38,$D$26,0)","v":0},{"$f":"IF(FEG2>=Inputs!$E$38,$D$26,0)","v":0},{"$f":"IF(FEH2>=Inputs!$E$38,$D$26,0)","v":0},{"$f":"IF(FEI2>=Inputs!$E$38,$D$26,0)","v":0},{"$f":"IF(FEJ2>=Inputs!$E$38,$D$26,0)","v":0},{"$f":"IF(FEK2>=Inputs!$E$38,$D$26,0)","v":0},{"$f":"IF(FEL2>=Inputs!$E$38,$D$26,0)","v":0},{"$f":"IF(FEM2>=Inputs!$E$38,$D$26,0)","v":0},{"$f":"IF(FEN2>=Inputs!$E$38,$D$26,0)","v":0},{"$f":"IF(FEO2>=Inputs!$E$38,$D$26,0)","v":0},{"$f":"IF(FEP2>=Inputs!$E$38,$D$26,0)","v":0},{"$f":"IF(FEQ2>=Inputs!$E$38,$D$26,0)","v":0},{"$f":"IF(FER2>=Inputs!$E$38,$D$26,0)","v":0},{"$f":"IF(FES2>=Inputs!$E$38,$D$26,0)","v":0},{"$f":"IF(FET2>=Inputs!$E$38,$D$26,0)","v":0},{"$f":"IF(FEU2>=Inputs!$E$38,$D$26,0)","v":0},{"$f":"IF(FEV2>=Inputs!$E$38,$D$26,0)","v":0},{"$f":"IF(FEW2>=Inputs!$E$38,$D$26,0)","v":0},{"$f":"IF(FEX2>=Inputs!$E$38,$D$26,0)","v":0},{"$f":"IF(FEY2>=Inputs!$E$38,$D$26,0)","v":0},{"$f":"IF(FEZ2>=Inputs!$E$38,$D$26,0)","v":0},{"$f":"IF(FFA2>=Inputs!$E$38,$D$26,0)","v":0},{"$f":"IF(FFB2>=Inputs!$E$38,$D$26,0)","v":0},{"$f":"IF(FFC2>=Inputs!$E$38,$D$26,0)","v":0},{"$f":"IF(FFD2>=Inputs!$E$38,$D$26,0)","v":0},{"$f":"IF(FFE2>=Inputs!$E$38,$D$26,0)","v":0},{"$f":"IF(FFF2>=Inputs!$E$38,$D$26,0)","v":0},{"$f":"IF(FFG2>=Inputs!$E$38,$D$26,0)","v":0},{"$f":"IF(FFH2>=Inputs!$E$38,$D$26,0)","v":0},{"$f":"IF(FFI2>=Inputs!$E$38,$D$26,0)","v":0},{"$f":"IF(FFJ2>=Inputs!$E$38,$D$26,0)","v":0},{"$f":"IF(FFK2>=Inputs!$E$38,$D$26,0)","v":0},{"$f":"IF(FFL2>=Inputs!$E$38,$D$26,0)","v":0},{"$f":"IF(FFM2>=Inputs!$E$38,$D$26,0)","v":0},{"$f":"IF(FFN2>=Inputs!$E$38,$D$26,0)","v":0},{"$f":"IF(FFO2>=Inputs!$E$38,$D$26,0)","v":0},{"$f":"IF(FFP2>=Inputs!$E$38,$D$26,0)","v":0},{"$f":"IF(FFQ2>=Inputs!$E$38,$D$26,0)","v":0},{"$f":"IF(FFR2>=Inputs!$E$38,$D$26,0)","v":0},{"$f":"IF(FFS2>=Inputs!$E$38,$D$26,0)","v":0},{"$f":"IF(FFT2>=Inputs!$E$38,$D$26,0)","v":0},{"$f":"IF(FFU2>=Inputs!$E$38,$D$26,0)","v":0},{"$f":"IF(FFV2>=Inputs!$E$38,$D$26,0)","v":0},{"$f":"IF(FFW2>=Inputs!$E$38,$D$26,0)","v":0},{"$f":"IF(FFX2>=Inputs!$E$38,$D$26,0)","v":0},{"$f":"IF(FFY2>=Inputs!$E$38,$D$26,0)","v":0},{"$f":"IF(FFZ2>=Inputs!$E$38,$D$26,0)","v":0},{"$f":"IF(FGA2>=Inputs!$E$38,$D$26,0)","v":0},{"$f":"IF(FGB2>=Inputs!$E$38,$D$26,0)","v":0},{"$f":"IF(FGC2>=Inputs!$E$38,$D$26,0)","v":0},{"$f":"IF(FGD2>=Inputs!$E$38,$D$26,0)","v":0},{"$f":"IF(FGE2>=Inputs!$E$38,$D$26,0)","v":0},{"$f":"IF(FGF2>=Inputs!$E$38,$D$26,0)","v":0},{"$f":"IF(FGG2>=Inputs!$E$38,$D$26,0)","v":0},{"$f":"IF(FGH2>=Inputs!$E$38,$D$26,0)","v":0},{"$f":"IF(FGI2>=Inputs!$E$38,$D$26,0)","v":0},{"$f":"IF(FGJ2>=Inputs!$E$38,$D$26,0)","v":0},{"$f":"IF(FGK2>=Inputs!$E$38,$D$26,0)","v":0},{"$f":"IF(FGL2>=Inputs!$E$38,$D$26,0)","v":0},{"$f":"IF(FGM2>=Inputs!$E$38,$D$26,0)","v":0},{"$f":"IF(FGN2>=Inputs!$E$38,$D$26,0)","v":0},{"$f":"IF(FGO2>=Inputs!$E$38,$D$26,0)","v":0},{"$f":"IF(FGP2>=Inputs!$E$38,$D$26,0)","v":0},{"$f":"IF(FGQ2>=Inputs!$E$38,$D$26,0)","v":0},{"$f":"IF(FGR2>=Inputs!$E$38,$D$26,0)","v":0},{"$f":"IF(FGS2>=Inputs!$E$38,$D$26,0)","v":0},{"$f":"IF(FGT2>=Inputs!$E$38,$D$26,0)","v":0},{"$f":"IF(FGU2>=Inputs!$E$38,$D$26,0)","v":0},{"$f":"IF(FGV2>=Inputs!$E$38,$D$26,0)","v":0},{"$f":"IF(FGW2>=Inputs!$E$38,$D$26,0)","v":0},{"$f":"IF(FGX2>=Inputs!$E$38,$D$26,0)","v":0},{"$f":"IF(FGY2>=Inputs!$E$38,$D$26,0)","v":0},{"$f":"IF(FGZ2>=Inputs!$E$38,$D$26,0)","v":0},{"$f":"IF(FHA2>=Inputs!$E$38,$D$26,0)","v":0},{"$f":"IF(FHB2>=Inputs!$E$38,$D$26,0)","v":0},{"$f":"IF(FHC2>=Inputs!$E$38,$D$26,0)","v":0},{"$f":"IF(FHD2>=Inputs!$E$38,$D$26,0)","v":0},{"$f":"IF(FHE2>=Inputs!$E$38,$D$26,0)","v":0},{"$f":"IF(FHF2>=Inputs!$E$38,$D$26,0)","v":0},{"$f":"IF(FHG2>=Inputs!$E$38,$D$26,0)","v":0},{"$f":"IF(FHH2>=Inputs!$E$38,$D$26,0)","v":0},{"$f":"IF(FHI2>=Inputs!$E$38,$D$26,0)","v":0},{"$f":"IF(FHJ2>=Inputs!$E$38,$D$26,0)","v":0},{"$f":"IF(FHK2>=Inputs!$E$38,$D$26,0)","v":0},{"$f":"IF(FHL2>=Inputs!$E$38,$D$26,0)","v":0},{"$f":"IF(FHM2>=Inputs!$E$38,$D$26,0)","v":0},{"$f":"IF(FHN2>=Inputs!$E$38,$D$26,0)","v":0},{"$f":"IF(FHO2>=Inputs!$E$38,$D$26,0)","v":0},{"$f":"IF(FHP2>=Inputs!$E$38,$D$26,0)","v":0},{"$f":"IF(FHQ2>=Inputs!$E$38,$D$26,0)","v":0},{"$f":"IF(FHR2>=Inputs!$E$38,$D$26,0)","v":0},{"$f":"IF(FHS2>=Inputs!$E$38,$D$26,0)","v":0},{"$f":"IF(FHT2>=Inputs!$E$38,$D$26,0)","v":0},{"$f":"IF(FHU2>=Inputs!$E$38,$D$26,0)","v":0},{"$f":"IF(FHV2>=Inputs!$E$38,$D$26,0)","v":0},{"$f":"IF(FHW2>=Inputs!$E$38,$D$26,0)","v":0},{"$f":"IF(FHX2>=Inputs!$E$38,$D$26,0)","v":0},{"$f":"IF(FHY2>=Inputs!$E$38,$D$26,0)","v":0},{"$f":"IF(FHZ2>=Inputs!$E$38,$D$26,0)","v":0},{"$f":"IF(FIA2>=Inputs!$E$38,$D$26,0)","v":0},{"$f":"IF(FIB2>=Inputs!$E$38,$D$26,0)","v":0},{"$f":"IF(FIC2>=Inputs!$E$38,$D$26,0)","v":0},{"$f":"IF(FID2>=Inputs!$E$38,$D$26,0)","v":0},{"$f":"IF(FIE2>=Inputs!$E$38,$D$26,0)","v":0},{"$f":"IF(FIF2>=Inputs!$E$38,$D$26,0)","v":0},{"$f":"IF(FIG2>=Inputs!$E$38,$D$26,0)","v":0},{"$f":"IF(FIH2>=Inputs!$E$38,$D$26,0)","v":0},{"$f":"IF(FII2>=Inputs!$E$38,$D$26,0)","v":0},{"$f":"IF(FIJ2>=Inputs!$E$38,$D$26,0)","v":0},{"$f":"IF(FIK2>=Inputs!$E$38,$D$26,0)","v":0},{"$f":"IF(FIL2>=Inputs!$E$38,$D$26,0)","v":0},{"$f":"IF(FIM2>=Inputs!$E$38,$D$26,0)","v":0},{"$f":"IF(FIN2>=Inputs!$E$38,$D$26,0)","v":0},{"$f":"IF(FIO2>=Inputs!$E$38,$D$26,0)","v":0},{"$f":"IF(FIP2>=Inputs!$E$38,$D$26,0)","v":0},{"$f":"IF(FIQ2>=Inputs!$E$38,$D$26,0)","v":0},{"$f":"IF(FIR2>=Inputs!$E$38,$D$26,0)","v":0},{"$f":"IF(FIS2>=Inputs!$E$38,$D$26,0)","v":0},{"$f":"IF(FIT2>=Inputs!$E$38,$D$26,0)","v":0},{"$f":"IF(FIU2>=Inputs!$E$38,$D$26,0)","v":0},{"$f":"IF(FIV2>=Inputs!$E$38,$D$26,0)","v":0},{"$f":"IF(FIW2>=Inputs!$E$38,$D$26,0)","v":0},{"$f":"IF(FIX2>=Inputs!$E$38,$D$26,0)","v":0},{"$f":"IF(FIY2>=Inputs!$E$38,$D$26,0)","v":0},{"$f":"IF(FIZ2>=Inputs!$E$38,$D$26,0)","v":0},{"$f":"IF(FJA2>=Inputs!$E$38,$D$26,0)","v":0},{"$f":"IF(FJB2>=Inputs!$E$38,$D$26,0)","v":0},{"$f":"IF(FJC2>=Inputs!$E$38,$D$26,0)","v":0},{"$f":"IF(FJD2>=Inputs!$E$38,$D$26,0)","v":0},{"$f":"IF(FJE2>=Inputs!$E$38,$D$26,0)","v":0},{"$f":"IF(FJF2>=Inputs!$E$38,$D$26,0)","v":0},{"$f":"IF(FJG2>=Inputs!$E$38,$D$26,0)","v":0},{"$f":"IF(FJH2>=Inputs!$E$38,$D$26,0)","v":0},{"$f":"IF(FJI2>=Inputs!$E$38,$D$26,0)","v":0},{"$f":"IF(FJJ2>=Inputs!$E$38,$D$26,0)","v":0},{"$f":"IF(FJK2>=Inputs!$E$38,$D$26,0)","v":0},{"$f":"IF(FJL2>=Inputs!$E$38,$D$26,0)","v":0},{"$f":"IF(FJM2>=Inputs!$E$38,$D$26,0)","v":0},{"$f":"IF(FJN2>=Inputs!$E$38,$D$26,0)","v":0},{"$f":"IF(FJO2>=Inputs!$E$38,$D$26,0)","v":0},{"$f":"IF(FJP2>=Inputs!$E$38,$D$26,0)","v":0},{"$f":"IF(FJQ2>=Inputs!$E$38,$D$26,0)","v":0},{"$f":"IF(FJR2>=Inputs!$E$38,$D$26,0)","v":0},{"$f":"IF(FJS2>=Inputs!$E$38,$D$26,0)","v":0},{"$f":"IF(FJT2>=Inputs!$E$38,$D$26,0)","v":0},{"$f":"IF(FJU2>=Inputs!$E$38,$D$26,0)","v":0},{"$f":"IF(FJV2>=Inputs!$E$38,$D$26,0)","v":0},{"$f":"IF(FJW2>=Inputs!$E$38,$D$26,0)","v":0},{"$f":"IF(FJX2>=Inputs!$E$38,$D$26,0)","v":0},{"$f":"IF(FJY2>=Inputs!$E$38,$D$26,0)","v":0},{"$f":"IF(FJZ2>=Inputs!$E$38,$D$26,0)","v":0},{"$f":"IF(FKA2>=Inputs!$E$38,$D$26,0)","v":0},{"$f":"IF(FKB2>=Inputs!$E$38,$D$26,0)","v":0},{"$f":"IF(FKC2>=Inputs!$E$38,$D$26,0)","v":0},{"$f":"IF(FKD2>=Inputs!$E$38,$D$26,0)","v":0},{"$f":"IF(FKE2>=Inputs!$E$38,$D$26,0)","v":0},{"$f":"IF(FKF2>=Inputs!$E$38,$D$26,0)","v":0},{"$f":"IF(FKG2>=Inputs!$E$38,$D$26,0)","v":0},{"$f":"IF(FKH2>=Inputs!$E$38,$D$26,0)","v":0},{"$f":"IF(FKI2>=Inputs!$E$38,$D$26,0)","v":0},{"$f":"IF(FKJ2>=Inputs!$E$38,$D$26,0)","v":0},{"$f":"IF(FKK2>=Inputs!$E$38,$D$26,0)","v":0},{"$f":"IF(FKL2>=Inputs!$E$38,$D$26,0)","v":0},{"$f":"IF(FKM2>=Inputs!$E$38,$D$26,0)","v":0},{"$f":"IF(FKN2>=Inputs!$E$38,$D$26,0)","v":0},{"$f":"IF(FKO2>=Inputs!$E$38,$D$26,0)","v":0},{"$f":"IF(FKP2>=Inputs!$E$38,$D$26,0)","v":0},{"$f":"IF(FKQ2>=Inputs!$E$38,$D$26,0)","v":0},{"$f":"IF(FKR2>=Inputs!$E$38,$D$26,0)","v":0},{"$f":"IF(FKS2>=Inputs!$E$38,$D$26,0)","v":0},{"$f":"IF(FKT2>=Inputs!$E$38,$D$26,0)","v":0},{"$f":"IF(FKU2>=Inputs!$E$38,$D$26,0)","v":0},{"$f":"IF(FKV2>=Inputs!$E$38,$D$26,0)","v":0},{"$f":"IF(FKW2>=Inputs!$E$38,$D$26,0)","v":0},{"$f":"IF(FKX2>=Inputs!$E$38,$D$26,0)","v":0},{"$f":"IF(FKY2>=Inputs!$E$38,$D$26,0)","v":0},{"$f":"IF(FKZ2>=Inputs!$E$38,$D$26,0)","v":0},{"$f":"IF(FLA2>=Inputs!$E$38,$D$26,0)","v":0},{"$f":"IF(FLB2>=Inputs!$E$38,$D$26,0)","v":0},{"$f":"IF(FLC2>=Inputs!$E$38,$D$26,0)","v":0},{"$f":"IF(FLD2>=Inputs!$E$38,$D$26,0)","v":0},{"$f":"IF(FLE2>=Inputs!$E$38,$D$26,0)","v":0},{"$f":"IF(FLF2>=Inputs!$E$38,$D$26,0)","v":0},{"$f":"IF(FLG2>=Inputs!$E$38,$D$26,0)","v":0},{"$f":"IF(FLH2>=Inputs!$E$38,$D$26,0)","v":0},{"$f":"IF(FLI2>=Inputs!$E$38,$D$26,0)","v":0},{"$f":"IF(FLJ2>=Inputs!$E$38,$D$26,0)","v":0},{"$f":"IF(FLK2>=Inputs!$E$38,$D$26,0)","v":0},{"$f":"IF(FLL2>=Inputs!$E$38,$D$26,0)","v":0},{"$f":"IF(FLM2>=Inputs!$E$38,$D$26,0)","v":0},{"$f":"IF(FLN2>=Inputs!$E$38,$D$26,0)","v":0},{"$f":"IF(FLO2>=Inputs!$E$38,$D$26,0)","v":0},{"$f":"IF(FLP2>=Inputs!$E$38,$D$26,0)","v":0},{"$f":"IF(FLQ2>=Inputs!$E$38,$D$26,0)","v":0},{"$f":"IF(FLR2>=Inputs!$E$38,$D$26,0)","v":0},{"$f":"IF(FLS2>=Inputs!$E$38,$D$26,0)","v":0},{"$f":"IF(FLT2>=Inputs!$E$38,$D$26,0)","v":0},{"$f":"IF(FLU2>=Inputs!$E$38,$D$26,0)","v":0},{"$f":"IF(FLV2>=Inputs!$E$38,$D$26,0)","v":0},{"$f":"IF(FLW2>=Inputs!$E$38,$D$26,0)","v":0},{"$f":"IF(FLX2>=Inputs!$E$38,$D$26,0)","v":0},{"$f":"IF(FLY2>=Inputs!$E$38,$D$26,0)","v":0},{"$f":"IF(FLZ2>=Inputs!$E$38,$D$26,0)","v":0},{"$f":"IF(FMA2>=Inputs!$E$38,$D$26,0)","v":0},{"$f":"IF(FMB2>=Inputs!$E$38,$D$26,0)","v":0},{"$f":"IF(FMC2>=Inputs!$E$38,$D$26,0)","v":0},{"$f":"IF(FMD2>=Inputs!$E$38,$D$26,0)","v":0},{"$f":"IF(FME2>=Inputs!$E$38,$D$26,0)","v":0},{"$f":"IF(FMF2>=Inputs!$E$38,$D$26,0)","v":0},{"$f":"IF(FMG2>=Inputs!$E$38,$D$26,0)","v":0},{"$f":"IF(FMH2>=Inputs!$E$38,$D$26,0)","v":0},{"$f":"IF(FMI2>=Inputs!$E$38,$D$26,0)","v":0},{"$f":"IF(FMJ2>=Inputs!$E$38,$D$26,0)","v":0},{"$f":"IF(FMK2>=Inputs!$E$38,$D$26,0)","v":0},{"$f":"IF(FML2>=Inputs!$E$38,$D$26,0)","v":0},{"$f":"IF(FMM2>=Inputs!$E$38,$D$26,0)","v":0},{"$f":"IF(FMN2>=Inputs!$E$38,$D$26,0)","v":0},{"$f":"IF(FMO2>=Inputs!$E$38,$D$26,0)","v":0},{"$f":"IF(FMP2>=Inputs!$E$38,$D$26,0)","v":0},{"$f":"IF(FMQ2>=Inputs!$E$38,$D$26,0)","v":0},{"$f":"IF(FMR2>=Inputs!$E$38,$D$26,0)","v":0},{"$f":"IF(FMS2>=Inputs!$E$38,$D$26,0)","v":0},{"$f":"IF(FMT2>=Inputs!$E$38,$D$26,0)","v":0},{"$f":"IF(FMU2>=Inputs!$E$38,$D$26,0)","v":0},{"$f":"IF(FMV2>=Inputs!$E$38,$D$26,0)","v":0},{"$f":"IF(FMW2>=Inputs!$E$38,$D$26,0)","v":0},{"$f":"IF(FMX2>=Inputs!$E$38,$D$26,0)","v":0},{"$f":"IF(FMY2>=Inputs!$E$38,$D$26,0)","v":0},{"$f":"IF(FMZ2>=Inputs!$E$38,$D$26,0)","v":0},{"$f":"IF(FNA2>=Inputs!$E$38,$D$26,0)","v":0},{"$f":"IF(FNB2>=Inputs!$E$38,$D$26,0)","v":0},{"$f":"IF(FNC2>=Inputs!$E$38,$D$26,0)","v":0},{"$f":"IF(FND2>=Inputs!$E$38,$D$26,0)","v":0},{"$f":"IF(FNE2>=Inputs!$E$38,$D$26,0)","v":0},{"$f":"IF(FNF2>=Inputs!$E$38,$D$26,0)","v":0},{"$f":"IF(FNG2>=Inputs!$E$38,$D$26,0)","v":0},{"$f":"IF(FNH2>=Inputs!$E$38,$D$26,0)","v":0},{"$f":"IF(FNI2>=Inputs!$E$38,$D$26,0)","v":0},{"$f":"IF(FNJ2>=Inputs!$E$38,$D$26,0)","v":0},{"$f":"IF(FNK2>=Inputs!$E$38,$D$26,0)","v":0},{"$f":"IF(FNL2>=Inputs!$E$38,$D$26,0)","v":0},{"$f":"IF(FNM2>=Inputs!$E$38,$D$26,0)","v":0},{"$f":"IF(FNN2>=Inputs!$E$38,$D$26,0)","v":0},{"$f":"IF(FNO2>=Inputs!$E$38,$D$26,0)","v":0},{"$f":"IF(FNP2>=Inputs!$E$38,$D$26,0)","v":0},{"$f":"IF(FNQ2>=Inputs!$E$38,$D$26,0)","v":0},{"$f":"IF(FNR2>=Inputs!$E$38,$D$26,0)","v":0},{"$f":"IF(FNS2>=Inputs!$E$38,$D$26,0)","v":0},{"$f":"IF(FNT2>=Inputs!$E$38,$D$26,0)","v":0},{"$f":"IF(FNU2>=Inputs!$E$38,$D$26,0)","v":0},{"$f":"IF(FNV2>=Inputs!$E$38,$D$26,0)","v":0},{"$f":"IF(FNW2>=Inputs!$E$38,$D$26,0)","v":0},{"$f":"IF(FNX2>=Inputs!$E$38,$D$26,0)","v":0},{"$f":"IF(FNY2>=Inputs!$E$38,$D$26,0)","v":0},{"$f":"IF(FNZ2>=Inputs!$E$38,$D$26,0)","v":0},{"$f":"IF(FOA2>=Inputs!$E$38,$D$26,0)","v":0},{"$f":"IF(FOB2>=Inputs!$E$38,$D$26,0)","v":0},{"$f":"IF(FOC2>=Inputs!$E$38,$D$26,0)","v":0},{"$f":"IF(FOD2>=Inputs!$E$38,$D$26,0)","v":0},{"$f":"IF(FOE2>=Inputs!$E$38,$D$26,0)","v":0},{"$f":"IF(FOF2>=Inputs!$E$38,$D$26,0)","v":0},{"$f":"IF(FOG2>=Inputs!$E$38,$D$26,0)","v":0},{"$f":"IF(FOH2>=Inputs!$E$38,$D$26,0)","v":0},{"$f":"IF(FOI2>=Inputs!$E$38,$D$26,0)","v":0},{"$f":"IF(FOJ2>=Inputs!$E$38,$D$26,0)","v":0},{"$f":"IF(FOK2>=Inputs!$E$38,$D$26,0)","v":0},{"$f":"IF(FOL2>=Inputs!$E$38,$D$26,0)","v":0},{"$f":"IF(FOM2>=Inputs!$E$38,$D$26,0)","v":0},{"$f":"IF(FON2>=Inputs!$E$38,$D$26,0)","v":0},{"$f":"IF(FOO2>=Inputs!$E$38,$D$26,0)","v":0},{"$f":"IF(FOP2>=Inputs!$E$38,$D$26,0)","v":0},{"$f":"IF(FOQ2>=Inputs!$E$38,$D$26,0)","v":0},{"$f":"IF(FOR2>=Inputs!$E$38,$D$26,0)","v":0},{"$f":"IF(FOS2>=Inputs!$E$38,$D$26,0)","v":0},{"$f":"IF(FOT2>=Inputs!$E$38,$D$26,0)","v":0},{"$f":"IF(FOU2>=Inputs!$E$38,$D$26,0)","v":0},{"$f":"IF(FOV2>=Inputs!$E$38,$D$26,0)","v":0},{"$f":"IF(FOW2>=Inputs!$E$38,$D$26,0)","v":0},{"$f":"IF(FOX2>=Inputs!$E$38,$D$26,0)","v":0},{"$f":"IF(FOY2>=Inputs!$E$38,$D$26,0)","v":0},{"$f":"IF(FOZ2>=Inputs!$E$38,$D$26,0)","v":0},{"$f":"IF(FPA2>=Inputs!$E$38,$D$26,0)","v":0},{"$f":"IF(FPB2>=Inputs!$E$38,$D$26,0)","v":0},{"$f":"IF(FPC2>=Inputs!$E$38,$D$26,0)","v":0},{"$f":"IF(FPD2>=Inputs!$E$38,$D$26,0)","v":0},{"$f":"IF(FPE2>=Inputs!$E$38,$D$26,0)","v":0},{"$f":"IF(FPF2>=Inputs!$E$38,$D$26,0)","v":0},{"$f":"IF(FPG2>=Inputs!$E$38,$D$26,0)","v":0},{"$f":"IF(FPH2>=Inputs!$E$38,$D$26,0)","v":0},{"$f":"IF(FPI2>=Inputs!$E$38,$D$26,0)","v":0},{"$f":"IF(FPJ2>=Inputs!$E$38,$D$26,0)","v":0},{"$f":"IF(FPK2>=Inputs!$E$38,$D$26,0)","v":0},{"$f":"IF(FPL2>=Inputs!$E$38,$D$26,0)","v":0},{"$f":"IF(FPM2>=Inputs!$E$38,$D$26,0)","v":0},{"$f":"IF(FPN2>=Inputs!$E$38,$D$26,0)","v":0},{"$f":"IF(FPO2>=Inputs!$E$38,$D$26,0)","v":0},{"$f":"IF(FPP2>=Inputs!$E$38,$D$26,0)","v":0},{"$f":"IF(FPQ2>=Inputs!$E$38,$D$26,0)","v":0},{"$f":"IF(FPR2>=Inputs!$E$38,$D$26,0)","v":0},{"$f":"IF(FPS2>=Inputs!$E$38,$D$26,0)","v":0},{"$f":"IF(FPT2>=Inputs!$E$38,$D$26,0)","v":0},{"$f":"IF(FPU2>=Inputs!$E$38,$D$26,0)","v":0},{"$f":"IF(FPV2>=Inputs!$E$38,$D$26,0)","v":0},{"$f":"IF(FPW2>=Inputs!$E$38,$D$26,0)","v":0},{"$f":"IF(FPX2>=Inputs!$E$38,$D$26,0)","v":0},{"$f":"IF(FPY2>=Inputs!$E$38,$D$26,0)","v":0},{"$f":"IF(FPZ2>=Inputs!$E$38,$D$26,0)","v":0},{"$f":"IF(FQA2>=Inputs!$E$38,$D$26,0)","v":0},{"$f":"IF(FQB2>=Inputs!$E$38,$D$26,0)","v":0},{"$f":"IF(FQC2>=Inputs!$E$38,$D$26,0)","v":0},{"$f":"IF(FQD2>=Inputs!$E$38,$D$26,0)","v":0},{"$f":"IF(FQE2>=Inputs!$E$38,$D$26,0)","v":0},{"$f":"IF(FQF2>=Inputs!$E$38,$D$26,0)","v":0},{"$f":"IF(FQG2>=Inputs!$E$38,$D$26,0)","v":0},{"$f":"IF(FQH2>=Inputs!$E$38,$D$26,0)","v":0},{"$f":"IF(FQI2>=Inputs!$E$38,$D$26,0)","v":0},{"$f":"IF(FQJ2>=Inputs!$E$38,$D$26,0)","v":0},{"$f":"IF(FQK2>=Inputs!$E$38,$D$26,0)","v":0},{"$f":"IF(FQL2>=Inputs!$E$38,$D$26,0)","v":0},{"$f":"IF(FQM2>=Inputs!$E$38,$D$26,0)","v":0},{"$f":"IF(FQN2>=Inputs!$E$38,$D$26,0)","v":0},{"$f":"IF(FQO2>=Inputs!$E$38,$D$26,0)","v":0},{"$f":"IF(FQP2>=Inputs!$E$38,$D$26,0)","v":0},{"$f":"IF(FQQ2>=Inputs!$E$38,$D$26,0)","v":0},{"$f":"IF(FQR2>=Inputs!$E$38,$D$26,0)","v":0},{"$f":"IF(FQS2>=Inputs!$E$38,$D$26,0)","v":0},{"$f":"IF(FQT2>=Inputs!$E$38,$D$26,0)","v":0},{"$f":"IF(FQU2>=Inputs!$E$38,$D$26,0)","v":0},{"$f":"IF(FQV2>=Inputs!$E$38,$D$26,0)","v":0},{"$f":"IF(FQW2>=Inputs!$E$38,$D$26,0)","v":0},{"$f":"IF(FQX2>=Inputs!$E$38,$D$26,0)","v":0},{"$f":"IF(FQY2>=Inputs!$E$38,$D$26,0)","v":0},{"$f":"IF(FQZ2>=Inputs!$E$38,$D$26,0)","v":0},{"$f":"IF(FRA2>=Inputs!$E$38,$D$26,0)","v":0},{"$f":"IF(FRB2>=Inputs!$E$38,$D$26,0)","v":0},{"$f":"IF(FRC2>=Inputs!$E$38,$D$26,0)","v":0},{"$f":"IF(FRD2>=Inputs!$E$38,$D$26,0)","v":0},{"$f":"IF(FRE2>=Inputs!$E$38,$D$26,0)","v":0},{"$f":"IF(FRF2>=Inputs!$E$38,$D$26,0)","v":0},{"$f":"IF(FRG2>=Inputs!$E$38,$D$26,0)","v":0},{"$f":"IF(FRH2>=Inputs!$E$38,$D$26,0)","v":0},{"$f":"IF(FRI2>=Inputs!$E$38,$D$26,0)","v":0},{"$f":"IF(FRJ2>=Inputs!$E$38,$D$26,0)","v":0},{"$f":"IF(FRK2>=Inputs!$E$38,$D$26,0)","v":0},{"$f":"IF(FRL2>=Inputs!$E$38,$D$26,0)","v":0},{"$f":"IF(FRM2>=Inputs!$E$38,$D$26,0)","v":0},{"$f":"IF(FRN2>=Inputs!$E$38,$D$26,0)","v":0},{"$f":"IF(FRO2>=Inputs!$E$38,$D$26,0)","v":0},{"$f":"IF(FRP2>=Inputs!$E$38,$D$26,0)","v":0},{"$f":"IF(FRQ2>=Inputs!$E$38,$D$26,0)","v":0},{"$f":"IF(FRR2>=Inputs!$E$38,$D$26,0)","v":0},{"$f":"IF(FRS2>=Inputs!$E$38,$D$26,0)","v":0},{"$f":"IF(FRT2>=Inputs!$E$38,$D$26,0)","v":0},{"$f":"IF(FRU2>=Inputs!$E$38,$D$26,0)","v":0},{"$f":"IF(FRV2>=Inputs!$E$38,$D$26,0)","v":0},{"$f":"IF(FRW2>=Inputs!$E$38,$D$26,0)","v":0},{"$f":"IF(FRX2>=Inputs!$E$38,$D$26,0)","v":0},{"$f":"IF(FRY2>=Inputs!$E$38,$D$26,0)","v":0},{"$f":"IF(FRZ2>=Inputs!$E$38,$D$26,0)","v":0},{"$f":"IF(FSA2>=Inputs!$E$38,$D$26,0)","v":0},{"$f":"IF(FSB2>=Inputs!$E$38,$D$26,0)","v":0},{"$f":"IF(FSC2>=Inputs!$E$38,$D$26,0)","v":0},{"$f":"IF(FSD2>=Inputs!$E$38,$D$26,0)","v":0},{"$f":"IF(FSE2>=Inputs!$E$38,$D$26,0)","v":0},{"$f":"IF(FSF2>=Inputs!$E$38,$D$26,0)","v":0},{"$f":"IF(FSG2>=Inputs!$E$38,$D$26,0)","v":0},{"$f":"IF(FSH2>=Inputs!$E$38,$D$26,0)","v":0},{"$f":"IF(FSI2>=Inputs!$E$38,$D$26,0)","v":0},{"$f":"IF(FSJ2>=Inputs!$E$38,$D$26,0)","v":0},{"$f":"IF(FSK2>=Inputs!$E$38,$D$26,0)","v":0},{"$f":"IF(FSL2>=Inputs!$E$38,$D$26,0)","v":0},{"$f":"IF(FSM2>=Inputs!$E$38,$D$26,0)","v":0},{"$f":"IF(FSN2>=Inputs!$E$38,$D$26,0)","v":0},{"$f":"IF(FSO2>=Inputs!$E$38,$D$26,0)","v":0},{"$f":"IF(FSP2>=Inputs!$E$38,$D$26,0)","v":0},{"$f":"IF(FSQ2>=Inputs!$E$38,$D$26,0)","v":0},{"$f":"IF(FSR2>=Inputs!$E$38,$D$26,0)","v":0},{"$f":"IF(FSS2>=Inputs!$E$38,$D$26,0)","v":0},{"$f":"IF(FST2>=Inputs!$E$38,$D$26,0)","v":0},{"$f":"IF(FSU2>=Inputs!$E$38,$D$26,0)","v":0},{"$f":"IF(FSV2>=Inputs!$E$38,$D$26,0)","v":0},{"$f":"IF(FSW2>=Inputs!$E$38,$D$26,0)","v":0},{"$f":"IF(FSX2>=Inputs!$E$38,$D$26,0)","v":0},{"$f":"IF(FSY2>=Inputs!$E$38,$D$26,0)","v":0},{"$f":"IF(FSZ2>=Inputs!$E$38,$D$26,0)","v":0},{"$f":"IF(FTA2>=Inputs!$E$38,$D$26,0)","v":0},{"$f":"IF(FTB2>=Inputs!$E$38,$D$26,0)","v":0},{"$f":"IF(FTC2>=Inputs!$E$38,$D$26,0)","v":0},{"$f":"IF(FTD2>=Inputs!$E$38,$D$26,0)","v":0},{"$f":"IF(FTE2>=Inputs!$E$38,$D$26,0)","v":0},{"$f":"IF(FTF2>=Inputs!$E$38,$D$26,0)","v":0},{"$f":"IF(FTG2>=Inputs!$E$38,$D$26,0)","v":0},{"$f":"IF(FTH2>=Inputs!$E$38,$D$26,0)","v":0},{"$f":"IF(FTI2>=Inputs!$E$38,$D$26,0)","v":0},{"$f":"IF(FTJ2>=Inputs!$E$38,$D$26,0)","v":0},{"$f":"IF(FTK2>=Inputs!$E$38,$D$26,0)","v":0},{"$f":"IF(FTL2>=Inputs!$E$38,$D$26,0)","v":0},{"$f":"IF(FTM2>=Inputs!$E$38,$D$26,0)","v":0},{"$f":"IF(FTN2>=Inputs!$E$38,$D$26,0)","v":0},{"$f":"IF(FTO2>=Inputs!$E$38,$D$26,0)","v":0},{"$f":"IF(FTP2>=Inputs!$E$38,$D$26,0)","v":0},{"$f":"IF(FTQ2>=Inputs!$E$38,$D$26,0)","v":0},{"$f":"IF(FTR2>=Inputs!$E$38,$D$26,0)","v":0},{"$f":"IF(FTS2>=Inputs!$E$38,$D$26,0)","v":0},{"$f":"IF(FTT2>=Inputs!$E$38,$D$26,0)","v":0},{"$f":"IF(FTU2>=Inputs!$E$38,$D$26,0)","v":0},{"$f":"IF(FTV2>=Inputs!$E$38,$D$26,0)","v":0},{"$f":"IF(FTW2>=Inputs!$E$38,$D$26,0)","v":0},{"$f":"IF(FTX2>=Inputs!$E$38,$D$26,0)","v":0},{"$f":"IF(FTY2>=Inputs!$E$38,$D$26,0)","v":0},{"$f":"IF(FTZ2>=Inputs!$E$38,$D$26,0)","v":0},{"$f":"IF(FUA2>=Inputs!$E$38,$D$26,0)","v":0},{"$f":"IF(FUB2>=Inputs!$E$38,$D$26,0)","v":0},{"$f":"IF(FUC2>=Inputs!$E$38,$D$26,0)","v":0},{"$f":"IF(FUD2>=Inputs!$E$38,$D$26,0)","v":0},{"$f":"IF(FUE2>=Inputs!$E$38,$D$26,0)","v":0},{"$f":"IF(FUF2>=Inputs!$E$38,$D$26,0)","v":0},{"$f":"IF(FUG2>=Inputs!$E$38,$D$26,0)","v":0},{"$f":"IF(FUH2>=Inputs!$E$38,$D$26,0)","v":0},{"$f":"IF(FUI2>=Inputs!$E$38,$D$26,0)","v":0},{"$f":"IF(FUJ2>=Inputs!$E$38,$D$26,0)","v":0},{"$f":"IF(FUK2>=Inputs!$E$38,$D$26,0)","v":0},{"$f":"IF(FUL2>=Inputs!$E$38,$D$26,0)","v":0},{"$f":"IF(FUM2>=Inputs!$E$38,$D$26,0)","v":0},{"$f":"IF(FUN2>=Inputs!$E$38,$D$26,0)","v":0},{"$f":"IF(FUO2>=Inputs!$E$38,$D$26,0)","v":0},{"$f":"IF(FUP2>=Inputs!$E$38,$D$26,0)","v":0},{"$f":"IF(FUQ2>=Inputs!$E$38,$D$26,0)","v":0},{"$f":"IF(FUR2>=Inputs!$E$38,$D$26,0)","v":0},{"$f":"IF(FUS2>=Inputs!$E$38,$D$26,0)","v":0},{"$f":"IF(FUT2>=Inputs!$E$38,$D$26,0)","v":0},{"$f":"IF(FUU2>=Inputs!$E$38,$D$26,0)","v":0},{"$f":"IF(FUV2>=Inputs!$E$38,$D$26,0)","v":0},{"$f":"IF(FUW2>=Inputs!$E$38,$D$26,0)","v":0},{"$f":"IF(FUX2>=Inputs!$E$38,$D$26,0)","v":0},{"$f":"IF(FUY2>=Inputs!$E$38,$D$26,0)","v":0},{"$f":"IF(FUZ2>=Inputs!$E$38,$D$26,0)","v":0},{"$f":"IF(FVA2>=Inputs!$E$38,$D$26,0)","v":0},{"$f":"IF(FVB2>=Inputs!$E$38,$D$26,0)","v":0},{"$f":"IF(FVC2>=Inputs!$E$38,$D$26,0)","v":0},{"$f":"IF(FVD2>=Inputs!$E$38,$D$26,0)","v":0},{"$f":"IF(FVE2>=Inputs!$E$38,$D$26,0)","v":0},{"$f":"IF(FVF2>=Inputs!$E$38,$D$26,0)","v":0},{"$f":"IF(FVG2>=Inputs!$E$38,$D$26,0)","v":0},{"$f":"IF(FVH2>=Inputs!$E$38,$D$26,0)","v":0},{"$f":"IF(FVI2>=Inputs!$E$38,$D$26,0)","v":0},{"$f":"IF(FVJ2>=Inputs!$E$38,$D$26,0)","v":0},{"$f":"IF(FVK2>=Inputs!$E$38,$D$26,0)","v":0},{"$f":"IF(FVL2>=Inputs!$E$38,$D$26,0)","v":0},{"$f":"IF(FVM2>=Inputs!$E$38,$D$26,0)","v":0},{"$f":"IF(FVN2>=Inputs!$E$38,$D$26,0)","v":0},{"$f":"IF(FVO2>=Inputs!$E$38,$D$26,0)","v":0},{"$f":"IF(FVP2>=Inputs!$E$38,$D$26,0)","v":0},{"$f":"IF(FVQ2>=Inputs!$E$38,$D$26,0)","v":0},{"$f":"IF(FVR2>=Inputs!$E$38,$D$26,0)","v":0},{"$f":"IF(FVS2>=Inputs!$E$38,$D$26,0)","v":0},{"$f":"IF(FVT2>=Inputs!$E$38,$D$26,0)","v":0},{"$f":"IF(FVU2>=Inputs!$E$38,$D$26,0)","v":0},{"$f":"IF(FVV2>=Inputs!$E$38,$D$26,0)","v":0},{"$f":"IF(FVW2>=Inputs!$E$38,$D$26,0)","v":0},{"$f":"IF(FVX2>=Inputs!$E$38,$D$26,0)","v":0},{"$f":"IF(FVY2>=Inputs!$E$38,$D$26,0)","v":0},{"$f":"IF(FVZ2>=Inputs!$E$38,$D$26,0)","v":0},{"$f":"IF(FWA2>=Inputs!$E$38,$D$26,0)","v":0},{"$f":"IF(FWB2>=Inputs!$E$38,$D$26,0)","v":0},{"$f":"IF(FWC2>=Inputs!$E$38,$D$26,0)","v":0},{"$f":"IF(FWD2>=Inputs!$E$38,$D$26,0)","v":0},{"$f":"IF(FWE2>=Inputs!$E$38,$D$26,0)","v":0},{"$f":"IF(FWF2>=Inputs!$E$38,$D$26,0)","v":0},{"$f":"IF(FWG2>=Inputs!$E$38,$D$26,0)","v":0},{"$f":"IF(FWH2>=Inputs!$E$38,$D$26,0)","v":0},{"$f":"IF(FWI2>=Inputs!$E$38,$D$26,0)","v":0},{"$f":"IF(FWJ2>=Inputs!$E$38,$D$26,0)","v":0},{"$f":"IF(FWK2>=Inputs!$E$38,$D$26,0)","v":0},{"$f":"IF(FWL2>=Inputs!$E$38,$D$26,0)","v":0},{"$f":"IF(FWM2>=Inputs!$E$38,$D$26,0)","v":0},{"$f":"IF(FWN2>=Inputs!$E$38,$D$26,0)","v":0},{"$f":"IF(FWO2>=Inputs!$E$38,$D$26,0)","v":0},{"$f":"IF(FWP2>=Inputs!$E$38,$D$26,0)","v":0},{"$f":"IF(FWQ2>=Inputs!$E$38,$D$26,0)","v":0},{"$f":"IF(FWR2>=Inputs!$E$38,$D$26,0)","v":0},{"$f":"IF(FWS2>=Inputs!$E$38,$D$26,0)","v":0},{"$f":"IF(FWT2>=Inputs!$E$38,$D$26,0)","v":0},{"$f":"IF(FWU2>=Inputs!$E$38,$D$26,0)","v":0},{"$f":"IF(FWV2>=Inputs!$E$38,$D$26,0)","v":0},{"$f":"IF(FWW2>=Inputs!$E$38,$D$26,0)","v":0},{"$f":"IF(FWX2>=Inputs!$E$38,$D$26,0)","v":0},{"$f":"IF(FWY2>=Inputs!$E$38,$D$26,0)","v":0},{"$f":"IF(FWZ2>=Inputs!$E$38,$D$26,0)","v":0},{"$f":"IF(FXA2>=Inputs!$E$38,$D$26,0)","v":0},{"$f":"IF(FXB2>=Inputs!$E$38,$D$26,0)","v":0},{"$f":"IF(FXC2>=Inputs!$E$38,$D$26,0)","v":0},{"$f":"IF(FXD2>=Inputs!$E$38,$D$26,0)","v":0},{"$f":"IF(FXE2>=Inputs!$E$38,$D$26,0)","v":0},{"$f":"IF(FXF2>=Inputs!$E$38,$D$26,0)","v":0},{"$f":"IF(FXG2>=Inputs!$E$38,$D$26,0)","v":0},{"$f":"IF(FXH2>=Inputs!$E$38,$D$26,0)","v":0},{"$f":"IF(FXI2>=Inputs!$E$38,$D$26,0)","v":0},{"$f":"IF(FXJ2>=Inputs!$E$38,$D$26,0)","v":0},{"$f":"IF(FXK2>=Inputs!$E$38,$D$26,0)","v":0},{"$f":"IF(FXL2>=Inputs!$E$38,$D$26,0)","v":0},{"$f":"IF(FXM2>=Inputs!$E$38,$D$26,0)","v":0},{"$f":"IF(FXN2>=Inputs!$E$38,$D$26,0)","v":0},{"$f":"IF(FXO2>=Inputs!$E$38,$D$26,0)","v":0},{"$f":"IF(FXP2>=Inputs!$E$38,$D$26,0)","v":0},{"$f":"IF(FXQ2>=Inputs!$E$38,$D$26,0)","v":0},{"$f":"IF(FXR2>=Inputs!$E$38,$D$26,0)","v":0},{"$f":"IF(FXS2>=Inputs!$E$38,$D$26,0)","v":0},{"$f":"IF(FXT2>=Inputs!$E$38,$D$26,0)","v":0},{"$f":"IF(FXU2>=Inputs!$E$38,$D$26,0)","v":0},{"$f":"IF(FXV2>=Inputs!$E$38,$D$26,0)","v":0},{"$f":"IF(FXW2>=Inputs!$E$38,$D$26,0)","v":0},{"$f":"IF(FXX2>=Inputs!$E$38,$D$26,0)","v":0},{"$f":"IF(FXY2>=Inputs!$E$38,$D$26,0)","v":0},{"$f":"IF(FXZ2>=Inputs!$E$38,$D$26,0)","v":0},{"$f":"IF(FYA2>=Inputs!$E$38,$D$26,0)","v":0},{"$f":"IF(FYB2>=Inputs!$E$38,$D$26,0)","v":0},{"$f":"IF(FYC2>=Inputs!$E$38,$D$26,0)","v":0},{"$f":"IF(FYD2>=Inputs!$E$38,$D$26,0)","v":0},{"$f":"IF(FYE2>=Inputs!$E$38,$D$26,0)","v":0},{"$f":"IF(FYF2>=Inputs!$E$38,$D$26,0)","v":0},{"$f":"IF(FYG2>=Inputs!$E$38,$D$26,0)","v":0},{"$f":"IF(FYH2>=Inputs!$E$38,$D$26,0)","v":0},{"$f":"IF(FYI2>=Inputs!$E$38,$D$26,0)","v":0},{"$f":"IF(FYJ2>=Inputs!$E$38,$D$26,0)","v":0},{"$f":"IF(FYK2>=Inputs!$E$38,$D$26,0)","v":0},{"$f":"IF(FYL2>=Inputs!$E$38,$D$26,0)","v":0},{"$f":"IF(FYM2>=Inputs!$E$38,$D$26,0)","v":0},{"$f":"IF(FYN2>=Inputs!$E$38,$D$26,0)","v":0},{"$f":"IF(FYO2>=Inputs!$E$38,$D$26,0)","v":0},{"$f":"IF(FYP2>=Inputs!$E$38,$D$26,0)","v":0},{"$f":"IF(FYQ2>=Inputs!$E$38,$D$26,0)","v":0},{"$f":"IF(FYR2>=Inputs!$E$38,$D$26,0)","v":0},{"$f":"IF(FYS2>=Inputs!$E$38,$D$26,0)","v":0},{"$f":"IF(FYT2>=Inputs!$E$38,$D$26,0)","v":0},{"$f":"IF(FYU2>=Inputs!$E$38,$D$26,0)","v":0},{"$f":"IF(FYV2>=Inputs!$E$38,$D$26,0)","v":0},{"$f":"IF(FYW2>=Inputs!$E$38,$D$26,0)","v":0},{"$f":"IF(FYX2>=Inputs!$E$38,$D$26,0)","v":0},{"$f":"IF(FYY2>=Inputs!$E$38,$D$26,0)","v":0},{"$f":"IF(FYZ2>=Inputs!$E$38,$D$26,0)","v":0},{"$f":"IF(FZA2>=Inputs!$E$38,$D$26,0)","v":0},{"$f":"IF(FZB2>=Inputs!$E$38,$D$26,0)","v":0},{"$f":"IF(FZC2>=Inputs!$E$38,$D$26,0)","v":0},{"$f":"IF(FZD2>=Inputs!$E$38,$D$26,0)","v":0},{"$f":"IF(FZE2>=Inputs!$E$38,$D$26,0)","v":0},{"$f":"IF(FZF2>=Inputs!$E$38,$D$26,0)","v":0},{"$f":"IF(FZG2>=Inputs!$E$38,$D$26,0)","v":0},{"$f":"IF(FZH2>=Inputs!$E$38,$D$26,0)","v":0},{"$f":"IF(FZI2>=Inputs!$E$38,$D$26,0)","v":0},{"$f":"IF(FZJ2>=Inputs!$E$38,$D$26,0)","v":0},{"$f":"IF(FZK2>=Inputs!$E$38,$D$26,0)","v":0},{"$f":"IF(FZL2>=Inputs!$E$38,$D$26,0)","v":0},{"$f":"IF(FZM2>=Inputs!$E$38,$D$26,0)","v":0},{"$f":"IF(FZN2>=Inputs!$E$38,$D$26,0)","v":0},{"$f":"IF(FZO2>=Inputs!$E$38,$D$26,0)","v":0},{"$f":"IF(FZP2>=Inputs!$E$38,$D$26,0)","v":0},{"$f":"IF(FZQ2>=Inputs!$E$38,$D$26,0)","v":0},{"$f":"IF(FZR2>=Inputs!$E$38,$D$26,0)","v":0},{"$f":"IF(FZS2>=Inputs!$E$38,$D$26,0)","v":0},{"$f":"IF(FZT2>=Inputs!$E$38,$D$26,0)","v":0},{"$f":"IF(FZU2>=Inputs!$E$38,$D$26,0)","v":0},{"$f":"IF(FZV2>=Inputs!$E$38,$D$26,0)","v":0},{"$f":"IF(FZW2>=Inputs!$E$38,$D$26,0)","v":0},{"$f":"IF(FZX2>=Inputs!$E$38,$D$26,0)","v":0},{"$f":"IF(FZY2>=Inputs!$E$38,$D$26,0)","v":0},{"$f":"IF(FZZ2>=Inputs!$E$38,$D$26,0)","v":0},{"$f":"IF(GAA2>=Inputs!$E$38,$D$26,0)","v":0},{"$f":"IF(GAB2>=Inputs!$E$38,$D$26,0)","v":0},{"$f":"IF(GAC2>=Inputs!$E$38,$D$26,0)","v":0},{"$f":"IF(GAD2>=Inputs!$E$38,$D$26,0)","v":0},{"$f":"IF(GAE2>=Inputs!$E$38,$D$26,0)","v":0},{"$f":"IF(GAF2>=Inputs!$E$38,$D$26,0)","v":0},{"$f":"IF(GAG2>=Inputs!$E$38,$D$26,0)","v":0},{"$f":"IF(GAH2>=Inputs!$E$38,$D$26,0)","v":0},{"$f":"IF(GAI2>=Inputs!$E$38,$D$26,0)","v":0},{"$f":"IF(GAJ2>=Inputs!$E$38,$D$26,0)","v":0},{"$f":"IF(GAK2>=Inputs!$E$38,$D$26,0)","v":0},{"$f":"IF(GAL2>=Inputs!$E$38,$D$26,0)","v":0},{"$f":"IF(GAM2>=Inputs!$E$38,$D$26,0)","v":0},{"$f":"IF(GAN2>=Inputs!$E$38,$D$26,0)","v":0},{"$f":"IF(GAO2>=Inputs!$E$38,$D$26,0)","v":0},{"$f":"IF(GAP2>=Inputs!$E$38,$D$26,0)","v":0},{"$f":"IF(GAQ2>=Inputs!$E$38,$D$26,0)","v":0},{"$f":"IF(GAR2>=Inputs!$E$38,$D$26,0)","v":0},{"$f":"IF(GAS2>=Inputs!$E$38,$D$26,0)","v":0},{"$f":"IF(GAT2>=Inputs!$E$38,$D$26,0)","v":0},{"$f":"IF(GAU2>=Inputs!$E$38,$D$26,0)","v":0},{"$f":"IF(GAV2>=Inputs!$E$38,$D$26,0)","v":0},{"$f":"IF(GAW2>=Inputs!$E$38,$D$26,0)","v":0},{"$f":"IF(GAX2>=Inputs!$E$38,$D$26,0)","v":0},{"$f":"IF(GAY2>=Inputs!$E$38,$D$26,0)","v":0},{"$f":"IF(GAZ2>=Inputs!$E$38,$D$26,0)","v":0},{"$f":"IF(GBA2>=Inputs!$E$38,$D$26,0)","v":0},{"$f":"IF(GBB2>=Inputs!$E$38,$D$26,0)","v":0},{"$f":"IF(GBC2>=Inputs!$E$38,$D$26,0)","v":0},{"$f":"IF(GBD2>=Inputs!$E$38,$D$26,0)","v":0},{"$f":"IF(GBE2>=Inputs!$E$38,$D$26,0)","v":0},{"$f":"IF(GBF2>=Inputs!$E$38,$D$26,0)","v":0},{"$f":"IF(GBG2>=Inputs!$E$38,$D$26,0)","v":0},{"$f":"IF(GBH2>=Inputs!$E$38,$D$26,0)","v":0},{"$f":"IF(GBI2>=Inputs!$E$38,$D$26,0)","v":0},{"$f":"IF(GBJ2>=Inputs!$E$38,$D$26,0)","v":0},{"$f":"IF(GBK2>=Inputs!$E$38,$D$26,0)","v":0},{"$f":"IF(GBL2>=Inputs!$E$38,$D$26,0)","v":0},{"$f":"IF(GBM2>=Inputs!$E$38,$D$26,0)","v":0},{"$f":"IF(GBN2>=Inputs!$E$38,$D$26,0)","v":0},{"$f":"IF(GBO2>=Inputs!$E$38,$D$26,0)","v":0},{"$f":"IF(GBP2>=Inputs!$E$38,$D$26,0)","v":0},{"$f":"IF(GBQ2>=Inputs!$E$38,$D$26,0)","v":0},{"$f":"IF(GBR2>=Inputs!$E$38,$D$26,0)","v":0},{"$f":"IF(GBS2>=Inputs!$E$38,$D$26,0)","v":0},{"$f":"IF(GBT2>=Inputs!$E$38,$D$26,0)","v":0},{"$f":"IF(GBU2>=Inputs!$E$38,$D$26,0)","v":0},{"$f":"IF(GBV2>=Inputs!$E$38,$D$26,0)","v":0},{"$f":"IF(GBW2>=Inputs!$E$38,$D$26,0)","v":0},{"$f":"IF(GBX2>=Inputs!$E$38,$D$26,0)","v":0},{"$f":"IF(GBY2>=Inputs!$E$38,$D$26,0)","v":0},{"$f":"IF(GBZ2>=Inputs!$E$38,$D$26,0)","v":0},{"$f":"IF(GCA2>=Inputs!$E$38,$D$26,0)","v":0},{"$f":"IF(GCB2>=Inputs!$E$38,$D$26,0)","v":0},{"$f":"IF(GCC2>=Inputs!$E$38,$D$26,0)","v":0},{"$f":"IF(GCD2>=Inputs!$E$38,$D$26,0)","v":0},{"$f":"IF(GCE2>=Inputs!$E$38,$D$26,0)","v":0},{"$f":"IF(GCF2>=Inputs!$E$38,$D$26,0)","v":0},{"$f":"IF(GCG2>=Inputs!$E$38,$D$26,0)","v":0},{"$f":"IF(GCH2>=Inputs!$E$38,$D$26,0)","v":0},{"$f":"IF(GCI2>=Inputs!$E$38,$D$26,0)","v":0},{"$f":"IF(GCJ2>=Inputs!$E$38,$D$26,0)","v":0},{"$f":"IF(GCK2>=Inputs!$E$38,$D$26,0)","v":0},{"$f":"IF(GCL2>=Inputs!$E$38,$D$26,0)","v":0},{"$f":"IF(GCM2>=Inputs!$E$38,$D$26,0)","v":0},{"$f":"IF(GCN2>=Inputs!$E$38,$D$26,0)","v":0},{"$f":"IF(GCO2>=Inputs!$E$38,$D$26,0)","v":0},{"$f":"IF(GCP2>=Inputs!$E$38,$D$26,0)","v":0},{"$f":"IF(GCQ2>=Inputs!$E$38,$D$26,0)","v":0},{"$f":"IF(GCR2>=Inputs!$E$38,$D$26,0)","v":0},{"$f":"IF(GCS2>=Inputs!$E$38,$D$26,0)","v":0},{"$f":"IF(GCT2>=Inputs!$E$38,$D$26,0)","v":0},{"$f":"IF(GCU2>=Inputs!$E$38,$D$26,0)","v":0},{"$f":"IF(GCV2>=Inputs!$E$38,$D$26,0)","v":0},{"$f":"IF(GCW2>=Inputs!$E$38,$D$26,0)","v":0},{"$f":"IF(GCX2>=Inputs!$E$38,$D$26,0)","v":0},{"$f":"IF(GCY2>=Inputs!$E$38,$D$26,0)","v":0},{"$f":"IF(GCZ2>=Inputs!$E$38,$D$26,0)","v":0},{"$f":"IF(GDA2>=Inputs!$E$38,$D$26,0)","v":0},{"$f":"IF(GDB2>=Inputs!$E$38,$D$26,0)","v":0},{"$f":"IF(GDC2>=Inputs!$E$38,$D$26,0)","v":0},{"$f":"IF(GDD2>=Inputs!$E$38,$D$26,0)","v":0},{"$f":"IF(GDE2>=Inputs!$E$38,$D$26,0)","v":0},{"$f":"IF(GDF2>=Inputs!$E$38,$D$26,0)","v":0},{"$f":"IF(GDG2>=Inputs!$E$38,$D$26,0)","v":0},{"$f":"IF(GDH2>=Inputs!$E$38,$D$26,0)","v":0},{"$f":"IF(GDI2>=Inputs!$E$38,$D$26,0)","v":0},{"$f":"IF(GDJ2>=Inputs!$E$38,$D$26,0)","v":0},{"$f":"IF(GDK2>=Inputs!$E$38,$D$26,0)","v":0},{"$f":"IF(GDL2>=Inputs!$E$38,$D$26,0)","v":0},{"$f":"IF(GDM2>=Inputs!$E$38,$D$26,0)","v":0},{"$f":"IF(GDN2>=Inputs!$E$38,$D$26,0)","v":0},{"$f":"IF(GDO2>=Inputs!$E$38,$D$26,0)","v":0},{"$f":"IF(GDP2>=Inputs!$E$38,$D$26,0)","v":0},{"$f":"IF(GDQ2>=Inputs!$E$38,$D$26,0)","v":0},{"$f":"IF(GDR2>=Inputs!$E$38,$D$26,0)","v":0},{"$f":"IF(GDS2>=Inputs!$E$38,$D$26,0)","v":0},{"$f":"IF(GDT2>=Inputs!$E$38,$D$26,0)","v":0},{"$f":"IF(GDU2>=Inputs!$E$38,$D$26,0)","v":0},{"$f":"IF(GDV2>=Inputs!$E$38,$D$26,0)","v":0},{"$f":"IF(GDW2>=Inputs!$E$38,$D$26,0)","v":0},{"$f":"IF(GDX2>=Inputs!$E$38,$D$26,0)","v":0},{"$f":"IF(GDY2>=Inputs!$E$38,$D$26,0)","v":0},{"$f":"IF(GDZ2>=Inputs!$E$38,$D$26,0)","v":0},{"$f":"IF(GEA2>=Inputs!$E$38,$D$26,0)","v":0},{"$f":"IF(GEB2>=Inputs!$E$38,$D$26,0)","v":0},{"$f":"IF(GEC2>=Inputs!$E$38,$D$26,0)","v":0},{"$f":"IF(GED2>=Inputs!$E$38,$D$26,0)","v":0},{"$f":"IF(GEE2>=Inputs!$E$38,$D$26,0)","v":0},{"$f":"IF(GEF2>=Inputs!$E$38,$D$26,0)","v":0},{"$f":"IF(GEG2>=Inputs!$E$38,$D$26,0)","v":0},{"$f":"IF(GEH2>=Inputs!$E$38,$D$26,0)","v":0},{"$f":"IF(GEI2>=Inputs!$E$38,$D$26,0)","v":0},{"$f":"IF(GEJ2>=Inputs!$E$38,$D$26,0)","v":0},{"$f":"IF(GEK2>=Inputs!$E$38,$D$26,0)","v":0},{"$f":"IF(GEL2>=Inputs!$E$38,$D$26,0)","v":0},{"$f":"IF(GEM2>=Inputs!$E$38,$D$26,0)","v":0},{"$f":"IF(GEN2>=Inputs!$E$38,$D$26,0)","v":0},{"$f":"IF(GEO2>=Inputs!$E$38,$D$26,0)","v":0},{"$f":"IF(GEP2>=Inputs!$E$38,$D$26,0)","v":0},{"$f":"IF(GEQ2>=Inputs!$E$38,$D$26,0)","v":0},{"$f":"IF(GER2>=Inputs!$E$38,$D$26,0)","v":0},{"$f":"IF(GES2>=Inputs!$E$38,$D$26,0)","v":0},{"$f":"IF(GET2>=Inputs!$E$38,$D$26,0)","v":0},{"$f":"IF(GEU2>=Inputs!$E$38,$D$26,0)","v":0},{"$f":"IF(GEV2>=Inputs!$E$38,$D$26,0)","v":0},{"$f":"IF(GEW2>=Inputs!$E$38,$D$26,0)","v":0},{"$f":"IF(GEX2>=Inputs!$E$38,$D$26,0)","v":0},{"$f":"IF(GEY2>=Inputs!$E$38,$D$26,0)","v":0},{"$f":"IF(GEZ2>=Inputs!$E$38,$D$26,0)","v":0},{"$f":"IF(GFA2>=Inputs!$E$38,$D$26,0)","v":0},{"$f":"IF(GFB2>=Inputs!$E$38,$D$26,0)","v":0},{"$f":"IF(GFC2>=Inputs!$E$38,$D$26,0)","v":0},{"$f":"IF(GFD2>=Inputs!$E$38,$D$26,0)","v":0},{"$f":"IF(GFE2>=Inputs!$E$38,$D$26,0)","v":0},{"$f":"IF(GFF2>=Inputs!$E$38,$D$26,0)","v":0},{"$f":"IF(GFG2>=Inputs!$E$38,$D$26,0)","v":0},{"$f":"IF(GFH2>=Inputs!$E$38,$D$26,0)","v":0},{"$f":"IF(GFI2>=Inputs!$E$38,$D$26,0)","v":0},{"$f":"IF(GFJ2>=Inputs!$E$38,$D$26,0)","v":0},{"$f":"IF(GFK2>=Inputs!$E$38,$D$26,0)","v":0},{"$f":"IF(GFL2>=Inputs!$E$38,$D$26,0)","v":0},{"$f":"IF(GFM2>=Inputs!$E$38,$D$26,0)","v":0},{"$f":"IF(GFN2>=Inputs!$E$38,$D$26,0)","v":0},{"$f":"IF(GFO2>=Inputs!$E$38,$D$26,0)","v":0},{"$f":"IF(GFP2>=Inputs!$E$38,$D$26,0)","v":0},{"$f":"IF(GFQ2>=Inputs!$E$38,$D$26,0)","v":0},{"$f":"IF(GFR2>=Inputs!$E$38,$D$26,0)","v":0},{"$f":"IF(GFS2>=Inputs!$E$38,$D$26,0)","v":0},{"$f":"IF(GFT2>=Inputs!$E$38,$D$26,0)","v":0},{"$f":"IF(GFU2>=Inputs!$E$38,$D$26,0)","v":0},{"$f":"IF(GFV2>=Inputs!$E$38,$D$26,0)","v":0},{"$f":"IF(GFW2>=Inputs!$E$38,$D$26,0)","v":0},{"$f":"IF(GFX2>=Inputs!$E$38,$D$26,0)","v":0},{"$f":"IF(GFY2>=Inputs!$E$38,$D$26,0)","v":0},{"$f":"IF(GFZ2>=Inputs!$E$38,$D$26,0)","v":0},{"$f":"IF(GGA2>=Inputs!$E$38,$D$26,0)","v":0},{"$f":"IF(GGB2>=Inputs!$E$38,$D$26,0)","v":0},{"$f":"IF(GGC2>=Inputs!$E$38,$D$26,0)","v":0},{"$f":"IF(GGD2>=Inputs!$E$38,$D$26,0)","v":0},{"$f":"IF(GGE2>=Inputs!$E$38,$D$26,0)","v":0},{"$f":"IF(GGF2>=Inputs!$E$38,$D$26,0)","v":0},{"$f":"IF(GGG2>=Inputs!$E$38,$D$26,0)","v":0},{"$f":"IF(GGH2>=Inputs!$E$38,$D$26,0)","v":0},{"$f":"IF(GGI2>=Inputs!$E$38,$D$26,0)","v":0},{"$f":"IF(GGJ2>=Inputs!$E$38,$D$26,0)","v":0},{"$f":"IF(GGK2>=Inputs!$E$38,$D$26,0)","v":0},{"$f":"IF(GGL2>=Inputs!$E$38,$D$26,0)","v":0},{"$f":"IF(GGM2>=Inputs!$E$38,$D$26,0)","v":0},{"$f":"IF(GGN2>=Inputs!$E$38,$D$26,0)","v":0},{"$f":"IF(GGO2>=Inputs!$E$38,$D$26,0)","v":0},{"$f":"IF(GGP2>=Inputs!$E$38,$D$26,0)","v":0},{"$f":"IF(GGQ2>=Inputs!$E$38,$D$26,0)","v":0},{"$f":"IF(GGR2>=Inputs!$E$38,$D$26,0)","v":0},{"$f":"IF(GGS2>=Inputs!$E$38,$D$26,0)","v":0},{"$f":"IF(GGT2>=Inputs!$E$38,$D$26,0)","v":0},{"$f":"IF(GGU2>=Inputs!$E$38,$D$26,0)","v":0},{"$f":"IF(GGV2>=Inputs!$E$38,$D$26,0)","v":0},{"$f":"IF(GGW2>=Inputs!$E$38,$D$26,0)","v":0},{"$f":"IF(GGX2>=Inputs!$E$38,$D$26,0)","v":0},{"$f":"IF(GGY2>=Inputs!$E$38,$D$26,0)","v":0},{"$f":"IF(GGZ2>=Inputs!$E$38,$D$26,0)","v":0},{"$f":"IF(GHA2>=Inputs!$E$38,$D$26,0)","v":0},{"$f":"IF(GHB2>=Inputs!$E$38,$D$26,0)","v":0},{"$f":"IF(GHC2>=Inputs!$E$38,$D$26,0)","v":0},{"$f":"IF(GHD2>=Inputs!$E$38,$D$26,0)","v":0},{"$f":"IF(GHE2>=Inputs!$E$38,$D$26,0)","v":0},{"$f":"IF(GHF2>=Inputs!$E$38,$D$26,0)","v":0},{"$f":"IF(GHG2>=Inputs!$E$38,$D$26,0)","v":0},{"$f":"IF(GHH2>=Inputs!$E$38,$D$26,0)","v":0},{"$f":"IF(GHI2>=Inputs!$E$38,$D$26,0)","v":0},{"$f":"IF(GHJ2>=Inputs!$E$38,$D$26,0)","v":0},{"$f":"IF(GHK2>=Inputs!$E$38,$D$26,0)","v":0},{"$f":"IF(GHL2>=Inputs!$E$38,$D$26,0)","v":0},{"$f":"IF(GHM2>=Inputs!$E$38,$D$26,0)","v":0},{"$f":"IF(GHN2>=Inputs!$E$38,$D$26,0)","v":0},{"$f":"IF(GHO2>=Inputs!$E$38,$D$26,0)","v":0},{"$f":"IF(GHP2>=Inputs!$E$38,$D$26,0)","v":0},{"$f":"IF(GHQ2>=Inputs!$E$38,$D$26,0)","v":0},{"$f":"IF(GHR2>=Inputs!$E$38,$D$26,0)","v":0},{"$f":"IF(GHS2>=Inputs!$E$38,$D$26,0)","v":0},{"$f":"IF(GHT2>=Inputs!$E$38,$D$26,0)","v":0},{"$f":"IF(GHU2>=Inputs!$E$38,$D$26,0)","v":0},{"$f":"IF(GHV2>=Inputs!$E$38,$D$26,0)","v":0},{"$f":"IF(GHW2>=Inputs!$E$38,$D$26,0)","v":0},{"$f":"IF(GHX2>=Inputs!$E$38,$D$26,0)","v":0},{"$f":"IF(GHY2>=Inputs!$E$38,$D$26,0)","v":0},{"$f":"IF(GHZ2>=Inputs!$E$38,$D$26,0)","v":0},{"$f":"IF(GIA2>=Inputs!$E$38,$D$26,0)","v":0},{"$f":"IF(GIB2>=Inputs!$E$38,$D$26,0)","v":0},{"$f":"IF(GIC2>=Inputs!$E$38,$D$26,0)","v":0},{"$f":"IF(GID2>=Inputs!$E$38,$D$26,0)","v":0},{"$f":"IF(GIE2>=Inputs!$E$38,$D$26,0)","v":0},{"$f":"IF(GIF2>=Inputs!$E$38,$D$26,0)","v":0},{"$f":"IF(GIG2>=Inputs!$E$38,$D$26,0)","v":0},{"$f":"IF(GIH2>=Inputs!$E$38,$D$26,0)","v":0},{"$f":"IF(GII2>=Inputs!$E$38,$D$26,0)","v":0},{"$f":"IF(GIJ2>=Inputs!$E$38,$D$26,0)","v":0},{"$f":"IF(GIK2>=Inputs!$E$38,$D$26,0)","v":0},{"$f":"IF(GIL2>=Inputs!$E$38,$D$26,0)","v":0},{"$f":"IF(GIM2>=Inputs!$E$38,$D$26,0)","v":0},{"$f":"IF(GIN2>=Inputs!$E$38,$D$26,0)","v":0},{"$f":"IF(GIO2>=Inputs!$E$38,$D$26,0)","v":0},{"$f":"IF(GIP2>=Inputs!$E$38,$D$26,0)","v":0},{"$f":"IF(GIQ2>=Inputs!$E$38,$D$26,0)","v":0},{"$f":"IF(GIR2>=Inputs!$E$38,$D$26,0)","v":0},{"$f":"IF(GIS2>=Inputs!$E$38,$D$26,0)","v":0},{"$f":"IF(GIT2>=Inputs!$E$38,$D$26,0)","v":0},{"$f":"IF(GIU2>=Inputs!$E$38,$D$26,0)","v":0},{"$f":"IF(GIV2>=Inputs!$E$38,$D$26,0)","v":0},{"$f":"IF(GIW2>=Inputs!$E$38,$D$26,0)","v":0},{"$f":"IF(GIX2>=Inputs!$E$38,$D$26,0)","v":0},{"$f":"IF(GIY2>=Inputs!$E$38,$D$26,0)","v":0},{"$f":"IF(GIZ2>=Inputs!$E$38,$D$26,0)","v":0},{"$f":"IF(GJA2>=Inputs!$E$38,$D$26,0)","v":0},{"$f":"IF(GJB2>=Inputs!$E$38,$D$26,0)","v":0},{"$f":"IF(GJC2>=Inputs!$E$38,$D$26,0)","v":0},{"$f":"IF(GJD2>=Inputs!$E$38,$D$26,0)","v":0},{"$f":"IF(GJE2>=Inputs!$E$38,$D$26,0)","v":0},{"$f":"IF(GJF2>=Inputs!$E$38,$D$26,0)","v":0},{"$f":"IF(GJG2>=Inputs!$E$38,$D$26,0)","v":0},{"$f":"IF(GJH2>=Inputs!$E$38,$D$26,0)","v":0},{"$f":"IF(GJI2>=Inputs!$E$38,$D$26,0)","v":0},{"$f":"IF(GJJ2>=Inputs!$E$38,$D$26,0)","v":0},{"$f":"IF(GJK2>=Inputs!$E$38,$D$26,0)","v":0},{"$f":"IF(GJL2>=Inputs!$E$38,$D$26,0)","v":0},{"$f":"IF(GJM2>=Inputs!$E$38,$D$26,0)","v":0},{"$f":"IF(GJN2>=Inputs!$E$38,$D$26,0)","v":0},{"$f":"IF(GJO2>=Inputs!$E$38,$D$26,0)","v":0},{"$f":"IF(GJP2>=Inputs!$E$38,$D$26,0)","v":0},{"$f":"IF(GJQ2>=Inputs!$E$38,$D$26,0)","v":0},{"$f":"IF(GJR2>=Inputs!$E$38,$D$26,0)","v":0},{"$f":"IF(GJS2>=Inputs!$E$38,$D$26,0)","v":0},{"$f":"IF(GJT2>=Inputs!$E$38,$D$26,0)","v":0},{"$f":"IF(GJU2>=Inputs!$E$38,$D$26,0)","v":0},{"$f":"IF(GJV2>=Inputs!$E$38,$D$26,0)","v":0},{"$f":"IF(GJW2>=Inputs!$E$38,$D$26,0)","v":0},{"$f":"IF(GJX2>=Inputs!$E$38,$D$26,0)","v":0},{"$f":"IF(GJY2>=Inputs!$E$38,$D$26,0)","v":0},{"$f":"IF(GJZ2>=Inputs!$E$38,$D$26,0)","v":0},{"$f":"IF(GKA2>=Inputs!$E$38,$D$26,0)","v":0},{"$f":"IF(GKB2>=Inputs!$E$38,$D$26,0)","v":0},{"$f":"IF(GKC2>=Inputs!$E$38,$D$26,0)","v":0},{"$f":"IF(GKD2>=Inputs!$E$38,$D$26,0)","v":0},{"$f":"IF(GKE2>=Inputs!$E$38,$D$26,0)","v":0},{"$f":"IF(GKF2>=Inputs!$E$38,$D$26,0)","v":0},{"$f":"IF(GKG2>=Inputs!$E$38,$D$26,0)","v":0},{"$f":"IF(GKH2>=Inputs!$E$38,$D$26,0)","v":0},{"$f":"IF(GKI2>=Inputs!$E$38,$D$26,0)","v":0},{"$f":"IF(GKJ2>=Inputs!$E$38,$D$26,0)","v":0},{"$f":"IF(GKK2>=Inputs!$E$38,$D$26,0)","v":0},{"$f":"IF(GKL2>=Inputs!$E$38,$D$26,0)","v":0},{"$f":"IF(GKM2>=Inputs!$E$38,$D$26,0)","v":0},{"$f":"IF(GKN2>=Inputs!$E$38,$D$26,0)","v":0},{"$f":"IF(GKO2>=Inputs!$E$38,$D$26,0)","v":0},{"$f":"IF(GKP2>=Inputs!$E$38,$D$26,0)","v":0},{"$f":"IF(GKQ2>=Inputs!$E$38,$D$26,0)","v":0},{"$f":"IF(GKR2>=Inputs!$E$38,$D$26,0)","v":0},{"$f":"IF(GKS2>=Inputs!$E$38,$D$26,0)","v":0},{"$f":"IF(GKT2>=Inputs!$E$38,$D$26,0)","v":0},{"$f":"IF(GKU2>=Inputs!$E$38,$D$26,0)","v":0},{"$f":"IF(GKV2>=Inputs!$E$38,$D$26,0)","v":0},{"$f":"IF(GKW2>=Inputs!$E$38,$D$26,0)","v":0},{"$f":"IF(GKX2>=Inputs!$E$38,$D$26,0)","v":0},{"$f":"IF(GKY2>=Inputs!$E$38,$D$26,0)","v":0},{"$f":"IF(GKZ2>=Inputs!$E$38,$D$26,0)","v":0},{"$f":"IF(GLA2>=Inputs!$E$38,$D$26,0)","v":0},{"$f":"IF(GLB2>=Inputs!$E$38,$D$26,0)","v":0},{"$f":"IF(GLC2>=Inputs!$E$38,$D$26,0)","v":0},{"$f":"IF(GLD2>=Inputs!$E$38,$D$26,0)","v":0},{"$f":"IF(GLE2>=Inputs!$E$38,$D$26,0)","v":0},{"$f":"IF(GLF2>=Inputs!$E$38,$D$26,0)","v":0},{"$f":"IF(GLG2>=Inputs!$E$38,$D$26,0)","v":0},{"$f":"IF(GLH2>=Inputs!$E$38,$D$26,0)","v":0},{"$f":"IF(GLI2>=Inputs!$E$38,$D$26,0)","v":0},{"$f":"IF(GLJ2>=Inputs!$E$38,$D$26,0)","v":0},{"$f":"IF(GLK2>=Inputs!$E$38,$D$26,0)","v":0},{"$f":"IF(GLL2>=Inputs!$E$38,$D$26,0)","v":0},{"$f":"IF(GLM2>=Inputs!$E$38,$D$26,0)","v":0},{"$f":"IF(GLN2>=Inputs!$E$38,$D$26,0)","v":0},{"$f":"IF(GLO2>=Inputs!$E$38,$D$26,0)","v":0},{"$f":"IF(GLP2>=Inputs!$E$38,$D$26,0)","v":0},{"$f":"IF(GLQ2>=Inputs!$E$38,$D$26,0)","v":0},{"$f":"IF(GLR2>=Inputs!$E$38,$D$26,0)","v":0},{"$f":"IF(GLS2>=Inputs!$E$38,$D$26,0)","v":0},{"$f":"IF(GLT2>=Inputs!$E$38,$D$26,0)","v":0},{"$f":"IF(GLU2>=Inputs!$E$38,$D$26,0)","v":0},{"$f":"IF(GLV2>=Inputs!$E$38,$D$26,0)","v":0},{"$f":"IF(GLW2>=Inputs!$E$38,$D$26,0)","v":0},{"$f":"IF(GLX2>=Inputs!$E$38,$D$26,0)","v":0},{"$f":"IF(GLY2>=Inputs!$E$38,$D$26,0)","v":0},{"$f":"IF(GLZ2>=Inputs!$E$38,$D$26,0)","v":0},{"$f":"IF(GMA2>=Inputs!$E$38,$D$26,0)","v":0},{"$f":"IF(GMB2>=Inputs!$E$38,$D$26,0)","v":0},{"$f":"IF(GMC2>=Inputs!$E$38,$D$26,0)","v":0},{"$f":"IF(GMD2>=Inputs!$E$38,$D$26,0)","v":0},{"$f":"IF(GME2>=Inputs!$E$38,$D$26,0)","v":0},{"$f":"IF(GMF2>=Inputs!$E$38,$D$26,0)","v":0},{"$f":"IF(GMG2>=Inputs!$E$38,$D$26,0)","v":0},{"$f":"IF(GMH2>=Inputs!$E$38,$D$26,0)","v":0},{"$f":"IF(GMI2>=Inputs!$E$38,$D$26,0)","v":0},{"$f":"IF(GMJ2>=Inputs!$E$38,$D$26,0)","v":0},{"$f":"IF(GMK2>=Inputs!$E$38,$D$26,0)","v":0},{"$f":"IF(GML2>=Inputs!$E$38,$D$26,0)","v":0},{"$f":"IF(GMM2>=Inputs!$E$38,$D$26,0)","v":0},{"$f":"IF(GMN2>=Inputs!$E$38,$D$26,0)","v":0},{"$f":"IF(GMO2>=Inputs!$E$38,$D$26,0)","v":0},{"$f":"IF(GMP2>=Inputs!$E$38,$D$26,0)","v":0},{"$f":"IF(GMQ2>=Inputs!$E$38,$D$26,0)","v":0},{"$f":"IF(GMR2>=Inputs!$E$38,$D$26,0)","v":0},{"$f":"IF(GMS2>=Inputs!$E$38,$D$26,0)","v":0},{"$f":"IF(GMT2>=Inputs!$E$38,$D$26,0)","v":0},{"$f":"IF(GMU2>=Inputs!$E$38,$D$26,0)","v":0},{"$f":"IF(GMV2>=Inputs!$E$38,$D$26,0)","v":0},{"$f":"IF(GMW2>=Inputs!$E$38,$D$26,0)","v":0},{"$f":"IF(GMX2>=Inputs!$E$38,$D$26,0)","v":0},{"$f":"IF(GMY2>=Inputs!$E$38,$D$26,0)","v":0},{"$f":"IF(GMZ2>=Inputs!$E$38,$D$26,0)","v":0},{"$f":"IF(GNA2>=Inputs!$E$38,$D$26,0)","v":0},{"$f":"IF(GNB2>=Inputs!$E$38,$D$26,0)","v":0},{"$f":"IF(GNC2>=Inputs!$E$38,$D$26,0)","v":0},{"$f":"IF(GND2>=Inputs!$E$38,$D$26,0)","v":0},{"$f":"IF(GNE2>=Inputs!$E$38,$D$26,0)","v":0},{"$f":"IF(GNF2>=Inputs!$E$38,$D$26,0)","v":0},{"$f":"IF(GNG2>=Inputs!$E$38,$D$26,0)","v":0},{"$f":"IF(GNH2>=Inputs!$E$38,$D$26,0)","v":0},{"$f":"IF(GNI2>=Inputs!$E$38,$D$26,0)","v":0},{"$f":"IF(GNJ2>=Inputs!$E$38,$D$26,0)","v":0},{"$f":"IF(GNK2>=Inputs!$E$38,$D$26,0)","v":0},{"$f":"IF(GNL2>=Inputs!$E$38,$D$26,0)","v":0},{"$f":"IF(GNM2>=Inputs!$E$38,$D$26,0)","v":0},{"$f":"IF(GNN2>=Inputs!$E$38,$D$26,0)","v":0},{"$f":"IF(GNO2>=Inputs!$E$38,$D$26,0)","v":0},{"$f":"IF(GNP2>=Inputs!$E$38,$D$26,0)","v":0},{"$f":"IF(GNQ2>=Inputs!$E$38,$D$26,0)","v":0},{"$f":"IF(GNR2>=Inputs!$E$38,$D$26,0)","v":0},{"$f":"IF(GNS2>=Inputs!$E$38,$D$26,0)","v":0},{"$f":"IF(GNT2>=Inputs!$E$38,$D$26,0)","v":0},{"$f":"IF(GNU2>=Inputs!$E$38,$D$26,0)","v":0},{"$f":"IF(GNV2>=Inputs!$E$38,$D$26,0)","v":0},{"$f":"IF(GNW2>=Inputs!$E$38,$D$26,0)","v":0},{"$f":"IF(GNX2>=Inputs!$E$38,$D$26,0)","v":0},{"$f":"IF(GNY2>=Inputs!$E$38,$D$26,0)","v":0},{"$f":"IF(GNZ2>=Inputs!$E$38,$D$26,0)","v":0},{"$f":"IF(GOA2>=Inputs!$E$38,$D$26,0)","v":0},{"$f":"IF(GOB2>=Inputs!$E$38,$D$26,0)","v":0},{"$f":"IF(GOC2>=Inputs!$E$38,$D$26,0)","v":0},{"$f":"IF(GOD2>=Inputs!$E$38,$D$26,0)","v":0},{"$f":"IF(GOE2>=Inputs!$E$38,$D$26,0)","v":0},{"$f":"IF(GOF2>=Inputs!$E$38,$D$26,0)","v":0},{"$f":"IF(GOG2>=Inputs!$E$38,$D$26,0)","v":0},{"$f":"IF(GOH2>=Inputs!$E$38,$D$26,0)","v":0},{"$f":"IF(GOI2>=Inputs!$E$38,$D$26,0)","v":0},{"$f":"IF(GOJ2>=Inputs!$E$38,$D$26,0)","v":0},{"$f":"IF(GOK2>=Inputs!$E$38,$D$26,0)","v":0},{"$f":"IF(GOL2>=Inputs!$E$38,$D$26,0)","v":0},{"$f":"IF(GOM2>=Inputs!$E$38,$D$26,0)","v":0},{"$f":"IF(GON2>=Inputs!$E$38,$D$26,0)","v":0},{"$f":"IF(GOO2>=Inputs!$E$38,$D$26,0)","v":0},{"$f":"IF(GOP2>=Inputs!$E$38,$D$26,0)","v":0},{"$f":"IF(GOQ2>=Inputs!$E$38,$D$26,0)","v":0},{"$f":"IF(GOR2>=Inputs!$E$38,$D$26,0)","v":0},{"$f":"IF(GOS2>=Inputs!$E$38,$D$26,0)","v":0},{"$f":"IF(GOT2>=Inputs!$E$38,$D$26,0)","v":0},{"$f":"IF(GOU2>=Inputs!$E$38,$D$26,0)","v":0},{"$f":"IF(GOV2>=Inputs!$E$38,$D$26,0)","v":0},{"$f":"IF(GOW2>=Inputs!$E$38,$D$26,0)","v":0},{"$f":"IF(GOX2>=Inputs!$E$38,$D$26,0)","v":0},{"$f":"IF(GOY2>=Inputs!$E$38,$D$26,0)","v":0},{"$f":"IF(GOZ2>=Inputs!$E$38,$D$26,0)","v":0},{"$f":"IF(GPA2>=Inputs!$E$38,$D$26,0)","v":0},{"$f":"IF(GPB2>=Inputs!$E$38,$D$26,0)","v":0},{"$f":"IF(GPC2>=Inputs!$E$38,$D$26,0)","v":0},{"$f":"IF(GPD2>=Inputs!$E$38,$D$26,0)","v":0},{"$f":"IF(GPE2>=Inputs!$E$38,$D$26,0)","v":0},{"$f":"IF(GPF2>=Inputs!$E$38,$D$26,0)","v":0},{"$f":"IF(GPG2>=Inputs!$E$38,$D$26,0)","v":0},{"$f":"IF(GPH2>=Inputs!$E$38,$D$26,0)","v":0},{"$f":"IF(GPI2>=Inputs!$E$38,$D$26,0)","v":0},{"$f":"IF(GPJ2>=Inputs!$E$38,$D$26,0)","v":0},{"$f":"IF(GPK2>=Inputs!$E$38,$D$26,0)","v":0},{"$f":"IF(GPL2>=Inputs!$E$38,$D$26,0)","v":0},{"$f":"IF(GPM2>=Inputs!$E$38,$D$26,0)","v":0},{"$f":"IF(GPN2>=Inputs!$E$38,$D$26,0)","v":0},{"$f":"IF(GPO2>=Inputs!$E$38,$D$26,0)","v":0},{"$f":"IF(GPP2>=Inputs!$E$38,$D$26,0)","v":0},{"$f":"IF(GPQ2>=Inputs!$E$38,$D$26,0)","v":0},{"$f":"IF(GPR2>=Inputs!$E$38,$D$26,0)","v":0},{"$f":"IF(GPS2>=Inputs!$E$38,$D$26,0)","v":0},{"$f":"IF(GPT2>=Inputs!$E$38,$D$26,0)","v":0},{"$f":"IF(GPU2>=Inputs!$E$38,$D$26,0)","v":0},{"$f":"IF(GPV2>=Inputs!$E$38,$D$26,0)","v":0},{"$f":"IF(GPW2>=Inputs!$E$38,$D$26,0)","v":0},{"$f":"IF(GPX2>=Inputs!$E$38,$D$26,0)","v":0},{"$f":"IF(GPY2>=Inputs!$E$38,$D$26,0)","v":0},{"$f":"IF(GPZ2>=Inputs!$E$38,$D$26,0)","v":0},{"$f":"IF(GQA2>=Inputs!$E$38,$D$26,0)","v":0},{"$f":"IF(GQB2>=Inputs!$E$38,$D$26,0)","v":0},{"$f":"IF(GQC2>=Inputs!$E$38,$D$26,0)","v":0},{"$f":"IF(GQD2>=Inputs!$E$38,$D$26,0)","v":0},{"$f":"IF(GQE2>=Inputs!$E$38,$D$26,0)","v":0},{"$f":"IF(GQF2>=Inputs!$E$38,$D$26,0)","v":0},{"$f":"IF(GQG2>=Inputs!$E$38,$D$26,0)","v":0},{"$f":"IF(GQH2>=Inputs!$E$38,$D$26,0)","v":0},{"$f":"IF(GQI2>=Inputs!$E$38,$D$26,0)","v":0},{"$f":"IF(GQJ2>=Inputs!$E$38,$D$26,0)","v":0},{"$f":"IF(GQK2>=Inputs!$E$38,$D$26,0)","v":0},{"$f":"IF(GQL2>=Inputs!$E$38,$D$26,0)","v":0},{"$f":"IF(GQM2>=Inputs!$E$38,$D$26,0)","v":0},{"$f":"IF(GQN2>=Inputs!$E$38,$D$26,0)","v":0},{"$f":"IF(GQO2>=Inputs!$E$38,$D$26,0)","v":0},{"$f":"IF(GQP2>=Inputs!$E$38,$D$26,0)","v":0},{"$f":"IF(GQQ2>=Inputs!$E$38,$D$26,0)","v":0},{"$f":"IF(GQR2>=Inputs!$E$38,$D$26,0)","v":0},{"$f":"IF(GQS2>=Inputs!$E$38,$D$26,0)","v":0},{"$f":"IF(GQT2>=Inputs!$E$38,$D$26,0)","v":0},{"$f":"IF(GQU2>=Inputs!$E$38,$D$26,0)","v":0},{"$f":"IF(GQV2>=Inputs!$E$38,$D$26,0)","v":0},{"$f":"IF(GQW2>=Inputs!$E$38,$D$26,0)","v":0},{"$f":"IF(GQX2>=Inputs!$E$38,$D$26,0)","v":0},{"$f":"IF(GQY2>=Inputs!$E$38,$D$26,0)","v":0},{"$f":"IF(GQZ2>=Inputs!$E$38,$D$26,0)","v":0},{"$f":"IF(GRA2>=Inputs!$E$38,$D$26,0)","v":0},{"$f":"IF(GRB2>=Inputs!$E$38,$D$26,0)","v":0},{"$f":"IF(GRC2>=Inputs!$E$38,$D$26,0)","v":0},{"$f":"IF(GRD2>=Inputs!$E$38,$D$26,0)","v":0},{"$f":"IF(GRE2>=Inputs!$E$38,$D$26,0)","v":0},{"$f":"IF(GRF2>=Inputs!$E$38,$D$26,0)","v":0},{"$f":"IF(GRG2>=Inputs!$E$38,$D$26,0)","v":0},{"$f":"IF(GRH2>=Inputs!$E$38,$D$26,0)","v":0},{"$f":"IF(GRI2>=Inputs!$E$38,$D$26,0)","v":0},{"$f":"IF(GRJ2>=Inputs!$E$38,$D$26,0)","v":0},{"$f":"IF(GRK2>=Inputs!$E$38,$D$26,0)","v":0},{"$f":"IF(GRL2>=Inputs!$E$38,$D$26,0)","v":0},{"$f":"IF(GRM2>=Inputs!$E$38,$D$26,0)","v":0},{"$f":"IF(GRN2>=Inputs!$E$38,$D$26,0)","v":0},{"$f":"IF(GRO2>=Inputs!$E$38,$D$26,0)","v":0},{"$f":"IF(GRP2>=Inputs!$E$38,$D$26,0)","v":0},{"$f":"IF(GRQ2>=Inputs!$E$38,$D$26,0)","v":0},{"$f":"IF(GRR2>=Inputs!$E$38,$D$26,0)","v":0},{"$f":"IF(GRS2>=Inputs!$E$38,$D$26,0)","v":0},{"$f":"IF(GRT2>=Inputs!$E$38,$D$26,0)","v":0},{"$f":"IF(GRU2>=Inputs!$E$38,$D$26,0)","v":0},{"$f":"IF(GRV2>=Inputs!$E$38,$D$26,0)","v":0},{"$f":"IF(GRW2>=Inputs!$E$38,$D$26,0)","v":0},{"$f":"IF(GRX2>=Inputs!$E$38,$D$26,0)","v":0},{"$f":"IF(GRY2>=Inputs!$E$38,$D$26,0)","v":0},{"$f":"IF(GRZ2>=Inputs!$E$38,$D$26,0)","v":0},{"$f":"IF(GSA2>=Inputs!$E$38,$D$26,0)","v":0},{"$f":"IF(GSB2>=Inputs!$E$38,$D$26,0)","v":0},{"$f":"IF(GSC2>=Inputs!$E$38,$D$26,0)","v":0},{"$f":"IF(GSD2>=Inputs!$E$38,$D$26,0)","v":0},{"$f":"IF(GSE2>=Inputs!$E$38,$D$26,0)","v":0},{"$f":"IF(GSF2>=Inputs!$E$38,$D$26,0)","v":0},{"$f":"IF(GSG2>=Inputs!$E$38,$D$26,0)","v":0},{"$f":"IF(GSH2>=Inputs!$E$38,$D$26,0)","v":0},{"$f":"IF(GSI2>=Inputs!$E$38,$D$26,0)","v":0},{"$f":"IF(GSJ2>=Inputs!$E$38,$D$26,0)","v":0},{"$f":"IF(GSK2>=Inputs!$E$38,$D$26,0)","v":0},{"$f":"IF(GSL2>=Inputs!$E$38,$D$26,0)","v":0},{"$f":"IF(GSM2>=Inputs!$E$38,$D$26,0)","v":0},{"$f":"IF(GSN2>=Inputs!$E$38,$D$26,0)","v":0},{"$f":"IF(GSO2>=Inputs!$E$38,$D$26,0)","v":0},{"$f":"IF(GSP2>=Inputs!$E$38,$D$26,0)","v":0},{"$f":"IF(GSQ2>=Inputs!$E$38,$D$26,0)","v":0},{"$f":"IF(GSR2>=Inputs!$E$38,$D$26,0)","v":0},{"$f":"IF(GSS2>=Inputs!$E$38,$D$26,0)","v":0},{"$f":"IF(GST2>=Inputs!$E$38,$D$26,0)","v":0},{"$f":"IF(GSU2>=Inputs!$E$38,$D$26,0)","v":0},{"$f":"IF(GSV2>=Inputs!$E$38,$D$26,0)","v":0},{"$f":"IF(GSW2>=Inputs!$E$38,$D$26,0)","v":0},{"$f":"IF(GSX2>=Inputs!$E$38,$D$26,0)","v":0},{"$f":"IF(GSY2>=Inputs!$E$38,$D$26,0)","v":0},{"$f":"IF(GSZ2>=Inputs!$E$38,$D$26,0)","v":0},{"$f":"IF(GTA2>=Inputs!$E$38,$D$26,0)","v":0},{"$f":"IF(GTB2>=Inputs!$E$38,$D$26,0)","v":0},{"$f":"IF(GTC2>=Inputs!$E$38,$D$26,0)","v":0},{"$f":"IF(GTD2>=Inputs!$E$38,$D$26,0)","v":0},{"$f":"IF(GTE2>=Inputs!$E$38,$D$26,0)","v":0},{"$f":"IF(GTF2>=Inputs!$E$38,$D$26,0)","v":0},{"$f":"IF(GTG2>=Inputs!$E$38,$D$26,0)","v":0},{"$f":"IF(GTH2>=Inputs!$E$38,$D$26,0)","v":0},{"$f":"IF(GTI2>=Inputs!$E$38,$D$26,0)","v":0},{"$f":"IF(GTJ2>=Inputs!$E$38,$D$26,0)","v":0},{"$f":"IF(GTK2>=Inputs!$E$38,$D$26,0)","v":0},{"$f":"IF(GTL2>=Inputs!$E$38,$D$26,0)","v":0},{"$f":"IF(GTM2>=Inputs!$E$38,$D$26,0)","v":0},{"$f":"IF(GTN2>=Inputs!$E$38,$D$26,0)","v":0},{"$f":"IF(GTO2>=Inputs!$E$38,$D$26,0)","v":0},{"$f":"IF(GTP2>=Inputs!$E$38,$D$26,0)","v":0},{"$f":"IF(GTQ2>=Inputs!$E$38,$D$26,0)","v":0},{"$f":"IF(GTR2>=Inputs!$E$38,$D$26,0)","v":0},{"$f":"IF(GTS2>=Inputs!$E$38,$D$26,0)","v":0},{"$f":"IF(GTT2>=Inputs!$E$38,$D$26,0)","v":0},{"$f":"IF(GTU2>=Inputs!$E$38,$D$26,0)","v":0},{"$f":"IF(GTV2>=Inputs!$E$38,$D$26,0)","v":0},{"$f":"IF(GTW2>=Inputs!$E$38,$D$26,0)","v":0},{"$f":"IF(GTX2>=Inputs!$E$38,$D$26,0)","v":0},{"$f":"IF(GTY2>=Inputs!$E$38,$D$26,0)","v":0},{"$f":"IF(GTZ2>=Inputs!$E$38,$D$26,0)","v":0},{"$f":"IF(GUA2>=Inputs!$E$38,$D$26,0)","v":0},{"$f":"IF(GUB2>=Inputs!$E$38,$D$26,0)","v":0},{"$f":"IF(GUC2>=Inputs!$E$38,$D$26,0)","v":0},{"$f":"IF(GUD2>=Inputs!$E$38,$D$26,0)","v":0},{"$f":"IF(GUE2>=Inputs!$E$38,$D$26,0)","v":0},{"$f":"IF(GUF2>=Inputs!$E$38,$D$26,0)","v":0},{"$f":"IF(GUG2>=Inputs!$E$38,$D$26,0)","v":0},{"$f":"IF(GUH2>=Inputs!$E$38,$D$26,0)","v":0},{"$f":"IF(GUI2>=Inputs!$E$38,$D$26,0)","v":0},{"$f":"IF(GUJ2>=Inputs!$E$38,$D$26,0)","v":0},{"$f":"IF(GUK2>=Inputs!$E$38,$D$26,0)","v":0},{"$f":"IF(GUL2>=Inputs!$E$38,$D$26,0)","v":0},{"$f":"IF(GUM2>=Inputs!$E$38,$D$26,0)","v":0},{"$f":"IF(GUN2>=Inputs!$E$38,$D$26,0)","v":0},{"$f":"IF(GUO2>=Inputs!$E$38,$D$26,0)","v":0},{"$f":"IF(GUP2>=Inputs!$E$38,$D$26,0)","v":0},{"$f":"IF(GUQ2>=Inputs!$E$38,$D$26,0)","v":0},{"$f":"IF(GUR2>=Inputs!$E$38,$D$26,0)","v":0},{"$f":"IF(GUS2>=Inputs!$E$38,$D$26,0)","v":0},{"$f":"IF(GUT2>=Inputs!$E$38,$D$26,0)","v":0},{"$f":"IF(GUU2>=Inputs!$E$38,$D$26,0)","v":0},{"$f":"IF(GUV2>=Inputs!$E$38,$D$26,0)","v":0},{"$f":"IF(GUW2>=Inputs!$E$38,$D$26,0)","v":0},{"$f":"IF(GUX2>=Inputs!$E$38,$D$26,0)","v":0},{"$f":"IF(GUY2>=Inputs!$E$38,$D$26,0)","v":0},{"$f":"IF(GUZ2>=Inputs!$E$38,$D$26,0)","v":0},{"$f":"IF(GVA2>=Inputs!$E$38,$D$26,0)","v":0},{"$f":"IF(GVB2>=Inputs!$E$38,$D$26,0)","v":0},{"$f":"IF(GVC2>=Inputs!$E$38,$D$26,0)","v":0},{"$f":"IF(GVD2>=Inputs!$E$38,$D$26,0)","v":0},{"$f":"IF(GVE2>=Inputs!$E$38,$D$26,0)","v":0},{"$f":"IF(GVF2>=Inputs!$E$38,$D$26,0)","v":0},{"$f":"IF(GVG2>=Inputs!$E$38,$D$26,0)","v":0},{"$f":"IF(GVH2>=Inputs!$E$38,$D$26,0)","v":0},{"$f":"IF(GVI2>=Inputs!$E$38,$D$26,0)","v":0},{"$f":"IF(GVJ2>=Inputs!$E$38,$D$26,0)","v":0},{"$f":"IF(GVK2>=Inputs!$E$38,$D$26,0)","v":0},{"$f":"IF(GVL2>=Inputs!$E$38,$D$26,0)","v":0},{"$f":"IF(GVM2>=Inputs!$E$38,$D$26,0)","v":0},{"$f":"IF(GVN2>=Inputs!$E$38,$D$26,0)","v":0},{"$f":"IF(GVO2>=Inputs!$E$38,$D$26,0)","v":0},{"$f":"IF(GVP2>=Inputs!$E$38,$D$26,0)","v":0},{"$f":"IF(GVQ2>=Inputs!$E$38,$D$26,0)","v":0},{"$f":"IF(GVR2>=Inputs!$E$38,$D$26,0)","v":0},{"$f":"IF(GVS2>=Inputs!$E$38,$D$26,0)","v":0},{"$f":"IF(GVT2>=Inputs!$E$38,$D$26,0)","v":0},{"$f":"IF(GVU2>=Inputs!$E$38,$D$26,0)","v":0},{"$f":"IF(GVV2>=Inputs!$E$38,$D$26,0)","v":0},{"$f":"IF(GVW2>=Inputs!$E$38,$D$26,0)","v":0},{"$f":"IF(GVX2>=Inputs!$E$38,$D$26,0)","v":0},{"$f":"IF(GVY2>=Inputs!$E$38,$D$26,0)","v":0},{"$f":"IF(GVZ2>=Inputs!$E$38,$D$26,0)","v":0},{"$f":"IF(GWA2>=Inputs!$E$38,$D$26,0)","v":0},{"$f":"IF(GWB2>=Inputs!$E$38,$D$26,0)","v":0},{"$f":"IF(GWC2>=Inputs!$E$38,$D$26,0)","v":0},{"$f":"IF(GWD2>=Inputs!$E$38,$D$26,0)","v":0},{"$f":"IF(GWE2>=Inputs!$E$38,$D$26,0)","v":0},{"$f":"IF(GWF2>=Inputs!$E$38,$D$26,0)","v":0},{"$f":"IF(GWG2>=Inputs!$E$38,$D$26,0)","v":0},{"$f":"IF(GWH2>=Inputs!$E$38,$D$26,0)","v":0},{"$f":"IF(GWI2>=Inputs!$E$38,$D$26,0)","v":0},{"$f":"IF(GWJ2>=Inputs!$E$38,$D$26,0)","v":0},{"$f":"IF(GWK2>=Inputs!$E$38,$D$26,0)","v":0},{"$f":"IF(GWL2>=Inputs!$E$38,$D$26,0)","v":0},{"$f":"IF(GWM2>=Inputs!$E$38,$D$26,0)","v":0},{"$f":"IF(GWN2>=Inputs!$E$38,$D$26,0)","v":0},{"$f":"IF(GWO2>=Inputs!$E$38,$D$26,0)","v":0},{"$f":"IF(GWP2>=Inputs!$E$38,$D$26,0)","v":0},{"$f":"IF(GWQ2>=Inputs!$E$38,$D$26,0)","v":0},{"$f":"IF(GWR2>=Inputs!$E$38,$D$26,0)","v":0},{"$f":"IF(GWS2>=Inputs!$E$38,$D$26,0)","v":0},{"$f":"IF(GWT2>=Inputs!$E$38,$D$26,0)","v":0},{"$f":"IF(GWU2>=Inputs!$E$38,$D$26,0)","v":0},{"$f":"IF(GWV2>=Inputs!$E$38,$D$26,0)","v":0},{"$f":"IF(GWW2>=Inputs!$E$38,$D$26,0)","v":0},{"$f":"IF(GWX2>=Inputs!$E$38,$D$26,0)","v":0},{"$f":"IF(GWY2>=Inputs!$E$38,$D$26,0)","v":0},{"$f":"IF(GWZ2>=Inputs!$E$38,$D$26,0)","v":0},{"$f":"IF(GXA2>=Inputs!$E$38,$D$26,0)","v":0},{"$f":"IF(GXB2>=Inputs!$E$38,$D$26,0)","v":0},{"$f":"IF(GXC2>=Inputs!$E$38,$D$26,0)","v":0},{"$f":"IF(GXD2>=Inputs!$E$38,$D$26,0)","v":0},{"$f":"IF(GXE2>=Inputs!$E$38,$D$26,0)","v":0},{"$f":"IF(GXF2>=Inputs!$E$38,$D$26,0)","v":0},{"$f":"IF(GXG2>=Inputs!$E$38,$D$26,0)","v":0},{"$f":"IF(GXH2>=Inputs!$E$38,$D$26,0)","v":0},{"$f":"IF(GXI2>=Inputs!$E$38,$D$26,0)","v":0},{"$f":"IF(GXJ2>=Inputs!$E$38,$D$26,0)","v":0},{"$f":"IF(GXK2>=Inputs!$E$38,$D$26,0)","v":0},{"$f":"IF(GXL2>=Inputs!$E$38,$D$26,0)","v":0},{"$f":"IF(GXM2>=Inputs!$E$38,$D$26,0)","v":0},{"$f":"IF(GXN2>=Inputs!$E$38,$D$26,0)","v":0},{"$f":"IF(GXO2>=Inputs!$E$38,$D$26,0)","v":0},{"$f":"IF(GXP2>=Inputs!$E$38,$D$26,0)","v":0},{"$f":"IF(GXQ2>=Inputs!$E$38,$D$26,0)","v":0},{"$f":"IF(GXR2>=Inputs!$E$38,$D$26,0)","v":0},{"$f":"IF(GXS2>=Inputs!$E$38,$D$26,0)","v":0},{"$f":"IF(GXT2>=Inputs!$E$38,$D$26,0)","v":0},{"$f":"IF(GXU2>=Inputs!$E$38,$D$26,0)","v":0},{"$f":"IF(GXV2>=Inputs!$E$38,$D$26,0)","v":0},{"$f":"IF(GXW2>=Inputs!$E$38,$D$26,0)","v":0},{"$f":"IF(GXX2>=Inputs!$E$38,$D$26,0)","v":0},{"$f":"IF(GXY2>=Inputs!$E$38,$D$26,0)","v":0},{"$f":"IF(GXZ2>=Inputs!$E$38,$D$26,0)","v":0},{"$f":"IF(GYA2>=Inputs!$E$38,$D$26,0)","v":0},{"$f":"IF(GYB2>=Inputs!$E$38,$D$26,0)","v":0},{"$f":"IF(GYC2>=Inputs!$E$38,$D$26,0)","v":0},{"$f":"IF(GYD2>=Inputs!$E$38,$D$26,0)","v":0},{"$f":"IF(GYE2>=Inputs!$E$38,$D$26,0)","v":0},{"$f":"IF(GYF2>=Inputs!$E$38,$D$26,0)","v":0},{"$f":"IF(GYG2>=Inputs!$E$38,$D$26,0)","v":0},{"$f":"IF(GYH2>=Inputs!$E$38,$D$26,0)","v":0},{"$f":"IF(GYI2>=Inputs!$E$38,$D$26,0)","v":0},{"$f":"IF(GYJ2>=Inputs!$E$38,$D$26,0)","v":0},{"$f":"IF(GYK2>=Inputs!$E$38,$D$26,0)","v":0},{"$f":"IF(GYL2>=Inputs!$E$38,$D$26,0)","v":0},{"$f":"IF(GYM2>=Inputs!$E$38,$D$26,0)","v":0},{"$f":"IF(GYN2>=Inputs!$E$38,$D$26,0)","v":0},{"$f":"IF(GYO2>=Inputs!$E$38,$D$26,0)","v":0},{"$f":"IF(GYP2>=Inputs!$E$38,$D$26,0)","v":0},{"$f":"IF(GYQ2>=Inputs!$E$38,$D$26,0)","v":0},{"$f":"IF(GYR2>=Inputs!$E$38,$D$26,0)","v":0},{"$f":"IF(GYS2>=Inputs!$E$38,$D$26,0)","v":0},{"$f":"IF(GYT2>=Inputs!$E$38,$D$26,0)","v":0},{"$f":"IF(GYU2>=Inputs!$E$38,$D$26,0)","v":0},{"$f":"IF(GYV2>=Inputs!$E$38,$D$26,0)","v":0},{"$f":"IF(GYW2>=Inputs!$E$38,$D$26,0)","v":0},{"$f":"IF(GYX2>=Inputs!$E$38,$D$26,0)","v":0},{"$f":"IF(GYY2>=Inputs!$E$38,$D$26,0)","v":0},{"$f":"IF(GYZ2>=Inputs!$E$38,$D$26,0)","v":0},{"$f":"IF(GZA2>=Inputs!$E$38,$D$26,0)","v":0},{"$f":"IF(GZB2>=Inputs!$E$38,$D$26,0)","v":0},{"$f":"IF(GZC2>=Inputs!$E$38,$D$26,0)","v":0},{"$f":"IF(GZD2>=Inputs!$E$38,$D$26,0)","v":0},{"$f":"IF(GZE2>=Inputs!$E$38,$D$26,0)","v":0},{"$f":"IF(GZF2>=Inputs!$E$38,$D$26,0)","v":0},{"$f":"IF(GZG2>=Inputs!$E$38,$D$26,0)","v":0},{"$f":"IF(GZH2>=Inputs!$E$38,$D$26,0)","v":0},{"$f":"IF(GZI2>=Inputs!$E$38,$D$26,0)","v":0},{"$f":"IF(GZJ2>=Inputs!$E$38,$D$26,0)","v":0},{"$f":"IF(GZK2>=Inputs!$E$38,$D$26,0)","v":0},{"$f":"IF(GZL2>=Inputs!$E$38,$D$26,0)","v":0},{"$f":"IF(GZM2>=Inputs!$E$38,$D$26,0)","v":0},{"$f":"IF(GZN2>=Inputs!$E$38,$D$26,0)","v":0},{"$f":"IF(GZO2>=Inputs!$E$38,$D$26,0)","v":0},{"$f":"IF(GZP2>=Inputs!$E$38,$D$26,0)","v":0},{"$f":"IF(GZQ2>=Inputs!$E$38,$D$26,0)","v":0},{"$f":"IF(GZR2>=Inputs!$E$38,$D$26,0)","v":0},{"$f":"IF(GZS2>=Inputs!$E$38,$D$26,0)","v":0},{"$f":"IF(GZT2>=Inputs!$E$38,$D$26,0)","v":0},{"$f":"IF(GZU2>=Inputs!$E$38,$D$26,0)","v":0},{"$f":"IF(GZV2>=Inputs!$E$38,$D$26,0)","v":0},{"$f":"IF(GZW2>=Inputs!$E$38,$D$26,0)","v":0},{"$f":"IF(GZX2>=Inputs!$E$38,$D$26,0)","v":0},{"$f":"IF(GZY2>=Inputs!$E$38,$D$26,0)","v":0},{"$f":"IF(GZZ2>=Inputs!$E$38,$D$26,0)","v":0},{"$f":"IF(HAA2>=Inputs!$E$38,$D$26,0)","v":0},{"$f":"IF(HAB2>=Inputs!$E$38,$D$26,0)","v":0},{"$f":"IF(HAC2>=Inputs!$E$38,$D$26,0)","v":0},{"$f":"IF(HAD2>=Inputs!$E$38,$D$26,0)","v":0},{"$f":"IF(HAE2>=Inputs!$E$38,$D$26,0)","v":0},{"$f":"IF(HAF2>=Inputs!$E$38,$D$26,0)","v":0},{"$f":"IF(HAG2>=Inputs!$E$38,$D$26,0)","v":0},{"$f":"IF(HAH2>=Inputs!$E$38,$D$26,0)","v":0},{"$f":"IF(HAI2>=Inputs!$E$38,$D$26,0)","v":0},{"$f":"IF(HAJ2>=Inputs!$E$38,$D$26,0)","v":0},{"$f":"IF(HAK2>=Inputs!$E$38,$D$26,0)","v":0},{"$f":"IF(HAL2>=Inputs!$E$38,$D$26,0)","v":0},{"$f":"IF(HAM2>=Inputs!$E$38,$D$26,0)","v":0},{"$f":"IF(HAN2>=Inputs!$E$38,$D$26,0)","v":0},{"$f":"IF(HAO2>=Inputs!$E$38,$D$26,0)","v":0},{"$f":"IF(HAP2>=Inputs!$E$38,$D$26,0)","v":0},{"$f":"IF(HAQ2>=Inputs!$E$38,$D$26,0)","v":0},{"$f":"IF(HAR2>=Inputs!$E$38,$D$26,0)","v":0},{"$f":"IF(HAS2>=Inputs!$E$38,$D$26,0)","v":0},{"$f":"IF(HAT2>=Inputs!$E$38,$D$26,0)","v":0},{"$f":"IF(HAU2>=Inputs!$E$38,$D$26,0)","v":0},{"$f":"IF(HAV2>=Inputs!$E$38,$D$26,0)","v":0},{"$f":"IF(HAW2>=Inputs!$E$38,$D$26,0)","v":0},{"$f":"IF(HAX2>=Inputs!$E$38,$D$26,0)","v":0},{"$f":"IF(HAY2>=Inputs!$E$38,$D$26,0)","v":0},{"$f":"IF(HAZ2>=Inputs!$E$38,$D$26,0)","v":0},{"$f":"IF(HBA2>=Inputs!$E$38,$D$26,0)","v":0},{"$f":"IF(HBB2>=Inputs!$E$38,$D$26,0)","v":0},{"$f":"IF(HBC2>=Inputs!$E$38,$D$26,0)","v":0},{"$f":"IF(HBD2>=Inputs!$E$38,$D$26,0)","v":0},{"$f":"IF(HBE2>=Inputs!$E$38,$D$26,0)","v":0},{"$f":"IF(HBF2>=Inputs!$E$38,$D$26,0)","v":0},{"$f":"IF(HBG2>=Inputs!$E$38,$D$26,0)","v":0},{"$f":"IF(HBH2>=Inputs!$E$38,$D$26,0)","v":0},{"$f":"IF(HBI2>=Inputs!$E$38,$D$26,0)","v":0},{"$f":"IF(HBJ2>=Inputs!$E$38,$D$26,0)","v":0},{"$f":"IF(HBK2>=Inputs!$E$38,$D$26,0)","v":0},{"$f":"IF(HBL2>=Inputs!$E$38,$D$26,0)","v":0},{"$f":"IF(HBM2>=Inputs!$E$38,$D$26,0)","v":0},{"$f":"IF(HBN2>=Inputs!$E$38,$D$26,0)","v":0},{"$f":"IF(HBO2>=Inputs!$E$38,$D$26,0)","v":0},{"$f":"IF(HBP2>=Inputs!$E$38,$D$26,0)","v":0},{"$f":"IF(HBQ2>=Inputs!$E$38,$D$26,0)","v":0},{"$f":"IF(HBR2>=Inputs!$E$38,$D$26,0)","v":0},{"$f":"IF(HBS2>=Inputs!$E$38,$D$26,0)","v":0},{"$f":"IF(HBT2>=Inputs!$E$38,$D$26,0)","v":0},{"$f":"IF(HBU2>=Inputs!$E$38,$D$26,0)","v":0},{"$f":"IF(HBV2>=Inputs!$E$38,$D$26,0)","v":0},{"$f":"IF(HBW2>=Inputs!$E$38,$D$26,0)","v":0},{"$f":"IF(HBX2>=Inputs!$E$38,$D$26,0)","v":0},{"$f":"IF(HBY2>=Inputs!$E$38,$D$26,0)","v":0},{"$f":"IF(HBZ2>=Inputs!$E$38,$D$26,0)","v":0},{"$f":"IF(HCA2>=Inputs!$E$38,$D$26,0)","v":0},{"$f":"IF(HCB2>=Inputs!$E$38,$D$26,0)","v":0},{"$f":"IF(HCC2>=Inputs!$E$38,$D$26,0)","v":0},{"$f":"IF(HCD2>=Inputs!$E$38,$D$26,0)","v":0},{"$f":"IF(HCE2>=Inputs!$E$38,$D$26,0)","v":0},{"$f":"IF(HCF2>=Inputs!$E$38,$D$26,0)","v":0},{"$f":"IF(HCG2>=Inputs!$E$38,$D$26,0)","v":0},{"$f":"IF(HCH2>=Inputs!$E$38,$D$26,0)","v":0},{"$f":"IF(HCI2>=Inputs!$E$38,$D$26,0)","v":0},{"$f":"IF(HCJ2>=Inputs!$E$38,$D$26,0)","v":0},{"$f":"IF(HCK2>=Inputs!$E$38,$D$26,0)","v":0},{"$f":"IF(HCL2>=Inputs!$E$38,$D$26,0)","v":0},{"$f":"IF(HCM2>=Inputs!$E$38,$D$26,0)","v":0},{"$f":"IF(HCN2>=Inputs!$E$38,$D$26,0)","v":0},{"$f":"IF(HCO2>=Inputs!$E$38,$D$26,0)","v":0},{"$f":"IF(HCP2>=Inputs!$E$38,$D$26,0)","v":0},{"$f":"IF(HCQ2>=Inputs!$E$38,$D$26,0)","v":0},{"$f":"IF(HCR2>=Inputs!$E$38,$D$26,0)","v":0},{"$f":"IF(HCS2>=Inputs!$E$38,$D$26,0)","v":0},{"$f":"IF(HCT2>=Inputs!$E$38,$D$26,0)","v":0},{"$f":"IF(HCU2>=Inputs!$E$38,$D$26,0)","v":0},{"$f":"IF(HCV2>=Inputs!$E$38,$D$26,0)","v":0},{"$f":"IF(HCW2>=Inputs!$E$38,$D$26,0)","v":0},{"$f":"IF(HCX2>=Inputs!$E$38,$D$26,0)","v":0},{"$f":"IF(HCY2>=Inputs!$E$38,$D$26,0)","v":0},{"$f":"IF(HCZ2>=Inputs!$E$38,$D$26,0)","v":0},{"$f":"IF(HDA2>=Inputs!$E$38,$D$26,0)","v":0},{"$f":"IF(HDB2>=Inputs!$E$38,$D$26,0)","v":0},{"$f":"IF(HDC2>=Inputs!$E$38,$D$26,0)","v":0},{"$f":"IF(HDD2>=Inputs!$E$38,$D$26,0)","v":0},{"$f":"IF(HDE2>=Inputs!$E$38,$D$26,0)","v":0},{"$f":"IF(HDF2>=Inputs!$E$38,$D$26,0)","v":0},{"$f":"IF(HDG2>=Inputs!$E$38,$D$26,0)","v":0},{"$f":"IF(HDH2>=Inputs!$E$38,$D$26,0)","v":0},{"$f":"IF(HDI2>=Inputs!$E$38,$D$26,0)","v":0},{"$f":"IF(HDJ2>=Inputs!$E$38,$D$26,0)","v":0},{"$f":"IF(HDK2>=Inputs!$E$38,$D$26,0)","v":0},{"$f":"IF(HDL2>=Inputs!$E$38,$D$26,0)","v":0},{"$f":"IF(HDM2>=Inputs!$E$38,$D$26,0)","v":0},{"$f":"IF(HDN2>=Inputs!$E$38,$D$26,0)","v":0},{"$f":"IF(HDO2>=Inputs!$E$38,$D$26,0)","v":0},{"$f":"IF(HDP2>=Inputs!$E$38,$D$26,0)","v":0},{"$f":"IF(HDQ2>=Inputs!$E$38,$D$26,0)","v":0},{"$f":"IF(HDR2>=Inputs!$E$38,$D$26,0)","v":0},{"$f":"IF(HDS2>=Inputs!$E$38,$D$26,0)","v":0},{"$f":"IF(HDT2>=Inputs!$E$38,$D$26,0)","v":0},{"$f":"IF(HDU2>=Inputs!$E$38,$D$26,0)","v":0},{"$f":"IF(HDV2>=Inputs!$E$38,$D$26,0)","v":0},{"$f":"IF(HDW2>=Inputs!$E$38,$D$26,0)","v":0},{"$f":"IF(HDX2>=Inputs!$E$38,$D$26,0)","v":0},{"$f":"IF(HDY2>=Inputs!$E$38,$D$26,0)","v":0},{"$f":"IF(HDZ2>=Inputs!$E$38,$D$26,0)","v":0},{"$f":"IF(HEA2>=Inputs!$E$38,$D$26,0)","v":0},{"$f":"IF(HEB2>=Inputs!$E$38,$D$26,0)","v":0},{"$f":"IF(HEC2>=Inputs!$E$38,$D$26,0)","v":0},{"$f":"IF(HED2>=Inputs!$E$38,$D$26,0)","v":0},{"$f":"IF(HEE2>=Inputs!$E$38,$D$26,0)","v":0},{"$f":"IF(HEF2>=Inputs!$E$38,$D$26,0)","v":0},{"$f":"IF(HEG2>=Inputs!$E$38,$D$26,0)","v":0},{"$f":"IF(HEH2>=Inputs!$E$38,$D$26,0)","v":0},{"$f":"IF(HEI2>=Inputs!$E$38,$D$26,0)","v":0},{"$f":"IF(HEJ2>=Inputs!$E$38,$D$26,0)","v":0},{"$f":"IF(HEK2>=Inputs!$E$38,$D$26,0)","v":0},{"$f":"IF(HEL2>=Inputs!$E$38,$D$26,0)","v":0},{"$f":"IF(HEM2>=Inputs!$E$38,$D$26,0)","v":0},{"$f":"IF(HEN2>=Inputs!$E$38,$D$26,0)","v":0},{"$f":"IF(HEO2>=Inputs!$E$38,$D$26,0)","v":0},{"$f":"IF(HEP2>=Inputs!$E$38,$D$26,0)","v":0},{"$f":"IF(HEQ2>=Inputs!$E$38,$D$26,0)","v":0},{"$f":"IF(HER2>=Inputs!$E$38,$D$26,0)","v":0},{"$f":"IF(HES2>=Inputs!$E$38,$D$26,0)","v":0},{"$f":"IF(HET2>=Inputs!$E$38,$D$26,0)","v":0},{"$f":"IF(HEU2>=Inputs!$E$38,$D$26,0)","v":0},{"$f":"IF(HEV2>=Inputs!$E$38,$D$26,0)","v":0},{"$f":"IF(HEW2>=Inputs!$E$38,$D$26,0)","v":0},{"$f":"IF(HEX2>=Inputs!$E$38,$D$26,0)","v":0},{"$f":"IF(HEY2>=Inputs!$E$38,$D$26,0)","v":0},{"$f":"IF(HEZ2>=Inputs!$E$38,$D$26,0)","v":0},{"$f":"IF(HFA2>=Inputs!$E$38,$D$26,0)","v":0},{"$f":"IF(HFB2>=Inputs!$E$38,$D$26,0)","v":0},{"$f":"IF(HFC2>=Inputs!$E$38,$D$26,0)","v":0},{"$f":"IF(HFD2>=Inputs!$E$38,$D$26,0)","v":0},{"$f":"IF(HFE2>=Inputs!$E$38,$D$26,0)","v":0},{"$f":"IF(HFF2>=Inputs!$E$38,$D$26,0)","v":0},{"$f":"IF(HFG2>=Inputs!$E$38,$D$26,0)","v":0},{"$f":"IF(HFH2>=Inputs!$E$38,$D$26,0)","v":0},{"$f":"IF(HFI2>=Inputs!$E$38,$D$26,0)","v":0},{"$f":"IF(HFJ2>=Inputs!$E$38,$D$26,0)","v":0},{"$f":"IF(HFK2>=Inputs!$E$38,$D$26,0)","v":0},{"$f":"IF(HFL2>=Inputs!$E$38,$D$26,0)","v":0},{"$f":"IF(HFM2>=Inputs!$E$38,$D$26,0)","v":0},{"$f":"IF(HFN2>=Inputs!$E$38,$D$26,0)","v":0},{"$f":"IF(HFO2>=Inputs!$E$38,$D$26,0)","v":0},{"$f":"IF(HFP2>=Inputs!$E$38,$D$26,0)","v":0},{"$f":"IF(HFQ2>=Inputs!$E$38,$D$26,0)","v":0},{"$f":"IF(HFR2>=Inputs!$E$38,$D$26,0)","v":0},{"$f":"IF(HFS2>=Inputs!$E$38,$D$26,0)","v":0},{"$f":"IF(HFT2>=Inputs!$E$38,$D$26,0)","v":0},{"$f":"IF(HFU2>=Inputs!$E$38,$D$26,0)","v":0},{"$f":"IF(HFV2>=Inputs!$E$38,$D$26,0)","v":0},{"$f":"IF(HFW2>=Inputs!$E$38,$D$26,0)","v":0},{"$f":"IF(HFX2>=Inputs!$E$38,$D$26,0)","v":0},{"$f":"IF(HFY2>=Inputs!$E$38,$D$26,0)","v":0},{"$f":"IF(HFZ2>=Inputs!$E$38,$D$26,0)","v":0},{"$f":"IF(HGA2>=Inputs!$E$38,$D$26,0)","v":0},{"$f":"IF(HGB2>=Inputs!$E$38,$D$26,0)","v":0},{"$f":"IF(HGC2>=Inputs!$E$38,$D$26,0)","v":0},{"$f":"IF(HGD2>=Inputs!$E$38,$D$26,0)","v":0},{"$f":"IF(HGE2>=Inputs!$E$38,$D$26,0)","v":0},{"$f":"IF(HGF2>=Inputs!$E$38,$D$26,0)","v":0},{"$f":"IF(HGG2>=Inputs!$E$38,$D$26,0)","v":0},{"$f":"IF(HGH2>=Inputs!$E$38,$D$26,0)","v":0},{"$f":"IF(HGI2>=Inputs!$E$38,$D$26,0)","v":0},{"$f":"IF(HGJ2>=Inputs!$E$38,$D$26,0)","v":0},{"$f":"IF(HGK2>=Inputs!$E$38,$D$26,0)","v":0},{"$f":"IF(HGL2>=Inputs!$E$38,$D$26,0)","v":0},{"$f":"IF(HGM2>=Inputs!$E$38,$D$26,0)","v":0},{"$f":"IF(HGN2>=Inputs!$E$38,$D$26,0)","v":0},{"$f":"IF(HGO2>=Inputs!$E$38,$D$26,0)","v":0},{"$f":"IF(HGP2>=Inputs!$E$38,$D$26,0)","v":0},{"$f":"IF(HGQ2>=Inputs!$E$38,$D$26,0)","v":0},{"$f":"IF(HGR2>=Inputs!$E$38,$D$26,0)","v":0},{"$f":"IF(HGS2>=Inputs!$E$38,$D$26,0)","v":0},{"$f":"IF(HGT2>=Inputs!$E$38,$D$26,0)","v":0},{"$f":"IF(HGU2>=Inputs!$E$38,$D$26,0)","v":0},{"$f":"IF(HGV2>=Inputs!$E$38,$D$26,0)","v":0},{"$f":"IF(HGW2>=Inputs!$E$38,$D$26,0)","v":0},{"$f":"IF(HGX2>=Inputs!$E$38,$D$26,0)","v":0},{"$f":"IF(HGY2>=Inputs!$E$38,$D$26,0)","v":0},{"$f":"IF(HGZ2>=Inputs!$E$38,$D$26,0)","v":0},{"$f":"IF(HHA2>=Inputs!$E$38,$D$26,0)","v":0},{"$f":"IF(HHB2>=Inputs!$E$38,$D$26,0)","v":0},{"$f":"IF(HHC2>=Inputs!$E$38,$D$26,0)","v":0},{"$f":"IF(HHD2>=Inputs!$E$38,$D$26,0)","v":0},{"$f":"IF(HHE2>=Inputs!$E$38,$D$26,0)","v":0},{"$f":"IF(HHF2>=Inputs!$E$38,$D$26,0)","v":0},{"$f":"IF(HHG2>=Inputs!$E$38,$D$26,0)","v":0},{"$f":"IF(HHH2>=Inputs!$E$38,$D$26,0)","v":0},{"$f":"IF(HHI2>=Inputs!$E$38,$D$26,0)","v":0},{"$f":"IF(HHJ2>=Inputs!$E$38,$D$26,0)","v":0},{"$f":"IF(HHK2>=Inputs!$E$38,$D$26,0)","v":0},{"$f":"IF(HHL2>=Inputs!$E$38,$D$26,0)","v":0},{"$f":"IF(HHM2>=Inputs!$E$38,$D$26,0)","v":0},{"$f":"IF(HHN2>=Inputs!$E$38,$D$26,0)","v":0},{"$f":"IF(HHO2>=Inputs!$E$38,$D$26,0)","v":0},{"$f":"IF(HHP2>=Inputs!$E$38,$D$26,0)","v":0},{"$f":"IF(HHQ2>=Inputs!$E$38,$D$26,0)","v":0},{"$f":"IF(HHR2>=Inputs!$E$38,$D$26,0)","v":0},{"$f":"IF(HHS2>=Inputs!$E$38,$D$26,0)","v":0},{"$f":"IF(HHT2>=Inputs!$E$38,$D$26,0)","v":0},{"$f":"IF(HHU2>=Inputs!$E$38,$D$26,0)","v":0},{"$f":"IF(HHV2>=Inputs!$E$38,$D$26,0)","v":0},{"$f":"IF(HHW2>=Inputs!$E$38,$D$26,0)","v":0},{"$f":"IF(HHX2>=Inputs!$E$38,$D$26,0)","v":0},{"$f":"IF(HHY2>=Inputs!$E$38,$D$26,0)","v":0},{"$f":"IF(HHZ2>=Inputs!$E$38,$D$26,0)","v":0},{"$f":"IF(HIA2>=Inputs!$E$38,$D$26,0)","v":0},{"$f":"IF(HIB2>=Inputs!$E$38,$D$26,0)","v":0},{"$f":"IF(HIC2>=Inputs!$E$38,$D$26,0)","v":0},{"$f":"IF(HID2>=Inputs!$E$38,$D$26,0)","v":0},{"$f":"IF(HIE2>=Inputs!$E$38,$D$26,0)","v":0},{"$f":"IF(HIF2>=Inputs!$E$38,$D$26,0)","v":0},{"$f":"IF(HIG2>=Inputs!$E$38,$D$26,0)","v":0},{"$f":"IF(HIH2>=Inputs!$E$38,$D$26,0)","v":0},{"$f":"IF(HII2>=Inputs!$E$38,$D$26,0)","v":0},{"$f":"IF(HIJ2>=Inputs!$E$38,$D$26,0)","v":0},{"$f":"IF(HIK2>=Inputs!$E$38,$D$26,0)","v":0},{"$f":"IF(HIL2>=Inputs!$E$38,$D$26,0)","v":0},{"$f":"IF(HIM2>=Inputs!$E$38,$D$26,0)","v":0},{"$f":"IF(HIN2>=Inputs!$E$38,$D$26,0)","v":0},{"$f":"IF(HIO2>=Inputs!$E$38,$D$26,0)","v":0},{"$f":"IF(HIP2>=Inputs!$E$38,$D$26,0)","v":0},{"$f":"IF(HIQ2>=Inputs!$E$38,$D$26,0)","v":0},{"$f":"IF(HIR2>=Inputs!$E$38,$D$26,0)","v":0},{"$f":"IF(HIS2>=Inputs!$E$38,$D$26,0)","v":0},{"$f":"IF(HIT2>=Inputs!$E$38,$D$26,0)","v":0},{"$f":"IF(HIU2>=Inputs!$E$38,$D$26,0)","v":0},{"$f":"IF(HIV2>=Inputs!$E$38,$D$26,0)","v":0},{"$f":"IF(HIW2>=Inputs!$E$38,$D$26,0)","v":0},{"$f":"IF(HIX2>=Inputs!$E$38,$D$26,0)","v":0},{"$f":"IF(HIY2>=Inputs!$E$38,$D$26,0)","v":0},{"$f":"IF(HIZ2>=Inputs!$E$38,$D$26,0)","v":0},{"$f":"IF(HJA2>=Inputs!$E$38,$D$26,0)","v":0},{"$f":"IF(HJB2>=Inputs!$E$38,$D$26,0)","v":0},{"$f":"IF(HJC2>=Inputs!$E$38,$D$26,0)","v":0},{"$f":"IF(HJD2>=Inputs!$E$38,$D$26,0)","v":0},{"$f":"IF(HJE2>=Inputs!$E$38,$D$26,0)","v":0},{"$f":"IF(HJF2>=Inputs!$E$38,$D$26,0)","v":0},{"$f":"IF(HJG2>=Inputs!$E$38,$D$26,0)","v":0},{"$f":"IF(HJH2>=Inputs!$E$38,$D$26,0)","v":0},{"$f":"IF(HJI2>=Inputs!$E$38,$D$26,0)","v":0},{"$f":"IF(HJJ2>=Inputs!$E$38,$D$26,0)","v":0},{"$f":"IF(HJK2>=Inputs!$E$38,$D$26,0)","v":0},{"$f":"IF(HJL2>=Inputs!$E$38,$D$26,0)","v":0},{"$f":"IF(HJM2>=Inputs!$E$38,$D$26,0)","v":0},{"$f":"IF(HJN2>=Inputs!$E$38,$D$26,0)","v":0},{"$f":"IF(HJO2>=Inputs!$E$38,$D$26,0)","v":0},{"$f":"IF(HJP2>=Inputs!$E$38,$D$26,0)","v":0},{"$f":"IF(HJQ2>=Inputs!$E$38,$D$26,0)","v":0},{"$f":"IF(HJR2>=Inputs!$E$38,$D$26,0)","v":0},{"$f":"IF(HJS2>=Inputs!$E$38,$D$26,0)","v":0},{"$f":"IF(HJT2>=Inputs!$E$38,$D$26,0)","v":0},{"$f":"IF(HJU2>=Inputs!$E$38,$D$26,0)","v":0},{"$f":"IF(HJV2>=Inputs!$E$38,$D$26,0)","v":0},{"$f":"IF(HJW2>=Inputs!$E$38,$D$26,0)","v":0},{"$f":"IF(HJX2>=Inputs!$E$38,$D$26,0)","v":0},{"$f":"IF(HJY2>=Inputs!$E$38,$D$26,0)","v":0},{"$f":"IF(HJZ2>=Inputs!$E$38,$D$26,0)","v":0},{"$f":"IF(HKA2>=Inputs!$E$38,$D$26,0)","v":0},{"$f":"IF(HKB2>=Inputs!$E$38,$D$26,0)","v":0},{"$f":"IF(HKC2>=Inputs!$E$38,$D$26,0)","v":0},{"$f":"IF(HKD2>=Inputs!$E$38,$D$26,0)","v":0},{"$f":"IF(HKE2>=Inputs!$E$38,$D$26,0)","v":0},{"$f":"IF(HKF2>=Inputs!$E$38,$D$26,0)","v":0},{"$f":"IF(HKG2>=Inputs!$E$38,$D$26,0)","v":0},{"$f":"IF(HKH2>=Inputs!$E$38,$D$26,0)","v":0},{"$f":"IF(HKI2>=Inputs!$E$38,$D$26,0)","v":0},{"$f":"IF(HKJ2>=Inputs!$E$38,$D$26,0)","v":0},{"$f":"IF(HKK2>=Inputs!$E$38,$D$26,0)","v":0},{"$f":"IF(HKL2>=Inputs!$E$38,$D$26,0)","v":0},{"$f":"IF(HKM2>=Inputs!$E$38,$D$26,0)","v":0},{"$f":"IF(HKN2>=Inputs!$E$38,$D$26,0)","v":0},{"$f":"IF(HKO2>=Inputs!$E$38,$D$26,0)","v":0},{"$f":"IF(HKP2>=Inputs!$E$38,$D$26,0)","v":0},{"$f":"IF(HKQ2>=Inputs!$E$38,$D$26,0)","v":0},{"$f":"IF(HKR2>=Inputs!$E$38,$D$26,0)","v":0},{"$f":"IF(HKS2>=Inputs!$E$38,$D$26,0)","v":0},{"$f":"IF(HKT2>=Inputs!$E$38,$D$26,0)","v":0},{"$f":"IF(HKU2>=Inputs!$E$38,$D$26,0)","v":0},{"$f":"IF(HKV2>=Inputs!$E$38,$D$26,0)","v":0},{"$f":"IF(HKW2>=Inputs!$E$38,$D$26,0)","v":0},{"$f":"IF(HKX2>=Inputs!$E$38,$D$26,0)","v":0},{"$f":"IF(HKY2>=Inputs!$E$38,$D$26,0)","v":0},{"$f":"IF(HKZ2>=Inputs!$E$38,$D$26,0)","v":0},{"$f":"IF(HLA2>=Inputs!$E$38,$D$26,0)","v":0},{"$f":"IF(HLB2>=Inputs!$E$38,$D$26,0)","v":0},{"$f":"IF(HLC2>=Inputs!$E$38,$D$26,0)","v":0},{"$f":"IF(HLD2>=Inputs!$E$38,$D$26,0)","v":0},{"$f":"IF(HLE2>=Inputs!$E$38,$D$26,0)","v":0},{"$f":"IF(HLF2>=Inputs!$E$38,$D$26,0)","v":0},{"$f":"IF(HLG2>=Inputs!$E$38,$D$26,0)","v":0},{"$f":"IF(HLH2>=Inputs!$E$38,$D$26,0)","v":0},{"$f":"IF(HLI2>=Inputs!$E$38,$D$26,0)","v":0},{"$f":"IF(HLJ2>=Inputs!$E$38,$D$26,0)","v":0},{"$f":"IF(HLK2>=Inputs!$E$38,$D$26,0)","v":0},{"$f":"IF(HLL2>=Inputs!$E$38,$D$26,0)","v":0},{"$f":"IF(HLM2>=Inputs!$E$38,$D$26,0)","v":0},{"$f":"IF(HLN2>=Inputs!$E$38,$D$26,0)","v":0},{"$f":"IF(HLO2>=Inputs!$E$38,$D$26,0)","v":0},{"$f":"IF(HLP2>=Inputs!$E$38,$D$26,0)","v":0},{"$f":"IF(HLQ2>=Inputs!$E$38,$D$26,0)","v":0},{"$f":"IF(HLR2>=Inputs!$E$38,$D$26,0)","v":0},{"$f":"IF(HLS2>=Inputs!$E$38,$D$26,0)","v":0},{"$f":"IF(HLT2>=Inputs!$E$38,$D$26,0)","v":0},{"$f":"IF(HLU2>=Inputs!$E$38,$D$26,0)","v":0},{"$f":"IF(HLV2>=Inputs!$E$38,$D$26,0)","v":0},{"$f":"IF(HLW2>=Inputs!$E$38,$D$26,0)","v":0},{"$f":"IF(HLX2>=Inputs!$E$38,$D$26,0)","v":0},{"$f":"IF(HLY2>=Inputs!$E$38,$D$26,0)","v":0},{"$f":"IF(HLZ2>=Inputs!$E$38,$D$26,0)","v":0},{"$f":"IF(HMA2>=Inputs!$E$38,$D$26,0)","v":0},{"$f":"IF(HMB2>=Inputs!$E$38,$D$26,0)","v":0},{"$f":"IF(HMC2>=Inputs!$E$38,$D$26,0)","v":0},{"$f":"IF(HMD2>=Inputs!$E$38,$D$26,0)","v":0},{"$f":"IF(HME2>=Inputs!$E$38,$D$26,0)","v":0},{"$f":"IF(HMF2>=Inputs!$E$38,$D$26,0)","v":0},{"$f":"IF(HMG2>=Inputs!$E$38,$D$26,0)","v":0},{"$f":"IF(HMH2>=Inputs!$E$38,$D$26,0)","v":0},{"$f":"IF(HMI2>=Inputs!$E$38,$D$26,0)","v":0},{"$f":"IF(HMJ2>=Inputs!$E$38,$D$26,0)","v":0},{"$f":"IF(HMK2>=Inputs!$E$38,$D$26,0)","v":0},{"$f":"IF(HML2>=Inputs!$E$38,$D$26,0)","v":0},{"$f":"IF(HMM2>=Inputs!$E$38,$D$26,0)","v":0},{"$f":"IF(HMN2>=Inputs!$E$38,$D$26,0)","v":0},{"$f":"IF(HMO2>=Inputs!$E$38,$D$26,0)","v":0},{"$f":"IF(HMP2>=Inputs!$E$38,$D$26,0)","v":0},{"$f":"IF(HMQ2>=Inputs!$E$38,$D$26,0)","v":0},{"$f":"IF(HMR2>=Inputs!$E$38,$D$26,0)","v":0},{"$f":"IF(HMS2>=Inputs!$E$38,$D$26,0)","v":0},{"$f":"IF(HMT2>=Inputs!$E$38,$D$26,0)","v":0},{"$f":"IF(HMU2>=Inputs!$E$38,$D$26,0)","v":0},{"$f":"IF(HMV2>=Inputs!$E$38,$D$26,0)","v":0},{"$f":"IF(HMW2>=Inputs!$E$38,$D$26,0)","v":0},{"$f":"IF(HMX2>=Inputs!$E$38,$D$26,0)","v":0},{"$f":"IF(HMY2>=Inputs!$E$38,$D$26,0)","v":0},{"$f":"IF(HMZ2>=Inputs!$E$38,$D$26,0)","v":0},{"$f":"IF(HNA2>=Inputs!$E$38,$D$26,0)","v":0},{"$f":"IF(HNB2>=Inputs!$E$38,$D$26,0)","v":0},{"$f":"IF(HNC2>=Inputs!$E$38,$D$26,0)","v":0},{"$f":"IF(HND2>=Inputs!$E$38,$D$26,0)","v":0},{"$f":"IF(HNE2>=Inputs!$E$38,$D$26,0)","v":0},{"$f":"IF(HNF2>=Inputs!$E$38,$D$26,0)","v":0},{"$f":"IF(HNG2>=Inputs!$E$38,$D$26,0)","v":0},{"$f":"IF(HNH2>=Inputs!$E$38,$D$26,0)","v":0},{"$f":"IF(HNI2>=Inputs!$E$38,$D$26,0)","v":0},{"$f":"IF(HNJ2>=Inputs!$E$38,$D$26,0)","v":0},{"$f":"IF(HNK2>=Inputs!$E$38,$D$26,0)","v":0},{"$f":"IF(HNL2>=Inputs!$E$38,$D$26,0)","v":0},{"$f":"IF(HNM2>=Inputs!$E$38,$D$26,0)","v":0},{"$f":"IF(HNN2>=Inputs!$E$38,$D$26,0)","v":0},{"$f":"IF(HNO2>=Inputs!$E$38,$D$26,0)","v":0},{"$f":"IF(HNP2>=Inputs!$E$38,$D$26,0)","v":0},{"$f":"IF(HNQ2>=Inputs!$E$38,$D$26,0)","v":0},{"$f":"IF(HNR2>=Inputs!$E$38,$D$26,0)","v":0},{"$f":"IF(HNS2>=Inputs!$E$38,$D$26,0)","v":0},{"$f":"IF(HNT2>=Inputs!$E$38,$D$26,0)","v":0},{"$f":"IF(HNU2>=Inputs!$E$38,$D$26,0)","v":0},{"$f":"IF(HNV2>=Inputs!$E$38,$D$26,0)","v":0},{"$f":"IF(HNW2>=Inputs!$E$38,$D$26,0)","v":0},{"$f":"IF(HNX2>=Inputs!$E$38,$D$26,0)","v":0},{"$f":"IF(HNY2>=Inputs!$E$38,$D$26,0)","v":0},{"$f":"IF(HNZ2>=Inputs!$E$38,$D$26,0)","v":0},{"$f":"IF(HOA2>=Inputs!$E$38,$D$26,0)","v":0},{"$f":"IF(HOB2>=Inputs!$E$38,$D$26,0)","v":0},{"$f":"IF(HOC2>=Inputs!$E$38,$D$26,0)","v":0},{"$f":"IF(HOD2>=Inputs!$E$38,$D$26,0)","v":0},{"$f":"IF(HOE2>=Inputs!$E$38,$D$26,0)","v":0},{"$f":"IF(HOF2>=Inputs!$E$38,$D$26,0)","v":0},{"$f":"IF(HOG2>=Inputs!$E$38,$D$26,0)","v":0},{"$f":"IF(HOH2>=Inputs!$E$38,$D$26,0)","v":0},{"$f":"IF(HOI2>=Inputs!$E$38,$D$26,0)","v":0},{"$f":"IF(HOJ2>=Inputs!$E$38,$D$26,0)","v":0},{"$f":"IF(HOK2>=Inputs!$E$38,$D$26,0)","v":0},{"$f":"IF(HOL2>=Inputs!$E$38,$D$26,0)","v":0},{"$f":"IF(HOM2>=Inputs!$E$38,$D$26,0)","v":0},{"$f":"IF(HON2>=Inputs!$E$38,$D$26,0)","v":0},{"$f":"IF(HOO2>=Inputs!$E$38,$D$26,0)","v":0},{"$f":"IF(HOP2>=Inputs!$E$38,$D$26,0)","v":0},{"$f":"IF(HOQ2>=Inputs!$E$38,$D$26,0)","v":0},{"$f":"IF(HOR2>=Inputs!$E$38,$D$26,0)","v":0},{"$f":"IF(HOS2>=Inputs!$E$38,$D$26,0)","v":0},{"$f":"IF(HOT2>=Inputs!$E$38,$D$26,0)","v":0},{"$f":"IF(HOU2>=Inputs!$E$38,$D$26,0)","v":0},{"$f":"IF(HOV2>=Inputs!$E$38,$D$26,0)","v":0},{"$f":"IF(HOW2>=Inputs!$E$38,$D$26,0)","v":0},{"$f":"IF(HOX2>=Inputs!$E$38,$D$26,0)","v":0},{"$f":"IF(HOY2>=Inputs!$E$38,$D$26,0)","v":0},{"$f":"IF(HOZ2>=Inputs!$E$38,$D$26,0)","v":0},{"$f":"IF(HPA2>=Inputs!$E$38,$D$26,0)","v":0},{"$f":"IF(HPB2>=Inputs!$E$38,$D$26,0)","v":0},{"$f":"IF(HPC2>=Inputs!$E$38,$D$26,0)","v":0},{"$f":"IF(HPD2>=Inputs!$E$38,$D$26,0)","v":0},{"$f":"IF(HPE2>=Inputs!$E$38,$D$26,0)","v":0},{"$f":"IF(HPF2>=Inputs!$E$38,$D$26,0)","v":0},{"$f":"IF(HPG2>=Inputs!$E$38,$D$26,0)","v":0},{"$f":"IF(HPH2>=Inputs!$E$38,$D$26,0)","v":0},{"$f":"IF(HPI2>=Inputs!$E$38,$D$26,0)","v":0},{"$f":"IF(HPJ2>=Inputs!$E$38,$D$26,0)","v":0},{"$f":"IF(HPK2>=Inputs!$E$38,$D$26,0)","v":0},{"$f":"IF(HPL2>=Inputs!$E$38,$D$26,0)","v":0},{"$f":"IF(HPM2>=Inputs!$E$38,$D$26,0)","v":0},{"$f":"IF(HPN2>=Inputs!$E$38,$D$26,0)","v":0},{"$f":"IF(HPO2>=Inputs!$E$38,$D$26,0)","v":0},{"$f":"IF(HPP2>=Inputs!$E$38,$D$26,0)","v":0},{"$f":"IF(HPQ2>=Inputs!$E$38,$D$26,0)","v":0},{"$f":"IF(HPR2>=Inputs!$E$38,$D$26,0)","v":0},{"$f":"IF(HPS2>=Inputs!$E$38,$D$26,0)","v":0},{"$f":"IF(HPT2>=Inputs!$E$38,$D$26,0)","v":0},{"$f":"IF(HPU2>=Inputs!$E$38,$D$26,0)","v":0},{"$f":"IF(HPV2>=Inputs!$E$38,$D$26,0)","v":0},{"$f":"IF(HPW2>=Inputs!$E$38,$D$26,0)","v":0},{"$f":"IF(HPX2>=Inputs!$E$38,$D$26,0)","v":0},{"$f":"IF(HPY2>=Inputs!$E$38,$D$26,0)","v":0},{"$f":"IF(HPZ2>=Inputs!$E$38,$D$26,0)","v":0},{"$f":"IF(HQA2>=Inputs!$E$38,$D$26,0)","v":0},{"$f":"IF(HQB2>=Inputs!$E$38,$D$26,0)","v":0},{"$f":"IF(HQC2>=Inputs!$E$38,$D$26,0)","v":0},{"$f":"IF(HQD2>=Inputs!$E$38,$D$26,0)","v":0},{"$f":"IF(HQE2>=Inputs!$E$38,$D$26,0)","v":0},{"$f":"IF(HQF2>=Inputs!$E$38,$D$26,0)","v":0},{"$f":"IF(HQG2>=Inputs!$E$38,$D$26,0)","v":0},{"$f":"IF(HQH2>=Inputs!$E$38,$D$26,0)","v":0},{"$f":"IF(HQI2>=Inputs!$E$38,$D$26,0)","v":0},{"$f":"IF(HQJ2>=Inputs!$E$38,$D$26,0)","v":0},{"$f":"IF(HQK2>=Inputs!$E$38,$D$26,0)","v":0},{"$f":"IF(HQL2>=Inputs!$E$38,$D$26,0)","v":0},{"$f":"IF(HQM2>=Inputs!$E$38,$D$26,0)","v":0},{"$f":"IF(HQN2>=Inputs!$E$38,$D$26,0)","v":0},{"$f":"IF(HQO2>=Inputs!$E$38,$D$26,0)","v":0},{"$f":"IF(HQP2>=Inputs!$E$38,$D$26,0)","v":0},{"$f":"IF(HQQ2>=Inputs!$E$38,$D$26,0)","v":0},{"$f":"IF(HQR2>=Inputs!$E$38,$D$26,0)","v":0},{"$f":"IF(HQS2>=Inputs!$E$38,$D$26,0)","v":0},{"$f":"IF(HQT2>=Inputs!$E$38,$D$26,0)","v":0},{"$f":"IF(HQU2>=Inputs!$E$38,$D$26,0)","v":0},{"$f":"IF(HQV2>=Inputs!$E$38,$D$26,0)","v":0},{"$f":"IF(HQW2>=Inputs!$E$38,$D$26,0)","v":0},{"$f":"IF(HQX2>=Inputs!$E$38,$D$26,0)","v":0},{"$f":"IF(HQY2>=Inputs!$E$38,$D$26,0)","v":0},{"$f":"IF(HQZ2>=Inputs!$E$38,$D$26,0)","v":0},{"$f":"IF(HRA2>=Inputs!$E$38,$D$26,0)","v":0},{"$f":"IF(HRB2>=Inputs!$E$38,$D$26,0)","v":0},{"$f":"IF(HRC2>=Inputs!$E$38,$D$26,0)","v":0},{"$f":"IF(HRD2>=Inputs!$E$38,$D$26,0)","v":0},{"$f":"IF(HRE2>=Inputs!$E$38,$D$26,0)","v":0},{"$f":"IF(HRF2>=Inputs!$E$38,$D$26,0)","v":0},{"$f":"IF(HRG2>=Inputs!$E$38,$D$26,0)","v":0},{"$f":"IF(HRH2>=Inputs!$E$38,$D$26,0)","v":0},{"$f":"IF(HRI2>=Inputs!$E$38,$D$26,0)","v":0},{"$f":"IF(HRJ2>=Inputs!$E$38,$D$26,0)","v":0},{"$f":"IF(HRK2>=Inputs!$E$38,$D$26,0)","v":0},{"$f":"IF(HRL2>=Inputs!$E$38,$D$26,0)","v":0},{"$f":"IF(HRM2>=Inputs!$E$38,$D$26,0)","v":0},{"$f":"IF(HRN2>=Inputs!$E$38,$D$26,0)","v":0},{"$f":"IF(HRO2>=Inputs!$E$38,$D$26,0)","v":0},{"$f":"IF(HRP2>=Inputs!$E$38,$D$26,0)","v":0},{"$f":"IF(HRQ2>=Inputs!$E$38,$D$26,0)","v":0},{"$f":"IF(HRR2>=Inputs!$E$38,$D$26,0)","v":0},{"$f":"IF(HRS2>=Inputs!$E$38,$D$26,0)","v":0},{"$f":"IF(HRT2>=Inputs!$E$38,$D$26,0)","v":0},{"$f":"IF(HRU2>=Inputs!$E$38,$D$26,0)","v":0},{"$f":"IF(HRV2>=Inputs!$E$38,$D$26,0)","v":0},{"$f":"IF(HRW2>=Inputs!$E$38,$D$26,0)","v":0},{"$f":"IF(HRX2>=Inputs!$E$38,$D$26,0)","v":0},{"$f":"IF(HRY2>=Inputs!$E$38,$D$26,0)","v":0},{"$f":"IF(HRZ2>=Inputs!$E$38,$D$26,0)","v":0},{"$f":"IF(HSA2>=Inputs!$E$38,$D$26,0)","v":0},{"$f":"IF(HSB2>=Inputs!$E$38,$D$26,0)","v":0},{"$f":"IF(HSC2>=Inputs!$E$38,$D$26,0)","v":0},{"$f":"IF(HSD2>=Inputs!$E$38,$D$26,0)","v":0},{"$f":"IF(HSE2>=Inputs!$E$38,$D$26,0)","v":0},{"$f":"IF(HSF2>=Inputs!$E$38,$D$26,0)","v":0},{"$f":"IF(HSG2>=Inputs!$E$38,$D$26,0)","v":0},{"$f":"IF(HSH2>=Inputs!$E$38,$D$26,0)","v":0},{"$f":"IF(HSI2>=Inputs!$E$38,$D$26,0)","v":0},{"$f":"IF(HSJ2>=Inputs!$E$38,$D$26,0)","v":0},{"$f":"IF(HSK2>=Inputs!$E$38,$D$26,0)","v":0},{"$f":"IF(HSL2>=Inputs!$E$38,$D$26,0)","v":0},{"$f":"IF(HSM2>=Inputs!$E$38,$D$26,0)","v":0},{"$f":"IF(HSN2>=Inputs!$E$38,$D$26,0)","v":0},{"$f":"IF(HSO2>=Inputs!$E$38,$D$26,0)","v":0},{"$f":"IF(HSP2>=Inputs!$E$38,$D$26,0)","v":0},{"$f":"IF(HSQ2>=Inputs!$E$38,$D$26,0)","v":0},{"$f":"IF(HSR2>=Inputs!$E$38,$D$26,0)","v":0},{"$f":"IF(HSS2>=Inputs!$E$38,$D$26,0)","v":0},{"$f":"IF(HST2>=Inputs!$E$38,$D$26,0)","v":0},{"$f":"IF(HSU2>=Inputs!$E$38,$D$26,0)","v":0},{"$f":"IF(HSV2>=Inputs!$E$38,$D$26,0)","v":0},{"$f":"IF(HSW2>=Inputs!$E$38,$D$26,0)","v":0},{"$f":"IF(HSX2>=Inputs!$E$38,$D$26,0)","v":0},{"$f":"IF(HSY2>=Inputs!$E$38,$D$26,0)","v":0},{"$f":"IF(HSZ2>=Inputs!$E$38,$D$26,0)","v":0},{"$f":"IF(HTA2>=Inputs!$E$38,$D$26,0)","v":0},{"$f":"IF(HTB2>=Inputs!$E$38,$D$26,0)","v":0},{"$f":"IF(HTC2>=Inputs!$E$38,$D$26,0)","v":0},{"$f":"IF(HTD2>=Inputs!$E$38,$D$26,0)","v":0},{"$f":"IF(HTE2>=Inputs!$E$38,$D$26,0)","v":0},{"$f":"IF(HTF2>=Inputs!$E$38,$D$26,0)","v":0},{"$f":"IF(HTG2>=Inputs!$E$38,$D$26,0)","v":0},{"$f":"IF(HTH2>=Inputs!$E$38,$D$26,0)","v":0},{"$f":"IF(HTI2>=Inputs!$E$38,$D$26,0)","v":0},{"$f":"IF(HTJ2>=Inputs!$E$38,$D$26,0)","v":0},{"$f":"IF(HTK2>=Inputs!$E$38,$D$26,0)","v":0},{"$f":"IF(HTL2>=Inputs!$E$38,$D$26,0)","v":0},{"$f":"IF(HTM2>=Inputs!$E$38,$D$26,0)","v":0},{"$f":"IF(HTN2>=Inputs!$E$38,$D$26,0)","v":0},{"$f":"IF(HTO2>=Inputs!$E$38,$D$26,0)","v":0},{"$f":"IF(HTP2>=Inputs!$E$38,$D$26,0)","v":0},{"$f":"IF(HTQ2>=Inputs!$E$38,$D$26,0)","v":0},{"$f":"IF(HTR2>=Inputs!$E$38,$D$26,0)","v":0},{"$f":"IF(HTS2>=Inputs!$E$38,$D$26,0)","v":0},{"$f":"IF(HTT2>=Inputs!$E$38,$D$26,0)","v":0},{"$f":"IF(HTU2>=Inputs!$E$38,$D$26,0)","v":0},{"$f":"IF(HTV2>=Inputs!$E$38,$D$26,0)","v":0},{"$f":"IF(HTW2>=Inputs!$E$38,$D$26,0)","v":0},{"$f":"IF(HTX2>=Inputs!$E$38,$D$26,0)","v":0},{"$f":"IF(HTY2>=Inputs!$E$38,$D$26,0)","v":0},{"$f":"IF(HTZ2>=Inputs!$E$38,$D$26,0)","v":0},{"$f":"IF(HUA2>=Inputs!$E$38,$D$26,0)","v":0},{"$f":"IF(HUB2>=Inputs!$E$38,$D$26,0)","v":0},{"$f":"IF(HUC2>=Inputs!$E$38,$D$26,0)","v":0},{"$f":"IF(HUD2>=Inputs!$E$38,$D$26,0)","v":0},{"$f":"IF(HUE2>=Inputs!$E$38,$D$26,0)","v":0},{"$f":"IF(HUF2>=Inputs!$E$38,$D$26,0)","v":0},{"$f":"IF(HUG2>=Inputs!$E$38,$D$26,0)","v":0},{"$f":"IF(HUH2>=Inputs!$E$38,$D$26,0)","v":0},{"$f":"IF(HUI2>=Inputs!$E$38,$D$26,0)","v":0},{"$f":"IF(HUJ2>=Inputs!$E$38,$D$26,0)","v":0},{"$f":"IF(HUK2>=Inputs!$E$38,$D$26,0)","v":0},{"$f":"IF(HUL2>=Inputs!$E$38,$D$26,0)","v":0},{"$f":"IF(HUM2>=Inputs!$E$38,$D$26,0)","v":0},{"$f":"IF(HUN2>=Inputs!$E$38,$D$26,0)","v":0},{"$f":"IF(HUO2>=Inputs!$E$38,$D$26,0)","v":0},{"$f":"IF(HUP2>=Inputs!$E$38,$D$26,0)","v":0},{"$f":"IF(HUQ2>=Inputs!$E$38,$D$26,0)","v":0},{"$f":"IF(HUR2>=Inputs!$E$38,$D$26,0)","v":0},{"$f":"IF(HUS2>=Inputs!$E$38,$D$26,0)","v":0},{"$f":"IF(HUT2>=Inputs!$E$38,$D$26,0)","v":0},{"$f":"IF(HUU2>=Inputs!$E$38,$D$26,0)","v":0},{"$f":"IF(HUV2>=Inputs!$E$38,$D$26,0)","v":0},{"$f":"IF(HUW2>=Inputs!$E$38,$D$26,0)","v":0},{"$f":"IF(HUX2>=Inputs!$E$38,$D$26,0)","v":0},{"$f":"IF(HUY2>=Inputs!$E$38,$D$26,0)","v":0},{"$f":"IF(HUZ2>=Inputs!$E$38,$D$26,0)","v":0},{"$f":"IF(HVA2>=Inputs!$E$38,$D$26,0)","v":0},{"$f":"IF(HVB2>=Inputs!$E$38,$D$26,0)","v":0},{"$f":"IF(HVC2>=Inputs!$E$38,$D$26,0)","v":0},{"$f":"IF(HVD2>=Inputs!$E$38,$D$26,0)","v":0},{"$f":"IF(HVE2>=Inputs!$E$38,$D$26,0)","v":0},{"$f":"IF(HVF2>=Inputs!$E$38,$D$26,0)","v":0},{"$f":"IF(HVG2>=Inputs!$E$38,$D$26,0)","v":0},{"$f":"IF(HVH2>=Inputs!$E$38,$D$26,0)","v":0},{"$f":"IF(HVI2>=Inputs!$E$38,$D$26,0)","v":0},{"$f":"IF(HVJ2>=Inputs!$E$38,$D$26,0)","v":0},{"$f":"IF(HVK2>=Inputs!$E$38,$D$26,0)","v":0},{"$f":"IF(HVL2>=Inputs!$E$38,$D$26,0)","v":0},{"$f":"IF(HVM2>=Inputs!$E$38,$D$26,0)","v":0},{"$f":"IF(HVN2>=Inputs!$E$38,$D$26,0)","v":0},{"$f":"IF(HVO2>=Inputs!$E$38,$D$26,0)","v":0},{"$f":"IF(HVP2>=Inputs!$E$38,$D$26,0)","v":0},{"$f":"IF(HVQ2>=Inputs!$E$38,$D$26,0)","v":0},{"$f":"IF(HVR2>=Inputs!$E$38,$D$26,0)","v":0},{"$f":"IF(HVS2>=Inputs!$E$38,$D$26,0)","v":0},{"$f":"IF(HVT2>=Inputs!$E$38,$D$26,0)","v":0},{"$f":"IF(HVU2>=Inputs!$E$38,$D$26,0)","v":0},{"$f":"IF(HVV2>=Inputs!$E$38,$D$26,0)","v":0},{"$f":"IF(HVW2>=Inputs!$E$38,$D$26,0)","v":0},{"$f":"IF(HVX2>=Inputs!$E$38,$D$26,0)","v":0},{"$f":"IF(HVY2>=Inputs!$E$38,$D$26,0)","v":0},{"$f":"IF(HVZ2>=Inputs!$E$38,$D$26,0)","v":0},{"$f":"IF(HWA2>=Inputs!$E$38,$D$26,0)","v":0},{"$f":"IF(HWB2>=Inputs!$E$38,$D$26,0)","v":0},{"$f":"IF(HWC2>=Inputs!$E$38,$D$26,0)","v":0},{"$f":"IF(HWD2>=Inputs!$E$38,$D$26,0)","v":0},{"$f":"IF(HWE2>=Inputs!$E$38,$D$26,0)","v":0},{"$f":"IF(HWF2>=Inputs!$E$38,$D$26,0)","v":0},{"$f":"IF(HWG2>=Inputs!$E$38,$D$26,0)","v":0},{"$f":"IF(HWH2>=Inputs!$E$38,$D$26,0)","v":0},{"$f":"IF(HWI2>=Inputs!$E$38,$D$26,0)","v":0},{"$f":"IF(HWJ2>=Inputs!$E$38,$D$26,0)","v":0},{"$f":"IF(HWK2>=Inputs!$E$38,$D$26,0)","v":0},{"$f":"IF(HWL2>=Inputs!$E$38,$D$26,0)","v":0},{"$f":"IF(HWM2>=Inputs!$E$38,$D$26,0)","v":0},{"$f":"IF(HWN2>=Inputs!$E$38,$D$26,0)","v":0},{"$f":"IF(HWO2>=Inputs!$E$38,$D$26,0)","v":0},{"$f":"IF(HWP2>=Inputs!$E$38,$D$26,0)","v":0},{"$f":"IF(HWQ2>=Inputs!$E$38,$D$26,0)","v":0},{"$f":"IF(HWR2>=Inputs!$E$38,$D$26,0)","v":0},{"$f":"IF(HWS2>=Inputs!$E$38,$D$26,0)","v":0},{"$f":"IF(HWT2>=Inputs!$E$38,$D$26,0)","v":0},{"$f":"IF(HWU2>=Inputs!$E$38,$D$26,0)","v":0},{"$f":"IF(HWV2>=Inputs!$E$38,$D$26,0)","v":0},{"$f":"IF(HWW2>=Inputs!$E$38,$D$26,0)","v":0},{"$f":"IF(HWX2>=Inputs!$E$38,$D$26,0)","v":0},{"$f":"IF(HWY2>=Inputs!$E$38,$D$26,0)","v":0},{"$f":"IF(HWZ2>=Inputs!$E$38,$D$26,0)","v":0},{"$f":"IF(HXA2>=Inputs!$E$38,$D$26,0)","v":0},{"$f":"IF(HXB2>=Inputs!$E$38,$D$26,0)","v":0},{"$f":"IF(HXC2>=Inputs!$E$38,$D$26,0)","v":0},{"$f":"IF(HXD2>=Inputs!$E$38,$D$26,0)","v":0},{"$f":"IF(HXE2>=Inputs!$E$38,$D$26,0)","v":0},{"$f":"IF(HXF2>=Inputs!$E$38,$D$26,0)","v":0},{"$f":"IF(HXG2>=Inputs!$E$38,$D$26,0)","v":0},{"$f":"IF(HXH2>=Inputs!$E$38,$D$26,0)","v":0},{"$f":"IF(HXI2>=Inputs!$E$38,$D$26,0)","v":0},{"$f":"IF(HXJ2>=Inputs!$E$38,$D$26,0)","v":0},{"$f":"IF(HXK2>=Inputs!$E$38,$D$26,0)","v":0},{"$f":"IF(HXL2>=Inputs!$E$38,$D$26,0)","v":0},{"$f":"IF(HXM2>=Inputs!$E$38,$D$26,0)","v":0},{"$f":"IF(HXN2>=Inputs!$E$38,$D$26,0)","v":0},{"$f":"IF(HXO2>=Inputs!$E$38,$D$26,0)","v":0},{"$f":"IF(HXP2>=Inputs!$E$38,$D$26,0)","v":0},{"$f":"IF(HXQ2>=Inputs!$E$38,$D$26,0)","v":0},{"$f":"IF(HXR2>=Inputs!$E$38,$D$26,0)","v":0},{"$f":"IF(HXS2>=Inputs!$E$38,$D$26,0)","v":0},{"$f":"IF(HXT2>=Inputs!$E$38,$D$26,0)","v":0},{"$f":"IF(HXU2>=Inputs!$E$38,$D$26,0)","v":0},{"$f":"IF(HXV2>=Inputs!$E$38,$D$26,0)","v":0},{"$f":"IF(HXW2>=Inputs!$E$38,$D$26,0)","v":0},{"$f":"IF(HXX2>=Inputs!$E$38,$D$26,0)","v":0},{"$f":"IF(HXY2>=Inputs!$E$38,$D$26,0)","v":0},{"$f":"IF(HXZ2>=Inputs!$E$38,$D$26,0)","v":0},{"$f":"IF(HYA2>=Inputs!$E$38,$D$26,0)","v":0},{"$f":"IF(HYB2>=Inputs!$E$38,$D$26,0)","v":0},{"$f":"IF(HYC2>=Inputs!$E$38,$D$26,0)","v":0},{"$f":"IF(HYD2>=Inputs!$E$38,$D$26,0)","v":0},{"$f":"IF(HYE2>=Inputs!$E$38,$D$26,0)","v":0},{"$f":"IF(HYF2>=Inputs!$E$38,$D$26,0)","v":0},{"$f":"IF(HYG2>=Inputs!$E$38,$D$26,0)","v":0},{"$f":"IF(HYH2>=Inputs!$E$38,$D$26,0)","v":0},{"$f":"IF(HYI2>=Inputs!$E$38,$D$26,0)","v":0},{"$f":"IF(HYJ2>=Inputs!$E$38,$D$26,0)","v":0},{"$f":"IF(HYK2>=Inputs!$E$38,$D$26,0)","v":0},{"$f":"IF(HYL2>=Inputs!$E$38,$D$26,0)","v":0},{"$f":"IF(HYM2>=Inputs!$E$38,$D$26,0)","v":0},{"$f":"IF(HYN2>=Inputs!$E$38,$D$26,0)","v":0},{"$f":"IF(HYO2>=Inputs!$E$38,$D$26,0)","v":0},{"$f":"IF(HYP2>=Inputs!$E$38,$D$26,0)","v":0},{"$f":"IF(HYQ2>=Inputs!$E$38,$D$26,0)","v":0},{"$f":"IF(HYR2>=Inputs!$E$38,$D$26,0)","v":0},{"$f":"IF(HYS2>=Inputs!$E$38,$D$26,0)","v":0},{"$f":"IF(HYT2>=Inputs!$E$38,$D$26,0)","v":0},{"$f":"IF(HYU2>=Inputs!$E$38,$D$26,0)","v":0},{"$f":"IF(HYV2>=Inputs!$E$38,$D$26,0)","v":0},{"$f":"IF(HYW2>=Inputs!$E$38,$D$26,0)","v":0},{"$f":"IF(HYX2>=Inputs!$E$38,$D$26,0)","v":0},{"$f":"IF(HYY2>=Inputs!$E$38,$D$26,0)","v":0},{"$f":"IF(HYZ2>=Inputs!$E$38,$D$26,0)","v":0},{"$f":"IF(HZA2>=Inputs!$E$38,$D$26,0)","v":0},{"$f":"IF(HZB2>=Inputs!$E$38,$D$26,0)","v":0},{"$f":"IF(HZC2>=Inputs!$E$38,$D$26,0)","v":0},{"$f":"IF(HZD2>=Inputs!$E$38,$D$26,0)","v":0},{"$f":"IF(HZE2>=Inputs!$E$38,$D$26,0)","v":0},{"$f":"IF(HZF2>=Inputs!$E$38,$D$26,0)","v":0},{"$f":"IF(HZG2>=Inputs!$E$38,$D$26,0)","v":0},{"$f":"IF(HZH2>=Inputs!$E$38,$D$26,0)","v":0},{"$f":"IF(HZI2>=Inputs!$E$38,$D$26,0)","v":0},{"$f":"IF(HZJ2>=Inputs!$E$38,$D$26,0)","v":0},{"$f":"IF(HZK2>=Inputs!$E$38,$D$26,0)","v":0},{"$f":"IF(HZL2>=Inputs!$E$38,$D$26,0)","v":0},{"$f":"IF(HZM2>=Inputs!$E$38,$D$26,0)","v":0},{"$f":"IF(HZN2>=Inputs!$E$38,$D$26,0)","v":0},{"$f":"IF(HZO2>=Inputs!$E$38,$D$26,0)","v":0},{"$f":"IF(HZP2>=Inputs!$E$38,$D$26,0)","v":0},{"$f":"IF(HZQ2>=Inputs!$E$38,$D$26,0)","v":0},{"$f":"IF(HZR2>=Inputs!$E$38,$D$26,0)","v":0},{"$f":"IF(HZS2>=Inputs!$E$38,$D$26,0)","v":0},{"$f":"IF(HZT2>=Inputs!$E$38,$D$26,0)","v":0},{"$f":"IF(HZU2>=Inputs!$E$38,$D$26,0)","v":0},{"$f":"IF(HZV2>=Inputs!$E$38,$D$26,0)","v":0},{"$f":"IF(HZW2>=Inputs!$E$38,$D$26,0)","v":0},{"$f":"IF(HZX2>=Inputs!$E$38,$D$26,0)","v":0},{"$f":"IF(HZY2>=Inputs!$E$38,$D$26,0)","v":0},{"$f":"IF(HZZ2>=Inputs!$E$38,$D$26,0)","v":0},{"$f":"IF(IAA2>=Inputs!$E$38,$D$26,0)","v":0},{"$f":"IF(IAB2>=Inputs!$E$38,$D$26,0)","v":0},{"$f":"IF(IAC2>=Inputs!$E$38,$D$26,0)","v":0},{"$f":"IF(IAD2>=Inputs!$E$38,$D$26,0)","v":0},{"$f":"IF(IAE2>=Inputs!$E$38,$D$26,0)","v":0},{"$f":"IF(IAF2>=Inputs!$E$38,$D$26,0)","v":0},{"$f":"IF(IAG2>=Inputs!$E$38,$D$26,0)","v":0},{"$f":"IF(IAH2>=Inputs!$E$38,$D$26,0)","v":0},{"$f":"IF(IAI2>=Inputs!$E$38,$D$26,0)","v":0},{"$f":"IF(IAJ2>=Inputs!$E$38,$D$26,0)","v":0},{"$f":"IF(IAK2>=Inputs!$E$38,$D$26,0)","v":0},{"$f":"IF(IAL2>=Inputs!$E$38,$D$26,0)","v":0},{"$f":"IF(IAM2>=Inputs!$E$38,$D$26,0)","v":0},{"$f":"IF(IAN2>=Inputs!$E$38,$D$26,0)","v":0},{"$f":"IF(IAO2>=Inputs!$E$38,$D$26,0)","v":0},{"$f":"IF(IAP2>=Inputs!$E$38,$D$26,0)","v":0},{"$f":"IF(IAQ2>=Inputs!$E$38,$D$26,0)","v":0},{"$f":"IF(IAR2>=Inputs!$E$38,$D$26,0)","v":0},{"$f":"IF(IAS2>=Inputs!$E$38,$D$26,0)","v":0},{"$f":"IF(IAT2>=Inputs!$E$38,$D$26,0)","v":0},{"$f":"IF(IAU2>=Inputs!$E$38,$D$26,0)","v":0},{"$f":"IF(IAV2>=Inputs!$E$38,$D$26,0)","v":0},{"$f":"IF(IAW2>=Inputs!$E$38,$D$26,0)","v":0},{"$f":"IF(IAX2>=Inputs!$E$38,$D$26,0)","v":0},{"$f":"IF(IAY2>=Inputs!$E$38,$D$26,0)","v":0},{"$f":"IF(IAZ2>=Inputs!$E$38,$D$26,0)","v":0},{"$f":"IF(IBA2>=Inputs!$E$38,$D$26,0)","v":0},{"$f":"IF(IBB2>=Inputs!$E$38,$D$26,0)","v":0},{"$f":"IF(IBC2>=Inputs!$E$38,$D$26,0)","v":0},{"$f":"IF(IBD2>=Inputs!$E$38,$D$26,0)","v":0},{"$f":"IF(IBE2>=Inputs!$E$38,$D$26,0)","v":0},{"$f":"IF(IBF2>=Inputs!$E$38,$D$26,0)","v":0},{"$f":"IF(IBG2>=Inputs!$E$38,$D$26,0)","v":0},{"$f":"IF(IBH2>=Inputs!$E$38,$D$26,0)","v":0},{"$f":"IF(IBI2>=Inputs!$E$38,$D$26,0)","v":0},{"$f":"IF(IBJ2>=Inputs!$E$38,$D$26,0)","v":0},{"$f":"IF(IBK2>=Inputs!$E$38,$D$26,0)","v":0},{"$f":"IF(IBL2>=Inputs!$E$38,$D$26,0)","v":0},{"$f":"IF(IBM2>=Inputs!$E$38,$D$26,0)","v":0},{"$f":"IF(IBN2>=Inputs!$E$38,$D$26,0)","v":0},{"$f":"IF(IBO2>=Inputs!$E$38,$D$26,0)","v":0},{"$f":"IF(IBP2>=Inputs!$E$38,$D$26,0)","v":0},{"$f":"IF(IBQ2>=Inputs!$E$38,$D$26,0)","v":0},{"$f":"IF(IBR2>=Inputs!$E$38,$D$26,0)","v":0},{"$f":"IF(IBS2>=Inputs!$E$38,$D$26,0)","v":0},{"$f":"IF(IBT2>=Inputs!$E$38,$D$26,0)","v":0},{"$f":"IF(IBU2>=Inputs!$E$38,$D$26,0)","v":0},{"$f":"IF(IBV2>=Inputs!$E$38,$D$26,0)","v":0},{"$f":"IF(IBW2>=Inputs!$E$38,$D$26,0)","v":0},{"$f":"IF(IBX2>=Inputs!$E$38,$D$26,0)","v":0},{"$f":"IF(IBY2>=Inputs!$E$38,$D$26,0)","v":0},{"$f":"IF(IBZ2>=Inputs!$E$38,$D$26,0)","v":0},{"$f":"IF(ICA2>=Inputs!$E$38,$D$26,0)","v":0},{"$f":"IF(ICB2>=Inputs!$E$38,$D$26,0)","v":0},{"$f":"IF(ICC2>=Inputs!$E$38,$D$26,0)","v":0},{"$f":"IF(ICD2>=Inputs!$E$38,$D$26,0)","v":0},{"$f":"IF(ICE2>=Inputs!$E$38,$D$26,0)","v":0},{"$f":"IF(ICF2>=Inputs!$E$38,$D$26,0)","v":0},{"$f":"IF(ICG2>=Inputs!$E$38,$D$26,0)","v":0},{"$f":"IF(ICH2>=Inputs!$E$38,$D$26,0)","v":0},{"$f":"IF(ICI2>=Inputs!$E$38,$D$26,0)","v":0},{"$f":"IF(ICJ2>=Inputs!$E$38,$D$26,0)","v":0},{"$f":"IF(ICK2>=Inputs!$E$38,$D$26,0)","v":0},{"$f":"IF(ICL2>=Inputs!$E$38,$D$26,0)","v":0},{"$f":"IF(ICM2>=Inputs!$E$38,$D$26,0)","v":0},{"$f":"IF(ICN2>=Inputs!$E$38,$D$26,0)","v":0},{"$f":"IF(ICO2>=Inputs!$E$38,$D$26,0)","v":0},{"$f":"IF(ICP2>=Inputs!$E$38,$D$26,0)","v":0},{"$f":"IF(ICQ2>=Inputs!$E$38,$D$26,0)","v":0},{"$f":"IF(ICR2>=Inputs!$E$38,$D$26,0)","v":0},{"$f":"IF(ICS2>=Inputs!$E$38,$D$26,0)","v":0},{"$f":"IF(ICT2>=Inputs!$E$38,$D$26,0)","v":0},{"$f":"IF(ICU2>=Inputs!$E$38,$D$26,0)","v":0},{"$f":"IF(ICV2>=Inputs!$E$38,$D$26,0)","v":0},{"$f":"IF(ICW2>=Inputs!$E$38,$D$26,0)","v":0},{"$f":"IF(ICX2>=Inputs!$E$38,$D$26,0)","v":0},{"$f":"IF(ICY2>=Inputs!$E$38,$D$26,0)","v":0},{"$f":"IF(ICZ2>=Inputs!$E$38,$D$26,0)","v":0},{"$f":"IF(IDA2>=Inputs!$E$38,$D$26,0)","v":0},{"$f":"IF(IDB2>=Inputs!$E$38,$D$26,0)","v":0},{"$f":"IF(IDC2>=Inputs!$E$38,$D$26,0)","v":0},{"$f":"IF(IDD2>=Inputs!$E$38,$D$26,0)","v":0},{"$f":"IF(IDE2>=Inputs!$E$38,$D$26,0)","v":0},{"$f":"IF(IDF2>=Inputs!$E$38,$D$26,0)","v":0},{"$f":"IF(IDG2>=Inputs!$E$38,$D$26,0)","v":0},{"$f":"IF(IDH2>=Inputs!$E$38,$D$26,0)","v":0},{"$f":"IF(IDI2>=Inputs!$E$38,$D$26,0)","v":0},{"$f":"IF(IDJ2>=Inputs!$E$38,$D$26,0)","v":0},{"$f":"IF(IDK2>=Inputs!$E$38,$D$26,0)","v":0},{"$f":"IF(IDL2>=Inputs!$E$38,$D$26,0)","v":0},{"$f":"IF(IDM2>=Inputs!$E$38,$D$26,0)","v":0},{"$f":"IF(IDN2>=Inputs!$E$38,$D$26,0)","v":0},{"$f":"IF(IDO2>=Inputs!$E$38,$D$26,0)","v":0},{"$f":"IF(IDP2>=Inputs!$E$38,$D$26,0)","v":0},{"$f":"IF(IDQ2>=Inputs!$E$38,$D$26,0)","v":0},{"$f":"IF(IDR2>=Inputs!$E$38,$D$26,0)","v":0},{"$f":"IF(IDS2>=Inputs!$E$38,$D$26,0)","v":0},{"$f":"IF(IDT2>=Inputs!$E$38,$D$26,0)","v":0},{"$f":"IF(IDU2>=Inputs!$E$38,$D$26,0)","v":0},{"$f":"IF(IDV2>=Inputs!$E$38,$D$26,0)","v":0},{"$f":"IF(IDW2>=Inputs!$E$38,$D$26,0)","v":0},{"$f":"IF(IDX2>=Inputs!$E$38,$D$26,0)","v":0},{"$f":"IF(IDY2>=Inputs!$E$38,$D$26,0)","v":0},{"$f":"IF(IDZ2>=Inputs!$E$38,$D$26,0)","v":0},{"$f":"IF(IEA2>=Inputs!$E$38,$D$26,0)","v":0},{"$f":"IF(IEB2>=Inputs!$E$38,$D$26,0)","v":0},{"$f":"IF(IEC2>=Inputs!$E$38,$D$26,0)","v":0},{"$f":"IF(IED2>=Inputs!$E$38,$D$26,0)","v":0},{"$f":"IF(IEE2>=Inputs!$E$38,$D$26,0)","v":0},{"$f":"IF(IEF2>=Inputs!$E$38,$D$26,0)","v":0},{"$f":"IF(IEG2>=Inputs!$E$38,$D$26,0)","v":0},{"$f":"IF(IEH2>=Inputs!$E$38,$D$26,0)","v":0},{"$f":"IF(IEI2>=Inputs!$E$38,$D$26,0)","v":0},{"$f":"IF(IEJ2>=Inputs!$E$38,$D$26,0)","v":0},{"$f":"IF(IEK2>=Inputs!$E$38,$D$26,0)","v":0},{"$f":"IF(IEL2>=Inputs!$E$38,$D$26,0)","v":0},{"$f":"IF(IEM2>=Inputs!$E$38,$D$26,0)","v":0},{"$f":"IF(IEN2>=Inputs!$E$38,$D$26,0)","v":0},{"$f":"IF(IEO2>=Inputs!$E$38,$D$26,0)","v":0},{"$f":"IF(IEP2>=Inputs!$E$38,$D$26,0)","v":0},{"$f":"IF(IEQ2>=Inputs!$E$38,$D$26,0)","v":0},{"$f":"IF(IER2>=Inputs!$E$38,$D$26,0)","v":0},{"$f":"IF(IES2>=Inputs!$E$38,$D$26,0)","v":0},{"$f":"IF(IET2>=Inputs!$E$38,$D$26,0)","v":0},{"$f":"IF(IEU2>=Inputs!$E$38,$D$26,0)","v":0},{"$f":"IF(IEV2>=Inputs!$E$38,$D$26,0)","v":0},{"$f":"IF(IEW2>=Inputs!$E$38,$D$26,0)","v":0},{"$f":"IF(IEX2>=Inputs!$E$38,$D$26,0)","v":0},{"$f":"IF(IEY2>=Inputs!$E$38,$D$26,0)","v":0},{"$f":"IF(IEZ2>=Inputs!$E$38,$D$26,0)","v":0},{"$f":"IF(IFA2>=Inputs!$E$38,$D$26,0)","v":0},{"$f":"IF(IFB2>=Inputs!$E$38,$D$26,0)","v":0},{"$f":"IF(IFC2>=Inputs!$E$38,$D$26,0)","v":0},{"$f":"IF(IFD2>=Inputs!$E$38,$D$26,0)","v":0},{"$f":"IF(IFE2>=Inputs!$E$38,$D$26,0)","v":0},{"$f":"IF(IFF2>=Inputs!$E$38,$D$26,0)","v":0},{"$f":"IF(IFG2>=Inputs!$E$38,$D$26,0)","v":0},{"$f":"IF(IFH2>=Inputs!$E$38,$D$26,0)","v":0},{"$f":"IF(IFI2>=Inputs!$E$38,$D$26,0)","v":0},{"$f":"IF(IFJ2>=Inputs!$E$38,$D$26,0)","v":0},{"$f":"IF(IFK2>=Inputs!$E$38,$D$26,0)","v":0},{"$f":"IF(IFL2>=Inputs!$E$38,$D$26,0)","v":0},{"$f":"IF(IFM2>=Inputs!$E$38,$D$26,0)","v":0},{"$f":"IF(IFN2>=Inputs!$E$38,$D$26,0)","v":0},{"$f":"IF(IFO2>=Inputs!$E$38,$D$26,0)","v":0},{"$f":"IF(IFP2>=Inputs!$E$38,$D$26,0)","v":0},{"$f":"IF(IFQ2>=Inputs!$E$38,$D$26,0)","v":0},{"$f":"IF(IFR2>=Inputs!$E$38,$D$26,0)","v":0},{"$f":"IF(IFS2>=Inputs!$E$38,$D$26,0)","v":0},{"$f":"IF(IFT2>=Inputs!$E$38,$D$26,0)","v":0},{"$f":"IF(IFU2>=Inputs!$E$38,$D$26,0)","v":0},{"$f":"IF(IFV2>=Inputs!$E$38,$D$26,0)","v":0},{"$f":"IF(IFW2>=Inputs!$E$38,$D$26,0)","v":0},{"$f":"IF(IFX2>=Inputs!$E$38,$D$26,0)","v":0},{"$f":"IF(IFY2>=Inputs!$E$38,$D$26,0)","v":0},{"$f":"IF(IFZ2>=Inputs!$E$38,$D$26,0)","v":0},{"$f":"IF(IGA2>=Inputs!$E$38,$D$26,0)","v":0},{"$f":"IF(IGB2>=Inputs!$E$38,$D$26,0)","v":0},{"$f":"IF(IGC2>=Inputs!$E$38,$D$26,0)","v":0},{"$f":"IF(IGD2>=Inputs!$E$38,$D$26,0)","v":0},{"$f":"IF(IGE2>=Inputs!$E$38,$D$26,0)","v":0},{"$f":"IF(IGF2>=Inputs!$E$38,$D$26,0)","v":0},{"$f":"IF(IGG2>=Inputs!$E$38,$D$26,0)","v":0},{"$f":"IF(IGH2>=Inputs!$E$38,$D$26,0)","v":0},{"$f":"IF(IGI2>=Inputs!$E$38,$D$26,0)","v":0},{"$f":"IF(IGJ2>=Inputs!$E$38,$D$26,0)","v":0},{"$f":"IF(IGK2>=Inputs!$E$38,$D$26,0)","v":0},{"$f":"IF(IGL2>=Inputs!$E$38,$D$26,0)","v":0},{"$f":"IF(IGM2>=Inputs!$E$38,$D$26,0)","v":0},{"$f":"IF(IGN2>=Inputs!$E$38,$D$26,0)","v":0},{"$f":"IF(IGO2>=Inputs!$E$38,$D$26,0)","v":0},{"$f":"IF(IGP2>=Inputs!$E$38,$D$26,0)","v":0},{"$f":"IF(IGQ2>=Inputs!$E$38,$D$26,0)","v":0},{"$f":"IF(IGR2>=Inputs!$E$38,$D$26,0)","v":0},{"$f":"IF(IGS2>=Inputs!$E$38,$D$26,0)","v":0},{"$f":"IF(IGT2>=Inputs!$E$38,$D$26,0)","v":0},{"$f":"IF(IGU2>=Inputs!$E$38,$D$26,0)","v":0},{"$f":"IF(IGV2>=Inputs!$E$38,$D$26,0)","v":0},{"$f":"IF(IGW2>=Inputs!$E$38,$D$26,0)","v":0},{"$f":"IF(IGX2>=Inputs!$E$38,$D$26,0)","v":0},{"$f":"IF(IGY2>=Inputs!$E$38,$D$26,0)","v":0},{"$f":"IF(IGZ2>=Inputs!$E$38,$D$26,0)","v":0},{"$f":"IF(IHA2>=Inputs!$E$38,$D$26,0)","v":0},{"$f":"IF(IHB2>=Inputs!$E$38,$D$26,0)","v":0},{"$f":"IF(IHC2>=Inputs!$E$38,$D$26,0)","v":0},{"$f":"IF(IHD2>=Inputs!$E$38,$D$26,0)","v":0},{"$f":"IF(IHE2>=Inputs!$E$38,$D$26,0)","v":0},{"$f":"IF(IHF2>=Inputs!$E$38,$D$26,0)","v":0},{"$f":"IF(IHG2>=Inputs!$E$38,$D$26,0)","v":0},{"$f":"IF(IHH2>=Inputs!$E$38,$D$26,0)","v":0},{"$f":"IF(IHI2>=Inputs!$E$38,$D$26,0)","v":0},{"$f":"IF(IHJ2>=Inputs!$E$38,$D$26,0)","v":0},{"$f":"IF(IHK2>=Inputs!$E$38,$D$26,0)","v":0},{"$f":"IF(IHL2>=Inputs!$E$38,$D$26,0)","v":0},{"$f":"IF(IHM2>=Inputs!$E$38,$D$26,0)","v":0},{"$f":"IF(IHN2>=Inputs!$E$38,$D$26,0)","v":0},{"$f":"IF(IHO2>=Inputs!$E$38,$D$26,0)","v":0},{"$f":"IF(IHP2>=Inputs!$E$38,$D$26,0)","v":0},{"$f":"IF(IHQ2>=Inputs!$E$38,$D$26,0)","v":0},{"$f":"IF(IHR2>=Inputs!$E$38,$D$26,0)","v":0},{"$f":"IF(IHS2>=Inputs!$E$38,$D$26,0)","v":0},{"$f":"IF(IHT2>=Inputs!$E$38,$D$26,0)","v":0},{"$f":"IF(IHU2>=Inputs!$E$38,$D$26,0)","v":0},{"$f":"IF(IHV2>=Inputs!$E$38,$D$26,0)","v":0},{"$f":"IF(IHW2>=Inputs!$E$38,$D$26,0)","v":0},{"$f":"IF(IHX2>=Inputs!$E$38,$D$26,0)","v":0},{"$f":"IF(IHY2>=Inputs!$E$38,$D$26,0)","v":0},{"$f":"IF(IHZ2>=Inputs!$E$38,$D$26,0)","v":0},{"$f":"IF(IIA2>=Inputs!$E$38,$D$26,0)","v":0},{"$f":"IF(IIB2>=Inputs!$E$38,$D$26,0)","v":0},{"$f":"IF(IIC2>=Inputs!$E$38,$D$26,0)","v":0},{"$f":"IF(IID2>=Inputs!$E$38,$D$26,0)","v":0},{"$f":"IF(IIE2>=Inputs!$E$38,$D$26,0)","v":0},{"$f":"IF(IIF2>=Inputs!$E$38,$D$26,0)","v":0},{"$f":"IF(IIG2>=Inputs!$E$38,$D$26,0)","v":0},{"$f":"IF(IIH2>=Inputs!$E$38,$D$26,0)","v":0},{"$f":"IF(III2>=Inputs!$E$38,$D$26,0)","v":0},{"$f":"IF(IIJ2>=Inputs!$E$38,$D$26,0)","v":0},{"$f":"IF(IIK2>=Inputs!$E$38,$D$26,0)","v":0},{"$f":"IF(IIL2>=Inputs!$E$38,$D$26,0)","v":0},{"$f":"IF(IIM2>=Inputs!$E$38,$D$26,0)","v":0},{"$f":"IF(IIN2>=Inputs!$E$38,$D$26,0)","v":0},{"$f":"IF(IIO2>=Inputs!$E$38,$D$26,0)","v":0},{"$f":"IF(IIP2>=Inputs!$E$38,$D$26,0)","v":0},{"$f":"IF(IIQ2>=Inputs!$E$38,$D$26,0)","v":0},{"$f":"IF(IIR2>=Inputs!$E$38,$D$26,0)","v":0},{"$f":"IF(IIS2>=Inputs!$E$38,$D$26,0)","v":0},{"$f":"IF(IIT2>=Inputs!$E$38,$D$26,0)","v":0},{"$f":"IF(IIU2>=Inputs!$E$38,$D$26,0)","v":0},{"$f":"IF(IIV2>=Inputs!$E$38,$D$26,0)","v":0},{"$f":"IF(IIW2>=Inputs!$E$38,$D$26,0)","v":0},{"$f":"IF(IIX2>=Inputs!$E$38,$D$26,0)","v":0},{"$f":"IF(IIY2>=Inputs!$E$38,$D$26,0)","v":0},{"$f":"IF(IIZ2>=Inputs!$E$38,$D$26,0)","v":0},{"$f":"IF(IJA2>=Inputs!$E$38,$D$26,0)","v":0},{"$f":"IF(IJB2>=Inputs!$E$38,$D$26,0)","v":0},{"$f":"IF(IJC2>=Inputs!$E$38,$D$26,0)","v":0},{"$f":"IF(IJD2>=Inputs!$E$38,$D$26,0)","v":0},{"$f":"IF(IJE2>=Inputs!$E$38,$D$26,0)","v":0},{"$f":"IF(IJF2>=Inputs!$E$38,$D$26,0)","v":0},{"$f":"IF(IJG2>=Inputs!$E$38,$D$26,0)","v":0},{"$f":"IF(IJH2>=Inputs!$E$38,$D$26,0)","v":0},{"$f":"IF(IJI2>=Inputs!$E$38,$D$26,0)","v":0},{"$f":"IF(IJJ2>=Inputs!$E$38,$D$26,0)","v":0},{"$f":"IF(IJK2>=Inputs!$E$38,$D$26,0)","v":0},{"$f":"IF(IJL2>=Inputs!$E$38,$D$26,0)","v":0},{"$f":"IF(IJM2>=Inputs!$E$38,$D$26,0)","v":0},{"$f":"IF(IJN2>=Inputs!$E$38,$D$26,0)","v":0},{"$f":"IF(IJO2>=Inputs!$E$38,$D$26,0)","v":0},{"$f":"IF(IJP2>=Inputs!$E$38,$D$26,0)","v":0},{"$f":"IF(IJQ2>=Inputs!$E$38,$D$26,0)","v":0},{"$f":"IF(IJR2>=Inputs!$E$38,$D$26,0)","v":0},{"$f":"IF(IJS2>=Inputs!$E$38,$D$26,0)","v":0},{"$f":"IF(IJT2>=Inputs!$E$38,$D$26,0)","v":0},{"$f":"IF(IJU2>=Inputs!$E$38,$D$26,0)","v":0},{"$f":"IF(IJV2>=Inputs!$E$38,$D$26,0)","v":0},{"$f":"IF(IJW2>=Inputs!$E$38,$D$26,0)","v":0},{"$f":"IF(IJX2>=Inputs!$E$38,$D$26,0)","v":0},{"$f":"IF(IJY2>=Inputs!$E$38,$D$26,0)","v":0},{"$f":"IF(IJZ2>=Inputs!$E$38,$D$26,0)","v":0},{"$f":"IF(IKA2>=Inputs!$E$38,$D$26,0)","v":0},{"$f":"IF(IKB2>=Inputs!$E$38,$D$26,0)","v":0},{"$f":"IF(IKC2>=Inputs!$E$38,$D$26,0)","v":0},{"$f":"IF(IKD2>=Inputs!$E$38,$D$26,0)","v":0},{"$f":"IF(IKE2>=Inputs!$E$38,$D$26,0)","v":0},{"$f":"IF(IKF2>=Inputs!$E$38,$D$26,0)","v":0},{"$f":"IF(IKG2>=Inputs!$E$38,$D$26,0)","v":0},{"$f":"IF(IKH2>=Inputs!$E$38,$D$26,0)","v":0},{"$f":"IF(IKI2>=Inputs!$E$38,$D$26,0)","v":0},{"$f":"IF(IKJ2>=Inputs!$E$38,$D$26,0)","v":0},{"$f":"IF(IKK2>=Inputs!$E$38,$D$26,0)","v":0},{"$f":"IF(IKL2>=Inputs!$E$38,$D$26,0)","v":0},{"$f":"IF(IKM2>=Inputs!$E$38,$D$26,0)","v":0},{"$f":"IF(IKN2>=Inputs!$E$38,$D$26,0)","v":0},{"$f":"IF(IKO2>=Inputs!$E$38,$D$26,0)","v":0},{"$f":"IF(IKP2>=Inputs!$E$38,$D$26,0)","v":0},{"$f":"IF(IKQ2>=Inputs!$E$38,$D$26,0)","v":0},{"$f":"IF(IKR2>=Inputs!$E$38,$D$26,0)","v":0},{"$f":"IF(IKS2>=Inputs!$E$38,$D$26,0)","v":0},{"$f":"IF(IKT2>=Inputs!$E$38,$D$26,0)","v":0},{"$f":"IF(IKU2>=Inputs!$E$38,$D$26,0)","v":0},{"$f":"IF(IKV2>=Inputs!$E$38,$D$26,0)","v":0},{"$f":"IF(IKW2>=Inputs!$E$38,$D$26,0)","v":0},{"$f":"IF(IKX2>=Inputs!$E$38,$D$26,0)","v":0},{"$f":"IF(IKY2>=Inputs!$E$38,$D$26,0)","v":0},{"$f":"IF(IKZ2>=Inputs!$E$38,$D$26,0)","v":0},{"$f":"IF(ILA2>=Inputs!$E$38,$D$26,0)","v":0},{"$f":"IF(ILB2>=Inputs!$E$38,$D$26,0)","v":0},{"$f":"IF(ILC2>=Inputs!$E$38,$D$26,0)","v":0},{"$f":"IF(ILD2>=Inputs!$E$38,$D$26,0)","v":0},{"$f":"IF(ILE2>=Inputs!$E$38,$D$26,0)","v":0},{"$f":"IF(ILF2>=Inputs!$E$38,$D$26,0)","v":0},{"$f":"IF(ILG2>=Inputs!$E$38,$D$26,0)","v":0},{"$f":"IF(ILH2>=Inputs!$E$38,$D$26,0)","v":0},{"$f":"IF(ILI2>=Inputs!$E$38,$D$26,0)","v":0},{"$f":"IF(ILJ2>=Inputs!$E$38,$D$26,0)","v":0},{"$f":"IF(ILK2>=Inputs!$E$38,$D$26,0)","v":0},{"$f":"IF(ILL2>=Inputs!$E$38,$D$26,0)","v":0},{"$f":"IF(ILM2>=Inputs!$E$38,$D$26,0)","v":0},{"$f":"IF(ILN2>=Inputs!$E$38,$D$26,0)","v":0},{"$f":"IF(ILO2>=Inputs!$E$38,$D$26,0)","v":0},{"$f":"IF(ILP2>=Inputs!$E$38,$D$26,0)","v":0},{"$f":"IF(ILQ2>=Inputs!$E$38,$D$26,0)","v":0},{"$f":"IF(ILR2>=Inputs!$E$38,$D$26,0)","v":0},{"$f":"IF(ILS2>=Inputs!$E$38,$D$26,0)","v":0},{"$f":"IF(ILT2>=Inputs!$E$38,$D$26,0)","v":0},{"$f":"IF(ILU2>=Inputs!$E$38,$D$26,0)","v":0},{"$f":"IF(ILV2>=Inputs!$E$38,$D$26,0)","v":0},{"$f":"IF(ILW2>=Inputs!$E$38,$D$26,0)","v":0},{"$f":"IF(ILX2>=Inputs!$E$38,$D$26,0)","v":0},{"$f":"IF(ILY2>=Inputs!$E$38,$D$26,0)","v":0},{"$f":"IF(ILZ2>=Inputs!$E$38,$D$26,0)","v":0},{"$f":"IF(IMA2>=Inputs!$E$38,$D$26,0)","v":0},{"$f":"IF(IMB2>=Inputs!$E$38,$D$26,0)","v":0},{"$f":"IF(IMC2>=Inputs!$E$38,$D$26,0)","v":0},{"$f":"IF(IMD2>=Inputs!$E$38,$D$26,0)","v":0},{"$f":"IF(IME2>=Inputs!$E$38,$D$26,0)","v":0},{"$f":"IF(IMF2>=Inputs!$E$38,$D$26,0)","v":0},{"$f":"IF(IMG2>=Inputs!$E$38,$D$26,0)","v":0},{"$f":"IF(IMH2>=Inputs!$E$38,$D$26,0)","v":0},{"$f":"IF(IMI2>=Inputs!$E$38,$D$26,0)","v":0},{"$f":"IF(IMJ2>=Inputs!$E$38,$D$26,0)","v":0},{"$f":"IF(IMK2>=Inputs!$E$38,$D$26,0)","v":0},{"$f":"IF(IML2>=Inputs!$E$38,$D$26,0)","v":0},{"$f":"IF(IMM2>=Inputs!$E$38,$D$26,0)","v":0},{"$f":"IF(IMN2>=Inputs!$E$38,$D$26,0)","v":0},{"$f":"IF(IMO2>=Inputs!$E$38,$D$26,0)","v":0},{"$f":"IF(IMP2>=Inputs!$E$38,$D$26,0)","v":0},{"$f":"IF(IMQ2>=Inputs!$E$38,$D$26,0)","v":0},{"$f":"IF(IMR2>=Inputs!$E$38,$D$26,0)","v":0},{"$f":"IF(IMS2>=Inputs!$E$38,$D$26,0)","v":0},{"$f":"IF(IMT2>=Inputs!$E$38,$D$26,0)","v":0},{"$f":"IF(IMU2>=Inputs!$E$38,$D$26,0)","v":0},{"$f":"IF(IMV2>=Inputs!$E$38,$D$26,0)","v":0},{"$f":"IF(IMW2>=Inputs!$E$38,$D$26,0)","v":0},{"$f":"IF(IMX2>=Inputs!$E$38,$D$26,0)","v":0},{"$f":"IF(IMY2>=Inputs!$E$38,$D$26,0)","v":0},{"$f":"IF(IMZ2>=Inputs!$E$38,$D$26,0)","v":0},{"$f":"IF(INA2>=Inputs!$E$38,$D$26,0)","v":0},{"$f":"IF(INB2>=Inputs!$E$38,$D$26,0)","v":0},{"$f":"IF(INC2>=Inputs!$E$38,$D$26,0)","v":0},{"$f":"IF(IND2>=Inputs!$E$38,$D$26,0)","v":0},{"$f":"IF(INE2>=Inputs!$E$38,$D$26,0)","v":0},{"$f":"IF(INF2>=Inputs!$E$38,$D$26,0)","v":0},{"$f":"IF(ING2>=Inputs!$E$38,$D$26,0)","v":0},{"$f":"IF(INH2>=Inputs!$E$38,$D$26,0)","v":0},{"$f":"IF(INI2>=Inputs!$E$38,$D$26,0)","v":0},{"$f":"IF(INJ2>=Inputs!$E$38,$D$26,0)","v":0},{"$f":"IF(INK2>=Inputs!$E$38,$D$26,0)","v":0},{"$f":"IF(INL2>=Inputs!$E$38,$D$26,0)","v":0},{"$f":"IF(INM2>=Inputs!$E$38,$D$26,0)","v":0},{"$f":"IF(INN2>=Inputs!$E$38,$D$26,0)","v":0},{"$f":"IF(INO2>=Inputs!$E$38,$D$26,0)","v":0},{"$f":"IF(INP2>=Inputs!$E$38,$D$26,0)","v":0},{"$f":"IF(INQ2>=Inputs!$E$38,$D$26,0)","v":0},{"$f":"IF(INR2>=Inputs!$E$38,$D$26,0)","v":0},{"$f":"IF(INS2>=Inputs!$E$38,$D$26,0)","v":0},{"$f":"IF(INT2>=Inputs!$E$38,$D$26,0)","v":0},{"$f":"IF(INU2>=Inputs!$E$38,$D$26,0)","v":0},{"$f":"IF(INV2>=Inputs!$E$38,$D$26,0)","v":0},{"$f":"IF(INW2>=Inputs!$E$38,$D$26,0)","v":0},{"$f":"IF(INX2>=Inputs!$E$38,$D$26,0)","v":0},{"$f":"IF(INY2>=Inputs!$E$38,$D$26,0)","v":0},{"$f":"IF(INZ2>=Inputs!$E$38,$D$26,0)","v":0},{"$f":"IF(IOA2>=Inputs!$E$38,$D$26,0)","v":0},{"$f":"IF(IOB2>=Inputs!$E$38,$D$26,0)","v":0},{"$f":"IF(IOC2>=Inputs!$E$38,$D$26,0)","v":0},{"$f":"IF(IOD2>=Inputs!$E$38,$D$26,0)","v":0},{"$f":"IF(IOE2>=Inputs!$E$38,$D$26,0)","v":0},{"$f":"IF(IOF2>=Inputs!$E$38,$D$26,0)","v":0},{"$f":"IF(IOG2>=Inputs!$E$38,$D$26,0)","v":0},{"$f":"IF(IOH2>=Inputs!$E$38,$D$26,0)","v":0},{"$f":"IF(IOI2>=Inputs!$E$38,$D$26,0)","v":0},{"$f":"IF(IOJ2>=Inputs!$E$38,$D$26,0)","v":0},{"$f":"IF(IOK2>=Inputs!$E$38,$D$26,0)","v":0},{"$f":"IF(IOL2>=Inputs!$E$38,$D$26,0)","v":0},{"$f":"IF(IOM2>=Inputs!$E$38,$D$26,0)","v":0},{"$f":"IF(ION2>=Inputs!$E$38,$D$26,0)","v":0},{"$f":"IF(IOO2>=Inputs!$E$38,$D$26,0)","v":0},{"$f":"IF(IOP2>=Inputs!$E$38,$D$26,0)","v":0},{"$f":"IF(IOQ2>=Inputs!$E$38,$D$26,0)","v":0},{"$f":"IF(IOR2>=Inputs!$E$38,$D$26,0)","v":0},{"$f":"IF(IOS2>=Inputs!$E$38,$D$26,0)","v":0},{"$f":"IF(IOT2>=Inputs!$E$38,$D$26,0)","v":0},{"$f":"IF(IOU2>=Inputs!$E$38,$D$26,0)","v":0},{"$f":"IF(IOV2>=Inputs!$E$38,$D$26,0)","v":0},{"$f":"IF(IOW2>=Inputs!$E$38,$D$26,0)","v":0},{"$f":"IF(IOX2>=Inputs!$E$38,$D$26,0)","v":0},{"$f":"IF(IOY2>=Inputs!$E$38,$D$26,0)","v":0},{"$f":"IF(IOZ2>=Inputs!$E$38,$D$26,0)","v":0},{"$f":"IF(IPA2>=Inputs!$E$38,$D$26,0)","v":0},{"$f":"IF(IPB2>=Inputs!$E$38,$D$26,0)","v":0},{"$f":"IF(IPC2>=Inputs!$E$38,$D$26,0)","v":0},{"$f":"IF(IPD2>=Inputs!$E$38,$D$26,0)","v":0},{"$f":"IF(IPE2>=Inputs!$E$38,$D$26,0)","v":0},{"$f":"IF(IPF2>=Inputs!$E$38,$D$26,0)","v":0},{"$f":"IF(IPG2>=Inputs!$E$38,$D$26,0)","v":0},{"$f":"IF(IPH2>=Inputs!$E$38,$D$26,0)","v":0},{"$f":"IF(IPI2>=Inputs!$E$38,$D$26,0)","v":0},{"$f":"IF(IPJ2>=Inputs!$E$38,$D$26,0)","v":0},{"$f":"IF(IPK2>=Inputs!$E$38,$D$26,0)","v":0},{"$f":"IF(IPL2>=Inputs!$E$38,$D$26,0)","v":0},{"$f":"IF(IPM2>=Inputs!$E$38,$D$26,0)","v":0},{"$f":"IF(IPN2>=Inputs!$E$38,$D$26,0)","v":0},{"$f":"IF(IPO2>=Inputs!$E$38,$D$26,0)","v":0},{"$f":"IF(IPP2>=Inputs!$E$38,$D$26,0)","v":0},{"$f":"IF(IPQ2>=Inputs!$E$38,$D$26,0)","v":0},{"$f":"IF(IPR2>=Inputs!$E$38,$D$26,0)","v":0},{"$f":"IF(IPS2>=Inputs!$E$38,$D$26,0)","v":0},{"$f":"IF(IPT2>=Inputs!$E$38,$D$26,0)","v":0},{"$f":"IF(IPU2>=Inputs!$E$38,$D$26,0)","v":0},{"$f":"IF(IPV2>=Inputs!$E$38,$D$26,0)","v":0},{"$f":"IF(IPW2>=Inputs!$E$38,$D$26,0)","v":0},{"$f":"IF(IPX2>=Inputs!$E$38,$D$26,0)","v":0},{"$f":"IF(IPY2>=Inputs!$E$38,$D$26,0)","v":0},{"$f":"IF(IPZ2>=Inputs!$E$38,$D$26,0)","v":0},{"$f":"IF(IQA2>=Inputs!$E$38,$D$26,0)","v":0},{"$f":"IF(IQB2>=Inputs!$E$38,$D$26,0)","v":0},{"$f":"IF(IQC2>=Inputs!$E$38,$D$26,0)","v":0},{"$f":"IF(IQD2>=Inputs!$E$38,$D$26,0)","v":0},{"$f":"IF(IQE2>=Inputs!$E$38,$D$26,0)","v":0},{"$f":"IF(IQF2>=Inputs!$E$38,$D$26,0)","v":0},{"$f":"IF(IQG2>=Inputs!$E$38,$D$26,0)","v":0},{"$f":"IF(IQH2>=Inputs!$E$38,$D$26,0)","v":0},{"$f":"IF(IQI2>=Inputs!$E$38,$D$26,0)","v":0},{"$f":"IF(IQJ2>=Inputs!$E$38,$D$26,0)","v":0},{"$f":"IF(IQK2>=Inputs!$E$38,$D$26,0)","v":0},{"$f":"IF(IQL2>=Inputs!$E$38,$D$26,0)","v":0},{"$f":"IF(IQM2>=Inputs!$E$38,$D$26,0)","v":0},{"$f":"IF(IQN2>=Inputs!$E$38,$D$26,0)","v":0},{"$f":"IF(IQO2>=Inputs!$E$38,$D$26,0)","v":0},{"$f":"IF(IQP2>=Inputs!$E$38,$D$26,0)","v":0},{"$f":"IF(IQQ2>=Inputs!$E$38,$D$26,0)","v":0},{"$f":"IF(IQR2>=Inputs!$E$38,$D$26,0)","v":0},{"$f":"IF(IQS2>=Inputs!$E$38,$D$26,0)","v":0},{"$f":"IF(IQT2>=Inputs!$E$38,$D$26,0)","v":0},{"$f":"IF(IQU2>=Inputs!$E$38,$D$26,0)","v":0},{"$f":"IF(IQV2>=Inputs!$E$38,$D$26,0)","v":0},{"$f":"IF(IQW2>=Inputs!$E$38,$D$26,0)","v":0},{"$f":"IF(IQX2>=Inputs!$E$38,$D$26,0)","v":0},{"$f":"IF(IQY2>=Inputs!$E$38,$D$26,0)","v":0},{"$f":"IF(IQZ2>=Inputs!$E$38,$D$26,0)","v":0},{"$f":"IF(IRA2>=Inputs!$E$38,$D$26,0)","v":0},{"$f":"IF(IRB2>=Inputs!$E$38,$D$26,0)","v":0},{"$f":"IF(IRC2>=Inputs!$E$38,$D$26,0)","v":0},{"$f":"IF(IRD2>=Inputs!$E$38,$D$26,0)","v":0},{"$f":"IF(IRE2>=Inputs!$E$38,$D$26,0)","v":0},{"$f":"IF(IRF2>=Inputs!$E$38,$D$26,0)","v":0},{"$f":"IF(IRG2>=Inputs!$E$38,$D$26,0)","v":0},{"$f":"IF(IRH2>=Inputs!$E$38,$D$26,0)","v":0},{"$f":"IF(IRI2>=Inputs!$E$38,$D$26,0)","v":0},{"$f":"IF(IRJ2>=Inputs!$E$38,$D$26,0)","v":0},{"$f":"IF(IRK2>=Inputs!$E$38,$D$26,0)","v":0},{"$f":"IF(IRL2>=Inputs!$E$38,$D$26,0)","v":0},{"$f":"IF(IRM2>=Inputs!$E$38,$D$26,0)","v":0},{"$f":"IF(IRN2>=Inputs!$E$38,$D$26,0)","v":0},{"$f":"IF(IRO2>=Inputs!$E$38,$D$26,0)","v":0},{"$f":"IF(IRP2>=Inputs!$E$38,$D$26,0)","v":0},{"$f":"IF(IRQ2>=Inputs!$E$38,$D$26,0)","v":0},{"$f":"IF(IRR2>=Inputs!$E$38,$D$26,0)","v":0},{"$f":"IF(IRS2>=Inputs!$E$38,$D$26,0)","v":0},{"$f":"IF(IRT2>=Inputs!$E$38,$D$26,0)","v":0},{"$f":"IF(IRU2>=Inputs!$E$38,$D$26,0)","v":0},{"$f":"IF(IRV2>=Inputs!$E$38,$D$26,0)","v":0},{"$f":"IF(IRW2>=Inputs!$E$38,$D$26,0)","v":0},{"$f":"IF(IRX2>=Inputs!$E$38,$D$26,0)","v":0},{"$f":"IF(IRY2>=Inputs!$E$38,$D$26,0)","v":0},{"$f":"IF(IRZ2>=Inputs!$E$38,$D$26,0)","v":0},{"$f":"IF(ISA2>=Inputs!$E$38,$D$26,0)","v":0},{"$f":"IF(ISB2>=Inputs!$E$38,$D$26,0)","v":0},{"$f":"IF(ISC2>=Inputs!$E$38,$D$26,0)","v":0},{"$f":"IF(ISD2>=Inputs!$E$38,$D$26,0)","v":0},{"$f":"IF(ISE2>=Inputs!$E$38,$D$26,0)","v":0},{"$f":"IF(ISF2>=Inputs!$E$38,$D$26,0)","v":0},{"$f":"IF(ISG2>=Inputs!$E$38,$D$26,0)","v":0},{"$f":"IF(ISH2>=Inputs!$E$38,$D$26,0)","v":0},{"$f":"IF(ISI2>=Inputs!$E$38,$D$26,0)","v":0},{"$f":"IF(ISJ2>=Inputs!$E$38,$D$26,0)","v":0},{"$f":"IF(ISK2>=Inputs!$E$38,$D$26,0)","v":0},{"$f":"IF(ISL2>=Inputs!$E$38,$D$26,0)","v":0},{"$f":"IF(ISM2>=Inputs!$E$38,$D$26,0)","v":0},{"$f":"IF(ISN2>=Inputs!$E$38,$D$26,0)","v":0},{"$f":"IF(ISO2>=Inputs!$E$38,$D$26,0)","v":0},{"$f":"IF(ISP2>=Inputs!$E$38,$D$26,0)","v":0},{"$f":"IF(ISQ2>=Inputs!$E$38,$D$26,0)","v":0},{"$f":"IF(ISR2>=Inputs!$E$38,$D$26,0)","v":0},{"$f":"IF(ISS2>=Inputs!$E$38,$D$26,0)","v":0},{"$f":"IF(IST2>=Inputs!$E$38,$D$26,0)","v":0},{"$f":"IF(ISU2>=Inputs!$E$38,$D$26,0)","v":0},{"$f":"IF(ISV2>=Inputs!$E$38,$D$26,0)","v":0},{"$f":"IF(ISW2>=Inputs!$E$38,$D$26,0)","v":0},{"$f":"IF(ISX2>=Inputs!$E$38,$D$26,0)","v":0},{"$f":"IF(ISY2>=Inputs!$E$38,$D$26,0)","v":0},{"$f":"IF(ISZ2>=Inputs!$E$38,$D$26,0)","v":0},{"$f":"IF(ITA2>=Inputs!$E$38,$D$26,0)","v":0},{"$f":"IF(ITB2>=Inputs!$E$38,$D$26,0)","v":0},{"$f":"IF(ITC2>=Inputs!$E$38,$D$26,0)","v":0},{"$f":"IF(ITD2>=Inputs!$E$38,$D$26,0)","v":0},{"$f":"IF(ITE2>=Inputs!$E$38,$D$26,0)","v":0},{"$f":"IF(ITF2>=Inputs!$E$38,$D$26,0)","v":0},{"$f":"IF(ITG2>=Inputs!$E$38,$D$26,0)","v":0},{"$f":"IF(ITH2>=Inputs!$E$38,$D$26,0)","v":0},{"$f":"IF(ITI2>=Inputs!$E$38,$D$26,0)","v":0},{"$f":"IF(ITJ2>=Inputs!$E$38,$D$26,0)","v":0},{"$f":"IF(ITK2>=Inputs!$E$38,$D$26,0)","v":0},{"$f":"IF(ITL2>=Inputs!$E$38,$D$26,0)","v":0},{"$f":"IF(ITM2>=Inputs!$E$38,$D$26,0)","v":0},{"$f":"IF(ITN2>=Inputs!$E$38,$D$26,0)","v":0},{"$f":"IF(ITO2>=Inputs!$E$38,$D$26,0)","v":0},{"$f":"IF(ITP2>=Inputs!$E$38,$D$26,0)","v":0},{"$f":"IF(ITQ2>=Inputs!$E$38,$D$26,0)","v":0},{"$f":"IF(ITR2>=Inputs!$E$38,$D$26,0)","v":0},{"$f":"IF(ITS2>=Inputs!$E$38,$D$26,0)","v":0},{"$f":"IF(ITT2>=Inputs!$E$38,$D$26,0)","v":0},{"$f":"IF(ITU2>=Inputs!$E$38,$D$26,0)","v":0},{"$f":"IF(ITV2>=Inputs!$E$38,$D$26,0)","v":0},{"$f":"IF(ITW2>=Inputs!$E$38,$D$26,0)","v":0},{"$f":"IF(ITX2>=Inputs!$E$38,$D$26,0)","v":0},{"$f":"IF(ITY2>=Inputs!$E$38,$D$26,0)","v":0},{"$f":"IF(ITZ2>=Inputs!$E$38,$D$26,0)","v":0},{"$f":"IF(IUA2>=Inputs!$E$38,$D$26,0)","v":0},{"$f":"IF(IUB2>=Inputs!$E$38,$D$26,0)","v":0},{"$f":"IF(IUC2>=Inputs!$E$38,$D$26,0)","v":0},{"$f":"IF(IUD2>=Inputs!$E$38,$D$26,0)","v":0},{"$f":"IF(IUE2>=Inputs!$E$38,$D$26,0)","v":0},{"$f":"IF(IUF2>=Inputs!$E$38,$D$26,0)","v":0},{"$f":"IF(IUG2>=Inputs!$E$38,$D$26,0)","v":0},{"$f":"IF(IUH2>=Inputs!$E$38,$D$26,0)","v":0},{"$f":"IF(IUI2>=Inputs!$E$38,$D$26,0)","v":0},{"$f":"IF(IUJ2>=Inputs!$E$38,$D$26,0)","v":0},{"$f":"IF(IUK2>=Inputs!$E$38,$D$26,0)","v":0},{"$f":"IF(IUL2>=Inputs!$E$38,$D$26,0)","v":0},{"$f":"IF(IUM2>=Inputs!$E$38,$D$26,0)","v":0},{"$f":"IF(IUN2>=Inputs!$E$38,$D$26,0)","v":0},{"$f":"IF(IUO2>=Inputs!$E$38,$D$26,0)","v":0},{"$f":"IF(IUP2>=Inputs!$E$38,$D$26,0)","v":0},{"$f":"IF(IUQ2>=Inputs!$E$38,$D$26,0)","v":0},{"$f":"IF(IUR2>=Inputs!$E$38,$D$26,0)","v":0},{"$f":"IF(IUS2>=Inputs!$E$38,$D$26,0)","v":0},{"$f":"IF(IUT2>=Inputs!$E$38,$D$26,0)","v":0},{"$f":"IF(IUU2>=Inputs!$E$38,$D$26,0)","v":0},{"$f":"IF(IUV2>=Inputs!$E$38,$D$26,0)","v":0},{"$f":"IF(IUW2>=Inputs!$E$38,$D$26,0)","v":0},{"$f":"IF(IUX2>=Inputs!$E$38,$D$26,0)","v":0},{"$f":"IF(IUY2>=Inputs!$E$38,$D$26,0)","v":0},{"$f":"IF(IUZ2>=Inputs!$E$38,$D$26,0)","v":0},{"$f":"IF(IVA2>=Inputs!$E$38,$D$26,0)","v":0},{"$f":"IF(IVB2>=Inputs!$E$38,$D$26,0)","v":0},{"$f":"IF(IVC2>=Inputs!$E$38,$D$26,0)","v":0},{"$f":"IF(IVD2>=Inputs!$E$38,$D$26,0)","v":0},{"$f":"IF(IVE2>=Inputs!$E$38,$D$26,0)","v":0},{"$f":"IF(IVF2>=Inputs!$E$38,$D$26,0)","v":0},{"$f":"IF(IVG2>=Inputs!$E$38,$D$26,0)","v":0},{"$f":"IF(IVH2>=Inputs!$E$38,$D$26,0)","v":0},{"$f":"IF(IVI2>=Inputs!$E$38,$D$26,0)","v":0},{"$f":"IF(IVJ2>=Inputs!$E$38,$D$26,0)","v":0},{"$f":"IF(IVK2>=Inputs!$E$38,$D$26,0)","v":0},{"$f":"IF(IVL2>=Inputs!$E$38,$D$26,0)","v":0},{"$f":"IF(IVM2>=Inputs!$E$38,$D$26,0)","v":0},{"$f":"IF(IVN2>=Inputs!$E$38,$D$26,0)","v":0},{"$f":"IF(IVO2>=Inputs!$E$38,$D$26,0)","v":0},{"$f":"IF(IVP2>=Inputs!$E$38,$D$26,0)","v":0},{"$f":"IF(IVQ2>=Inputs!$E$38,$D$26,0)","v":0},{"$f":"IF(IVR2>=Inputs!$E$38,$D$26,0)","v":0},{"$f":"IF(IVS2>=Inputs!$E$38,$D$26,0)","v":0},{"$f":"IF(IVT2>=Inputs!$E$38,$D$26,0)","v":0},{"$f":"IF(IVU2>=Inputs!$E$38,$D$26,0)","v":0},{"$f":"IF(IVV2>=Inputs!$E$38,$D$26,0)","v":0},{"$f":"IF(IVW2>=Inputs!$E$38,$D$26,0)","v":0},{"$f":"IF(IVX2>=Inputs!$E$38,$D$26,0)","v":0},{"$f":"IF(IVY2>=Inputs!$E$38,$D$26,0)","v":0},{"$f":"IF(IVZ2>=Inputs!$E$38,$D$26,0)","v":0},{"$f":"IF(IWA2>=Inputs!$E$38,$D$26,0)","v":0},{"$f":"IF(IWB2>=Inputs!$E$38,$D$26,0)","v":0},{"$f":"IF(IWC2>=Inputs!$E$38,$D$26,0)","v":0},{"$f":"IF(IWD2>=Inputs!$E$38,$D$26,0)","v":0},{"$f":"IF(IWE2>=Inputs!$E$38,$D$26,0)","v":0},{"$f":"IF(IWF2>=Inputs!$E$38,$D$26,0)","v":0},{"$f":"IF(IWG2>=Inputs!$E$38,$D$26,0)","v":0},{"$f":"IF(IWH2>=Inputs!$E$38,$D$26,0)","v":0},{"$f":"IF(IWI2>=Inputs!$E$38,$D$26,0)","v":0},{"$f":"IF(IWJ2>=Inputs!$E$38,$D$26,0)","v":0},{"$f":"IF(IWK2>=Inputs!$E$38,$D$26,0)","v":0},{"$f":"IF(IWL2>=Inputs!$E$38,$D$26,0)","v":0},{"$f":"IF(IWM2>=Inputs!$E$38,$D$26,0)","v":0},{"$f":"IF(IWN2>=Inputs!$E$38,$D$26,0)","v":0},{"$f":"IF(IWO2>=Inputs!$E$38,$D$26,0)","v":0},{"$f":"IF(IWP2>=Inputs!$E$38,$D$26,0)","v":0},{"$f":"IF(IWQ2>=Inputs!$E$38,$D$26,0)","v":0},{"$f":"IF(IWR2>=Inputs!$E$38,$D$26,0)","v":0},{"$f":"IF(IWS2>=Inputs!$E$38,$D$26,0)","v":0},{"$f":"IF(IWT2>=Inputs!$E$38,$D$26,0)","v":0},{"$f":"IF(IWU2>=Inputs!$E$38,$D$26,0)","v":0},{"$f":"IF(IWV2>=Inputs!$E$38,$D$26,0)","v":0},{"$f":"IF(IWW2>=Inputs!$E$38,$D$26,0)","v":0},{"$f":"IF(IWX2>=Inputs!$E$38,$D$26,0)","v":0},{"$f":"IF(IWY2>=Inputs!$E$38,$D$26,0)","v":0},{"$f":"IF(IWZ2>=Inputs!$E$38,$D$26,0)","v":0},{"$f":"IF(IXA2>=Inputs!$E$38,$D$26,0)","v":0},{"$f":"IF(IXB2>=Inputs!$E$38,$D$26,0)","v":0},{"$f":"IF(IXC2>=Inputs!$E$38,$D$26,0)","v":0},{"$f":"IF(IXD2>=Inputs!$E$38,$D$26,0)","v":0},{"$f":"IF(IXE2>=Inputs!$E$38,$D$26,0)","v":0},{"$f":"IF(IXF2>=Inputs!$E$38,$D$26,0)","v":0},{"$f":"IF(IXG2>=Inputs!$E$38,$D$26,0)","v":0},{"$f":"IF(IXH2>=Inputs!$E$38,$D$26,0)","v":0},{"$f":"IF(IXI2>=Inputs!$E$38,$D$26,0)","v":0},{"$f":"IF(IXJ2>=Inputs!$E$38,$D$26,0)","v":0},{"$f":"IF(IXK2>=Inputs!$E$38,$D$26,0)","v":0},{"$f":"IF(IXL2>=Inputs!$E$38,$D$26,0)","v":0},{"$f":"IF(IXM2>=Inputs!$E$38,$D$26,0)","v":0},{"$f":"IF(IXN2>=Inputs!$E$38,$D$26,0)","v":0},{"$f":"IF(IXO2>=Inputs!$E$38,$D$26,0)","v":0},{"$f":"IF(IXP2>=Inputs!$E$38,$D$26,0)","v":0},{"$f":"IF(IXQ2>=Inputs!$E$38,$D$26,0)","v":0},{"$f":"IF(IXR2>=Inputs!$E$38,$D$26,0)","v":0},{"$f":"IF(IXS2>=Inputs!$E$38,$D$26,0)","v":0},{"$f":"IF(IXT2>=Inputs!$E$38,$D$26,0)","v":0},{"$f":"IF(IXU2>=Inputs!$E$38,$D$26,0)","v":0},{"$f":"IF(IXV2>=Inputs!$E$38,$D$26,0)","v":0},{"$f":"IF(IXW2>=Inputs!$E$38,$D$26,0)","v":0},{"$f":"IF(IXX2>=Inputs!$E$38,$D$26,0)","v":0},{"$f":"IF(IXY2>=Inputs!$E$38,$D$26,0)","v":0},{"$f":"IF(IXZ2>=Inputs!$E$38,$D$26,0)","v":0},{"$f":"IF(IYA2>=Inputs!$E$38,$D$26,0)","v":0},{"$f":"IF(IYB2>=Inputs!$E$38,$D$26,0)","v":0},{"$f":"IF(IYC2>=Inputs!$E$38,$D$26,0)","v":0},{"$f":"IF(IYD2>=Inputs!$E$38,$D$26,0)","v":0},{"$f":"IF(IYE2>=Inputs!$E$38,$D$26,0)","v":0},{"$f":"IF(IYF2>=Inputs!$E$38,$D$26,0)","v":0},{"$f":"IF(IYG2>=Inputs!$E$38,$D$26,0)","v":0},{"$f":"IF(IYH2>=Inputs!$E$38,$D$26,0)","v":0},{"$f":"IF(IYI2>=Inputs!$E$38,$D$26,0)","v":0},{"$f":"IF(IYJ2>=Inputs!$E$38,$D$26,0)","v":0},{"$f":"IF(IYK2>=Inputs!$E$38,$D$26,0)","v":0},{"$f":"IF(IYL2>=Inputs!$E$38,$D$26,0)","v":0},{"$f":"IF(IYM2>=Inputs!$E$38,$D$26,0)","v":0},{"$f":"IF(IYN2>=Inputs!$E$38,$D$26,0)","v":0},{"$f":"IF(IYO2>=Inputs!$E$38,$D$26,0)","v":0},{"$f":"IF(IYP2>=Inputs!$E$38,$D$26,0)","v":0},{"$f":"IF(IYQ2>=Inputs!$E$38,$D$26,0)","v":0},{"$f":"IF(IYR2>=Inputs!$E$38,$D$26,0)","v":0},{"$f":"IF(IYS2>=Inputs!$E$38,$D$26,0)","v":0},{"$f":"IF(IYT2>=Inputs!$E$38,$D$26,0)","v":0},{"$f":"IF(IYU2>=Inputs!$E$38,$D$26,0)","v":0},{"$f":"IF(IYV2>=Inputs!$E$38,$D$26,0)","v":0},{"$f":"IF(IYW2>=Inputs!$E$38,$D$26,0)","v":0},{"$f":"IF(IYX2>=Inputs!$E$38,$D$26,0)","v":0},{"$f":"IF(IYY2>=Inputs!$E$38,$D$26,0)","v":0},{"$f":"IF(IYZ2>=Inputs!$E$38,$D$26,0)","v":0},{"$f":"IF(IZA2>=Inputs!$E$38,$D$26,0)","v":0},{"$f":"IF(IZB2>=Inputs!$E$38,$D$26,0)","v":0},{"$f":"IF(IZC2>=Inputs!$E$38,$D$26,0)","v":0},{"$f":"IF(IZD2>=Inputs!$E$38,$D$26,0)","v":0},{"$f":"IF(IZE2>=Inputs!$E$38,$D$26,0)","v":0},{"$f":"IF(IZF2>=Inputs!$E$38,$D$26,0)","v":0},{"$f":"IF(IZG2>=Inputs!$E$38,$D$26,0)","v":0},{"$f":"IF(IZH2>=Inputs!$E$38,$D$26,0)","v":0},{"$f":"IF(IZI2>=Inputs!$E$38,$D$26,0)","v":0},{"$f":"IF(IZJ2>=Inputs!$E$38,$D$26,0)","v":0},{"$f":"IF(IZK2>=Inputs!$E$38,$D$26,0)","v":0},{"$f":"IF(IZL2>=Inputs!$E$38,$D$26,0)","v":0},{"$f":"IF(IZM2>=Inputs!$E$38,$D$26,0)","v":0},{"$f":"IF(IZN2>=Inputs!$E$38,$D$26,0)","v":0},{"$f":"IF(IZO2>=Inputs!$E$38,$D$26,0)","v":0},{"$f":"IF(IZP2>=Inputs!$E$38,$D$26,0)","v":0},{"$f":"IF(IZQ2>=Inputs!$E$38,$D$26,0)","v":0},{"$f":"IF(IZR2>=Inputs!$E$38,$D$26,0)","v":0},{"$f":"IF(IZS2>=Inputs!$E$38,$D$26,0)","v":0},{"$f":"IF(IZT2>=Inputs!$E$38,$D$26,0)","v":0},{"$f":"IF(IZU2>=Inputs!$E$38,$D$26,0)","v":0},{"$f":"IF(IZV2>=Inputs!$E$38,$D$26,0)","v":0},{"$f":"IF(IZW2>=Inputs!$E$38,$D$26,0)","v":0},{"$f":"IF(IZX2>=Inputs!$E$38,$D$26,0)","v":0},{"$f":"IF(IZY2>=Inputs!$E$38,$D$26,0)","v":0},{"$f":"IF(IZZ2>=Inputs!$E$38,$D$26,0)","v":0},{"$f":"IF(JAA2>=Inputs!$E$38,$D$26,0)","v":0},{"$f":"IF(JAB2>=Inputs!$E$38,$D$26,0)","v":0},{"$f":"IF(JAC2>=Inputs!$E$38,$D$26,0)","v":0},{"$f":"IF(JAD2>=Inputs!$E$38,$D$26,0)","v":0},{"$f":"IF(JAE2>=Inputs!$E$38,$D$26,0)","v":0},{"$f":"IF(JAF2>=Inputs!$E$38,$D$26,0)","v":0},{"$f":"IF(JAG2>=Inputs!$E$38,$D$26,0)","v":0},{"$f":"IF(JAH2>=Inputs!$E$38,$D$26,0)","v":0},{"$f":"IF(JAI2>=Inputs!$E$38,$D$26,0)","v":0},{"$f":"IF(JAJ2>=Inputs!$E$38,$D$26,0)","v":0},{"$f":"IF(JAK2>=Inputs!$E$38,$D$26,0)","v":0},{"$f":"IF(JAL2>=Inputs!$E$38,$D$26,0)","v":0},{"$f":"IF(JAM2>=Inputs!$E$38,$D$26,0)","v":0},{"$f":"IF(JAN2>=Inputs!$E$38,$D$26,0)","v":0},{"$f":"IF(JAO2>=Inputs!$E$38,$D$26,0)","v":0},{"$f":"IF(JAP2>=Inputs!$E$38,$D$26,0)","v":0},{"$f":"IF(JAQ2>=Inputs!$E$38,$D$26,0)","v":0},{"$f":"IF(JAR2>=Inputs!$E$38,$D$26,0)","v":0},{"$f":"IF(JAS2>=Inputs!$E$38,$D$26,0)","v":0},{"$f":"IF(JAT2>=Inputs!$E$38,$D$26,0)","v":0},{"$f":"IF(JAU2>=Inputs!$E$38,$D$26,0)","v":0},{"$f":"IF(JAV2>=Inputs!$E$38,$D$26,0)","v":0},{"$f":"IF(JAW2>=Inputs!$E$38,$D$26,0)","v":0},{"$f":"IF(JAX2>=Inputs!$E$38,$D$26,0)","v":0},{"$f":"IF(JAY2>=Inputs!$E$38,$D$26,0)","v":0},{"$f":"IF(JAZ2>=Inputs!$E$38,$D$26,0)","v":0},{"$f":"IF(JBA2>=Inputs!$E$38,$D$26,0)","v":0},{"$f":"IF(JBB2>=Inputs!$E$38,$D$26,0)","v":0},{"$f":"IF(JBC2>=Inputs!$E$38,$D$26,0)","v":0},{"$f":"IF(JBD2>=Inputs!$E$38,$D$26,0)","v":0},{"$f":"IF(JBE2>=Inputs!$E$38,$D$26,0)","v":0},{"$f":"IF(JBF2>=Inputs!$E$38,$D$26,0)","v":0},{"$f":"IF(JBG2>=Inputs!$E$38,$D$26,0)","v":0},{"$f":"IF(JBH2>=Inputs!$E$38,$D$26,0)","v":0},{"$f":"IF(JBI2>=Inputs!$E$38,$D$26,0)","v":0},{"$f":"IF(JBJ2>=Inputs!$E$38,$D$26,0)","v":0},{"$f":"IF(JBK2>=Inputs!$E$38,$D$26,0)","v":0},{"$f":"IF(JBL2>=Inputs!$E$38,$D$26,0)","v":0},{"$f":"IF(JBM2>=Inputs!$E$38,$D$26,0)","v":0},{"$f":"IF(JBN2>=Inputs!$E$38,$D$26,0)","v":0},{"$f":"IF(JBO2>=Inputs!$E$38,$D$26,0)","v":0},{"$f":"IF(JBP2>=Inputs!$E$38,$D$26,0)","v":0},{"$f":"IF(JBQ2>=Inputs!$E$38,$D$26,0)","v":0},{"$f":"IF(JBR2>=Inputs!$E$38,$D$26,0)","v":0},{"$f":"IF(JBS2>=Inputs!$E$38,$D$26,0)","v":0},{"$f":"IF(JBT2>=Inputs!$E$38,$D$26,0)","v":0},{"$f":"IF(JBU2>=Inputs!$E$38,$D$26,0)","v":0},{"$f":"IF(JBV2>=Inputs!$E$38,$D$26,0)","v":0},{"$f":"IF(JBW2>=Inputs!$E$38,$D$26,0)","v":0},{"$f":"IF(JBX2>=Inputs!$E$38,$D$26,0)","v":0},{"$f":"IF(JBY2>=Inputs!$E$38,$D$26,0)","v":0},{"$f":"IF(JBZ2>=Inputs!$E$38,$D$26,0)","v":0},{"$f":"IF(JCA2>=Inputs!$E$38,$D$26,0)","v":0},{"$f":"IF(JCB2>=Inputs!$E$38,$D$26,0)","v":0},{"$f":"IF(JCC2>=Inputs!$E$38,$D$26,0)","v":0},{"$f":"IF(JCD2>=Inputs!$E$38,$D$26,0)","v":0},{"$f":"IF(JCE2>=Inputs!$E$38,$D$26,0)","v":0},{"$f":"IF(JCF2>=Inputs!$E$38,$D$26,0)","v":0},{"$f":"IF(JCG2>=Inputs!$E$38,$D$26,0)","v":0},{"$f":"IF(JCH2>=Inputs!$E$38,$D$26,0)","v":0},{"$f":"IF(JCI2>=Inputs!$E$38,$D$26,0)","v":0},{"$f":"IF(JCJ2>=Inputs!$E$38,$D$26,0)","v":0},{"$f":"IF(JCK2>=Inputs!$E$38,$D$26,0)","v":0},{"$f":"IF(JCL2>=Inputs!$E$38,$D$26,0)","v":0},{"$f":"IF(JCM2>=Inputs!$E$38,$D$26,0)","v":0},{"$f":"IF(JCN2>=Inputs!$E$38,$D$26,0)","v":0},{"$f":"IF(JCO2>=Inputs!$E$38,$D$26,0)","v":0},{"$f":"IF(JCP2>=Inputs!$E$38,$D$26,0)","v":0},{"$f":"IF(JCQ2>=Inputs!$E$38,$D$26,0)","v":0},{"$f":"IF(JCR2>=Inputs!$E$38,$D$26,0)","v":0},{"$f":"IF(JCS2>=Inputs!$E$38,$D$26,0)","v":0},{"$f":"IF(JCT2>=Inputs!$E$38,$D$26,0)","v":0},{"$f":"IF(JCU2>=Inputs!$E$38,$D$26,0)","v":0},{"$f":"IF(JCV2>=Inputs!$E$38,$D$26,0)","v":0},{"$f":"IF(JCW2>=Inputs!$E$38,$D$26,0)","v":0},{"$f":"IF(JCX2>=Inputs!$E$38,$D$26,0)","v":0},{"$f":"IF(JCY2>=Inputs!$E$38,$D$26,0)","v":0},{"$f":"IF(JCZ2>=Inputs!$E$38,$D$26,0)","v":0},{"$f":"IF(JDA2>=Inputs!$E$38,$D$26,0)","v":0},{"$f":"IF(JDB2>=Inputs!$E$38,$D$26,0)","v":0},{"$f":"IF(JDC2>=Inputs!$E$38,$D$26,0)","v":0},{"$f":"IF(JDD2>=Inputs!$E$38,$D$26,0)","v":0},{"$f":"IF(JDE2>=Inputs!$E$38,$D$26,0)","v":0},{"$f":"IF(JDF2>=Inputs!$E$38,$D$26,0)","v":0},{"$f":"IF(JDG2>=Inputs!$E$38,$D$26,0)","v":0},{"$f":"IF(JDH2>=Inputs!$E$38,$D$26,0)","v":0},{"$f":"IF(JDI2>=Inputs!$E$38,$D$26,0)","v":0},{"$f":"IF(JDJ2>=Inputs!$E$38,$D$26,0)","v":0},{"$f":"IF(JDK2>=Inputs!$E$38,$D$26,0)","v":0},{"$f":"IF(JDL2>=Inputs!$E$38,$D$26,0)","v":0},{"$f":"IF(JDM2>=Inputs!$E$38,$D$26,0)","v":0},{"$f":"IF(JDN2>=Inputs!$E$38,$D$26,0)","v":0},{"$f":"IF(JDO2>=Inputs!$E$38,$D$26,0)","v":0},{"$f":"IF(JDP2>=Inputs!$E$38,$D$26,0)","v":0},{"$f":"IF(JDQ2>=Inputs!$E$38,$D$26,0)","v":0},{"$f":"IF(JDR2>=Inputs!$E$38,$D$26,0)","v":0},{"$f":"IF(JDS2>=Inputs!$E$38,$D$26,0)","v":0},{"$f":"IF(JDT2>=Inputs!$E$38,$D$26,0)","v":0},{"$f":"IF(JDU2>=Inputs!$E$38,$D$26,0)","v":0},{"$f":"IF(JDV2>=Inputs!$E$38,$D$26,0)","v":0},{"$f":"IF(JDW2>=Inputs!$E$38,$D$26,0)","v":0},{"$f":"IF(JDX2>=Inputs!$E$38,$D$26,0)","v":0},{"$f":"IF(JDY2>=Inputs!$E$38,$D$26,0)","v":0},{"$f":"IF(JDZ2>=Inputs!$E$38,$D$26,0)","v":0},{"$f":"IF(JEA2>=Inputs!$E$38,$D$26,0)","v":0},{"$f":"IF(JEB2>=Inputs!$E$38,$D$26,0)","v":0},{"$f":"IF(JEC2>=Inputs!$E$38,$D$26,0)","v":0},{"$f":"IF(JED2>=Inputs!$E$38,$D$26,0)","v":0},{"$f":"IF(JEE2>=Inputs!$E$38,$D$26,0)","v":0},{"$f":"IF(JEF2>=Inputs!$E$38,$D$26,0)","v":0},{"$f":"IF(JEG2>=Inputs!$E$38,$D$26,0)","v":0},{"$f":"IF(JEH2>=Inputs!$E$38,$D$26,0)","v":0},{"$f":"IF(JEI2>=Inputs!$E$38,$D$26,0)","v":0},{"$f":"IF(JEJ2>=Inputs!$E$38,$D$26,0)","v":0},{"$f":"IF(JEK2>=Inputs!$E$38,$D$26,0)","v":0},{"$f":"IF(JEL2>=Inputs!$E$38,$D$26,0)","v":0},{"$f":"IF(JEM2>=Inputs!$E$38,$D$26,0)","v":0},{"$f":"IF(JEN2>=Inputs!$E$38,$D$26,0)","v":0},{"$f":"IF(JEO2>=Inputs!$E$38,$D$26,0)","v":0},{"$f":"IF(JEP2>=Inputs!$E$38,$D$26,0)","v":0},{"$f":"IF(JEQ2>=Inputs!$E$38,$D$26,0)","v":0},{"$f":"IF(JER2>=Inputs!$E$38,$D$26,0)","v":0},{"$f":"IF(JES2>=Inputs!$E$38,$D$26,0)","v":0},{"$f":"IF(JET2>=Inputs!$E$38,$D$26,0)","v":0},{"$f":"IF(JEU2>=Inputs!$E$38,$D$26,0)","v":0},{"$f":"IF(JEV2>=Inputs!$E$38,$D$26,0)","v":0},{"$f":"IF(JEW2>=Inputs!$E$38,$D$26,0)","v":0},{"$f":"IF(JEX2>=Inputs!$E$38,$D$26,0)","v":0},{"$f":"IF(JEY2>=Inputs!$E$38,$D$26,0)","v":0},{"$f":"IF(JEZ2>=Inputs!$E$38,$D$26,0)","v":0},{"$f":"IF(JFA2>=Inputs!$E$38,$D$26,0)","v":0},{"$f":"IF(JFB2>=Inputs!$E$38,$D$26,0)","v":0},{"$f":"IF(JFC2>=Inputs!$E$38,$D$26,0)","v":0},{"$f":"IF(JFD2>=Inputs!$E$38,$D$26,0)","v":0},{"$f":"IF(JFE2>=Inputs!$E$38,$D$26,0)","v":0},{"$f":"IF(JFF2>=Inputs!$E$38,$D$26,0)","v":0},{"$f":"IF(JFG2>=Inputs!$E$38,$D$26,0)","v":0},{"$f":"IF(JFH2>=Inputs!$E$38,$D$26,0)","v":0},{"$f":"IF(JFI2>=Inputs!$E$38,$D$26,0)","v":0},{"$f":"IF(JFJ2>=Inputs!$E$38,$D$26,0)","v":0},{"$f":"IF(JFK2>=Inputs!$E$38,$D$26,0)","v":0},{"$f":"IF(JFL2>=Inputs!$E$38,$D$26,0)","v":0},{"$f":"IF(JFM2>=Inputs!$E$38,$D$26,0)","v":0},{"$f":"IF(JFN2>=Inputs!$E$38,$D$26,0)","v":0},{"$f":"IF(JFO2>=Inputs!$E$38,$D$26,0)","v":0},{"$f":"IF(JFP2>=Inputs!$E$38,$D$26,0)","v":0},{"$f":"IF(JFQ2>=Inputs!$E$38,$D$26,0)","v":0},{"$f":"IF(JFR2>=Inputs!$E$38,$D$26,0)","v":0},{"$f":"IF(JFS2>=Inputs!$E$38,$D$26,0)","v":0},{"$f":"IF(JFT2>=Inputs!$E$38,$D$26,0)","v":0},{"$f":"IF(JFU2>=Inputs!$E$38,$D$26,0)","v":0},{"$f":"IF(JFV2>=Inputs!$E$38,$D$26,0)","v":0},{"$f":"IF(JFW2>=Inputs!$E$38,$D$26,0)","v":0},{"$f":"IF(JFX2>=Inputs!$E$38,$D$26,0)","v":0},{"$f":"IF(JFY2>=Inputs!$E$38,$D$26,0)","v":0},{"$f":"IF(JFZ2>=Inputs!$E$38,$D$26,0)","v":0},{"$f":"IF(JGA2>=Inputs!$E$38,$D$26,0)","v":0},{"$f":"IF(JGB2>=Inputs!$E$38,$D$26,0)","v":0},{"$f":"IF(JGC2>=Inputs!$E$38,$D$26,0)","v":0},{"$f":"IF(JGD2>=Inputs!$E$38,$D$26,0)","v":0},{"$f":"IF(JGE2>=Inputs!$E$38,$D$26,0)","v":0},{"$f":"IF(JGF2>=Inputs!$E$38,$D$26,0)","v":0},{"$f":"IF(JGG2>=Inputs!$E$38,$D$26,0)","v":0},{"$f":"IF(JGH2>=Inputs!$E$38,$D$26,0)","v":0},{"$f":"IF(JGI2>=Inputs!$E$38,$D$26,0)","v":0},{"$f":"IF(JGJ2>=Inputs!$E$38,$D$26,0)","v":0},{"$f":"IF(JGK2>=Inputs!$E$38,$D$26,0)","v":0},{"$f":"IF(JGL2>=Inputs!$E$38,$D$26,0)","v":0},{"$f":"IF(JGM2>=Inputs!$E$38,$D$26,0)","v":0},{"$f":"IF(JGN2>=Inputs!$E$38,$D$26,0)","v":0},{"$f":"IF(JGO2>=Inputs!$E$38,$D$26,0)","v":0},{"$f":"IF(JGP2>=Inputs!$E$38,$D$26,0)","v":0},{"$f":"IF(JGQ2>=Inputs!$E$38,$D$26,0)","v":0},{"$f":"IF(JGR2>=Inputs!$E$38,$D$26,0)","v":0},{"$f":"IF(JGS2>=Inputs!$E$38,$D$26,0)","v":0},{"$f":"IF(JGT2>=Inputs!$E$38,$D$26,0)","v":0},{"$f":"IF(JGU2>=Inputs!$E$38,$D$26,0)","v":0},{"$f":"IF(JGV2>=Inputs!$E$38,$D$26,0)","v":0},{"$f":"IF(JGW2>=Inputs!$E$38,$D$26,0)","v":0},{"$f":"IF(JGX2>=Inputs!$E$38,$D$26,0)","v":0},{"$f":"IF(JGY2>=Inputs!$E$38,$D$26,0)","v":0},{"$f":"IF(JGZ2>=Inputs!$E$38,$D$26,0)","v":0},{"$f":"IF(JHA2>=Inputs!$E$38,$D$26,0)","v":0},{"$f":"IF(JHB2>=Inputs!$E$38,$D$26,0)","v":0},{"$f":"IF(JHC2>=Inputs!$E$38,$D$26,0)","v":0},{"$f":"IF(JHD2>=Inputs!$E$38,$D$26,0)","v":0},{"$f":"IF(JHE2>=Inputs!$E$38,$D$26,0)","v":0},{"$f":"IF(JHF2>=Inputs!$E$38,$D$26,0)","v":0},{"$f":"IF(JHG2>=Inputs!$E$38,$D$26,0)","v":0},{"$f":"IF(JHH2>=Inputs!$E$38,$D$26,0)","v":0},{"$f":"IF(JHI2>=Inputs!$E$38,$D$26,0)","v":0},{"$f":"IF(JHJ2>=Inputs!$E$38,$D$26,0)","v":0},{"$f":"IF(JHK2>=Inputs!$E$38,$D$26,0)","v":0},{"$f":"IF(JHL2>=Inputs!$E$38,$D$26,0)","v":0},{"$f":"IF(JHM2>=Inputs!$E$38,$D$26,0)","v":0},{"$f":"IF(JHN2>=Inputs!$E$38,$D$26,0)","v":0},{"$f":"IF(JHO2>=Inputs!$E$38,$D$26,0)","v":0},{"$f":"IF(JHP2>=Inputs!$E$38,$D$26,0)","v":0},{"$f":"IF(JHQ2>=Inputs!$E$38,$D$26,0)","v":0},{"$f":"IF(JHR2>=Inputs!$E$38,$D$26,0)","v":0},{"$f":"IF(JHS2>=Inputs!$E$38,$D$26,0)","v":0},{"$f":"IF(JHT2>=Inputs!$E$38,$D$26,0)","v":0},{"$f":"IF(JHU2>=Inputs!$E$38,$D$26,0)","v":0},{"$f":"IF(JHV2>=Inputs!$E$38,$D$26,0)","v":0},{"$f":"IF(JHW2>=Inputs!$E$38,$D$26,0)","v":0},{"$f":"IF(JHX2>=Inputs!$E$38,$D$26,0)","v":0},{"$f":"IF(JHY2>=Inputs!$E$38,$D$26,0)","v":0},{"$f":"IF(JHZ2>=Inputs!$E$38,$D$26,0)","v":0},{"$f":"IF(JIA2>=Inputs!$E$38,$D$26,0)","v":0},{"$f":"IF(JIB2>=Inputs!$E$38,$D$26,0)","v":0},{"$f":"IF(JIC2>=Inputs!$E$38,$D$26,0)","v":0},{"$f":"IF(JID2>=Inputs!$E$38,$D$26,0)","v":0},{"$f":"IF(JIE2>=Inputs!$E$38,$D$26,0)","v":0},{"$f":"IF(JIF2>=Inputs!$E$38,$D$26,0)","v":0},{"$f":"IF(JIG2>=Inputs!$E$38,$D$26,0)","v":0},{"$f":"IF(JIH2>=Inputs!$E$38,$D$26,0)","v":0},{"$f":"IF(JII2>=Inputs!$E$38,$D$26,0)","v":0},{"$f":"IF(JIJ2>=Inputs!$E$38,$D$26,0)","v":0},{"$f":"IF(JIK2>=Inputs!$E$38,$D$26,0)","v":0},{"$f":"IF(JIL2>=Inputs!$E$38,$D$26,0)","v":0},{"$f":"IF(JIM2>=Inputs!$E$38,$D$26,0)","v":0},{"$f":"IF(JIN2>=Inputs!$E$38,$D$26,0)","v":0},{"$f":"IF(JIO2>=Inputs!$E$38,$D$26,0)","v":0},{"$f":"IF(JIP2>=Inputs!$E$38,$D$26,0)","v":0},{"$f":"IF(JIQ2>=Inputs!$E$38,$D$26,0)","v":0},{"$f":"IF(JIR2>=Inputs!$E$38,$D$26,0)","v":0},{"$f":"IF(JIS2>=Inputs!$E$38,$D$26,0)","v":0},{"$f":"IF(JIT2>=Inputs!$E$38,$D$26,0)","v":0},{"$f":"IF(JIU2>=Inputs!$E$38,$D$26,0)","v":0},{"$f":"IF(JIV2>=Inputs!$E$38,$D$26,0)","v":0},{"$f":"IF(JIW2>=Inputs!$E$38,$D$26,0)","v":0},{"$f":"IF(JIX2>=Inputs!$E$38,$D$26,0)","v":0},{"$f":"IF(JIY2>=Inputs!$E$38,$D$26,0)","v":0},{"$f":"IF(JIZ2>=Inputs!$E$38,$D$26,0)","v":0},{"$f":"IF(JJA2>=Inputs!$E$38,$D$26,0)","v":0},{"$f":"IF(JJB2>=Inputs!$E$38,$D$26,0)","v":0},{"$f":"IF(JJC2>=Inputs!$E$38,$D$26,0)","v":0},{"$f":"IF(JJD2>=Inputs!$E$38,$D$26,0)","v":0},{"$f":"IF(JJE2>=Inputs!$E$38,$D$26,0)","v":0},{"$f":"IF(JJF2>=Inputs!$E$38,$D$26,0)","v":0},{"$f":"IF(JJG2>=Inputs!$E$38,$D$26,0)","v":0},{"$f":"IF(JJH2>=Inputs!$E$38,$D$26,0)","v":0},{"$f":"IF(JJI2>=Inputs!$E$38,$D$26,0)","v":0},{"$f":"IF(JJJ2>=Inputs!$E$38,$D$26,0)","v":0},{"$f":"IF(JJK2>=Inputs!$E$38,$D$26,0)","v":0},{"$f":"IF(JJL2>=Inputs!$E$38,$D$26,0)","v":0},{"$f":"IF(JJM2>=Inputs!$E$38,$D$26,0)","v":0},{"$f":"IF(JJN2>=Inputs!$E$38,$D$26,0)","v":0},{"$f":"IF(JJO2>=Inputs!$E$38,$D$26,0)","v":0},{"$f":"IF(JJP2>=Inputs!$E$38,$D$26,0)","v":0},{"$f":"IF(JJQ2>=Inputs!$E$38,$D$26,0)","v":0},{"$f":"IF(JJR2>=Inputs!$E$38,$D$26,0)","v":0},{"$f":"IF(JJS2>=Inputs!$E$38,$D$26,0)","v":0},{"$f":"IF(JJT2>=Inputs!$E$38,$D$26,0)","v":0},{"$f":"IF(JJU2>=Inputs!$E$38,$D$26,0)","v":0},{"$f":"IF(JJV2>=Inputs!$E$38,$D$26,0)","v":0},{"$f":"IF(JJW2>=Inputs!$E$38,$D$26,0)","v":0},{"$f":"IF(JJX2>=Inputs!$E$38,$D$26,0)","v":0},{"$f":"IF(JJY2>=Inputs!$E$38,$D$26,0)","v":0},{"$f":"IF(JJZ2>=Inputs!$E$38,$D$26,0)","v":0},{"$f":"IF(JKA2>=Inputs!$E$38,$D$26,0)","v":0},{"$f":"IF(JKB2>=Inputs!$E$38,$D$26,0)","v":0},{"$f":"IF(JKC2>=Inputs!$E$38,$D$26,0)","v":0},{"$f":"IF(JKD2>=Inputs!$E$38,$D$26,0)","v":0},{"$f":"IF(JKE2>=Inputs!$E$38,$D$26,0)","v":0},{"$f":"IF(JKF2>=Inputs!$E$38,$D$26,0)","v":0},{"$f":"IF(JKG2>=Inputs!$E$38,$D$26,0)","v":0},{"$f":"IF(JKH2>=Inputs!$E$38,$D$26,0)","v":0},{"$f":"IF(JKI2>=Inputs!$E$38,$D$26,0)","v":0},{"$f":"IF(JKJ2>=Inputs!$E$38,$D$26,0)","v":0},{"$f":"IF(JKK2>=Inputs!$E$38,$D$26,0)","v":0},{"$f":"IF(JKL2>=Inputs!$E$38,$D$26,0)","v":0},{"$f":"IF(JKM2>=Inputs!$E$38,$D$26,0)","v":0},{"$f":"IF(JKN2>=Inputs!$E$38,$D$26,0)","v":0},{"$f":"IF(JKO2>=Inputs!$E$38,$D$26,0)","v":0},{"$f":"IF(JKP2>=Inputs!$E$38,$D$26,0)","v":0},{"$f":"IF(JKQ2>=Inputs!$E$38,$D$26,0)","v":0},{"$f":"IF(JKR2>=Inputs!$E$38,$D$26,0)","v":0},{"$f":"IF(JKS2>=Inputs!$E$38,$D$26,0)","v":0},{"$f":"IF(JKT2>=Inputs!$E$38,$D$26,0)","v":0},{"$f":"IF(JKU2>=Inputs!$E$38,$D$26,0)","v":0},{"$f":"IF(JKV2>=Inputs!$E$38,$D$26,0)","v":0},{"$f":"IF(JKW2>=Inputs!$E$38,$D$26,0)","v":0},{"$f":"IF(JKX2>=Inputs!$E$38,$D$26,0)","v":0},{"$f":"IF(JKY2>=Inputs!$E$38,$D$26,0)","v":0},{"$f":"IF(JKZ2>=Inputs!$E$38,$D$26,0)","v":0},{"$f":"IF(JLA2>=Inputs!$E$38,$D$26,0)","v":0},{"$f":"IF(JLB2>=Inputs!$E$38,$D$26,0)","v":0},{"$f":"IF(JLC2>=Inputs!$E$38,$D$26,0)","v":0},{"$f":"IF(JLD2>=Inputs!$E$38,$D$26,0)","v":0},{"$f":"IF(JLE2>=Inputs!$E$38,$D$26,0)","v":0},{"$f":"IF(JLF2>=Inputs!$E$38,$D$26,0)","v":0},{"$f":"IF(JLG2>=Inputs!$E$38,$D$26,0)","v":0},{"$f":"IF(JLH2>=Inputs!$E$38,$D$26,0)","v":0},{"$f":"IF(JLI2>=Inputs!$E$38,$D$26,0)","v":0},{"$f":"IF(JLJ2>=Inputs!$E$38,$D$26,0)","v":0},{"$f":"IF(JLK2>=Inputs!$E$38,$D$26,0)","v":0},{"$f":"IF(JLL2>=Inputs!$E$38,$D$26,0)","v":0},{"$f":"IF(JLM2>=Inputs!$E$38,$D$26,0)","v":0},{"$f":"IF(JLN2>=Inputs!$E$38,$D$26,0)","v":0},{"$f":"IF(JLO2>=Inputs!$E$38,$D$26,0)","v":0},{"$f":"IF(JLP2>=Inputs!$E$38,$D$26,0)","v":0},{"$f":"IF(JLQ2>=Inputs!$E$38,$D$26,0)","v":0},{"$f":"IF(JLR2>=Inputs!$E$38,$D$26,0)","v":0},{"$f":"IF(JLS2>=Inputs!$E$38,$D$26,0)","v":0},{"$f":"IF(JLT2>=Inputs!$E$38,$D$26,0)","v":0},{"$f":"IF(JLU2>=Inputs!$E$38,$D$26,0)","v":0},{"$f":"IF(JLV2>=Inputs!$E$38,$D$26,0)","v":0},{"$f":"IF(JLW2>=Inputs!$E$38,$D$26,0)","v":0},{"$f":"IF(JLX2>=Inputs!$E$38,$D$26,0)","v":0},{"$f":"IF(JLY2>=Inputs!$E$38,$D$26,0)","v":0},{"$f":"IF(JLZ2>=Inputs!$E$38,$D$26,0)","v":0},{"$f":"IF(JMA2>=Inputs!$E$38,$D$26,0)","v":0},{"$f":"IF(JMB2>=Inputs!$E$38,$D$26,0)","v":0},{"$f":"IF(JMC2>=Inputs!$E$38,$D$26,0)","v":0},{"$f":"IF(JMD2>=Inputs!$E$38,$D$26,0)","v":0},{"$f":"IF(JME2>=Inputs!$E$38,$D$26,0)","v":0},{"$f":"IF(JMF2>=Inputs!$E$38,$D$26,0)","v":0},{"$f":"IF(JMG2>=Inputs!$E$38,$D$26,0)","v":0},{"$f":"IF(JMH2>=Inputs!$E$38,$D$26,0)","v":0},{"$f":"IF(JMI2>=Inputs!$E$38,$D$26,0)","v":0},{"$f":"IF(JMJ2>=Inputs!$E$38,$D$26,0)","v":0},{"$f":"IF(JMK2>=Inputs!$E$38,$D$26,0)","v":0},{"$f":"IF(JML2>=Inputs!$E$38,$D$26,0)","v":0},{"$f":"IF(JMM2>=Inputs!$E$38,$D$26,0)","v":0},{"$f":"IF(JMN2>=Inputs!$E$38,$D$26,0)","v":0},{"$f":"IF(JMO2>=Inputs!$E$38,$D$26,0)","v":0},{"$f":"IF(JMP2>=Inputs!$E$38,$D$26,0)","v":0},{"$f":"IF(JMQ2>=Inputs!$E$38,$D$26,0)","v":0},{"$f":"IF(JMR2>=Inputs!$E$38,$D$26,0)","v":0},{"$f":"IF(JMS2>=Inputs!$E$38,$D$26,0)","v":0},{"$f":"IF(JMT2>=Inputs!$E$38,$D$26,0)","v":0},{"$f":"IF(JMU2>=Inputs!$E$38,$D$26,0)","v":0},{"$f":"IF(JMV2>=Inputs!$E$38,$D$26,0)","v":0},{"$f":"IF(JMW2>=Inputs!$E$38,$D$26,0)","v":0},{"$f":"IF(JMX2>=Inputs!$E$38,$D$26,0)","v":0},{"$f":"IF(JMY2>=Inputs!$E$38,$D$26,0)","v":0},{"$f":"IF(JMZ2>=Inputs!$E$38,$D$26,0)","v":0},{"$f":"IF(JNA2>=Inputs!$E$38,$D$26,0)","v":0},{"$f":"IF(JNB2>=Inputs!$E$38,$D$26,0)","v":0},{"$f":"IF(JNC2>=Inputs!$E$38,$D$26,0)","v":0},{"$f":"IF(JND2>=Inputs!$E$38,$D$26,0)","v":0},{"$f":"IF(JNE2>=Inputs!$E$38,$D$26,0)","v":0},{"$f":"IF(JNF2>=Inputs!$E$38,$D$26,0)","v":0},{"$f":"IF(JNG2>=Inputs!$E$38,$D$26,0)","v":0},{"$f":"IF(JNH2>=Inputs!$E$38,$D$26,0)","v":0},{"$f":"IF(JNI2>=Inputs!$E$38,$D$26,0)","v":0},{"$f":"IF(JNJ2>=Inputs!$E$38,$D$26,0)","v":0},{"$f":"IF(JNK2>=Inputs!$E$38,$D$26,0)","v":0},{"$f":"IF(JNL2>=Inputs!$E$38,$D$26,0)","v":0},{"$f":"IF(JNM2>=Inputs!$E$38,$D$26,0)","v":0},{"$f":"IF(JNN2>=Inputs!$E$38,$D$26,0)","v":0},{"$f":"IF(JNO2>=Inputs!$E$38,$D$26,0)","v":0},{"$f":"IF(JNP2>=Inputs!$E$38,$D$26,0)","v":0},{"$f":"IF(JNQ2>=Inputs!$E$38,$D$26,0)","v":0},{"$f":"IF(JNR2>=Inputs!$E$38,$D$26,0)","v":0},{"$f":"IF(JNS2>=Inputs!$E$38,$D$26,0)","v":0},{"$f":"IF(JNT2>=Inputs!$E$38,$D$26,0)","v":0},{"$f":"IF(JNU2>=Inputs!$E$38,$D$26,0)","v":0},{"$f":"IF(JNV2>=Inputs!$E$38,$D$26,0)","v":0},{"$f":"IF(JNW2>=Inputs!$E$38,$D$26,0)","v":0},{"$f":"IF(JNX2>=Inputs!$E$38,$D$26,0)","v":0},{"$f":"IF(JNY2>=Inputs!$E$38,$D$26,0)","v":0},{"$f":"IF(JNZ2>=Inputs!$E$38,$D$26,0)","v":0},{"$f":"IF(JOA2>=Inputs!$E$38,$D$26,0)","v":0},{"$f":"IF(JOB2>=Inputs!$E$38,$D$26,0)","v":0},{"$f":"IF(JOC2>=Inputs!$E$38,$D$26,0)","v":0},{"$f":"IF(JOD2>=Inputs!$E$38,$D$26,0)","v":0},{"$f":"IF(JOE2>=Inputs!$E$38,$D$26,0)","v":0},{"$f":"IF(JOF2>=Inputs!$E$38,$D$26,0)","v":0},{"$f":"IF(JOG2>=Inputs!$E$38,$D$26,0)","v":0},{"$f":"IF(JOH2>=Inputs!$E$38,$D$26,0)","v":0},{"$f":"IF(JOI2>=Inputs!$E$38,$D$26,0)","v":0},{"$f":"IF(JOJ2>=Inputs!$E$38,$D$26,0)","v":0},{"$f":"IF(JOK2>=Inputs!$E$38,$D$26,0)","v":0},{"$f":"IF(JOL2>=Inputs!$E$38,$D$26,0)","v":0},{"$f":"IF(JOM2>=Inputs!$E$38,$D$26,0)","v":0},{"$f":"IF(JON2>=Inputs!$E$38,$D$26,0)","v":0},{"$f":"IF(JOO2>=Inputs!$E$38,$D$26,0)","v":0},{"$f":"IF(JOP2>=Inputs!$E$38,$D$26,0)","v":0},{"$f":"IF(JOQ2>=Inputs!$E$38,$D$26,0)","v":0},{"$f":"IF(JOR2>=Inputs!$E$38,$D$26,0)","v":0},{"$f":"IF(JOS2>=Inputs!$E$38,$D$26,0)","v":0},{"$f":"IF(JOT2>=Inputs!$E$38,$D$26,0)","v":0},{"$f":"IF(JOU2>=Inputs!$E$38,$D$26,0)","v":0},{"$f":"IF(JOV2>=Inputs!$E$38,$D$26,0)","v":0},{"$f":"IF(JOW2>=Inputs!$E$38,$D$26,0)","v":0},{"$f":"IF(JOX2>=Inputs!$E$38,$D$26,0)","v":0},{"$f":"IF(JOY2>=Inputs!$E$38,$D$26,0)","v":0},{"$f":"IF(JOZ2>=Inputs!$E$38,$D$26,0)","v":0},{"$f":"IF(JPA2>=Inputs!$E$38,$D$26,0)","v":0},{"$f":"IF(JPB2>=Inputs!$E$38,$D$26,0)","v":0},{"$f":"IF(JPC2>=Inputs!$E$38,$D$26,0)","v":0},{"$f":"IF(JPD2>=Inputs!$E$38,$D$26,0)","v":0},{"$f":"IF(JPE2>=Inputs!$E$38,$D$26,0)","v":0},{"$f":"IF(JPF2>=Inputs!$E$38,$D$26,0)","v":0},{"$f":"IF(JPG2>=Inputs!$E$38,$D$26,0)","v":0},{"$f":"IF(JPH2>=Inputs!$E$38,$D$26,0)","v":0},{"$f":"IF(JPI2>=Inputs!$E$38,$D$26,0)","v":0},{"$f":"IF(JPJ2>=Inputs!$E$38,$D$26,0)","v":0},{"$f":"IF(JPK2>=Inputs!$E$38,$D$26,0)","v":0},{"$f":"IF(JPL2>=Inputs!$E$38,$D$26,0)","v":0},{"$f":"IF(JPM2>=Inputs!$E$38,$D$26,0)","v":0},{"$f":"IF(JPN2>=Inputs!$E$38,$D$26,0)","v":0},{"$f":"IF(JPO2>=Inputs!$E$38,$D$26,0)","v":0},{"$f":"IF(JPP2>=Inputs!$E$38,$D$26,0)","v":0},{"$f":"IF(JPQ2>=Inputs!$E$38,$D$26,0)","v":0},{"$f":"IF(JPR2>=Inputs!$E$38,$D$26,0)","v":0},{"$f":"IF(JPS2>=Inputs!$E$38,$D$26,0)","v":0},{"$f":"IF(JPT2>=Inputs!$E$38,$D$26,0)","v":0},{"$f":"IF(JPU2>=Inputs!$E$38,$D$26,0)","v":0},{"$f":"IF(JPV2>=Inputs!$E$38,$D$26,0)","v":0},{"$f":"IF(JPW2>=Inputs!$E$38,$D$26,0)","v":0},{"$f":"IF(JPX2>=Inputs!$E$38,$D$26,0)","v":0},{"$f":"IF(JPY2>=Inputs!$E$38,$D$26,0)","v":0},{"$f":"IF(JPZ2>=Inputs!$E$38,$D$26,0)","v":0},{"$f":"IF(JQA2>=Inputs!$E$38,$D$26,0)","v":0},{"$f":"IF(JQB2>=Inputs!$E$38,$D$26,0)","v":0},{"$f":"IF(JQC2>=Inputs!$E$38,$D$26,0)","v":0},{"$f":"IF(JQD2>=Inputs!$E$38,$D$26,0)","v":0},{"$f":"IF(JQE2>=Inputs!$E$38,$D$26,0)","v":0},{"$f":"IF(JQF2>=Inputs!$E$38,$D$26,0)","v":0},{"$f":"IF(JQG2>=Inputs!$E$38,$D$26,0)","v":0},{"$f":"IF(JQH2>=Inputs!$E$38,$D$26,0)","v":0},{"$f":"IF(JQI2>=Inputs!$E$38,$D$26,0)","v":0},{"$f":"IF(JQJ2>=Inputs!$E$38,$D$26,0)","v":0},{"$f":"IF(JQK2>=Inputs!$E$38,$D$26,0)","v":0},{"$f":"IF(JQL2>=Inputs!$E$38,$D$26,0)","v":0},{"$f":"IF(JQM2>=Inputs!$E$38,$D$26,0)","v":0},{"$f":"IF(JQN2>=Inputs!$E$38,$D$26,0)","v":0},{"$f":"IF(JQO2>=Inputs!$E$38,$D$26,0)","v":0},{"$f":"IF(JQP2>=Inputs!$E$38,$D$26,0)","v":0},{"$f":"IF(JQQ2>=Inputs!$E$38,$D$26,0)","v":0},{"$f":"IF(JQR2>=Inputs!$E$38,$D$26,0)","v":0},{"$f":"IF(JQS2>=Inputs!$E$38,$D$26,0)","v":0},{"$f":"IF(JQT2>=Inputs!$E$38,$D$26,0)","v":0},{"$f":"IF(JQU2>=Inputs!$E$38,$D$26,0)","v":0},{"$f":"IF(JQV2>=Inputs!$E$38,$D$26,0)","v":0},{"$f":"IF(JQW2>=Inputs!$E$38,$D$26,0)","v":0},{"$f":"IF(JQX2>=Inputs!$E$38,$D$26,0)","v":0},{"$f":"IF(JQY2>=Inputs!$E$38,$D$26,0)","v":0},{"$f":"IF(JQZ2>=Inputs!$E$38,$D$26,0)","v":0},{"$f":"IF(JRA2>=Inputs!$E$38,$D$26,0)","v":0},{"$f":"IF(JRB2>=Inputs!$E$38,$D$26,0)","v":0},{"$f":"IF(JRC2>=Inputs!$E$38,$D$26,0)","v":0},{"$f":"IF(JRD2>=Inputs!$E$38,$D$26,0)","v":0},{"$f":"IF(JRE2>=Inputs!$E$38,$D$26,0)","v":0},{"$f":"IF(JRF2>=Inputs!$E$38,$D$26,0)","v":0},{"$f":"IF(JRG2>=Inputs!$E$38,$D$26,0)","v":0},{"$f":"IF(JRH2>=Inputs!$E$38,$D$26,0)","v":0},{"$f":"IF(JRI2>=Inputs!$E$38,$D$26,0)","v":0},{"$f":"IF(JRJ2>=Inputs!$E$38,$D$26,0)","v":0},{"$f":"IF(JRK2>=Inputs!$E$38,$D$26,0)","v":0},{"$f":"IF(JRL2>=Inputs!$E$38,$D$26,0)","v":0},{"$f":"IF(JRM2>=Inputs!$E$38,$D$26,0)","v":0},{"$f":"IF(JRN2>=Inputs!$E$38,$D$26,0)","v":0},{"$f":"IF(JRO2>=Inputs!$E$38,$D$26,0)","v":0},{"$f":"IF(JRP2>=Inputs!$E$38,$D$26,0)","v":0},{"$f":"IF(JRQ2>=Inputs!$E$38,$D$26,0)","v":0},{"$f":"IF(JRR2>=Inputs!$E$38,$D$26,0)","v":0},{"$f":"IF(JRS2>=Inputs!$E$38,$D$26,0)","v":0},{"$f":"IF(JRT2>=Inputs!$E$38,$D$26,0)","v":0},{"$f":"IF(JRU2>=Inputs!$E$38,$D$26,0)","v":0},{"$f":"IF(JRV2>=Inputs!$E$38,$D$26,0)","v":0},{"$f":"IF(JRW2>=Inputs!$E$38,$D$26,0)","v":0},{"$f":"IF(JRX2>=Inputs!$E$38,$D$26,0)","v":0},{"$f":"IF(JRY2>=Inputs!$E$38,$D$26,0)","v":0},{"$f":"IF(JRZ2>=Inputs!$E$38,$D$26,0)","v":0},{"$f":"IF(JSA2>=Inputs!$E$38,$D$26,0)","v":0},{"$f":"IF(JSB2>=Inputs!$E$38,$D$26,0)","v":0},{"$f":"IF(JSC2>=Inputs!$E$38,$D$26,0)","v":0},{"$f":"IF(JSD2>=Inputs!$E$38,$D$26,0)","v":0},{"$f":"IF(JSE2>=Inputs!$E$38,$D$26,0)","v":0},{"$f":"IF(JSF2>=Inputs!$E$38,$D$26,0)","v":0},{"$f":"IF(JSG2>=Inputs!$E$38,$D$26,0)","v":0},{"$f":"IF(JSH2>=Inputs!$E$38,$D$26,0)","v":0},{"$f":"IF(JSI2>=Inputs!$E$38,$D$26,0)","v":0},{"$f":"IF(JSJ2>=Inputs!$E$38,$D$26,0)","v":0},{"$f":"IF(JSK2>=Inputs!$E$38,$D$26,0)","v":0},{"$f":"IF(JSL2>=Inputs!$E$38,$D$26,0)","v":0},{"$f":"IF(JSM2>=Inputs!$E$38,$D$26,0)","v":0},{"$f":"IF(JSN2>=Inputs!$E$38,$D$26,0)","v":0},{"$f":"IF(JSO2>=Inputs!$E$38,$D$26,0)","v":0},{"$f":"IF(JSP2>=Inputs!$E$38,$D$26,0)","v":0},{"$f":"IF(JSQ2>=Inputs!$E$38,$D$26,0)","v":0},{"$f":"IF(JSR2>=Inputs!$E$38,$D$26,0)","v":0},{"$f":"IF(JSS2>=Inputs!$E$38,$D$26,0)","v":0},{"$f":"IF(JST2>=Inputs!$E$38,$D$26,0)","v":0},{"$f":"IF(JSU2>=Inputs!$E$38,$D$26,0)","v":0},{"$f":"IF(JSV2>=Inputs!$E$38,$D$26,0)","v":0},{"$f":"IF(JSW2>=Inputs!$E$38,$D$26,0)","v":0},{"$f":"IF(JSX2>=Inputs!$E$38,$D$26,0)","v":0},{"$f":"IF(JSY2>=Inputs!$E$38,$D$26,0)","v":0},{"$f":"IF(JSZ2>=Inputs!$E$38,$D$26,0)","v":0},{"$f":"IF(JTA2>=Inputs!$E$38,$D$26,0)","v":0},{"$f":"IF(JTB2>=Inputs!$E$38,$D$26,0)","v":0},{"$f":"IF(JTC2>=Inputs!$E$38,$D$26,0)","v":0},{"$f":"IF(JTD2>=Inputs!$E$38,$D$26,0)","v":0},{"$f":"IF(JTE2>=Inputs!$E$38,$D$26,0)","v":0},{"$f":"IF(JTF2>=Inputs!$E$38,$D$26,0)","v":0},{"$f":"IF(JTG2>=Inputs!$E$38,$D$26,0)","v":0},{"$f":"IF(JTH2>=Inputs!$E$38,$D$26,0)","v":0},{"$f":"IF(JTI2>=Inputs!$E$38,$D$26,0)","v":0},{"$f":"IF(JTJ2>=Inputs!$E$38,$D$26,0)","v":0},{"$f":"IF(JTK2>=Inputs!$E$38,$D$26,0)","v":0},{"$f":"IF(JTL2>=Inputs!$E$38,$D$26,0)","v":0},{"$f":"IF(JTM2>=Inputs!$E$38,$D$26,0)","v":0},{"$f":"IF(JTN2>=Inputs!$E$38,$D$26,0)","v":0},{"$f":"IF(JTO2>=Inputs!$E$38,$D$26,0)","v":0},{"$f":"IF(JTP2>=Inputs!$E$38,$D$26,0)","v":0},{"$f":"IF(JTQ2>=Inputs!$E$38,$D$26,0)","v":0},{"$f":"IF(JTR2>=Inputs!$E$38,$D$26,0)","v":0},{"$f":"IF(JTS2>=Inputs!$E$38,$D$26,0)","v":0},{"$f":"IF(JTT2>=Inputs!$E$38,$D$26,0)","v":0},{"$f":"IF(JTU2>=Inputs!$E$38,$D$26,0)","v":0},{"$f":"IF(JTV2>=Inputs!$E$38,$D$26,0)","v":0},{"$f":"IF(JTW2>=Inputs!$E$38,$D$26,0)","v":0},{"$f":"IF(JTX2>=Inputs!$E$38,$D$26,0)","v":0},{"$f":"IF(JTY2>=Inputs!$E$38,$D$26,0)","v":0},{"$f":"IF(JTZ2>=Inputs!$E$38,$D$26,0)","v":0},{"$f":"IF(JUA2>=Inputs!$E$38,$D$26,0)","v":0},{"$f":"IF(JUB2>=Inputs!$E$38,$D$26,0)","v":0},{"$f":"IF(JUC2>=Inputs!$E$38,$D$26,0)","v":0},{"$f":"IF(JUD2>=Inputs!$E$38,$D$26,0)","v":0},{"$f":"IF(JUE2>=Inputs!$E$38,$D$26,0)","v":0},{"$f":"IF(JUF2>=Inputs!$E$38,$D$26,0)","v":0},{"$f":"IF(JUG2>=Inputs!$E$38,$D$26,0)","v":0},{"$f":"IF(JUH2>=Inputs!$E$38,$D$26,0)","v":0},{"$f":"IF(JUI2>=Inputs!$E$38,$D$26,0)","v":0},{"$f":"IF(JUJ2>=Inputs!$E$38,$D$26,0)","v":0},{"$f":"IF(JUK2>=Inputs!$E$38,$D$26,0)","v":0},{"$f":"IF(JUL2>=Inputs!$E$38,$D$26,0)","v":0},{"$f":"IF(JUM2>=Inputs!$E$38,$D$26,0)","v":0},{"$f":"IF(JUN2>=Inputs!$E$38,$D$26,0)","v":0},{"$f":"IF(JUO2>=Inputs!$E$38,$D$26,0)","v":0},{"$f":"IF(JUP2>=Inputs!$E$38,$D$26,0)","v":0},{"$f":"IF(JUQ2>=Inputs!$E$38,$D$26,0)","v":0},{"$f":"IF(JUR2>=Inputs!$E$38,$D$26,0)","v":0},{"$f":"IF(JUS2>=Inputs!$E$38,$D$26,0)","v":0},{"$f":"IF(JUT2>=Inputs!$E$38,$D$26,0)","v":0},{"$f":"IF(JUU2>=Inputs!$E$38,$D$26,0)","v":0},{"$f":"IF(JUV2>=Inputs!$E$38,$D$26,0)","v":0},{"$f":"IF(JUW2>=Inputs!$E$38,$D$26,0)","v":0},{"$f":"IF(JUX2>=Inputs!$E$38,$D$26,0)","v":0},{"$f":"IF(JUY2>=Inputs!$E$38,$D$26,0)","v":0},{"$f":"IF(JUZ2>=Inputs!$E$38,$D$26,0)","v":0},{"$f":"IF(JVA2>=Inputs!$E$38,$D$26,0)","v":0},{"$f":"IF(JVB2>=Inputs!$E$38,$D$26,0)","v":0},{"$f":"IF(JVC2>=Inputs!$E$38,$D$26,0)","v":0},{"$f":"IF(JVD2>=Inputs!$E$38,$D$26,0)","v":0},{"$f":"IF(JVE2>=Inputs!$E$38,$D$26,0)","v":0},{"$f":"IF(JVF2>=Inputs!$E$38,$D$26,0)","v":0},{"$f":"IF(JVG2>=Inputs!$E$38,$D$26,0)","v":0},{"$f":"IF(JVH2>=Inputs!$E$38,$D$26,0)","v":0},{"$f":"IF(JVI2>=Inputs!$E$38,$D$26,0)","v":0},{"$f":"IF(JVJ2>=Inputs!$E$38,$D$26,0)","v":0},{"$f":"IF(JVK2>=Inputs!$E$38,$D$26,0)","v":0},{"$f":"IF(JVL2>=Inputs!$E$38,$D$26,0)","v":0},{"$f":"IF(JVM2>=Inputs!$E$38,$D$26,0)","v":0},{"$f":"IF(JVN2>=Inputs!$E$38,$D$26,0)","v":0},{"$f":"IF(JVO2>=Inputs!$E$38,$D$26,0)","v":0},{"$f":"IF(JVP2>=Inputs!$E$38,$D$26,0)","v":0},{"$f":"IF(JVQ2>=Inputs!$E$38,$D$26,0)","v":0},{"$f":"IF(JVR2>=Inputs!$E$38,$D$26,0)","v":0},{"$f":"IF(JVS2>=Inputs!$E$38,$D$26,0)","v":0},{"$f":"IF(JVT2>=Inputs!$E$38,$D$26,0)","v":0},{"$f":"IF(JVU2>=Inputs!$E$38,$D$26,0)","v":0},{"$f":"IF(JVV2>=Inputs!$E$38,$D$26,0)","v":0},{"$f":"IF(JVW2>=Inputs!$E$38,$D$26,0)","v":0},{"$f":"IF(JVX2>=Inputs!$E$38,$D$26,0)","v":0},{"$f":"IF(JVY2>=Inputs!$E$38,$D$26,0)","v":0},{"$f":"IF(JVZ2>=Inputs!$E$38,$D$26,0)","v":0},{"$f":"IF(JWA2>=Inputs!$E$38,$D$26,0)","v":0},{"$f":"IF(JWB2>=Inputs!$E$38,$D$26,0)","v":0},{"$f":"IF(JWC2>=Inputs!$E$38,$D$26,0)","v":0},{"$f":"IF(JWD2>=Inputs!$E$38,$D$26,0)","v":0},{"$f":"IF(JWE2>=Inputs!$E$38,$D$26,0)","v":0},{"$f":"IF(JWF2>=Inputs!$E$38,$D$26,0)","v":0},{"$f":"IF(JWG2>=Inputs!$E$38,$D$26,0)","v":0},{"$f":"IF(JWH2>=Inputs!$E$38,$D$26,0)","v":0},{"$f":"IF(JWI2>=Inputs!$E$38,$D$26,0)","v":0},{"$f":"IF(JWJ2>=Inputs!$E$38,$D$26,0)","v":0},{"$f":"IF(JWK2>=Inputs!$E$38,$D$26,0)","v":0},{"$f":"IF(JWL2>=Inputs!$E$38,$D$26,0)","v":0},{"$f":"IF(JWM2>=Inputs!$E$38,$D$26,0)","v":0},{"$f":"IF(JWN2>=Inputs!$E$38,$D$26,0)","v":0},{"$f":"IF(JWO2>=Inputs!$E$38,$D$26,0)","v":0},{"$f":"IF(JWP2>=Inputs!$E$38,$D$26,0)","v":0},{"$f":"IF(JWQ2>=Inputs!$E$38,$D$26,0)","v":0},{"$f":"IF(JWR2>=Inputs!$E$38,$D$26,0)","v":0},{"$f":"IF(JWS2>=Inputs!$E$38,$D$26,0)","v":0},{"$f":"IF(JWT2>=Inputs!$E$38,$D$26,0)","v":0},{"$f":"IF(JWU2>=Inputs!$E$38,$D$26,0)","v":0},{"$f":"IF(JWV2>=Inputs!$E$38,$D$26,0)","v":0},{"$f":"IF(JWW2>=Inputs!$E$38,$D$26,0)","v":0},{"$f":"IF(JWX2>=Inputs!$E$38,$D$26,0)","v":0},{"$f":"IF(JWY2>=Inputs!$E$38,$D$26,0)","v":0},{"$f":"IF(JWZ2>=Inputs!$E$38,$D$26,0)","v":0},{"$f":"IF(JXA2>=Inputs!$E$38,$D$26,0)","v":0},{"$f":"IF(JXB2>=Inputs!$E$38,$D$26,0)","v":0},{"$f":"IF(JXC2>=Inputs!$E$38,$D$26,0)","v":0},{"$f":"IF(JXD2>=Inputs!$E$38,$D$26,0)","v":0},{"$f":"IF(JXE2>=Inputs!$E$38,$D$26,0)","v":0},{"$f":"IF(JXF2>=Inputs!$E$38,$D$26,0)","v":0},{"$f":"IF(JXG2>=Inputs!$E$38,$D$26,0)","v":0},{"$f":"IF(JXH2>=Inputs!$E$38,$D$26,0)","v":0},{"$f":"IF(JXI2>=Inputs!$E$38,$D$26,0)","v":0},{"$f":"IF(JXJ2>=Inputs!$E$38,$D$26,0)","v":0},{"$f":"IF(JXK2>=Inputs!$E$38,$D$26,0)","v":0},{"$f":"IF(JXL2>=Inputs!$E$38,$D$26,0)","v":0},{"$f":"IF(JXM2>=Inputs!$E$38,$D$26,0)","v":0},{"$f":"IF(JXN2>=Inputs!$E$38,$D$26,0)","v":0},{"$f":"IF(JXO2>=Inputs!$E$38,$D$26,0)","v":0},{"$f":"IF(JXP2>=Inputs!$E$38,$D$26,0)","v":0},{"$f":"IF(JXQ2>=Inputs!$E$38,$D$26,0)","v":0},{"$f":"IF(JXR2>=Inputs!$E$38,$D$26,0)","v":0},{"$f":"IF(JXS2>=Inputs!$E$38,$D$26,0)","v":0},{"$f":"IF(JXT2>=Inputs!$E$38,$D$26,0)","v":0},{"$f":"IF(JXU2>=Inputs!$E$38,$D$26,0)","v":0},{"$f":"IF(JXV2>=Inputs!$E$38,$D$26,0)","v":0},{"$f":"IF(JXW2>=Inputs!$E$38,$D$26,0)","v":0},{"$f":"IF(JXX2>=Inputs!$E$38,$D$26,0)","v":0},{"$f":"IF(JXY2>=Inputs!$E$38,$D$26,0)","v":0},{"$f":"IF(JXZ2>=Inputs!$E$38,$D$26,0)","v":0},{"$f":"IF(JYA2>=Inputs!$E$38,$D$26,0)","v":0},{"$f":"IF(JYB2>=Inputs!$E$38,$D$26,0)","v":0},{"$f":"IF(JYC2>=Inputs!$E$38,$D$26,0)","v":0},{"$f":"IF(JYD2>=Inputs!$E$38,$D$26,0)","v":0},{"$f":"IF(JYE2>=Inputs!$E$38,$D$26,0)","v":0},{"$f":"IF(JYF2>=Inputs!$E$38,$D$26,0)","v":0},{"$f":"IF(JYG2>=Inputs!$E$38,$D$26,0)","v":0},{"$f":"IF(JYH2>=Inputs!$E$38,$D$26,0)","v":0},{"$f":"IF(JYI2>=Inputs!$E$38,$D$26,0)","v":0},{"$f":"IF(JYJ2>=Inputs!$E$38,$D$26,0)","v":0},{"$f":"IF(JYK2>=Inputs!$E$38,$D$26,0)","v":0},{"$f":"IF(JYL2>=Inputs!$E$38,$D$26,0)","v":0},{"$f":"IF(JYM2>=Inputs!$E$38,$D$26,0)","v":0},{"$f":"IF(JYN2>=Inputs!$E$38,$D$26,0)","v":0},{"$f":"IF(JYO2>=Inputs!$E$38,$D$26,0)","v":0},{"$f":"IF(JYP2>=Inputs!$E$38,$D$26,0)","v":0},{"$f":"IF(JYQ2>=Inputs!$E$38,$D$26,0)","v":0},{"$f":"IF(JYR2>=Inputs!$E$38,$D$26,0)","v":0},{"$f":"IF(JYS2>=Inputs!$E$38,$D$26,0)","v":0},{"$f":"IF(JYT2>=Inputs!$E$38,$D$26,0)","v":0},{"$f":"IF(JYU2>=Inputs!$E$38,$D$26,0)","v":0},{"$f":"IF(JYV2>=Inputs!$E$38,$D$26,0)","v":0},{"$f":"IF(JYW2>=Inputs!$E$38,$D$26,0)","v":0},{"$f":"IF(JYX2>=Inputs!$E$38,$D$26,0)","v":0},{"$f":"IF(JYY2>=Inputs!$E$38,$D$26,0)","v":0},{"$f":"IF(JYZ2>=Inputs!$E$38,$D$26,0)","v":0},{"$f":"IF(JZA2>=Inputs!$E$38,$D$26,0)","v":0},{"$f":"IF(JZB2>=Inputs!$E$38,$D$26,0)","v":0},{"$f":"IF(JZC2>=Inputs!$E$38,$D$26,0)","v":0},{"$f":"IF(JZD2>=Inputs!$E$38,$D$26,0)","v":0},{"$f":"IF(JZE2>=Inputs!$E$38,$D$26,0)","v":0},{"$f":"IF(JZF2>=Inputs!$E$38,$D$26,0)","v":0},{"$f":"IF(JZG2>=Inputs!$E$38,$D$26,0)","v":0},{"$f":"IF(JZH2>=Inputs!$E$38,$D$26,0)","v":0},{"$f":"IF(JZI2>=Inputs!$E$38,$D$26,0)","v":0},{"$f":"IF(JZJ2>=Inputs!$E$38,$D$26,0)","v":0},{"$f":"IF(JZK2>=Inputs!$E$38,$D$26,0)","v":0},{"$f":"IF(JZL2>=Inputs!$E$38,$D$26,0)","v":0},{"$f":"IF(JZM2>=Inputs!$E$38,$D$26,0)","v":0},{"$f":"IF(JZN2>=Inputs!$E$38,$D$26,0)","v":0},{"$f":"IF(JZO2>=Inputs!$E$38,$D$26,0)","v":0},{"$f":"IF(JZP2>=Inputs!$E$38,$D$26,0)","v":0},{"$f":"IF(JZQ2>=Inputs!$E$38,$D$26,0)","v":0},{"$f":"IF(JZR2>=Inputs!$E$38,$D$26,0)","v":0},{"$f":"IF(JZS2>=Inputs!$E$38,$D$26,0)","v":0},{"$f":"IF(JZT2>=Inputs!$E$38,$D$26,0)","v":0},{"$f":"IF(JZU2>=Inputs!$E$38,$D$26,0)","v":0},{"$f":"IF(JZV2>=Inputs!$E$38,$D$26,0)","v":0},{"$f":"IF(JZW2>=Inputs!$E$38,$D$26,0)","v":0},{"$f":"IF(JZX2>=Inputs!$E$38,$D$26,0)","v":0},{"$f":"IF(JZY2>=Inputs!$E$38,$D$26,0)","v":0},{"$f":"IF(JZZ2>=Inputs!$E$38,$D$26,0)","v":0},{"$f":"IF(KAA2>=Inputs!$E$38,$D$26,0)","v":0},{"$f":"IF(KAB2>=Inputs!$E$38,$D$26,0)","v":0},{"$f":"IF(KAC2>=Inputs!$E$38,$D$26,0)","v":0},{"$f":"IF(KAD2>=Inputs!$E$38,$D$26,0)","v":0},{"$f":"IF(KAE2>=Inputs!$E$38,$D$26,0)","v":0},{"$f":"IF(KAF2>=Inputs!$E$38,$D$26,0)","v":0},{"$f":"IF(KAG2>=Inputs!$E$38,$D$26,0)","v":0},{"$f":"IF(KAH2>=Inputs!$E$38,$D$26,0)","v":0},{"$f":"IF(KAI2>=Inputs!$E$38,$D$26,0)","v":0},{"$f":"IF(KAJ2>=Inputs!$E$38,$D$26,0)","v":0},{"$f":"IF(KAK2>=Inputs!$E$38,$D$26,0)","v":0},{"$f":"IF(KAL2>=Inputs!$E$38,$D$26,0)","v":0},{"$f":"IF(KAM2>=Inputs!$E$38,$D$26,0)","v":0},{"$f":"IF(KAN2>=Inputs!$E$38,$D$26,0)","v":0},{"$f":"IF(KAO2>=Inputs!$E$38,$D$26,0)","v":0},{"$f":"IF(KAP2>=Inputs!$E$38,$D$26,0)","v":0},{"$f":"IF(KAQ2>=Inputs!$E$38,$D$26,0)","v":0},{"$f":"IF(KAR2>=Inputs!$E$38,$D$26,0)","v":0},{"$f":"IF(KAS2>=Inputs!$E$38,$D$26,0)","v":0},{"$f":"IF(KAT2>=Inputs!$E$38,$D$26,0)","v":0},{"$f":"IF(KAU2>=Inputs!$E$38,$D$26,0)","v":0},{"$f":"IF(KAV2>=Inputs!$E$38,$D$26,0)","v":0},{"$f":"IF(KAW2>=Inputs!$E$38,$D$26,0)","v":0},{"$f":"IF(KAX2>=Inputs!$E$38,$D$26,0)","v":0},{"$f":"IF(KAY2>=Inputs!$E$38,$D$26,0)","v":0},{"$f":"IF(KAZ2>=Inputs!$E$38,$D$26,0)","v":0},{"$f":"IF(KBA2>=Inputs!$E$38,$D$26,0)","v":0},{"$f":"IF(KBB2>=Inputs!$E$38,$D$26,0)","v":0},{"$f":"IF(KBC2>=Inputs!$E$38,$D$26,0)","v":0},{"$f":"IF(KBD2>=Inputs!$E$38,$D$26,0)","v":0},{"$f":"IF(KBE2>=Inputs!$E$38,$D$26,0)","v":0},{"$f":"IF(KBF2>=Inputs!$E$38,$D$26,0)","v":0},{"$f":"IF(KBG2>=Inputs!$E$38,$D$26,0)","v":0},{"$f":"IF(KBH2>=Inputs!$E$38,$D$26,0)","v":0},{"$f":"IF(KBI2>=Inputs!$E$38,$D$26,0)","v":0},{"$f":"IF(KBJ2>=Inputs!$E$38,$D$26,0)","v":0},{"$f":"IF(KBK2>=Inputs!$E$38,$D$26,0)","v":0},{"$f":"IF(KBL2>=Inputs!$E$38,$D$26,0)","v":0},{"$f":"IF(KBM2>=Inputs!$E$38,$D$26,0)","v":0},{"$f":"IF(KBN2>=Inputs!$E$38,$D$26,0)","v":0},{"$f":"IF(KBO2>=Inputs!$E$38,$D$26,0)","v":0},{"$f":"IF(KBP2>=Inputs!$E$38,$D$26,0)","v":0},{"$f":"IF(KBQ2>=Inputs!$E$38,$D$26,0)","v":0},{"$f":"IF(KBR2>=Inputs!$E$38,$D$26,0)","v":0},{"$f":"IF(KBS2>=Inputs!$E$38,$D$26,0)","v":0},{"$f":"IF(KBT2>=Inputs!$E$38,$D$26,0)","v":0},{"$f":"IF(KBU2>=Inputs!$E$38,$D$26,0)","v":0},{"$f":"IF(KBV2>=Inputs!$E$38,$D$26,0)","v":0},{"$f":"IF(KBW2>=Inputs!$E$38,$D$26,0)","v":0},{"$f":"IF(KBX2>=Inputs!$E$38,$D$26,0)","v":0},{"$f":"IF(KBY2>=Inputs!$E$38,$D$26,0)","v":0},{"$f":"IF(KBZ2>=Inputs!$E$38,$D$26,0)","v":0},{"$f":"IF(KCA2>=Inputs!$E$38,$D$26,0)","v":0},{"$f":"IF(KCB2>=Inputs!$E$38,$D$26,0)","v":0},{"$f":"IF(KCC2>=Inputs!$E$38,$D$26,0)","v":0},{"$f":"IF(KCD2>=Inputs!$E$38,$D$26,0)","v":0},{"$f":"IF(KCE2>=Inputs!$E$38,$D$26,0)","v":0},{"$f":"IF(KCF2>=Inputs!$E$38,$D$26,0)","v":0},{"$f":"IF(KCG2>=Inputs!$E$38,$D$26,0)","v":0},{"$f":"IF(KCH2>=Inputs!$E$38,$D$26,0)","v":0},{"$f":"IF(KCI2>=Inputs!$E$38,$D$26,0)","v":0},{"$f":"IF(KCJ2>=Inputs!$E$38,$D$26,0)","v":0},{"$f":"IF(KCK2>=Inputs!$E$38,$D$26,0)","v":0},{"$f":"IF(KCL2>=Inputs!$E$38,$D$26,0)","v":0},{"$f":"IF(KCM2>=Inputs!$E$38,$D$26,0)","v":0},{"$f":"IF(KCN2>=Inputs!$E$38,$D$26,0)","v":0},{"$f":"IF(KCO2>=Inputs!$E$38,$D$26,0)","v":0},{"$f":"IF(KCP2>=Inputs!$E$38,$D$26,0)","v":0},{"$f":"IF(KCQ2>=Inputs!$E$38,$D$26,0)","v":0},{"$f":"IF(KCR2>=Inputs!$E$38,$D$26,0)","v":0},{"$f":"IF(KCS2>=Inputs!$E$38,$D$26,0)","v":0},{"$f":"IF(KCT2>=Inputs!$E$38,$D$26,0)","v":0},{"$f":"IF(KCU2>=Inputs!$E$38,$D$26,0)","v":0},{"$f":"IF(KCV2>=Inputs!$E$38,$D$26,0)","v":0},{"$f":"IF(KCW2>=Inputs!$E$38,$D$26,0)","v":0},{"$f":"IF(KCX2>=Inputs!$E$38,$D$26,0)","v":0},{"$f":"IF(KCY2>=Inputs!$E$38,$D$26,0)","v":0},{"$f":"IF(KCZ2>=Inputs!$E$38,$D$26,0)","v":0},{"$f":"IF(KDA2>=Inputs!$E$38,$D$26,0)","v":0},{"$f":"IF(KDB2>=Inputs!$E$38,$D$26,0)","v":0},{"$f":"IF(KDC2>=Inputs!$E$38,$D$26,0)","v":0},{"$f":"IF(KDD2>=Inputs!$E$38,$D$26,0)","v":0},{"$f":"IF(KDE2>=Inputs!$E$38,$D$26,0)","v":0},{"$f":"IF(KDF2>=Inputs!$E$38,$D$26,0)","v":0},{"$f":"IF(KDG2>=Inputs!$E$38,$D$26,0)","v":0},{"$f":"IF(KDH2>=Inputs!$E$38,$D$26,0)","v":0},{"$f":"IF(KDI2>=Inputs!$E$38,$D$26,0)","v":0},{"$f":"IF(KDJ2>=Inputs!$E$38,$D$26,0)","v":0},{"$f":"IF(KDK2>=Inputs!$E$38,$D$26,0)","v":0},{"$f":"IF(KDL2>=Inputs!$E$38,$D$26,0)","v":0},{"$f":"IF(KDM2>=Inputs!$E$38,$D$26,0)","v":0},{"$f":"IF(KDN2>=Inputs!$E$38,$D$26,0)","v":0},{"$f":"IF(KDO2>=Inputs!$E$38,$D$26,0)","v":0},{"$f":"IF(KDP2>=Inputs!$E$38,$D$26,0)","v":0},{"$f":"IF(KDQ2>=Inputs!$E$38,$D$26,0)","v":0},{"$f":"IF(KDR2>=Inputs!$E$38,$D$26,0)","v":0},{"$f":"IF(KDS2>=Inputs!$E$38,$D$26,0)","v":0},{"$f":"IF(KDT2>=Inputs!$E$38,$D$26,0)","v":0},{"$f":"IF(KDU2>=Inputs!$E$38,$D$26,0)","v":0},{"$f":"IF(KDV2>=Inputs!$E$38,$D$26,0)","v":0},{"$f":"IF(KDW2>=Inputs!$E$38,$D$26,0)","v":0},{"$f":"IF(KDX2>=Inputs!$E$38,$D$26,0)","v":0},{"$f":"IF(KDY2>=Inputs!$E$38,$D$26,0)","v":0},{"$f":"IF(KDZ2>=Inputs!$E$38,$D$26,0)","v":0},{"$f":"IF(KEA2>=Inputs!$E$38,$D$26,0)","v":0},{"$f":"IF(KEB2>=Inputs!$E$38,$D$26,0)","v":0},{"$f":"IF(KEC2>=Inputs!$E$38,$D$26,0)","v":0},{"$f":"IF(KED2>=Inputs!$E$38,$D$26,0)","v":0},{"$f":"IF(KEE2>=Inputs!$E$38,$D$26,0)","v":0},{"$f":"IF(KEF2>=Inputs!$E$38,$D$26,0)","v":0},{"$f":"IF(KEG2>=Inputs!$E$38,$D$26,0)","v":0},{"$f":"IF(KEH2>=Inputs!$E$38,$D$26,0)","v":0},{"$f":"IF(KEI2>=Inputs!$E$38,$D$26,0)","v":0},{"$f":"IF(KEJ2>=Inputs!$E$38,$D$26,0)","v":0},{"$f":"IF(KEK2>=Inputs!$E$38,$D$26,0)","v":0},{"$f":"IF(KEL2>=Inputs!$E$38,$D$26,0)","v":0},{"$f":"IF(KEM2>=Inputs!$E$38,$D$26,0)","v":0},{"$f":"IF(KEN2>=Inputs!$E$38,$D$26,0)","v":0},{"$f":"IF(KEO2>=Inputs!$E$38,$D$26,0)","v":0},{"$f":"IF(KEP2>=Inputs!$E$38,$D$26,0)","v":0},{"$f":"IF(KEQ2>=Inputs!$E$38,$D$26,0)","v":0},{"$f":"IF(KER2>=Inputs!$E$38,$D$26,0)","v":0},{"$f":"IF(KES2>=Inputs!$E$38,$D$26,0)","v":0},{"$f":"IF(KET2>=Inputs!$E$38,$D$26,0)","v":0},{"$f":"IF(KEU2>=Inputs!$E$38,$D$26,0)","v":0},{"$f":"IF(KEV2>=Inputs!$E$38,$D$26,0)","v":0},{"$f":"IF(KEW2>=Inputs!$E$38,$D$26,0)","v":0},{"$f":"IF(KEX2>=Inputs!$E$38,$D$26,0)","v":0},{"$f":"IF(KEY2>=Inputs!$E$38,$D$26,0)","v":0},{"$f":"IF(KEZ2>=Inputs!$E$38,$D$26,0)","v":0},{"$f":"IF(KFA2>=Inputs!$E$38,$D$26,0)","v":0},{"$f":"IF(KFB2>=Inputs!$E$38,$D$26,0)","v":0},{"$f":"IF(KFC2>=Inputs!$E$38,$D$26,0)","v":0},{"$f":"IF(KFD2>=Inputs!$E$38,$D$26,0)","v":0},{"$f":"IF(KFE2>=Inputs!$E$38,$D$26,0)","v":0},{"$f":"IF(KFF2>=Inputs!$E$38,$D$26,0)","v":0},{"$f":"IF(KFG2>=Inputs!$E$38,$D$26,0)","v":0},{"$f":"IF(KFH2>=Inputs!$E$38,$D$26,0)","v":0},{"$f":"IF(KFI2>=Inputs!$E$38,$D$26,0)","v":0},{"$f":"IF(KFJ2>=Inputs!$E$38,$D$26,0)","v":0},{"$f":"IF(KFK2>=Inputs!$E$38,$D$26,0)","v":0},{"$f":"IF(KFL2>=Inputs!$E$38,$D$26,0)","v":0},{"$f":"IF(KFM2>=Inputs!$E$38,$D$26,0)","v":0},{"$f":"IF(KFN2>=Inputs!$E$38,$D$26,0)","v":0},{"$f":"IF(KFO2>=Inputs!$E$38,$D$26,0)","v":0},{"$f":"IF(KFP2>=Inputs!$E$38,$D$26,0)","v":0},{"$f":"IF(KFQ2>=Inputs!$E$38,$D$26,0)","v":0},{"$f":"IF(KFR2>=Inputs!$E$38,$D$26,0)","v":0},{"$f":"IF(KFS2>=Inputs!$E$38,$D$26,0)","v":0},{"$f":"IF(KFT2>=Inputs!$E$38,$D$26,0)","v":0},{"$f":"IF(KFU2>=Inputs!$E$38,$D$26,0)","v":0},{"$f":"IF(KFV2>=Inputs!$E$38,$D$26,0)","v":0},{"$f":"IF(KFW2>=Inputs!$E$38,$D$26,0)","v":0},{"$f":"IF(KFX2>=Inputs!$E$38,$D$26,0)","v":0},{"$f":"IF(KFY2>=Inputs!$E$38,$D$26,0)","v":0},{"$f":"IF(KFZ2>=Inputs!$E$38,$D$26,0)","v":0},{"$f":"IF(KGA2>=Inputs!$E$38,$D$26,0)","v":0},{"$f":"IF(KGB2>=Inputs!$E$38,$D$26,0)","v":0},{"$f":"IF(KGC2>=Inputs!$E$38,$D$26,0)","v":0},{"$f":"IF(KGD2>=Inputs!$E$38,$D$26,0)","v":0},{"$f":"IF(KGE2>=Inputs!$E$38,$D$26,0)","v":0},{"$f":"IF(KGF2>=Inputs!$E$38,$D$26,0)","v":0},{"$f":"IF(KGG2>=Inputs!$E$38,$D$26,0)","v":0},{"$f":"IF(KGH2>=Inputs!$E$38,$D$26,0)","v":0},{"$f":"IF(KGI2>=Inputs!$E$38,$D$26,0)","v":0},{"$f":"IF(KGJ2>=Inputs!$E$38,$D$26,0)","v":0},{"$f":"IF(KGK2>=Inputs!$E$38,$D$26,0)","v":0},{"$f":"IF(KGL2>=Inputs!$E$38,$D$26,0)","v":0},{"$f":"IF(KGM2>=Inputs!$E$38,$D$26,0)","v":0},{"$f":"IF(KGN2>=Inputs!$E$38,$D$26,0)","v":0},{"$f":"IF(KGO2>=Inputs!$E$38,$D$26,0)","v":0},{"$f":"IF(KGP2>=Inputs!$E$38,$D$26,0)","v":0},{"$f":"IF(KGQ2>=Inputs!$E$38,$D$26,0)","v":0},{"$f":"IF(KGR2>=Inputs!$E$38,$D$26,0)","v":0},{"$f":"IF(KGS2>=Inputs!$E$38,$D$26,0)","v":0},{"$f":"IF(KGT2>=Inputs!$E$38,$D$26,0)","v":0},{"$f":"IF(KGU2>=Inputs!$E$38,$D$26,0)","v":0},{"$f":"IF(KGV2>=Inputs!$E$38,$D$26,0)","v":0},{"$f":"IF(KGW2>=Inputs!$E$38,$D$26,0)","v":0},{"$f":"IF(KGX2>=Inputs!$E$38,$D$26,0)","v":0},{"$f":"IF(KGY2>=Inputs!$E$38,$D$26,0)","v":0},{"$f":"IF(KGZ2>=Inputs!$E$38,$D$26,0)","v":0},{"$f":"IF(KHA2>=Inputs!$E$38,$D$26,0)","v":0},{"$f":"IF(KHB2>=Inputs!$E$38,$D$26,0)","v":0},{"$f":"IF(KHC2>=Inputs!$E$38,$D$26,0)","v":0},{"$f":"IF(KHD2>=Inputs!$E$38,$D$26,0)","v":0},{"$f":"IF(KHE2>=Inputs!$E$38,$D$26,0)","v":0},{"$f":"IF(KHF2>=Inputs!$E$38,$D$26,0)","v":0},{"$f":"IF(KHG2>=Inputs!$E$38,$D$26,0)","v":0},{"$f":"IF(KHH2>=Inputs!$E$38,$D$26,0)","v":0},{"$f":"IF(KHI2>=Inputs!$E$38,$D$26,0)","v":0},{"$f":"IF(KHJ2>=Inputs!$E$38,$D$26,0)","v":0},{"$f":"IF(KHK2>=Inputs!$E$38,$D$26,0)","v":0},{"$f":"IF(KHL2>=Inputs!$E$38,$D$26,0)","v":0},{"$f":"IF(KHM2>=Inputs!$E$38,$D$26,0)","v":0},{"$f":"IF(KHN2>=Inputs!$E$38,$D$26,0)","v":0},{"$f":"IF(KHO2>=Inputs!$E$38,$D$26,0)","v":0},{"$f":"IF(KHP2>=Inputs!$E$38,$D$26,0)","v":0},{"$f":"IF(KHQ2>=Inputs!$E$38,$D$26,0)","v":0},{"$f":"IF(KHR2>=Inputs!$E$38,$D$26,0)","v":0},{"$f":"IF(KHS2>=Inputs!$E$38,$D$26,0)","v":0},{"$f":"IF(KHT2>=Inputs!$E$38,$D$26,0)","v":0},{"$f":"IF(KHU2>=Inputs!$E$38,$D$26,0)","v":0},{"$f":"IF(KHV2>=Inputs!$E$38,$D$26,0)","v":0},{"$f":"IF(KHW2>=Inputs!$E$38,$D$26,0)","v":0},{"$f":"IF(KHX2>=Inputs!$E$38,$D$26,0)","v":0},{"$f":"IF(KHY2>=Inputs!$E$38,$D$26,0)","v":0},{"$f":"IF(KHZ2>=Inputs!$E$38,$D$26,0)","v":0},{"$f":"IF(KIA2>=Inputs!$E$38,$D$26,0)","v":0},{"$f":"IF(KIB2>=Inputs!$E$38,$D$26,0)","v":0},{"$f":"IF(KIC2>=Inputs!$E$38,$D$26,0)","v":0},{"$f":"IF(KID2>=Inputs!$E$38,$D$26,0)","v":0},{"$f":"IF(KIE2>=Inputs!$E$38,$D$26,0)","v":0},{"$f":"IF(KIF2>=Inputs!$E$38,$D$26,0)","v":0},{"$f":"IF(KIG2>=Inputs!$E$38,$D$26,0)","v":0},{"$f":"IF(KIH2>=Inputs!$E$38,$D$26,0)","v":0},{"$f":"IF(KII2>=Inputs!$E$38,$D$26,0)","v":0},{"$f":"IF(KIJ2>=Inputs!$E$38,$D$26,0)","v":0},{"$f":"IF(KIK2>=Inputs!$E$38,$D$26,0)","v":0},{"$f":"IF(KIL2>=Inputs!$E$38,$D$26,0)","v":0},{"$f":"IF(KIM2>=Inputs!$E$38,$D$26,0)","v":0},{"$f":"IF(KIN2>=Inputs!$E$38,$D$26,0)","v":0},{"$f":"IF(KIO2>=Inputs!$E$38,$D$26,0)","v":0},{"$f":"IF(KIP2>=Inputs!$E$38,$D$26,0)","v":0},{"$f":"IF(KIQ2>=Inputs!$E$38,$D$26,0)","v":0},{"$f":"IF(KIR2>=Inputs!$E$38,$D$26,0)","v":0},{"$f":"IF(KIS2>=Inputs!$E$38,$D$26,0)","v":0},{"$f":"IF(KIT2>=Inputs!$E$38,$D$26,0)","v":0},{"$f":"IF(KIU2>=Inputs!$E$38,$D$26,0)","v":0},{"$f":"IF(KIV2>=Inputs!$E$38,$D$26,0)","v":0},{"$f":"IF(KIW2>=Inputs!$E$38,$D$26,0)","v":0},{"$f":"IF(KIX2>=Inputs!$E$38,$D$26,0)","v":0},{"$f":"IF(KIY2>=Inputs!$E$38,$D$26,0)","v":0},{"$f":"IF(KIZ2>=Inputs!$E$38,$D$26,0)","v":0},{"$f":"IF(KJA2>=Inputs!$E$38,$D$26,0)","v":0},{"$f":"IF(KJB2>=Inputs!$E$38,$D$26,0)","v":0},{"$f":"IF(KJC2>=Inputs!$E$38,$D$26,0)","v":0},{"$f":"IF(KJD2>=Inputs!$E$38,$D$26,0)","v":0},{"$f":"IF(KJE2>=Inputs!$E$38,$D$26,0)","v":0},{"$f":"IF(KJF2>=Inputs!$E$38,$D$26,0)","v":0},{"$f":"IF(KJG2>=Inputs!$E$38,$D$26,0)","v":0},{"$f":"IF(KJH2>=Inputs!$E$38,$D$26,0)","v":0},{"$f":"IF(KJI2>=Inputs!$E$38,$D$26,0)","v":0},{"$f":"IF(KJJ2>=Inputs!$E$38,$D$26,0)","v":0},{"$f":"IF(KJK2>=Inputs!$E$38,$D$26,0)","v":0},{"$f":"IF(KJL2>=Inputs!$E$38,$D$26,0)","v":0},{"$f":"IF(KJM2>=Inputs!$E$38,$D$26,0)","v":0},{"$f":"IF(KJN2>=Inputs!$E$38,$D$26,0)","v":0},{"$f":"IF(KJO2>=Inputs!$E$38,$D$26,0)","v":0},{"$f":"IF(KJP2>=Inputs!$E$38,$D$26,0)","v":0},{"$f":"IF(KJQ2>=Inputs!$E$38,$D$26,0)","v":0},{"$f":"IF(KJR2>=Inputs!$E$38,$D$26,0)","v":0},{"$f":"IF(KJS2>=Inputs!$E$38,$D$26,0)","v":0},{"$f":"IF(KJT2>=Inputs!$E$38,$D$26,0)","v":0},{"$f":"IF(KJU2>=Inputs!$E$38,$D$26,0)","v":0},{"$f":"IF(KJV2>=Inputs!$E$38,$D$26,0)","v":0},{"$f":"IF(KJW2>=Inputs!$E$38,$D$26,0)","v":0},{"$f":"IF(KJX2>=Inputs!$E$38,$D$26,0)","v":0},{"$f":"IF(KJY2>=Inputs!$E$38,$D$26,0)","v":0},{"$f":"IF(KJZ2>=Inputs!$E$38,$D$26,0)","v":0},{"$f":"IF(KKA2>=Inputs!$E$38,$D$26,0)","v":0},{"$f":"IF(KKB2>=Inputs!$E$38,$D$26,0)","v":0},{"$f":"IF(KKC2>=Inputs!$E$38,$D$26,0)","v":0},{"$f":"IF(KKD2>=Inputs!$E$38,$D$26,0)","v":0},{"$f":"IF(KKE2>=Inputs!$E$38,$D$26,0)","v":0},{"$f":"IF(KKF2>=Inputs!$E$38,$D$26,0)","v":0},{"$f":"IF(KKG2>=Inputs!$E$38,$D$26,0)","v":0},{"$f":"IF(KKH2>=Inputs!$E$38,$D$26,0)","v":0},{"$f":"IF(KKI2>=Inputs!$E$38,$D$26,0)","v":0},{"$f":"IF(KKJ2>=Inputs!$E$38,$D$26,0)","v":0},{"$f":"IF(KKK2>=Inputs!$E$38,$D$26,0)","v":0},{"$f":"IF(KKL2>=Inputs!$E$38,$D$26,0)","v":0},{"$f":"IF(KKM2>=Inputs!$E$38,$D$26,0)","v":0},{"$f":"IF(KKN2>=Inputs!$E$38,$D$26,0)","v":0},{"$f":"IF(KKO2>=Inputs!$E$38,$D$26,0)","v":0},{"$f":"IF(KKP2>=Inputs!$E$38,$D$26,0)","v":0},{"$f":"IF(KKQ2>=Inputs!$E$38,$D$26,0)","v":0},{"$f":"IF(KKR2>=Inputs!$E$38,$D$26,0)","v":0},{"$f":"IF(KKS2>=Inputs!$E$38,$D$26,0)","v":0},{"$f":"IF(KKT2>=Inputs!$E$38,$D$26,0)","v":0},{"$f":"IF(KKU2>=Inputs!$E$38,$D$26,0)","v":0},{"$f":"IF(KKV2>=Inputs!$E$38,$D$26,0)","v":0},{"$f":"IF(KKW2>=Inputs!$E$38,$D$26,0)","v":0},{"$f":"IF(KKX2>=Inputs!$E$38,$D$26,0)","v":0},{"$f":"IF(KKY2>=Inputs!$E$38,$D$26,0)","v":0},{"$f":"IF(KKZ2>=Inputs!$E$38,$D$26,0)","v":0},{"$f":"IF(KLA2>=Inputs!$E$38,$D$26,0)","v":0},{"$f":"IF(KLB2>=Inputs!$E$38,$D$26,0)","v":0},{"$f":"IF(KLC2>=Inputs!$E$38,$D$26,0)","v":0},{"$f":"IF(KLD2>=Inputs!$E$38,$D$26,0)","v":0},{"$f":"IF(KLE2>=Inputs!$E$38,$D$26,0)","v":0},{"$f":"IF(KLF2>=Inputs!$E$38,$D$26,0)","v":0},{"$f":"IF(KLG2>=Inputs!$E$38,$D$26,0)","v":0},{"$f":"IF(KLH2>=Inputs!$E$38,$D$26,0)","v":0},{"$f":"IF(KLI2>=Inputs!$E$38,$D$26,0)","v":0},{"$f":"IF(KLJ2>=Inputs!$E$38,$D$26,0)","v":0},{"$f":"IF(KLK2>=Inputs!$E$38,$D$26,0)","v":0},{"$f":"IF(KLL2>=Inputs!$E$38,$D$26,0)","v":0},{"$f":"IF(KLM2>=Inputs!$E$38,$D$26,0)","v":0},{"$f":"IF(KLN2>=Inputs!$E$38,$D$26,0)","v":0},{"$f":"IF(KLO2>=Inputs!$E$38,$D$26,0)","v":0},{"$f":"IF(KLP2>=Inputs!$E$38,$D$26,0)","v":0},{"$f":"IF(KLQ2>=Inputs!$E$38,$D$26,0)","v":0},{"$f":"IF(KLR2>=Inputs!$E$38,$D$26,0)","v":0},{"$f":"IF(KLS2>=Inputs!$E$38,$D$26,0)","v":0},{"$f":"IF(KLT2>=Inputs!$E$38,$D$26,0)","v":0},{"$f":"IF(KLU2>=Inputs!$E$38,$D$26,0)","v":0},{"$f":"IF(KLV2>=Inputs!$E$38,$D$26,0)","v":0},{"$f":"IF(KLW2>=Inputs!$E$38,$D$26,0)","v":0},{"$f":"IF(KLX2>=Inputs!$E$38,$D$26,0)","v":0},{"$f":"IF(KLY2>=Inputs!$E$38,$D$26,0)","v":0},{"$f":"IF(KLZ2>=Inputs!$E$38,$D$26,0)","v":0},{"$f":"IF(KMA2>=Inputs!$E$38,$D$26,0)","v":0},{"$f":"IF(KMB2>=Inputs!$E$38,$D$26,0)","v":0},{"$f":"IF(KMC2>=Inputs!$E$38,$D$26,0)","v":0},{"$f":"IF(KMD2>=Inputs!$E$38,$D$26,0)","v":0},{"$f":"IF(KME2>=Inputs!$E$38,$D$26,0)","v":0},{"$f":"IF(KMF2>=Inputs!$E$38,$D$26,0)","v":0},{"$f":"IF(KMG2>=Inputs!$E$38,$D$26,0)","v":0},{"$f":"IF(KMH2>=Inputs!$E$38,$D$26,0)","v":0},{"$f":"IF(KMI2>=Inputs!$E$38,$D$26,0)","v":0},{"$f":"IF(KMJ2>=Inputs!$E$38,$D$26,0)","v":0},{"$f":"IF(KMK2>=Inputs!$E$38,$D$26,0)","v":0},{"$f":"IF(KML2>=Inputs!$E$38,$D$26,0)","v":0},{"$f":"IF(KMM2>=Inputs!$E$38,$D$26,0)","v":0},{"$f":"IF(KMN2>=Inputs!$E$38,$D$26,0)","v":0},{"$f":"IF(KMO2>=Inputs!$E$38,$D$26,0)","v":0},{"$f":"IF(KMP2>=Inputs!$E$38,$D$26,0)","v":0},{"$f":"IF(KMQ2>=Inputs!$E$38,$D$26,0)","v":0},{"$f":"IF(KMR2>=Inputs!$E$38,$D$26,0)","v":0},{"$f":"IF(KMS2>=Inputs!$E$38,$D$26,0)","v":0},{"$f":"IF(KMT2>=Inputs!$E$38,$D$26,0)","v":0},{"$f":"IF(KMU2>=Inputs!$E$38,$D$26,0)","v":0},{"$f":"IF(KMV2>=Inputs!$E$38,$D$26,0)","v":0},{"$f":"IF(KMW2>=Inputs!$E$38,$D$26,0)","v":0},{"$f":"IF(KMX2>=Inputs!$E$38,$D$26,0)","v":0},{"$f":"IF(KMY2>=Inputs!$E$38,$D$26,0)","v":0},{"$f":"IF(KMZ2>=Inputs!$E$38,$D$26,0)","v":0},{"$f":"IF(KNA2>=Inputs!$E$38,$D$26,0)","v":0},{"$f":"IF(KNB2>=Inputs!$E$38,$D$26,0)","v":0},{"$f":"IF(KNC2>=Inputs!$E$38,$D$26,0)","v":0},{"$f":"IF(KND2>=Inputs!$E$38,$D$26,0)","v":0},{"$f":"IF(KNE2>=Inputs!$E$38,$D$26,0)","v":0},{"$f":"IF(KNF2>=Inputs!$E$38,$D$26,0)","v":0},{"$f":"IF(KNG2>=Inputs!$E$38,$D$26,0)","v":0},{"$f":"IF(KNH2>=Inputs!$E$38,$D$26,0)","v":0},{"$f":"IF(KNI2>=Inputs!$E$38,$D$26,0)","v":0},{"$f":"IF(KNJ2>=Inputs!$E$38,$D$26,0)","v":0},{"$f":"IF(KNK2>=Inputs!$E$38,$D$26,0)","v":0},{"$f":"IF(KNL2>=Inputs!$E$38,$D$26,0)","v":0},{"$f":"IF(KNM2>=Inputs!$E$38,$D$26,0)","v":0},{"$f":"IF(KNN2>=Inputs!$E$38,$D$26,0)","v":0},{"$f":"IF(KNO2>=Inputs!$E$38,$D$26,0)","v":0},{"$f":"IF(KNP2>=Inputs!$E$38,$D$26,0)","v":0},{"$f":"IF(KNQ2>=Inputs!$E$38,$D$26,0)","v":0},{"$f":"IF(KNR2>=Inputs!$E$38,$D$26,0)","v":0},{"$f":"IF(KNS2>=Inputs!$E$38,$D$26,0)","v":0},{"$f":"IF(KNT2>=Inputs!$E$38,$D$26,0)","v":0},{"$f":"IF(KNU2>=Inputs!$E$38,$D$26,0)","v":0},{"$f":"IF(KNV2>=Inputs!$E$38,$D$26,0)","v":0},{"$f":"IF(KNW2>=Inputs!$E$38,$D$26,0)","v":0},{"$f":"IF(KNX2>=Inputs!$E$38,$D$26,0)","v":0},{"$f":"IF(KNY2>=Inputs!$E$38,$D$26,0)","v":0},{"$f":"IF(KNZ2>=Inputs!$E$38,$D$26,0)","v":0},{"$f":"IF(KOA2>=Inputs!$E$38,$D$26,0)","v":0},{"$f":"IF(KOB2>=Inputs!$E$38,$D$26,0)","v":0},{"$f":"IF(KOC2>=Inputs!$E$38,$D$26,0)","v":0},{"$f":"IF(KOD2>=Inputs!$E$38,$D$26,0)","v":0},{"$f":"IF(KOE2>=Inputs!$E$38,$D$26,0)","v":0},{"$f":"IF(KOF2>=Inputs!$E$38,$D$26,0)","v":0},{"$f":"IF(KOG2>=Inputs!$E$38,$D$26,0)","v":0},{"$f":"IF(KOH2>=Inputs!$E$38,$D$26,0)","v":0},{"$f":"IF(KOI2>=Inputs!$E$38,$D$26,0)","v":0},{"$f":"IF(KOJ2>=Inputs!$E$38,$D$26,0)","v":0},{"$f":"IF(KOK2>=Inputs!$E$38,$D$26,0)","v":0},{"$f":"IF(KOL2>=Inputs!$E$38,$D$26,0)","v":0},{"$f":"IF(KOM2>=Inputs!$E$38,$D$26,0)","v":0},{"$f":"IF(KON2>=Inputs!$E$38,$D$26,0)","v":0},{"$f":"IF(KOO2>=Inputs!$E$38,$D$26,0)","v":0},{"$f":"IF(KOP2>=Inputs!$E$38,$D$26,0)","v":0},{"$f":"IF(KOQ2>=Inputs!$E$38,$D$26,0)","v":0},{"$f":"IF(KOR2>=Inputs!$E$38,$D$26,0)","v":0},{"$f":"IF(KOS2>=Inputs!$E$38,$D$26,0)","v":0},{"$f":"IF(KOT2>=Inputs!$E$38,$D$26,0)","v":0},{"$f":"IF(KOU2>=Inputs!$E$38,$D$26,0)","v":0},{"$f":"IF(KOV2>=Inputs!$E$38,$D$26,0)","v":0},{"$f":"IF(KOW2>=Inputs!$E$38,$D$26,0)","v":0},{"$f":"IF(KOX2>=Inputs!$E$38,$D$26,0)","v":0},{"$f":"IF(KOY2>=Inputs!$E$38,$D$26,0)","v":0},{"$f":"IF(KOZ2>=Inputs!$E$38,$D$26,0)","v":0},{"$f":"IF(KPA2>=Inputs!$E$38,$D$26,0)","v":0},{"$f":"IF(KPB2>=Inputs!$E$38,$D$26,0)","v":0},{"$f":"IF(KPC2>=Inputs!$E$38,$D$26,0)","v":0},{"$f":"IF(KPD2>=Inputs!$E$38,$D$26,0)","v":0},{"$f":"IF(KPE2>=Inputs!$E$38,$D$26,0)","v":0},{"$f":"IF(KPF2>=Inputs!$E$38,$D$26,0)","v":0},{"$f":"IF(KPG2>=Inputs!$E$38,$D$26,0)","v":0},{"$f":"IF(KPH2>=Inputs!$E$38,$D$26,0)","v":0},{"$f":"IF(KPI2>=Inputs!$E$38,$D$26,0)","v":0},{"$f":"IF(KPJ2>=Inputs!$E$38,$D$26,0)","v":0},{"$f":"IF(KPK2>=Inputs!$E$38,$D$26,0)","v":0},{"$f":"IF(KPL2>=Inputs!$E$38,$D$26,0)","v":0},{"$f":"IF(KPM2>=Inputs!$E$38,$D$26,0)","v":0},{"$f":"IF(KPN2>=Inputs!$E$38,$D$26,0)","v":0},{"$f":"IF(KPO2>=Inputs!$E$38,$D$26,0)","v":0},{"$f":"IF(KPP2>=Inputs!$E$38,$D$26,0)","v":0},{"$f":"IF(KPQ2>=Inputs!$E$38,$D$26,0)","v":0},{"$f":"IF(KPR2>=Inputs!$E$38,$D$26,0)","v":0},{"$f":"IF(KPS2>=Inputs!$E$38,$D$26,0)","v":0},{"$f":"IF(KPT2>=Inputs!$E$38,$D$26,0)","v":0},{"$f":"IF(KPU2>=Inputs!$E$38,$D$26,0)","v":0},{"$f":"IF(KPV2>=Inputs!$E$38,$D$26,0)","v":0},{"$f":"IF(KPW2>=Inputs!$E$38,$D$26,0)","v":0},{"$f":"IF(KPX2>=Inputs!$E$38,$D$26,0)","v":0},{"$f":"IF(KPY2>=Inputs!$E$38,$D$26,0)","v":0},{"$f":"IF(KPZ2>=Inputs!$E$38,$D$26,0)","v":0},{"$f":"IF(KQA2>=Inputs!$E$38,$D$26,0)","v":0},{"$f":"IF(KQB2>=Inputs!$E$38,$D$26,0)","v":0},{"$f":"IF(KQC2>=Inputs!$E$38,$D$26,0)","v":0},{"$f":"IF(KQD2>=Inputs!$E$38,$D$26,0)","v":0},{"$f":"IF(KQE2>=Inputs!$E$38,$D$26,0)","v":0},{"$f":"IF(KQF2>=Inputs!$E$38,$D$26,0)","v":0},{"$f":"IF(KQG2>=Inputs!$E$38,$D$26,0)","v":0},{"$f":"IF(KQH2>=Inputs!$E$38,$D$26,0)","v":0},{"$f":"IF(KQI2>=Inputs!$E$38,$D$26,0)","v":0},{"$f":"IF(KQJ2>=Inputs!$E$38,$D$26,0)","v":0},{"$f":"IF(KQK2>=Inputs!$E$38,$D$26,0)","v":0},{"$f":"IF(KQL2>=Inputs!$E$38,$D$26,0)","v":0},{"$f":"IF(KQM2>=Inputs!$E$38,$D$26,0)","v":0},{"$f":"IF(KQN2>=Inputs!$E$38,$D$26,0)","v":0},{"$f":"IF(KQO2>=Inputs!$E$38,$D$26,0)","v":0},{"$f":"IF(KQP2>=Inputs!$E$38,$D$26,0)","v":0},{"$f":"IF(KQQ2>=Inputs!$E$38,$D$26,0)","v":0},{"$f":"IF(KQR2>=Inputs!$E$38,$D$26,0)","v":0},{"$f":"IF(KQS2>=Inputs!$E$38,$D$26,0)","v":0},{"$f":"IF(KQT2>=Inputs!$E$38,$D$26,0)","v":0},{"$f":"IF(KQU2>=Inputs!$E$38,$D$26,0)","v":0},{"$f":"IF(KQV2>=Inputs!$E$38,$D$26,0)","v":0},{"$f":"IF(KQW2>=Inputs!$E$38,$D$26,0)","v":0},{"$f":"IF(KQX2>=Inputs!$E$38,$D$26,0)","v":0},{"$f":"IF(KQY2>=Inputs!$E$38,$D$26,0)","v":0},{"$f":"IF(KQZ2>=Inputs!$E$38,$D$26,0)","v":0},{"$f":"IF(KRA2>=Inputs!$E$38,$D$26,0)","v":0},{"$f":"IF(KRB2>=Inputs!$E$38,$D$26,0)","v":0},{"$f":"IF(KRC2>=Inputs!$E$38,$D$26,0)","v":0},{"$f":"IF(KRD2>=Inputs!$E$38,$D$26,0)","v":0},{"$f":"IF(KRE2>=Inputs!$E$38,$D$26,0)","v":0},{"$f":"IF(KRF2>=Inputs!$E$38,$D$26,0)","v":0},{"$f":"IF(KRG2>=Inputs!$E$38,$D$26,0)","v":0},{"$f":"IF(KRH2>=Inputs!$E$38,$D$26,0)","v":0},{"$f":"IF(KRI2>=Inputs!$E$38,$D$26,0)","v":0},{"$f":"IF(KRJ2>=Inputs!$E$38,$D$26,0)","v":0},{"$f":"IF(KRK2>=Inputs!$E$38,$D$26,0)","v":0},{"$f":"IF(KRL2>=Inputs!$E$38,$D$26,0)","v":0},{"$f":"IF(KRM2>=Inputs!$E$38,$D$26,0)","v":0},{"$f":"IF(KRN2>=Inputs!$E$38,$D$26,0)","v":0},{"$f":"IF(KRO2>=Inputs!$E$38,$D$26,0)","v":0},{"$f":"IF(KRP2>=Inputs!$E$38,$D$26,0)","v":0},{"$f":"IF(KRQ2>=Inputs!$E$38,$D$26,0)","v":0},{"$f":"IF(KRR2>=Inputs!$E$38,$D$26,0)","v":0},{"$f":"IF(KRS2>=Inputs!$E$38,$D$26,0)","v":0},{"$f":"IF(KRT2>=Inputs!$E$38,$D$26,0)","v":0},{"$f":"IF(KRU2>=Inputs!$E$38,$D$26,0)","v":0},{"$f":"IF(KRV2>=Inputs!$E$38,$D$26,0)","v":0},{"$f":"IF(KRW2>=Inputs!$E$38,$D$26,0)","v":0},{"$f":"IF(KRX2>=Inputs!$E$38,$D$26,0)","v":0},{"$f":"IF(KRY2>=Inputs!$E$38,$D$26,0)","v":0},{"$f":"IF(KRZ2>=Inputs!$E$38,$D$26,0)","v":0},{"$f":"IF(KSA2>=Inputs!$E$38,$D$26,0)","v":0},{"$f":"IF(KSB2>=Inputs!$E$38,$D$26,0)","v":0},{"$f":"IF(KSC2>=Inputs!$E$38,$D$26,0)","v":0},{"$f":"IF(KSD2>=Inputs!$E$38,$D$26,0)","v":0},{"$f":"IF(KSE2>=Inputs!$E$38,$D$26,0)","v":0},{"$f":"IF(KSF2>=Inputs!$E$38,$D$26,0)","v":0},{"$f":"IF(KSG2>=Inputs!$E$38,$D$26,0)","v":0},{"$f":"IF(KSH2>=Inputs!$E$38,$D$26,0)","v":0},{"$f":"IF(KSI2>=Inputs!$E$38,$D$26,0)","v":0},{"$f":"IF(KSJ2>=Inputs!$E$38,$D$26,0)","v":0},{"$f":"IF(KSK2>=Inputs!$E$38,$D$26,0)","v":0},{"$f":"IF(KSL2>=Inputs!$E$38,$D$26,0)","v":0},{"$f":"IF(KSM2>=Inputs!$E$38,$D$26,0)","v":0},{"$f":"IF(KSN2>=Inputs!$E$38,$D$26,0)","v":0},{"$f":"IF(KSO2>=Inputs!$E$38,$D$26,0)","v":0},{"$f":"IF(KSP2>=Inputs!$E$38,$D$26,0)","v":0},{"$f":"IF(KSQ2>=Inputs!$E$38,$D$26,0)","v":0},{"$f":"IF(KSR2>=Inputs!$E$38,$D$26,0)","v":0},{"$f":"IF(KSS2>=Inputs!$E$38,$D$26,0)","v":0},{"$f":"IF(KST2>=Inputs!$E$38,$D$26,0)","v":0},{"$f":"IF(KSU2>=Inputs!$E$38,$D$26,0)","v":0},{"$f":"IF(KSV2>=Inputs!$E$38,$D$26,0)","v":0},{"$f":"IF(KSW2>=Inputs!$E$38,$D$26,0)","v":0},{"$f":"IF(KSX2>=Inputs!$E$38,$D$26,0)","v":0},{"$f":"IF(KSY2>=Inputs!$E$38,$D$26,0)","v":0},{"$f":"IF(KSZ2>=Inputs!$E$38,$D$26,0)","v":0},{"$f":"IF(KTA2>=Inputs!$E$38,$D$26,0)","v":0},{"$f":"IF(KTB2>=Inputs!$E$38,$D$26,0)","v":0},{"$f":"IF(KTC2>=Inputs!$E$38,$D$26,0)","v":0},{"$f":"IF(KTD2>=Inputs!$E$38,$D$26,0)","v":0},{"$f":"IF(KTE2>=Inputs!$E$38,$D$26,0)","v":0},{"$f":"IF(KTF2>=Inputs!$E$38,$D$26,0)","v":0},{"$f":"IF(KTG2>=Inputs!$E$38,$D$26,0)","v":0},{"$f":"IF(KTH2>=Inputs!$E$38,$D$26,0)","v":0},{"$f":"IF(KTI2>=Inputs!$E$38,$D$26,0)","v":0},{"$f":"IF(KTJ2>=Inputs!$E$38,$D$26,0)","v":0},{"$f":"IF(KTK2>=Inputs!$E$38,$D$26,0)","v":0},{"$f":"IF(KTL2>=Inputs!$E$38,$D$26,0)","v":0},{"$f":"IF(KTM2>=Inputs!$E$38,$D$26,0)","v":0},{"$f":"IF(KTN2>=Inputs!$E$38,$D$26,0)","v":0},{"$f":"IF(KTO2>=Inputs!$E$38,$D$26,0)","v":0},{"$f":"IF(KTP2>=Inputs!$E$38,$D$26,0)","v":0},{"$f":"IF(KTQ2>=Inputs!$E$38,$D$26,0)","v":0},{"$f":"IF(KTR2>=Inputs!$E$38,$D$26,0)","v":0},{"$f":"IF(KTS2>=Inputs!$E$38,$D$26,0)","v":0},{"$f":"IF(KTT2>=Inputs!$E$38,$D$26,0)","v":0},{"$f":"IF(KTU2>=Inputs!$E$38,$D$26,0)","v":0},{"$f":"IF(KTV2>=Inputs!$E$38,$D$26,0)","v":0},{"$f":"IF(KTW2>=Inputs!$E$38,$D$26,0)","v":0},{"$f":"IF(KTX2>=Inputs!$E$38,$D$26,0)","v":0},{"$f":"IF(KTY2>=Inputs!$E$38,$D$26,0)","v":0},{"$f":"IF(KTZ2>=Inputs!$E$38,$D$26,0)","v":0},{"$f":"IF(KUA2>=Inputs!$E$38,$D$26,0)","v":0},{"$f":"IF(KUB2>=Inputs!$E$38,$D$26,0)","v":0},{"$f":"IF(KUC2>=Inputs!$E$38,$D$26,0)","v":0},{"$f":"IF(KUD2>=Inputs!$E$38,$D$26,0)","v":0},{"$f":"IF(KUE2>=Inputs!$E$38,$D$26,0)","v":0},{"$f":"IF(KUF2>=Inputs!$E$38,$D$26,0)","v":0},{"$f":"IF(KUG2>=Inputs!$E$38,$D$26,0)","v":0},{"$f":"IF(KUH2>=Inputs!$E$38,$D$26,0)","v":0},{"$f":"IF(KUI2>=Inputs!$E$38,$D$26,0)","v":0},{"$f":"IF(KUJ2>=Inputs!$E$38,$D$26,0)","v":0},{"$f":"IF(KUK2>=Inputs!$E$38,$D$26,0)","v":0},{"$f":"IF(KUL2>=Inputs!$E$38,$D$26,0)","v":0},{"$f":"IF(KUM2>=Inputs!$E$38,$D$26,0)","v":0},{"$f":"IF(KUN2>=Inputs!$E$38,$D$26,0)","v":0},{"$f":"IF(KUO2>=Inputs!$E$38,$D$26,0)","v":0},{"$f":"IF(KUP2>=Inputs!$E$38,$D$26,0)","v":0},{"$f":"IF(KUQ2>=Inputs!$E$38,$D$26,0)","v":0},{"$f":"IF(KUR2>=Inputs!$E$38,$D$26,0)","v":0},{"$f":"IF(KUS2>=Inputs!$E$38,$D$26,0)","v":0},{"$f":"IF(KUT2>=Inputs!$E$38,$D$26,0)","v":0},{"$f":"IF(KUU2>=Inputs!$E$38,$D$26,0)","v":0},{"$f":"IF(KUV2>=Inputs!$E$38,$D$26,0)","v":0},{"$f":"IF(KUW2>=Inputs!$E$38,$D$26,0)","v":0},{"$f":"IF(KUX2>=Inputs!$E$38,$D$26,0)","v":0},{"$f":"IF(KUY2>=Inputs!$E$38,$D$26,0)","v":0},{"$f":"IF(KUZ2>=Inputs!$E$38,$D$26,0)","v":0},{"$f":"IF(KVA2>=Inputs!$E$38,$D$26,0)","v":0},{"$f":"IF(KVB2>=Inputs!$E$38,$D$26,0)","v":0},{"$f":"IF(KVC2>=Inputs!$E$38,$D$26,0)","v":0},{"$f":"IF(KVD2>=Inputs!$E$38,$D$26,0)","v":0},{"$f":"IF(KVE2>=Inputs!$E$38,$D$26,0)","v":0},{"$f":"IF(KVF2>=Inputs!$E$38,$D$26,0)","v":0},{"$f":"IF(KVG2>=Inputs!$E$38,$D$26,0)","v":0},{"$f":"IF(KVH2>=Inputs!$E$38,$D$26,0)","v":0},{"$f":"IF(KVI2>=Inputs!$E$38,$D$26,0)","v":0},{"$f":"IF(KVJ2>=Inputs!$E$38,$D$26,0)","v":0},{"$f":"IF(KVK2>=Inputs!$E$38,$D$26,0)","v":0},{"$f":"IF(KVL2>=Inputs!$E$38,$D$26,0)","v":0},{"$f":"IF(KVM2>=Inputs!$E$38,$D$26,0)","v":0},{"$f":"IF(KVN2>=Inputs!$E$38,$D$26,0)","v":0},{"$f":"IF(KVO2>=Inputs!$E$38,$D$26,0)","v":0},{"$f":"IF(KVP2>=Inputs!$E$38,$D$26,0)","v":0},{"$f":"IF(KVQ2>=Inputs!$E$38,$D$26,0)","v":0},{"$f":"IF(KVR2>=Inputs!$E$38,$D$26,0)","v":0},{"$f":"IF(KVS2>=Inputs!$E$38,$D$26,0)","v":0},{"$f":"IF(KVT2>=Inputs!$E$38,$D$26,0)","v":0},{"$f":"IF(KVU2>=Inputs!$E$38,$D$26,0)","v":0},{"$f":"IF(KVV2>=Inputs!$E$38,$D$26,0)","v":0},{"$f":"IF(KVW2>=Inputs!$E$38,$D$26,0)","v":0},{"$f":"IF(KVX2>=Inputs!$E$38,$D$26,0)","v":0},{"$f":"IF(KVY2>=Inputs!$E$38,$D$26,0)","v":0},{"$f":"IF(KVZ2>=Inputs!$E$38,$D$26,0)","v":0},{"$f":"IF(KWA2>=Inputs!$E$38,$D$26,0)","v":0},{"$f":"IF(KWB2>=Inputs!$E$38,$D$26,0)","v":0},{"$f":"IF(KWC2>=Inputs!$E$38,$D$26,0)","v":0},{"$f":"IF(KWD2>=Inputs!$E$38,$D$26,0)","v":0},{"$f":"IF(KWE2>=Inputs!$E$38,$D$26,0)","v":0},{"$f":"IF(KWF2>=Inputs!$E$38,$D$26,0)","v":0},{"$f":"IF(KWG2>=Inputs!$E$38,$D$26,0)","v":0},{"$f":"IF(KWH2>=Inputs!$E$38,$D$26,0)","v":0},{"$f":"IF(KWI2>=Inputs!$E$38,$D$26,0)","v":0},{"$f":"IF(KWJ2>=Inputs!$E$38,$D$26,0)","v":0},{"$f":"IF(KWK2>=Inputs!$E$38,$D$26,0)","v":0},{"$f":"IF(KWL2>=Inputs!$E$38,$D$26,0)","v":0},{"$f":"IF(KWM2>=Inputs!$E$38,$D$26,0)","v":0},{"$f":"IF(KWN2>=Inputs!$E$38,$D$26,0)","v":0},{"$f":"IF(KWO2>=Inputs!$E$38,$D$26,0)","v":0},{"$f":"IF(KWP2>=Inputs!$E$38,$D$26,0)","v":0},{"$f":"IF(KWQ2>=Inputs!$E$38,$D$26,0)","v":0},{"$f":"IF(KWR2>=Inputs!$E$38,$D$26,0)","v":0},{"$f":"IF(KWS2>=Inputs!$E$38,$D$26,0)","v":0},{"$f":"IF(KWT2>=Inputs!$E$38,$D$26,0)","v":0},{"$f":"IF(KWU2>=Inputs!$E$38,$D$26,0)","v":0},{"$f":"IF(KWV2>=Inputs!$E$38,$D$26,0)","v":0},{"$f":"IF(KWW2>=Inputs!$E$38,$D$26,0)","v":0},{"$f":"IF(KWX2>=Inputs!$E$38,$D$26,0)","v":0},{"$f":"IF(KWY2>=Inputs!$E$38,$D$26,0)","v":0},{"$f":"IF(KWZ2>=Inputs!$E$38,$D$26,0)","v":0},{"$f":"IF(KXA2>=Inputs!$E$38,$D$26,0)","v":0},{"$f":"IF(KXB2>=Inputs!$E$38,$D$26,0)","v":0},{"$f":"IF(KXC2>=Inputs!$E$38,$D$26,0)","v":0},{"$f":"IF(KXD2>=Inputs!$E$38,$D$26,0)","v":0},{"$f":"IF(KXE2>=Inputs!$E$38,$D$26,0)","v":0},{"$f":"IF(KXF2>=Inputs!$E$38,$D$26,0)","v":0},{"$f":"IF(KXG2>=Inputs!$E$38,$D$26,0)","v":0},{"$f":"IF(KXH2>=Inputs!$E$38,$D$26,0)","v":0},{"$f":"IF(KXI2>=Inputs!$E$38,$D$26,0)","v":0},{"$f":"IF(KXJ2>=Inputs!$E$38,$D$26,0)","v":0},{"$f":"IF(KXK2>=Inputs!$E$38,$D$26,0)","v":0},{"$f":"IF(KXL2>=Inputs!$E$38,$D$26,0)","v":0},{"$f":"IF(KXM2>=Inputs!$E$38,$D$26,0)","v":0},{"$f":"IF(KXN2>=Inputs!$E$38,$D$26,0)","v":0},{"$f":"IF(KXO2>=Inputs!$E$38,$D$26,0)","v":0},{"$f":"IF(KXP2>=Inputs!$E$38,$D$26,0)","v":0},{"$f":"IF(KXQ2>=Inputs!$E$38,$D$26,0)","v":0},{"$f":"IF(KXR2>=Inputs!$E$38,$D$26,0)","v":0},{"$f":"IF(KXS2>=Inputs!$E$38,$D$26,0)","v":0},{"$f":"IF(KXT2>=Inputs!$E$38,$D$26,0)","v":0},{"$f":"IF(KXU2>=Inputs!$E$38,$D$26,0)","v":0},{"$f":"IF(KXV2>=Inputs!$E$38,$D$26,0)","v":0},{"$f":"IF(KXW2>=Inputs!$E$38,$D$26,0)","v":0},{"$f":"IF(KXX2>=Inputs!$E$38,$D$26,0)","v":0},{"$f":"IF(KXY2>=Inputs!$E$38,$D$26,0)","v":0},{"$f":"IF(KXZ2>=Inputs!$E$38,$D$26,0)","v":0},{"$f":"IF(KYA2>=Inputs!$E$38,$D$26,0)","v":0},{"$f":"IF(KYB2>=Inputs!$E$38,$D$26,0)","v":0},{"$f":"IF(KYC2>=Inputs!$E$38,$D$26,0)","v":0},{"$f":"IF(KYD2>=Inputs!$E$38,$D$26,0)","v":0},{"$f":"IF(KYE2>=Inputs!$E$38,$D$26,0)","v":0},{"$f":"IF(KYF2>=Inputs!$E$38,$D$26,0)","v":0},{"$f":"IF(KYG2>=Inputs!$E$38,$D$26,0)","v":0},{"$f":"IF(KYH2>=Inputs!$E$38,$D$26,0)","v":0},{"$f":"IF(KYI2>=Inputs!$E$38,$D$26,0)","v":0},{"$f":"IF(KYJ2>=Inputs!$E$38,$D$26,0)","v":0},{"$f":"IF(KYK2>=Inputs!$E$38,$D$26,0)","v":0},{"$f":"IF(KYL2>=Inputs!$E$38,$D$26,0)","v":0},{"$f":"IF(KYM2>=Inputs!$E$38,$D$26,0)","v":0},{"$f":"IF(KYN2>=Inputs!$E$38,$D$26,0)","v":0},{"$f":"IF(KYO2>=Inputs!$E$38,$D$26,0)","v":0},{"$f":"IF(KYP2>=Inputs!$E$38,$D$26,0)","v":0},{"$f":"IF(KYQ2>=Inputs!$E$38,$D$26,0)","v":0},{"$f":"IF(KYR2>=Inputs!$E$38,$D$26,0)","v":0},{"$f":"IF(KYS2>=Inputs!$E$38,$D$26,0)","v":0},{"$f":"IF(KYT2>=Inputs!$E$38,$D$26,0)","v":0},{"$f":"IF(KYU2>=Inputs!$E$38,$D$26,0)","v":0},{"$f":"IF(KYV2>=Inputs!$E$38,$D$26,0)","v":0},{"$f":"IF(KYW2>=Inputs!$E$38,$D$26,0)","v":0},{"$f":"IF(KYX2>=Inputs!$E$38,$D$26,0)","v":0},{"$f":"IF(KYY2>=Inputs!$E$38,$D$26,0)","v":0},{"$f":"IF(KYZ2>=Inputs!$E$38,$D$26,0)","v":0},{"$f":"IF(KZA2>=Inputs!$E$38,$D$26,0)","v":0},{"$f":"IF(KZB2>=Inputs!$E$38,$D$26,0)","v":0},{"$f":"IF(KZC2>=Inputs!$E$38,$D$26,0)","v":0},{"$f":"IF(KZD2>=Inputs!$E$38,$D$26,0)","v":0},{"$f":"IF(KZE2>=Inputs!$E$38,$D$26,0)","v":0},{"$f":"IF(KZF2>=Inputs!$E$38,$D$26,0)","v":0},{"$f":"IF(KZG2>=Inputs!$E$38,$D$26,0)","v":0},{"$f":"IF(KZH2>=Inputs!$E$38,$D$26,0)","v":0},{"$f":"IF(KZI2>=Inputs!$E$38,$D$26,0)","v":0},{"$f":"IF(KZJ2>=Inputs!$E$38,$D$26,0)","v":0},{"$f":"IF(KZK2>=Inputs!$E$38,$D$26,0)","v":0},{"$f":"IF(KZL2>=Inputs!$E$38,$D$26,0)","v":0},{"$f":"IF(KZM2>=Inputs!$E$38,$D$26,0)","v":0},{"$f":"IF(KZN2>=Inputs!$E$38,$D$26,0)","v":0},{"$f":"IF(KZO2>=Inputs!$E$38,$D$26,0)","v":0},{"$f":"IF(KZP2>=Inputs!$E$38,$D$26,0)","v":0},{"$f":"IF(KZQ2>=Inputs!$E$38,$D$26,0)","v":0},{"$f":"IF(KZR2>=Inputs!$E$38,$D$26,0)","v":0},{"$f":"IF(KZS2>=Inputs!$E$38,$D$26,0)","v":0},{"$f":"IF(KZT2>=Inputs!$E$38,$D$26,0)","v":0},{"$f":"IF(KZU2>=Inputs!$E$38,$D$26,0)","v":0},{"$f":"IF(KZV2>=Inputs!$E$38,$D$26,0)","v":0},{"$f":"IF(KZW2>=Inputs!$E$38,$D$26,0)","v":0},{"$f":"IF(KZX2>=Inputs!$E$38,$D$26,0)","v":0},{"$f":"IF(KZY2>=Inputs!$E$38,$D$26,0)","v":0},{"$f":"IF(KZZ2>=Inputs!$E$38,$D$26,0)","v":0},{"$f":"IF(LAA2>=Inputs!$E$38,$D$26,0)","v":0},{"$f":"IF(LAB2>=Inputs!$E$38,$D$26,0)","v":0},{"$f":"IF(LAC2>=Inputs!$E$38,$D$26,0)","v":0},{"$f":"IF(LAD2>=Inputs!$E$38,$D$26,0)","v":0},{"$f":"IF(LAE2>=Inputs!$E$38,$D$26,0)","v":0},{"$f":"IF(LAF2>=Inputs!$E$38,$D$26,0)","v":0},{"$f":"IF(LAG2>=Inputs!$E$38,$D$26,0)","v":0},{"$f":"IF(LAH2>=Inputs!$E$38,$D$26,0)","v":0},{"$f":"IF(LAI2>=Inputs!$E$38,$D$26,0)","v":0},{"$f":"IF(LAJ2>=Inputs!$E$38,$D$26,0)","v":0},{"$f":"IF(LAK2>=Inputs!$E$38,$D$26,0)","v":0},{"$f":"IF(LAL2>=Inputs!$E$38,$D$26,0)","v":0},{"$f":"IF(LAM2>=Inputs!$E$38,$D$26,0)","v":0},{"$f":"IF(LAN2>=Inputs!$E$38,$D$26,0)","v":0},{"$f":"IF(LAO2>=Inputs!$E$38,$D$26,0)","v":0},{"$f":"IF(LAP2>=Inputs!$E$38,$D$26,0)","v":0},{"$f":"IF(LAQ2>=Inputs!$E$38,$D$26,0)","v":0},{"$f":"IF(LAR2>=Inputs!$E$38,$D$26,0)","v":0},{"$f":"IF(LAS2>=Inputs!$E$38,$D$26,0)","v":0},{"$f":"IF(LAT2>=Inputs!$E$38,$D$26,0)","v":0},{"$f":"IF(LAU2>=Inputs!$E$38,$D$26,0)","v":0},{"$f":"IF(LAV2>=Inputs!$E$38,$D$26,0)","v":0},{"$f":"IF(LAW2>=Inputs!$E$38,$D$26,0)","v":0},{"$f":"IF(LAX2>=Inputs!$E$38,$D$26,0)","v":0},{"$f":"IF(LAY2>=Inputs!$E$38,$D$26,0)","v":0},{"$f":"IF(LAZ2>=Inputs!$E$38,$D$26,0)","v":0},{"$f":"IF(LBA2>=Inputs!$E$38,$D$26,0)","v":0},{"$f":"IF(LBB2>=Inputs!$E$38,$D$26,0)","v":0},{"$f":"IF(LBC2>=Inputs!$E$38,$D$26,0)","v":0},{"$f":"IF(LBD2>=Inputs!$E$38,$D$26,0)","v":0},{"$f":"IF(LBE2>=Inputs!$E$38,$D$26,0)","v":0},{"$f":"IF(LBF2>=Inputs!$E$38,$D$26,0)","v":0},{"$f":"IF(LBG2>=Inputs!$E$38,$D$26,0)","v":0},{"$f":"IF(LBH2>=Inputs!$E$38,$D$26,0)","v":0},{"$f":"IF(LBI2>=Inputs!$E$38,$D$26,0)","v":0},{"$f":"IF(LBJ2>=Inputs!$E$38,$D$26,0)","v":0},{"$f":"IF(LBK2>=Inputs!$E$38,$D$26,0)","v":0},{"$f":"IF(LBL2>=Inputs!$E$38,$D$26,0)","v":0},{"$f":"IF(LBM2>=Inputs!$E$38,$D$26,0)","v":0},{"$f":"IF(LBN2>=Inputs!$E$38,$D$26,0)","v":0},{"$f":"IF(LBO2>=Inputs!$E$38,$D$26,0)","v":0},{"$f":"IF(LBP2>=Inputs!$E$38,$D$26,0)","v":0},{"$f":"IF(LBQ2>=Inputs!$E$38,$D$26,0)","v":0},{"$f":"IF(LBR2>=Inputs!$E$38,$D$26,0)","v":0},{"$f":"IF(LBS2>=Inputs!$E$38,$D$26,0)","v":0},{"$f":"IF(LBT2>=Inputs!$E$38,$D$26,0)","v":0},{"$f":"IF(LBU2>=Inputs!$E$38,$D$26,0)","v":0},{"$f":"IF(LBV2>=Inputs!$E$38,$D$26,0)","v":0},{"$f":"IF(LBW2>=Inputs!$E$38,$D$26,0)","v":0},{"$f":"IF(LBX2>=Inputs!$E$38,$D$26,0)","v":0},{"$f":"IF(LBY2>=Inputs!$E$38,$D$26,0)","v":0},{"$f":"IF(LBZ2>=Inputs!$E$38,$D$26,0)","v":0},{"$f":"IF(LCA2>=Inputs!$E$38,$D$26,0)","v":0},{"$f":"IF(LCB2>=Inputs!$E$38,$D$26,0)","v":0},{"$f":"IF(LCC2>=Inputs!$E$38,$D$26,0)","v":0},{"$f":"IF(LCD2>=Inputs!$E$38,$D$26,0)","v":0},{"$f":"IF(LCE2>=Inputs!$E$38,$D$26,0)","v":0},{"$f":"IF(LCF2>=Inputs!$E$38,$D$26,0)","v":0},{"$f":"IF(LCG2>=Inputs!$E$38,$D$26,0)","v":0},{"$f":"IF(LCH2>=Inputs!$E$38,$D$26,0)","v":0},{"$f":"IF(LCI2>=Inputs!$E$38,$D$26,0)","v":0},{"$f":"IF(LCJ2>=Inputs!$E$38,$D$26,0)","v":0},{"$f":"IF(LCK2>=Inputs!$E$38,$D$26,0)","v":0},{"$f":"IF(LCL2>=Inputs!$E$38,$D$26,0)","v":0},{"$f":"IF(LCM2>=Inputs!$E$38,$D$26,0)","v":0},{"$f":"IF(LCN2>=Inputs!$E$38,$D$26,0)","v":0},{"$f":"IF(LCO2>=Inputs!$E$38,$D$26,0)","v":0},{"$f":"IF(LCP2>=Inputs!$E$38,$D$26,0)","v":0},{"$f":"IF(LCQ2>=Inputs!$E$38,$D$26,0)","v":0},{"$f":"IF(LCR2>=Inputs!$E$38,$D$26,0)","v":0},{"$f":"IF(LCS2>=Inputs!$E$38,$D$26,0)","v":0},{"$f":"IF(LCT2>=Inputs!$E$38,$D$26,0)","v":0},{"$f":"IF(LCU2>=Inputs!$E$38,$D$26,0)","v":0},{"$f":"IF(LCV2>=Inputs!$E$38,$D$26,0)","v":0},{"$f":"IF(LCW2>=Inputs!$E$38,$D$26,0)","v":0},{"$f":"IF(LCX2>=Inputs!$E$38,$D$26,0)","v":0},{"$f":"IF(LCY2>=Inputs!$E$38,$D$26,0)","v":0},{"$f":"IF(LCZ2>=Inputs!$E$38,$D$26,0)","v":0},{"$f":"IF(LDA2>=Inputs!$E$38,$D$26,0)","v":0},{"$f":"IF(LDB2>=Inputs!$E$38,$D$26,0)","v":0},{"$f":"IF(LDC2>=Inputs!$E$38,$D$26,0)","v":0},{"$f":"IF(LDD2>=Inputs!$E$38,$D$26,0)","v":0},{"$f":"IF(LDE2>=Inputs!$E$38,$D$26,0)","v":0},{"$f":"IF(LDF2>=Inputs!$E$38,$D$26,0)","v":0},{"$f":"IF(LDG2>=Inputs!$E$38,$D$26,0)","v":0},{"$f":"IF(LDH2>=Inputs!$E$38,$D$26,0)","v":0},{"$f":"IF(LDI2>=Inputs!$E$38,$D$26,0)","v":0},{"$f":"IF(LDJ2>=Inputs!$E$38,$D$26,0)","v":0},{"$f":"IF(LDK2>=Inputs!$E$38,$D$26,0)","v":0},{"$f":"IF(LDL2>=Inputs!$E$38,$D$26,0)","v":0},{"$f":"IF(LDM2>=Inputs!$E$38,$D$26,0)","v":0},{"$f":"IF(LDN2>=Inputs!$E$38,$D$26,0)","v":0},{"$f":"IF(LDO2>=Inputs!$E$38,$D$26,0)","v":0},{"$f":"IF(LDP2>=Inputs!$E$38,$D$26,0)","v":0},{"$f":"IF(LDQ2>=Inputs!$E$38,$D$26,0)","v":0},{"$f":"IF(LDR2>=Inputs!$E$38,$D$26,0)","v":0},{"$f":"IF(LDS2>=Inputs!$E$38,$D$26,0)","v":0},{"$f":"IF(LDT2>=Inputs!$E$38,$D$26,0)","v":0},{"$f":"IF(LDU2>=Inputs!$E$38,$D$26,0)","v":0},{"$f":"IF(LDV2>=Inputs!$E$38,$D$26,0)","v":0},{"$f":"IF(LDW2>=Inputs!$E$38,$D$26,0)","v":0},{"$f":"IF(LDX2>=Inputs!$E$38,$D$26,0)","v":0},{"$f":"IF(LDY2>=Inputs!$E$38,$D$26,0)","v":0},{"$f":"IF(LDZ2>=Inputs!$E$38,$D$26,0)","v":0},{"$f":"IF(LEA2>=Inputs!$E$38,$D$26,0)","v":0},{"$f":"IF(LEB2>=Inputs!$E$38,$D$26,0)","v":0},{"$f":"IF(LEC2>=Inputs!$E$38,$D$26,0)","v":0},{"$f":"IF(LED2>=Inputs!$E$38,$D$26,0)","v":0},{"$f":"IF(LEE2>=Inputs!$E$38,$D$26,0)","v":0},{"$f":"IF(LEF2>=Inputs!$E$38,$D$26,0)","v":0},{"$f":"IF(LEG2>=Inputs!$E$38,$D$26,0)","v":0},{"$f":"IF(LEH2>=Inputs!$E$38,$D$26,0)","v":0},{"$f":"IF(LEI2>=Inputs!$E$38,$D$26,0)","v":0},{"$f":"IF(LEJ2>=Inputs!$E$38,$D$26,0)","v":0},{"$f":"IF(LEK2>=Inputs!$E$38,$D$26,0)","v":0},{"$f":"IF(LEL2>=Inputs!$E$38,$D$26,0)","v":0},{"$f":"IF(LEM2>=Inputs!$E$38,$D$26,0)","v":0},{"$f":"IF(LEN2>=Inputs!$E$38,$D$26,0)","v":0},{"$f":"IF(LEO2>=Inputs!$E$38,$D$26,0)","v":0},{"$f":"IF(LEP2>=Inputs!$E$38,$D$26,0)","v":0},{"$f":"IF(LEQ2>=Inputs!$E$38,$D$26,0)","v":0},{"$f":"IF(LER2>=Inputs!$E$38,$D$26,0)","v":0},{"$f":"IF(LES2>=Inputs!$E$38,$D$26,0)","v":0},{"$f":"IF(LET2>=Inputs!$E$38,$D$26,0)","v":0},{"$f":"IF(LEU2>=Inputs!$E$38,$D$26,0)","v":0},{"$f":"IF(LEV2>=Inputs!$E$38,$D$26,0)","v":0},{"$f":"IF(LEW2>=Inputs!$E$38,$D$26,0)","v":0},{"$f":"IF(LEX2>=Inputs!$E$38,$D$26,0)","v":0},{"$f":"IF(LEY2>=Inputs!$E$38,$D$26,0)","v":0},{"$f":"IF(LEZ2>=Inputs!$E$38,$D$26,0)","v":0},{"$f":"IF(LFA2>=Inputs!$E$38,$D$26,0)","v":0},{"$f":"IF(LFB2>=Inputs!$E$38,$D$26,0)","v":0},{"$f":"IF(LFC2>=Inputs!$E$38,$D$26,0)","v":0},{"$f":"IF(LFD2>=Inputs!$E$38,$D$26,0)","v":0},{"$f":"IF(LFE2>=Inputs!$E$38,$D$26,0)","v":0},{"$f":"IF(LFF2>=Inputs!$E$38,$D$26,0)","v":0},{"$f":"IF(LFG2>=Inputs!$E$38,$D$26,0)","v":0},{"$f":"IF(LFH2>=Inputs!$E$38,$D$26,0)","v":0},{"$f":"IF(LFI2>=Inputs!$E$38,$D$26,0)","v":0},{"$f":"IF(LFJ2>=Inputs!$E$38,$D$26,0)","v":0},{"$f":"IF(LFK2>=Inputs!$E$38,$D$26,0)","v":0},{"$f":"IF(LFL2>=Inputs!$E$38,$D$26,0)","v":0},{"$f":"IF(LFM2>=Inputs!$E$38,$D$26,0)","v":0},{"$f":"IF(LFN2>=Inputs!$E$38,$D$26,0)","v":0},{"$f":"IF(LFO2>=Inputs!$E$38,$D$26,0)","v":0},{"$f":"IF(LFP2>=Inputs!$E$38,$D$26,0)","v":0},{"$f":"IF(LFQ2>=Inputs!$E$38,$D$26,0)","v":0},{"$f":"IF(LFR2>=Inputs!$E$38,$D$26,0)","v":0},{"$f":"IF(LFS2>=Inputs!$E$38,$D$26,0)","v":0},{"$f":"IF(LFT2>=Inputs!$E$38,$D$26,0)","v":0},{"$f":"IF(LFU2>=Inputs!$E$38,$D$26,0)","v":0},{"$f":"IF(LFV2>=Inputs!$E$38,$D$26,0)","v":0},{"$f":"IF(LFW2>=Inputs!$E$38,$D$26,0)","v":0},{"$f":"IF(LFX2>=Inputs!$E$38,$D$26,0)","v":0},{"$f":"IF(LFY2>=Inputs!$E$38,$D$26,0)","v":0},{"$f":"IF(LFZ2>=Inputs!$E$38,$D$26,0)","v":0},{"$f":"IF(LGA2>=Inputs!$E$38,$D$26,0)","v":0},{"$f":"IF(LGB2>=Inputs!$E$38,$D$26,0)","v":0},{"$f":"IF(LGC2>=Inputs!$E$38,$D$26,0)","v":0},{"$f":"IF(LGD2>=Inputs!$E$38,$D$26,0)","v":0},{"$f":"IF(LGE2>=Inputs!$E$38,$D$26,0)","v":0},{"$f":"IF(LGF2>=Inputs!$E$38,$D$26,0)","v":0},{"$f":"IF(LGG2>=Inputs!$E$38,$D$26,0)","v":0},{"$f":"IF(LGH2>=Inputs!$E$38,$D$26,0)","v":0},{"$f":"IF(LGI2>=Inputs!$E$38,$D$26,0)","v":0},{"$f":"IF(LGJ2>=Inputs!$E$38,$D$26,0)","v":0},{"$f":"IF(LGK2>=Inputs!$E$38,$D$26,0)","v":0},{"$f":"IF(LGL2>=Inputs!$E$38,$D$26,0)","v":0},{"$f":"IF(LGM2>=Inputs!$E$38,$D$26,0)","v":0},{"$f":"IF(LGN2>=Inputs!$E$38,$D$26,0)","v":0},{"$f":"IF(LGO2>=Inputs!$E$38,$D$26,0)","v":0},{"$f":"IF(LGP2>=Inputs!$E$38,$D$26,0)","v":0},{"$f":"IF(LGQ2>=Inputs!$E$38,$D$26,0)","v":0},{"$f":"IF(LGR2>=Inputs!$E$38,$D$26,0)","v":0},{"$f":"IF(LGS2>=Inputs!$E$38,$D$26,0)","v":0},{"$f":"IF(LGT2>=Inputs!$E$38,$D$26,0)","v":0},{"$f":"IF(LGU2>=Inputs!$E$38,$D$26,0)","v":0},{"$f":"IF(LGV2>=Inputs!$E$38,$D$26,0)","v":0},{"$f":"IF(LGW2>=Inputs!$E$38,$D$26,0)","v":0},{"$f":"IF(LGX2>=Inputs!$E$38,$D$26,0)","v":0},{"$f":"IF(LGY2>=Inputs!$E$38,$D$26,0)","v":0},{"$f":"IF(LGZ2>=Inputs!$E$38,$D$26,0)","v":0},{"$f":"IF(LHA2>=Inputs!$E$38,$D$26,0)","v":0},{"$f":"IF(LHB2>=Inputs!$E$38,$D$26,0)","v":0},{"$f":"IF(LHC2>=Inputs!$E$38,$D$26,0)","v":0},{"$f":"IF(LHD2>=Inputs!$E$38,$D$26,0)","v":0},{"$f":"IF(LHE2>=Inputs!$E$38,$D$26,0)","v":0},{"$f":"IF(LHF2>=Inputs!$E$38,$D$26,0)","v":0},{"$f":"IF(LHG2>=Inputs!$E$38,$D$26,0)","v":0},{"$f":"IF(LHH2>=Inputs!$E$38,$D$26,0)","v":0},{"$f":"IF(LHI2>=Inputs!$E$38,$D$26,0)","v":0},{"$f":"IF(LHJ2>=Inputs!$E$38,$D$26,0)","v":0},{"$f":"IF(LHK2>=Inputs!$E$38,$D$26,0)","v":0},{"$f":"IF(LHL2>=Inputs!$E$38,$D$26,0)","v":0},{"$f":"IF(LHM2>=Inputs!$E$38,$D$26,0)","v":0},{"$f":"IF(LHN2>=Inputs!$E$38,$D$26,0)","v":0},{"$f":"IF(LHO2>=Inputs!$E$38,$D$26,0)","v":0},{"$f":"IF(LHP2>=Inputs!$E$38,$D$26,0)","v":0},{"$f":"IF(LHQ2>=Inputs!$E$38,$D$26,0)","v":0},{"$f":"IF(LHR2>=Inputs!$E$38,$D$26,0)","v":0},{"$f":"IF(LHS2>=Inputs!$E$38,$D$26,0)","v":0},{"$f":"IF(LHT2>=Inputs!$E$38,$D$26,0)","v":0},{"$f":"IF(LHU2>=Inputs!$E$38,$D$26,0)","v":0},{"$f":"IF(LHV2>=Inputs!$E$38,$D$26,0)","v":0},{"$f":"IF(LHW2>=Inputs!$E$38,$D$26,0)","v":0},{"$f":"IF(LHX2>=Inputs!$E$38,$D$26,0)","v":0},{"$f":"IF(LHY2>=Inputs!$E$38,$D$26,0)","v":0},{"$f":"IF(LHZ2>=Inputs!$E$38,$D$26,0)","v":0},{"$f":"IF(LIA2>=Inputs!$E$38,$D$26,0)","v":0},{"$f":"IF(LIB2>=Inputs!$E$38,$D$26,0)","v":0},{"$f":"IF(LIC2>=Inputs!$E$38,$D$26,0)","v":0},{"$f":"IF(LID2>=Inputs!$E$38,$D$26,0)","v":0},{"$f":"IF(LIE2>=Inputs!$E$38,$D$26,0)","v":0},{"$f":"IF(LIF2>=Inputs!$E$38,$D$26,0)","v":0},{"$f":"IF(LIG2>=Inputs!$E$38,$D$26,0)","v":0},{"$f":"IF(LIH2>=Inputs!$E$38,$D$26,0)","v":0},{"$f":"IF(LII2>=Inputs!$E$38,$D$26,0)","v":0},{"$f":"IF(LIJ2>=Inputs!$E$38,$D$26,0)","v":0},{"$f":"IF(LIK2>=Inputs!$E$38,$D$26,0)","v":0},{"$f":"IF(LIL2>=Inputs!$E$38,$D$26,0)","v":0},{"$f":"IF(LIM2>=Inputs!$E$38,$D$26,0)","v":0},{"$f":"IF(LIN2>=Inputs!$E$38,$D$26,0)","v":0},{"$f":"IF(LIO2>=Inputs!$E$38,$D$26,0)","v":0},{"$f":"IF(LIP2>=Inputs!$E$38,$D$26,0)","v":0},{"$f":"IF(LIQ2>=Inputs!$E$38,$D$26,0)","v":0},{"$f":"IF(LIR2>=Inputs!$E$38,$D$26,0)","v":0},{"$f":"IF(LIS2>=Inputs!$E$38,$D$26,0)","v":0},{"$f":"IF(LIT2>=Inputs!$E$38,$D$26,0)","v":0},{"$f":"IF(LIU2>=Inputs!$E$38,$D$26,0)","v":0},{"$f":"IF(LIV2>=Inputs!$E$38,$D$26,0)","v":0},{"$f":"IF(LIW2>=Inputs!$E$38,$D$26,0)","v":0},{"$f":"IF(LIX2>=Inputs!$E$38,$D$26,0)","v":0},{"$f":"IF(LIY2>=Inputs!$E$38,$D$26,0)","v":0},{"$f":"IF(LIZ2>=Inputs!$E$38,$D$26,0)","v":0},{"$f":"IF(LJA2>=Inputs!$E$38,$D$26,0)","v":0},{"$f":"IF(LJB2>=Inputs!$E$38,$D$26,0)","v":0},{"$f":"IF(LJC2>=Inputs!$E$38,$D$26,0)","v":0},{"$f":"IF(LJD2>=Inputs!$E$38,$D$26,0)","v":0},{"$f":"IF(LJE2>=Inputs!$E$38,$D$26,0)","v":0},{"$f":"IF(LJF2>=Inputs!$E$38,$D$26,0)","v":0},{"$f":"IF(LJG2>=Inputs!$E$38,$D$26,0)","v":0},{"$f":"IF(LJH2>=Inputs!$E$38,$D$26,0)","v":0},{"$f":"IF(LJI2>=Inputs!$E$38,$D$26,0)","v":0},{"$f":"IF(LJJ2>=Inputs!$E$38,$D$26,0)","v":0},{"$f":"IF(LJK2>=Inputs!$E$38,$D$26,0)","v":0},{"$f":"IF(LJL2>=Inputs!$E$38,$D$26,0)","v":0},{"$f":"IF(LJM2>=Inputs!$E$38,$D$26,0)","v":0},{"$f":"IF(LJN2>=Inputs!$E$38,$D$26,0)","v":0},{"$f":"IF(LJO2>=Inputs!$E$38,$D$26,0)","v":0},{"$f":"IF(LJP2>=Inputs!$E$38,$D$26,0)","v":0},{"$f":"IF(LJQ2>=Inputs!$E$38,$D$26,0)","v":0},{"$f":"IF(LJR2>=Inputs!$E$38,$D$26,0)","v":0},{"$f":"IF(LJS2>=Inputs!$E$38,$D$26,0)","v":0},{"$f":"IF(LJT2>=Inputs!$E$38,$D$26,0)","v":0},{"$f":"IF(LJU2>=Inputs!$E$38,$D$26,0)","v":0},{"$f":"IF(LJV2>=Inputs!$E$38,$D$26,0)","v":0},{"$f":"IF(LJW2>=Inputs!$E$38,$D$26,0)","v":0},{"$f":"IF(LJX2>=Inputs!$E$38,$D$26,0)","v":0},{"$f":"IF(LJY2>=Inputs!$E$38,$D$26,0)","v":0},{"$f":"IF(LJZ2>=Inputs!$E$38,$D$26,0)","v":0},{"$f":"IF(LKA2>=Inputs!$E$38,$D$26,0)","v":0},{"$f":"IF(LKB2>=Inputs!$E$38,$D$26,0)","v":0},{"$f":"IF(LKC2>=Inputs!$E$38,$D$26,0)","v":0},{"$f":"IF(LKD2>=Inputs!$E$38,$D$26,0)","v":0},{"$f":"IF(LKE2>=Inputs!$E$38,$D$26,0)","v":0},{"$f":"IF(LKF2>=Inputs!$E$38,$D$26,0)","v":0},{"$f":"IF(LKG2>=Inputs!$E$38,$D$26,0)","v":0},{"$f":"IF(LKH2>=Inputs!$E$38,$D$26,0)","v":0},{"$f":"IF(LKI2>=Inputs!$E$38,$D$26,0)","v":0},{"$f":"IF(LKJ2>=Inputs!$E$38,$D$26,0)","v":0},{"$f":"IF(LKK2>=Inputs!$E$38,$D$26,0)","v":0},{"$f":"IF(LKL2>=Inputs!$E$38,$D$26,0)","v":0},{"$f":"IF(LKM2>=Inputs!$E$38,$D$26,0)","v":0},{"$f":"IF(LKN2>=Inputs!$E$38,$D$26,0)","v":0},{"$f":"IF(LKO2>=Inputs!$E$38,$D$26,0)","v":0},{"$f":"IF(LKP2>=Inputs!$E$38,$D$26,0)","v":0},{"$f":"IF(LKQ2>=Inputs!$E$38,$D$26,0)","v":0},{"$f":"IF(LKR2>=Inputs!$E$38,$D$26,0)","v":0},{"$f":"IF(LKS2>=Inputs!$E$38,$D$26,0)","v":0},{"$f":"IF(LKT2>=Inputs!$E$38,$D$26,0)","v":0},{"$f":"IF(LKU2>=Inputs!$E$38,$D$26,0)","v":0},{"$f":"IF(LKV2>=Inputs!$E$38,$D$26,0)","v":0},{"$f":"IF(LKW2>=Inputs!$E$38,$D$26,0)","v":0},{"$f":"IF(LKX2>=Inputs!$E$38,$D$26,0)","v":0},{"$f":"IF(LKY2>=Inputs!$E$38,$D$26,0)","v":0},{"$f":"IF(LKZ2>=Inputs!$E$38,$D$26,0)","v":0},{"$f":"IF(LLA2>=Inputs!$E$38,$D$26,0)","v":0},{"$f":"IF(LLB2>=Inputs!$E$38,$D$26,0)","v":0},{"$f":"IF(LLC2>=Inputs!$E$38,$D$26,0)","v":0},{"$f":"IF(LLD2>=Inputs!$E$38,$D$26,0)","v":0},{"$f":"IF(LLE2>=Inputs!$E$38,$D$26,0)","v":0},{"$f":"IF(LLF2>=Inputs!$E$38,$D$26,0)","v":0},{"$f":"IF(LLG2>=Inputs!$E$38,$D$26,0)","v":0},{"$f":"IF(LLH2>=Inputs!$E$38,$D$26,0)","v":0},{"$f":"IF(LLI2>=Inputs!$E$38,$D$26,0)","v":0},{"$f":"IF(LLJ2>=Inputs!$E$38,$D$26,0)","v":0},{"$f":"IF(LLK2>=Inputs!$E$38,$D$26,0)","v":0},{"$f":"IF(LLL2>=Inputs!$E$38,$D$26,0)","v":0},{"$f":"IF(LLM2>=Inputs!$E$38,$D$26,0)","v":0},{"$f":"IF(LLN2>=Inputs!$E$38,$D$26,0)","v":0},{"$f":"IF(LLO2>=Inputs!$E$38,$D$26,0)","v":0},{"$f":"IF(LLP2>=Inputs!$E$38,$D$26,0)","v":0},{"$f":"IF(LLQ2>=Inputs!$E$38,$D$26,0)","v":0},{"$f":"IF(LLR2>=Inputs!$E$38,$D$26,0)","v":0},{"$f":"IF(LLS2>=Inputs!$E$38,$D$26,0)","v":0},{"$f":"IF(LLT2>=Inputs!$E$38,$D$26,0)","v":0},{"$f":"IF(LLU2>=Inputs!$E$38,$D$26,0)","v":0},{"$f":"IF(LLV2>=Inputs!$E$38,$D$26,0)","v":0},{"$f":"IF(LLW2>=Inputs!$E$38,$D$26,0)","v":0},{"$f":"IF(LLX2>=Inputs!$E$38,$D$26,0)","v":0},{"$f":"IF(LLY2>=Inputs!$E$38,$D$26,0)","v":0},{"$f":"IF(LLZ2>=Inputs!$E$38,$D$26,0)","v":0},{"$f":"IF(LMA2>=Inputs!$E$38,$D$26,0)","v":0},{"$f":"IF(LMB2>=Inputs!$E$38,$D$26,0)","v":0},{"$f":"IF(LMC2>=Inputs!$E$38,$D$26,0)","v":0},{"$f":"IF(LMD2>=Inputs!$E$38,$D$26,0)","v":0},{"$f":"IF(LME2>=Inputs!$E$38,$D$26,0)","v":0},{"$f":"IF(LMF2>=Inputs!$E$38,$D$26,0)","v":0},{"$f":"IF(LMG2>=Inputs!$E$38,$D$26,0)","v":0},{"$f":"IF(LMH2>=Inputs!$E$38,$D$26,0)","v":0},{"$f":"IF(LMI2>=Inputs!$E$38,$D$26,0)","v":0},{"$f":"IF(LMJ2>=Inputs!$E$38,$D$26,0)","v":0},{"$f":"IF(LMK2>=Inputs!$E$38,$D$26,0)","v":0},{"$f":"IF(LML2>=Inputs!$E$38,$D$26,0)","v":0},{"$f":"IF(LMM2>=Inputs!$E$38,$D$26,0)","v":0},{"$f":"IF(LMN2>=Inputs!$E$38,$D$26,0)","v":0},{"$f":"IF(LMO2>=Inputs!$E$38,$D$26,0)","v":0},{"$f":"IF(LMP2>=Inputs!$E$38,$D$26,0)","v":0},{"$f":"IF(LMQ2>=Inputs!$E$38,$D$26,0)","v":0},{"$f":"IF(LMR2>=Inputs!$E$38,$D$26,0)","v":0},{"$f":"IF(LMS2>=Inputs!$E$38,$D$26,0)","v":0},{"$f":"IF(LMT2>=Inputs!$E$38,$D$26,0)","v":0},{"$f":"IF(LMU2>=Inputs!$E$38,$D$26,0)","v":0},{"$f":"IF(LMV2>=Inputs!$E$38,$D$26,0)","v":0},{"$f":"IF(LMW2>=Inputs!$E$38,$D$26,0)","v":0},{"$f":"IF(LMX2>=Inputs!$E$38,$D$26,0)","v":0},{"$f":"IF(LMY2>=Inputs!$E$38,$D$26,0)","v":0},{"$f":"IF(LMZ2>=Inputs!$E$38,$D$26,0)","v":0},{"$f":"IF(LNA2>=Inputs!$E$38,$D$26,0)","v":0},{"$f":"IF(LNB2>=Inputs!$E$38,$D$26,0)","v":0},{"$f":"IF(LNC2>=Inputs!$E$38,$D$26,0)","v":0},{"$f":"IF(LND2>=Inputs!$E$38,$D$26,0)","v":0},{"$f":"IF(LNE2>=Inputs!$E$38,$D$26,0)","v":0},{"$f":"IF(LNF2>=Inputs!$E$38,$D$26,0)","v":0},{"$f":"IF(LNG2>=Inputs!$E$38,$D$26,0)","v":0},{"$f":"IF(LNH2>=Inputs!$E$38,$D$26,0)","v":0},{"$f":"IF(LNI2>=Inputs!$E$38,$D$26,0)","v":0},{"$f":"IF(LNJ2>=Inputs!$E$38,$D$26,0)","v":0},{"$f":"IF(LNK2>=Inputs!$E$38,$D$26,0)","v":0},{"$f":"IF(LNL2>=Inputs!$E$38,$D$26,0)","v":0},{"$f":"IF(LNM2>=Inputs!$E$38,$D$26,0)","v":0},{"$f":"IF(LNN2>=Inputs!$E$38,$D$26,0)","v":0},{"$f":"IF(LNO2>=Inputs!$E$38,$D$26,0)","v":0},{"$f":"IF(LNP2>=Inputs!$E$38,$D$26,0)","v":0},{"$f":"IF(LNQ2>=Inputs!$E$38,$D$26,0)","v":0},{"$f":"IF(LNR2>=Inputs!$E$38,$D$26,0)","v":0},{"$f":"IF(LNS2>=Inputs!$E$38,$D$26,0)","v":0},{"$f":"IF(LNT2>=Inputs!$E$38,$D$26,0)","v":0},{"$f":"IF(LNU2>=Inputs!$E$38,$D$26,0)","v":0},{"$f":"IF(LNV2>=Inputs!$E$38,$D$26,0)","v":0},{"$f":"IF(LNW2>=Inputs!$E$38,$D$26,0)","v":0},{"$f":"IF(LNX2>=Inputs!$E$38,$D$26,0)","v":0},{"$f":"IF(LNY2>=Inputs!$E$38,$D$26,0)","v":0},{"$f":"IF(LNZ2>=Inputs!$E$38,$D$26,0)","v":0},{"$f":"IF(LOA2>=Inputs!$E$38,$D$26,0)","v":0},{"$f":"IF(LOB2>=Inputs!$E$38,$D$26,0)","v":0},{"$f":"IF(LOC2>=Inputs!$E$38,$D$26,0)","v":0},{"$f":"IF(LOD2>=Inputs!$E$38,$D$26,0)","v":0},{"$f":"IF(LOE2>=Inputs!$E$38,$D$26,0)","v":0},{"$f":"IF(LOF2>=Inputs!$E$38,$D$26,0)","v":0},{"$f":"IF(LOG2>=Inputs!$E$38,$D$26,0)","v":0},{"$f":"IF(LOH2>=Inputs!$E$38,$D$26,0)","v":0},{"$f":"IF(LOI2>=Inputs!$E$38,$D$26,0)","v":0},{"$f":"IF(LOJ2>=Inputs!$E$38,$D$26,0)","v":0},{"$f":"IF(LOK2>=Inputs!$E$38,$D$26,0)","v":0},{"$f":"IF(LOL2>=Inputs!$E$38,$D$26,0)","v":0},{"$f":"IF(LOM2>=Inputs!$E$38,$D$26,0)","v":0},{"$f":"IF(LON2>=Inputs!$E$38,$D$26,0)","v":0},{"$f":"IF(LOO2>=Inputs!$E$38,$D$26,0)","v":0},{"$f":"IF(LOP2>=Inputs!$E$38,$D$26,0)","v":0},{"$f":"IF(LOQ2>=Inputs!$E$38,$D$26,0)","v":0},{"$f":"IF(LOR2>=Inputs!$E$38,$D$26,0)","v":0},{"$f":"IF(LOS2>=Inputs!$E$38,$D$26,0)","v":0},{"$f":"IF(LOT2>=Inputs!$E$38,$D$26,0)","v":0},{"$f":"IF(LOU2>=Inputs!$E$38,$D$26,0)","v":0},{"$f":"IF(LOV2>=Inputs!$E$38,$D$26,0)","v":0},{"$f":"IF(LOW2>=Inputs!$E$38,$D$26,0)","v":0},{"$f":"IF(LOX2>=Inputs!$E$38,$D$26,0)","v":0},{"$f":"IF(LOY2>=Inputs!$E$38,$D$26,0)","v":0},{"$f":"IF(LOZ2>=Inputs!$E$38,$D$26,0)","v":0},{"$f":"IF(LPA2>=Inputs!$E$38,$D$26,0)","v":0},{"$f":"IF(LPB2>=Inputs!$E$38,$D$26,0)","v":0},{"$f":"IF(LPC2>=Inputs!$E$38,$D$26,0)","v":0},{"$f":"IF(LPD2>=Inputs!$E$38,$D$26,0)","v":0},{"$f":"IF(LPE2>=Inputs!$E$38,$D$26,0)","v":0},{"$f":"IF(LPF2>=Inputs!$E$38,$D$26,0)","v":0},{"$f":"IF(LPG2>=Inputs!$E$38,$D$26,0)","v":0},{"$f":"IF(LPH2>=Inputs!$E$38,$D$26,0)","v":0},{"$f":"IF(LPI2>=Inputs!$E$38,$D$26,0)","v":0},{"$f":"IF(LPJ2>=Inputs!$E$38,$D$26,0)","v":0},{"$f":"IF(LPK2>=Inputs!$E$38,$D$26,0)","v":0},{"$f":"IF(LPL2>=Inputs!$E$38,$D$26,0)","v":0},{"$f":"IF(LPM2>=Inputs!$E$38,$D$26,0)","v":0},{"$f":"IF(LPN2>=Inputs!$E$38,$D$26,0)","v":0},{"$f":"IF(LPO2>=Inputs!$E$38,$D$26,0)","v":0},{"$f":"IF(LPP2>=Inputs!$E$38,$D$26,0)","v":0},{"$f":"IF(LPQ2>=Inputs!$E$38,$D$26,0)","v":0},{"$f":"IF(LPR2>=Inputs!$E$38,$D$26,0)","v":0},{"$f":"IF(LPS2>=Inputs!$E$38,$D$26,0)","v":0},{"$f":"IF(LPT2>=Inputs!$E$38,$D$26,0)","v":0},{"$f":"IF(LPU2>=Inputs!$E$38,$D$26,0)","v":0},{"$f":"IF(LPV2>=Inputs!$E$38,$D$26,0)","v":0},{"$f":"IF(LPW2>=Inputs!$E$38,$D$26,0)","v":0},{"$f":"IF(LPX2>=Inputs!$E$38,$D$26,0)","v":0},{"$f":"IF(LPY2>=Inputs!$E$38,$D$26,0)","v":0},{"$f":"IF(LPZ2>=Inputs!$E$38,$D$26,0)","v":0},{"$f":"IF(LQA2>=Inputs!$E$38,$D$26,0)","v":0},{"$f":"IF(LQB2>=Inputs!$E$38,$D$26,0)","v":0},{"$f":"IF(LQC2>=Inputs!$E$38,$D$26,0)","v":0},{"$f":"IF(LQD2>=Inputs!$E$38,$D$26,0)","v":0},{"$f":"IF(LQE2>=Inputs!$E$38,$D$26,0)","v":0},{"$f":"IF(LQF2>=Inputs!$E$38,$D$26,0)","v":0},{"$f":"IF(LQG2>=Inputs!$E$38,$D$26,0)","v":0},{"$f":"IF(LQH2>=Inputs!$E$38,$D$26,0)","v":0},{"$f":"IF(LQI2>=Inputs!$E$38,$D$26,0)","v":0},{"$f":"IF(LQJ2>=Inputs!$E$38,$D$26,0)","v":0},{"$f":"IF(LQK2>=Inputs!$E$38,$D$26,0)","v":0},{"$f":"IF(LQL2>=Inputs!$E$38,$D$26,0)","v":0},{"$f":"IF(LQM2>=Inputs!$E$38,$D$26,0)","v":0},{"$f":"IF(LQN2>=Inputs!$E$38,$D$26,0)","v":0},{"$f":"IF(LQO2>=Inputs!$E$38,$D$26,0)","v":0},{"$f":"IF(LQP2>=Inputs!$E$38,$D$26,0)","v":0},{"$f":"IF(LQQ2>=Inputs!$E$38,$D$26,0)","v":0},{"$f":"IF(LQR2>=Inputs!$E$38,$D$26,0)","v":0},{"$f":"IF(LQS2>=Inputs!$E$38,$D$26,0)","v":0},{"$f":"IF(LQT2>=Inputs!$E$38,$D$26,0)","v":0},{"$f":"IF(LQU2>=Inputs!$E$38,$D$26,0)","v":0},{"$f":"IF(LQV2>=Inputs!$E$38,$D$26,0)","v":0},{"$f":"IF(LQW2>=Inputs!$E$38,$D$26,0)","v":0},{"$f":"IF(LQX2>=Inputs!$E$38,$D$26,0)","v":0},{"$f":"IF(LQY2>=Inputs!$E$38,$D$26,0)","v":0},{"$f":"IF(LQZ2>=Inputs!$E$38,$D$26,0)","v":0},{"$f":"IF(LRA2>=Inputs!$E$38,$D$26,0)","v":0},{"$f":"IF(LRB2>=Inputs!$E$38,$D$26,0)","v":0},{"$f":"IF(LRC2>=Inputs!$E$38,$D$26,0)","v":0},{"$f":"IF(LRD2>=Inputs!$E$38,$D$26,0)","v":0},{"$f":"IF(LRE2>=Inputs!$E$38,$D$26,0)","v":0},{"$f":"IF(LRF2>=Inputs!$E$38,$D$26,0)","v":0},{"$f":"IF(LRG2>=Inputs!$E$38,$D$26,0)","v":0},{"$f":"IF(LRH2>=Inputs!$E$38,$D$26,0)","v":0},{"$f":"IF(LRI2>=Inputs!$E$38,$D$26,0)","v":0},{"$f":"IF(LRJ2>=Inputs!$E$38,$D$26,0)","v":0},{"$f":"IF(LRK2>=Inputs!$E$38,$D$26,0)","v":0},{"$f":"IF(LRL2>=Inputs!$E$38,$D$26,0)","v":0},{"$f":"IF(LRM2>=Inputs!$E$38,$D$26,0)","v":0},{"$f":"IF(LRN2>=Inputs!$E$38,$D$26,0)","v":0},{"$f":"IF(LRO2>=Inputs!$E$38,$D$26,0)","v":0},{"$f":"IF(LRP2>=Inputs!$E$38,$D$26,0)","v":0},{"$f":"IF(LRQ2>=Inputs!$E$38,$D$26,0)","v":0},{"$f":"IF(LRR2>=Inputs!$E$38,$D$26,0)","v":0},{"$f":"IF(LRS2>=Inputs!$E$38,$D$26,0)","v":0},{"$f":"IF(LRT2>=Inputs!$E$38,$D$26,0)","v":0},{"$f":"IF(LRU2>=Inputs!$E$38,$D$26,0)","v":0},{"$f":"IF(LRV2>=Inputs!$E$38,$D$26,0)","v":0},{"$f":"IF(LRW2>=Inputs!$E$38,$D$26,0)","v":0},{"$f":"IF(LRX2>=Inputs!$E$38,$D$26,0)","v":0},{"$f":"IF(LRY2>=Inputs!$E$38,$D$26,0)","v":0},{"$f":"IF(LRZ2>=Inputs!$E$38,$D$26,0)","v":0},{"$f":"IF(LSA2>=Inputs!$E$38,$D$26,0)","v":0},{"$f":"IF(LSB2>=Inputs!$E$38,$D$26,0)","v":0},{"$f":"IF(LSC2>=Inputs!$E$38,$D$26,0)","v":0},{"$f":"IF(LSD2>=Inputs!$E$38,$D$26,0)","v":0},{"$f":"IF(LSE2>=Inputs!$E$38,$D$26,0)","v":0},{"$f":"IF(LSF2>=Inputs!$E$38,$D$26,0)","v":0},{"$f":"IF(LSG2>=Inputs!$E$38,$D$26,0)","v":0},{"$f":"IF(LSH2>=Inputs!$E$38,$D$26,0)","v":0},{"$f":"IF(LSI2>=Inputs!$E$38,$D$26,0)","v":0},{"$f":"IF(LSJ2>=Inputs!$E$38,$D$26,0)","v":0},{"$f":"IF(LSK2>=Inputs!$E$38,$D$26,0)","v":0},{"$f":"IF(LSL2>=Inputs!$E$38,$D$26,0)","v":0},{"$f":"IF(LSM2>=Inputs!$E$38,$D$26,0)","v":0},{"$f":"IF(LSN2>=Inputs!$E$38,$D$26,0)","v":0},{"$f":"IF(LSO2>=Inputs!$E$38,$D$26,0)","v":0},{"$f":"IF(LSP2>=Inputs!$E$38,$D$26,0)","v":0},{"$f":"IF(LSQ2>=Inputs!$E$38,$D$26,0)","v":0},{"$f":"IF(LSR2>=Inputs!$E$38,$D$26,0)","v":0},{"$f":"IF(LSS2>=Inputs!$E$38,$D$26,0)","v":0},{"$f":"IF(LST2>=Inputs!$E$38,$D$26,0)","v":0},{"$f":"IF(LSU2>=Inputs!$E$38,$D$26,0)","v":0},{"$f":"IF(LSV2>=Inputs!$E$38,$D$26,0)","v":0},{"$f":"IF(LSW2>=Inputs!$E$38,$D$26,0)","v":0},{"$f":"IF(LSX2>=Inputs!$E$38,$D$26,0)","v":0},{"$f":"IF(LSY2>=Inputs!$E$38,$D$26,0)","v":0},{"$f":"IF(LSZ2>=Inputs!$E$38,$D$26,0)","v":0},{"$f":"IF(LTA2>=Inputs!$E$38,$D$26,0)","v":0},{"$f":"IF(LTB2>=Inputs!$E$38,$D$26,0)","v":0},{"$f":"IF(LTC2>=Inputs!$E$38,$D$26,0)","v":0},{"$f":"IF(LTD2>=Inputs!$E$38,$D$26,0)","v":0},{"$f":"IF(LTE2>=Inputs!$E$38,$D$26,0)","v":0},{"$f":"IF(LTF2>=Inputs!$E$38,$D$26,0)","v":0},{"$f":"IF(LTG2>=Inputs!$E$38,$D$26,0)","v":0},{"$f":"IF(LTH2>=Inputs!$E$38,$D$26,0)","v":0},{"$f":"IF(LTI2>=Inputs!$E$38,$D$26,0)","v":0},{"$f":"IF(LTJ2>=Inputs!$E$38,$D$26,0)","v":0},{"$f":"IF(LTK2>=Inputs!$E$38,$D$26,0)","v":0},{"$f":"IF(LTL2>=Inputs!$E$38,$D$26,0)","v":0},{"$f":"IF(LTM2>=Inputs!$E$38,$D$26,0)","v":0},{"$f":"IF(LTN2>=Inputs!$E$38,$D$26,0)","v":0},{"$f":"IF(LTO2>=Inputs!$E$38,$D$26,0)","v":0},{"$f":"IF(LTP2>=Inputs!$E$38,$D$26,0)","v":0},{"$f":"IF(LTQ2>=Inputs!$E$38,$D$26,0)","v":0},{"$f":"IF(LTR2>=Inputs!$E$38,$D$26,0)","v":0},{"$f":"IF(LTS2>=Inputs!$E$38,$D$26,0)","v":0},{"$f":"IF(LTT2>=Inputs!$E$38,$D$26,0)","v":0},{"$f":"IF(LTU2>=Inputs!$E$38,$D$26,0)","v":0},{"$f":"IF(LTV2>=Inputs!$E$38,$D$26,0)","v":0},{"$f":"IF(LTW2>=Inputs!$E$38,$D$26,0)","v":0},{"$f":"IF(LTX2>=Inputs!$E$38,$D$26,0)","v":0},{"$f":"IF(LTY2>=Inputs!$E$38,$D$26,0)","v":0},{"$f":"IF(LTZ2>=Inputs!$E$38,$D$26,0)","v":0},{"$f":"IF(LUA2>=Inputs!$E$38,$D$26,0)","v":0},{"$f":"IF(LUB2>=Inputs!$E$38,$D$26,0)","v":0},{"$f":"IF(LUC2>=Inputs!$E$38,$D$26,0)","v":0},{"$f":"IF(LUD2>=Inputs!$E$38,$D$26,0)","v":0},{"$f":"IF(LUE2>=Inputs!$E$38,$D$26,0)","v":0},{"$f":"IF(LUF2>=Inputs!$E$38,$D$26,0)","v":0},{"$f":"IF(LUG2>=Inputs!$E$38,$D$26,0)","v":0},{"$f":"IF(LUH2>=Inputs!$E$38,$D$26,0)","v":0},{"$f":"IF(LUI2>=Inputs!$E$38,$D$26,0)","v":0},{"$f":"IF(LUJ2>=Inputs!$E$38,$D$26,0)","v":0},{"$f":"IF(LUK2>=Inputs!$E$38,$D$26,0)","v":0},{"$f":"IF(LUL2>=Inputs!$E$38,$D$26,0)","v":0},{"$f":"IF(LUM2>=Inputs!$E$38,$D$26,0)","v":0},{"$f":"IF(LUN2>=Inputs!$E$38,$D$26,0)","v":0},{"$f":"IF(LUO2>=Inputs!$E$38,$D$26,0)","v":0},{"$f":"IF(LUP2>=Inputs!$E$38,$D$26,0)","v":0},{"$f":"IF(LUQ2>=Inputs!$E$38,$D$26,0)","v":0},{"$f":"IF(LUR2>=Inputs!$E$38,$D$26,0)","v":0},{"$f":"IF(LUS2>=Inputs!$E$38,$D$26,0)","v":0},{"$f":"IF(LUT2>=Inputs!$E$38,$D$26,0)","v":0},{"$f":"IF(LUU2>=Inputs!$E$38,$D$26,0)","v":0},{"$f":"IF(LUV2>=Inputs!$E$38,$D$26,0)","v":0},{"$f":"IF(LUW2>=Inputs!$E$38,$D$26,0)","v":0},{"$f":"IF(LUX2>=Inputs!$E$38,$D$26,0)","v":0},{"$f":"IF(LUY2>=Inputs!$E$38,$D$26,0)","v":0},{"$f":"IF(LUZ2>=Inputs!$E$38,$D$26,0)","v":0},{"$f":"IF(LVA2>=Inputs!$E$38,$D$26,0)","v":0},{"$f":"IF(LVB2>=Inputs!$E$38,$D$26,0)","v":0},{"$f":"IF(LVC2>=Inputs!$E$38,$D$26,0)","v":0},{"$f":"IF(LVD2>=Inputs!$E$38,$D$26,0)","v":0},{"$f":"IF(LVE2>=Inputs!$E$38,$D$26,0)","v":0},{"$f":"IF(LVF2>=Inputs!$E$38,$D$26,0)","v":0},{"$f":"IF(LVG2>=Inputs!$E$38,$D$26,0)","v":0},{"$f":"IF(LVH2>=Inputs!$E$38,$D$26,0)","v":0},{"$f":"IF(LVI2>=Inputs!$E$38,$D$26,0)","v":0},{"$f":"IF(LVJ2>=Inputs!$E$38,$D$26,0)","v":0},{"$f":"IF(LVK2>=Inputs!$E$38,$D$26,0)","v":0},{"$f":"IF(LVL2>=Inputs!$E$38,$D$26,0)","v":0},{"$f":"IF(LVM2>=Inputs!$E$38,$D$26,0)","v":0},{"$f":"IF(LVN2>=Inputs!$E$38,$D$26,0)","v":0},{"$f":"IF(LVO2>=Inputs!$E$38,$D$26,0)","v":0},{"$f":"IF(LVP2>=Inputs!$E$38,$D$26,0)","v":0},{"$f":"IF(LVQ2>=Inputs!$E$38,$D$26,0)","v":0},{"$f":"IF(LVR2>=Inputs!$E$38,$D$26,0)","v":0},{"$f":"IF(LVS2>=Inputs!$E$38,$D$26,0)","v":0},{"$f":"IF(LVT2>=Inputs!$E$38,$D$26,0)","v":0},{"$f":"IF(LVU2>=Inputs!$E$38,$D$26,0)","v":0},{"$f":"IF(LVV2>=Inputs!$E$38,$D$26,0)","v":0},{"$f":"IF(LVW2>=Inputs!$E$38,$D$26,0)","v":0},{"$f":"IF(LVX2>=Inputs!$E$38,$D$26,0)","v":0},{"$f":"IF(LVY2>=Inputs!$E$38,$D$26,0)","v":0},{"$f":"IF(LVZ2>=Inputs!$E$38,$D$26,0)","v":0},{"$f":"IF(LWA2>=Inputs!$E$38,$D$26,0)","v":0},{"$f":"IF(LWB2>=Inputs!$E$38,$D$26,0)","v":0},{"$f":"IF(LWC2>=Inputs!$E$38,$D$26,0)","v":0},{"$f":"IF(LWD2>=Inputs!$E$38,$D$26,0)","v":0},{"$f":"IF(LWE2>=Inputs!$E$38,$D$26,0)","v":0},{"$f":"IF(LWF2>=Inputs!$E$38,$D$26,0)","v":0},{"$f":"IF(LWG2>=Inputs!$E$38,$D$26,0)","v":0},{"$f":"IF(LWH2>=Inputs!$E$38,$D$26,0)","v":0},{"$f":"IF(LWI2>=Inputs!$E$38,$D$26,0)","v":0},{"$f":"IF(LWJ2>=Inputs!$E$38,$D$26,0)","v":0},{"$f":"IF(LWK2>=Inputs!$E$38,$D$26,0)","v":0},{"$f":"IF(LWL2>=Inputs!$E$38,$D$26,0)","v":0},{"$f":"IF(LWM2>=Inputs!$E$38,$D$26,0)","v":0},{"$f":"IF(LWN2>=Inputs!$E$38,$D$26,0)","v":0},{"$f":"IF(LWO2>=Inputs!$E$38,$D$26,0)","v":0},{"$f":"IF(LWP2>=Inputs!$E$38,$D$26,0)","v":0},{"$f":"IF(LWQ2>=Inputs!$E$38,$D$26,0)","v":0},{"$f":"IF(LWR2>=Inputs!$E$38,$D$26,0)","v":0},{"$f":"IF(LWS2>=Inputs!$E$38,$D$26,0)","v":0},{"$f":"IF(LWT2>=Inputs!$E$38,$D$26,0)","v":0},{"$f":"IF(LWU2>=Inputs!$E$38,$D$26,0)","v":0},{"$f":"IF(LWV2>=Inputs!$E$38,$D$26,0)","v":0},{"$f":"IF(LWW2>=Inputs!$E$38,$D$26,0)","v":0},{"$f":"IF(LWX2>=Inputs!$E$38,$D$26,0)","v":0},{"$f":"IF(LWY2>=Inputs!$E$38,$D$26,0)","v":0},{"$f":"IF(LWZ2>=Inputs!$E$38,$D$26,0)","v":0},{"$f":"IF(LXA2>=Inputs!$E$38,$D$26,0)","v":0},{"$f":"IF(LXB2>=Inputs!$E$38,$D$26,0)","v":0},{"$f":"IF(LXC2>=Inputs!$E$38,$D$26,0)","v":0},{"$f":"IF(LXD2>=Inputs!$E$38,$D$26,0)","v":0},{"$f":"IF(LXE2>=Inputs!$E$38,$D$26,0)","v":0},{"$f":"IF(LXF2>=Inputs!$E$38,$D$26,0)","v":0},{"$f":"IF(LXG2>=Inputs!$E$38,$D$26,0)","v":0},{"$f":"IF(LXH2>=Inputs!$E$38,$D$26,0)","v":0},{"$f":"IF(LXI2>=Inputs!$E$38,$D$26,0)","v":0},{"$f":"IF(LXJ2>=Inputs!$E$38,$D$26,0)","v":0},{"$f":"IF(LXK2>=Inputs!$E$38,$D$26,0)","v":0},{"$f":"IF(LXL2>=Inputs!$E$38,$D$26,0)","v":0},{"$f":"IF(LXM2>=Inputs!$E$38,$D$26,0)","v":0},{"$f":"IF(LXN2>=Inputs!$E$38,$D$26,0)","v":0},{"$f":"IF(LXO2>=Inputs!$E$38,$D$26,0)","v":0},{"$f":"IF(LXP2>=Inputs!$E$38,$D$26,0)","v":0},{"$f":"IF(LXQ2>=Inputs!$E$38,$D$26,0)","v":0},{"$f":"IF(LXR2>=Inputs!$E$38,$D$26,0)","v":0},{"$f":"IF(LXS2>=Inputs!$E$38,$D$26,0)","v":0},{"$f":"IF(LXT2>=Inputs!$E$38,$D$26,0)","v":0},{"$f":"IF(LXU2>=Inputs!$E$38,$D$26,0)","v":0},{"$f":"IF(LXV2>=Inputs!$E$38,$D$26,0)","v":0},{"$f":"IF(LXW2>=Inputs!$E$38,$D$26,0)","v":0},{"$f":"IF(LXX2>=Inputs!$E$38,$D$26,0)","v":0},{"$f":"IF(LXY2>=Inputs!$E$38,$D$26,0)","v":0},{"$f":"IF(LXZ2>=Inputs!$E$38,$D$26,0)","v":0},{"$f":"IF(LYA2>=Inputs!$E$38,$D$26,0)","v":0},{"$f":"IF(LYB2>=Inputs!$E$38,$D$26,0)","v":0},{"$f":"IF(LYC2>=Inputs!$E$38,$D$26,0)","v":0},{"$f":"IF(LYD2>=Inputs!$E$38,$D$26,0)","v":0},{"$f":"IF(LYE2>=Inputs!$E$38,$D$26,0)","v":0},{"$f":"IF(LYF2>=Inputs!$E$38,$D$26,0)","v":0},{"$f":"IF(LYG2>=Inputs!$E$38,$D$26,0)","v":0},{"$f":"IF(LYH2>=Inputs!$E$38,$D$26,0)","v":0},{"$f":"IF(LYI2>=Inputs!$E$38,$D$26,0)","v":0},{"$f":"IF(LYJ2>=Inputs!$E$38,$D$26,0)","v":0},{"$f":"IF(LYK2>=Inputs!$E$38,$D$26,0)","v":0},{"$f":"IF(LYL2>=Inputs!$E$38,$D$26,0)","v":0},{"$f":"IF(LYM2>=Inputs!$E$38,$D$26,0)","v":0},{"$f":"IF(LYN2>=Inputs!$E$38,$D$26,0)","v":0},{"$f":"IF(LYO2>=Inputs!$E$38,$D$26,0)","v":0},{"$f":"IF(LYP2>=Inputs!$E$38,$D$26,0)","v":0},{"$f":"IF(LYQ2>=Inputs!$E$38,$D$26,0)","v":0},{"$f":"IF(LYR2>=Inputs!$E$38,$D$26,0)","v":0},{"$f":"IF(LYS2>=Inputs!$E$38,$D$26,0)","v":0},{"$f":"IF(LYT2>=Inputs!$E$38,$D$26,0)","v":0},{"$f":"IF(LYU2>=Inputs!$E$38,$D$26,0)","v":0},{"$f":"IF(LYV2>=Inputs!$E$38,$D$26,0)","v":0},{"$f":"IF(LYW2>=Inputs!$E$38,$D$26,0)","v":0},{"$f":"IF(LYX2>=Inputs!$E$38,$D$26,0)","v":0},{"$f":"IF(LYY2>=Inputs!$E$38,$D$26,0)","v":0},{"$f":"IF(LYZ2>=Inputs!$E$38,$D$26,0)","v":0},{"$f":"IF(LZA2>=Inputs!$E$38,$D$26,0)","v":0},{"$f":"IF(LZB2>=Inputs!$E$38,$D$26,0)","v":0},{"$f":"IF(LZC2>=Inputs!$E$38,$D$26,0)","v":0},{"$f":"IF(LZD2>=Inputs!$E$38,$D$26,0)","v":0},{"$f":"IF(LZE2>=Inputs!$E$38,$D$26,0)","v":0},{"$f":"IF(LZF2>=Inputs!$E$38,$D$26,0)","v":0},{"$f":"IF(LZG2>=Inputs!$E$38,$D$26,0)","v":0},{"$f":"IF(LZH2>=Inputs!$E$38,$D$26,0)","v":0},{"$f":"IF(LZI2>=Inputs!$E$38,$D$26,0)","v":0},{"$f":"IF(LZJ2>=Inputs!$E$38,$D$26,0)","v":0},{"$f":"IF(LZK2>=Inputs!$E$38,$D$26,0)","v":0},{"$f":"IF(LZL2>=Inputs!$E$38,$D$26,0)","v":0},{"$f":"IF(LZM2>=Inputs!$E$38,$D$26,0)","v":0},{"$f":"IF(LZN2>=Inputs!$E$38,$D$26,0)","v":0},{"$f":"IF(LZO2>=Inputs!$E$38,$D$26,0)","v":0},{"$f":"IF(LZP2>=Inputs!$E$38,$D$26,0)","v":0},{"$f":"IF(LZQ2>=Inputs!$E$38,$D$26,0)","v":0},{"$f":"IF(LZR2>=Inputs!$E$38,$D$26,0)","v":0},{"$f":"IF(LZS2>=Inputs!$E$38,$D$26,0)","v":0},{"$f":"IF(LZT2>=Inputs!$E$38,$D$26,0)","v":0},{"$f":"IF(LZU2>=Inputs!$E$38,$D$26,0)","v":0},{"$f":"IF(LZV2>=Inputs!$E$38,$D$26,0)","v":0},{"$f":"IF(LZW2>=Inputs!$E$38,$D$26,0)","v":0},{"$f":"IF(LZX2>=Inputs!$E$38,$D$26,0)","v":0},{"$f":"IF(LZY2>=Inputs!$E$38,$D$26,0)","v":0},{"$f":"IF(LZZ2>=Inputs!$E$38,$D$26,0)","v":0},{"$f":"IF(MAA2>=Inputs!$E$38,$D$26,0)","v":0},{"$f":"IF(MAB2>=Inputs!$E$38,$D$26,0)","v":0},{"$f":"IF(MAC2>=Inputs!$E$38,$D$26,0)","v":0},{"$f":"IF(MAD2>=Inputs!$E$38,$D$26,0)","v":0},{"$f":"IF(MAE2>=Inputs!$E$38,$D$26,0)","v":0},{"$f":"IF(MAF2>=Inputs!$E$38,$D$26,0)","v":0},{"$f":"IF(MAG2>=Inputs!$E$38,$D$26,0)","v":0},{"$f":"IF(MAH2>=Inputs!$E$38,$D$26,0)","v":0},{"$f":"IF(MAI2>=Inputs!$E$38,$D$26,0)","v":0},{"$f":"IF(MAJ2>=Inputs!$E$38,$D$26,0)","v":0},{"$f":"IF(MAK2>=Inputs!$E$38,$D$26,0)","v":0},{"$f":"IF(MAL2>=Inputs!$E$38,$D$26,0)","v":0},{"$f":"IF(MAM2>=Inputs!$E$38,$D$26,0)","v":0},{"$f":"IF(MAN2>=Inputs!$E$38,$D$26,0)","v":0},{"$f":"IF(MAO2>=Inputs!$E$38,$D$26,0)","v":0},{"$f":"IF(MAP2>=Inputs!$E$38,$D$26,0)","v":0},{"$f":"IF(MAQ2>=Inputs!$E$38,$D$26,0)","v":0},{"$f":"IF(MAR2>=Inputs!$E$38,$D$26,0)","v":0},{"$f":"IF(MAS2>=Inputs!$E$38,$D$26,0)","v":0},{"$f":"IF(MAT2>=Inputs!$E$38,$D$26,0)","v":0},{"$f":"IF(MAU2>=Inputs!$E$38,$D$26,0)","v":0},{"$f":"IF(MAV2>=Inputs!$E$38,$D$26,0)","v":0},{"$f":"IF(MAW2>=Inputs!$E$38,$D$26,0)","v":0},{"$f":"IF(MAX2>=Inputs!$E$38,$D$26,0)","v":0},{"$f":"IF(MAY2>=Inputs!$E$38,$D$26,0)","v":0},{"$f":"IF(MAZ2>=Inputs!$E$38,$D$26,0)","v":0},{"$f":"IF(MBA2>=Inputs!$E$38,$D$26,0)","v":0},{"$f":"IF(MBB2>=Inputs!$E$38,$D$26,0)","v":0},{"$f":"IF(MBC2>=Inputs!$E$38,$D$26,0)","v":0},{"$f":"IF(MBD2>=Inputs!$E$38,$D$26,0)","v":0},{"$f":"IF(MBE2>=Inputs!$E$38,$D$26,0)","v":0},{"$f":"IF(MBF2>=Inputs!$E$38,$D$26,0)","v":0},{"$f":"IF(MBG2>=Inputs!$E$38,$D$26,0)","v":0},{"$f":"IF(MBH2>=Inputs!$E$38,$D$26,0)","v":0},{"$f":"IF(MBI2>=Inputs!$E$38,$D$26,0)","v":0},{"$f":"IF(MBJ2>=Inputs!$E$38,$D$26,0)","v":0},{"$f":"IF(MBK2>=Inputs!$E$38,$D$26,0)","v":0},{"$f":"IF(MBL2>=Inputs!$E$38,$D$26,0)","v":0},{"$f":"IF(MBM2>=Inputs!$E$38,$D$26,0)","v":0},{"$f":"IF(MBN2>=Inputs!$E$38,$D$26,0)","v":0},{"$f":"IF(MBO2>=Inputs!$E$38,$D$26,0)","v":0},{"$f":"IF(MBP2>=Inputs!$E$38,$D$26,0)","v":0},{"$f":"IF(MBQ2>=Inputs!$E$38,$D$26,0)","v":0},{"$f":"IF(MBR2>=Inputs!$E$38,$D$26,0)","v":0},{"$f":"IF(MBS2>=Inputs!$E$38,$D$26,0)","v":0},{"$f":"IF(MBT2>=Inputs!$E$38,$D$26,0)","v":0},{"$f":"IF(MBU2>=Inputs!$E$38,$D$26,0)","v":0},{"$f":"IF(MBV2>=Inputs!$E$38,$D$26,0)","v":0},{"$f":"IF(MBW2>=Inputs!$E$38,$D$26,0)","v":0},{"$f":"IF(MBX2>=Inputs!$E$38,$D$26,0)","v":0},{"$f":"IF(MBY2>=Inputs!$E$38,$D$26,0)","v":0},{"$f":"IF(MBZ2>=Inputs!$E$38,$D$26,0)","v":0},{"$f":"IF(MCA2>=Inputs!$E$38,$D$26,0)","v":0},{"$f":"IF(MCB2>=Inputs!$E$38,$D$26,0)","v":0},{"$f":"IF(MCC2>=Inputs!$E$38,$D$26,0)","v":0},{"$f":"IF(MCD2>=Inputs!$E$38,$D$26,0)","v":0},{"$f":"IF(MCE2>=Inputs!$E$38,$D$26,0)","v":0},{"$f":"IF(MCF2>=Inputs!$E$38,$D$26,0)","v":0},{"$f":"IF(MCG2>=Inputs!$E$38,$D$26,0)","v":0},{"$f":"IF(MCH2>=Inputs!$E$38,$D$26,0)","v":0},{"$f":"IF(MCI2>=Inputs!$E$38,$D$26,0)","v":0},{"$f":"IF(MCJ2>=Inputs!$E$38,$D$26,0)","v":0},{"$f":"IF(MCK2>=Inputs!$E$38,$D$26,0)","v":0},{"$f":"IF(MCL2>=Inputs!$E$38,$D$26,0)","v":0},{"$f":"IF(MCM2>=Inputs!$E$38,$D$26,0)","v":0},{"$f":"IF(MCN2>=Inputs!$E$38,$D$26,0)","v":0},{"$f":"IF(MCO2>=Inputs!$E$38,$D$26,0)","v":0},{"$f":"IF(MCP2>=Inputs!$E$38,$D$26,0)","v":0},{"$f":"IF(MCQ2>=Inputs!$E$38,$D$26,0)","v":0},{"$f":"IF(MCR2>=Inputs!$E$38,$D$26,0)","v":0},{"$f":"IF(MCS2>=Inputs!$E$38,$D$26,0)","v":0},{"$f":"IF(MCT2>=Inputs!$E$38,$D$26,0)","v":0},{"$f":"IF(MCU2>=Inputs!$E$38,$D$26,0)","v":0},{"$f":"IF(MCV2>=Inputs!$E$38,$D$26,0)","v":0},{"$f":"IF(MCW2>=Inputs!$E$38,$D$26,0)","v":0},{"$f":"IF(MCX2>=Inputs!$E$38,$D$26,0)","v":0},{"$f":"IF(MCY2>=Inputs!$E$38,$D$26,0)","v":0},{"$f":"IF(MCZ2>=Inputs!$E$38,$D$26,0)","v":0},{"$f":"IF(MDA2>=Inputs!$E$38,$D$26,0)","v":0},{"$f":"IF(MDB2>=Inputs!$E$38,$D$26,0)","v":0},{"$f":"IF(MDC2>=Inputs!$E$38,$D$26,0)","v":0},{"$f":"IF(MDD2>=Inputs!$E$38,$D$26,0)","v":0},{"$f":"IF(MDE2>=Inputs!$E$38,$D$26,0)","v":0},{"$f":"IF(MDF2>=Inputs!$E$38,$D$26,0)","v":0},{"$f":"IF(MDG2>=Inputs!$E$38,$D$26,0)","v":0},{"$f":"IF(MDH2>=Inputs!$E$38,$D$26,0)","v":0},{"$f":"IF(MDI2>=Inputs!$E$38,$D$26,0)","v":0},{"$f":"IF(MDJ2>=Inputs!$E$38,$D$26,0)","v":0},{"$f":"IF(MDK2>=Inputs!$E$38,$D$26,0)","v":0},{"$f":"IF(MDL2>=Inputs!$E$38,$D$26,0)","v":0},{"$f":"IF(MDM2>=Inputs!$E$38,$D$26,0)","v":0},{"$f":"IF(MDN2>=Inputs!$E$38,$D$26,0)","v":0},{"$f":"IF(MDO2>=Inputs!$E$38,$D$26,0)","v":0},{"$f":"IF(MDP2>=Inputs!$E$38,$D$26,0)","v":0},{"$f":"IF(MDQ2>=Inputs!$E$38,$D$26,0)","v":0},{"$f":"IF(MDR2>=Inputs!$E$38,$D$26,0)","v":0},{"$f":"IF(MDS2>=Inputs!$E$38,$D$26,0)","v":0},{"$f":"IF(MDT2>=Inputs!$E$38,$D$26,0)","v":0},{"$f":"IF(MDU2>=Inputs!$E$38,$D$26,0)","v":0},{"$f":"IF(MDV2>=Inputs!$E$38,$D$26,0)","v":0},{"$f":"IF(MDW2>=Inputs!$E$38,$D$26,0)","v":0},{"$f":"IF(MDX2>=Inputs!$E$38,$D$26,0)","v":0},{"$f":"IF(MDY2>=Inputs!$E$38,$D$26,0)","v":0},{"$f":"IF(MDZ2>=Inputs!$E$38,$D$26,0)","v":0},{"$f":"IF(MEA2>=Inputs!$E$38,$D$26,0)","v":0},{"$f":"IF(MEB2>=Inputs!$E$38,$D$26,0)","v":0},{"$f":"IF(MEC2>=Inputs!$E$38,$D$26,0)","v":0},{"$f":"IF(MED2>=Inputs!$E$38,$D$26,0)","v":0},{"$f":"IF(MEE2>=Inputs!$E$38,$D$26,0)","v":0},{"$f":"IF(MEF2>=Inputs!$E$38,$D$26,0)","v":0},{"$f":"IF(MEG2>=Inputs!$E$38,$D$26,0)","v":0},{"$f":"IF(MEH2>=Inputs!$E$38,$D$26,0)","v":0},{"$f":"IF(MEI2>=Inputs!$E$38,$D$26,0)","v":0},{"$f":"IF(MEJ2>=Inputs!$E$38,$D$26,0)","v":0},{"$f":"IF(MEK2>=Inputs!$E$38,$D$26,0)","v":0},{"$f":"IF(MEL2>=Inputs!$E$38,$D$26,0)","v":0},{"$f":"IF(MEM2>=Inputs!$E$38,$D$26,0)","v":0},{"$f":"IF(MEN2>=Inputs!$E$38,$D$26,0)","v":0},{"$f":"IF(MEO2>=Inputs!$E$38,$D$26,0)","v":0},{"$f":"IF(MEP2>=Inputs!$E$38,$D$26,0)","v":0},{"$f":"IF(MEQ2>=Inputs!$E$38,$D$26,0)","v":0},{"$f":"IF(MER2>=Inputs!$E$38,$D$26,0)","v":0},{"$f":"IF(MES2>=Inputs!$E$38,$D$26,0)","v":0},{"$f":"IF(MET2>=Inputs!$E$38,$D$26,0)","v":0},{"$f":"IF(MEU2>=Inputs!$E$38,$D$26,0)","v":0},{"$f":"IF(MEV2>=Inputs!$E$38,$D$26,0)","v":0},{"$f":"IF(MEW2>=Inputs!$E$38,$D$26,0)","v":0},{"$f":"IF(MEX2>=Inputs!$E$38,$D$26,0)","v":0},{"$f":"IF(MEY2>=Inputs!$E$38,$D$26,0)","v":0},{"$f":"IF(MEZ2>=Inputs!$E$38,$D$26,0)","v":0},{"$f":"IF(MFA2>=Inputs!$E$38,$D$26,0)","v":0},{"$f":"IF(MFB2>=Inputs!$E$38,$D$26,0)","v":0},{"$f":"IF(MFC2>=Inputs!$E$38,$D$26,0)","v":0},{"$f":"IF(MFD2>=Inputs!$E$38,$D$26,0)","v":0},{"$f":"IF(MFE2>=Inputs!$E$38,$D$26,0)","v":0},{"$f":"IF(MFF2>=Inputs!$E$38,$D$26,0)","v":0},{"$f":"IF(MFG2>=Inputs!$E$38,$D$26,0)","v":0},{"$f":"IF(MFH2>=Inputs!$E$38,$D$26,0)","v":0},{"$f":"IF(MFI2>=Inputs!$E$38,$D$26,0)","v":0},{"$f":"IF(MFJ2>=Inputs!$E$38,$D$26,0)","v":0},{"$f":"IF(MFK2>=Inputs!$E$38,$D$26,0)","v":0},{"$f":"IF(MFL2>=Inputs!$E$38,$D$26,0)","v":0},{"$f":"IF(MFM2>=Inputs!$E$38,$D$26,0)","v":0},{"$f":"IF(MFN2>=Inputs!$E$38,$D$26,0)","v":0},{"$f":"IF(MFO2>=Inputs!$E$38,$D$26,0)","v":0},{"$f":"IF(MFP2>=Inputs!$E$38,$D$26,0)","v":0},{"$f":"IF(MFQ2>=Inputs!$E$38,$D$26,0)","v":0},{"$f":"IF(MFR2>=Inputs!$E$38,$D$26,0)","v":0},{"$f":"IF(MFS2>=Inputs!$E$38,$D$26,0)","v":0},{"$f":"IF(MFT2>=Inputs!$E$38,$D$26,0)","v":0},{"$f":"IF(MFU2>=Inputs!$E$38,$D$26,0)","v":0},{"$f":"IF(MFV2>=Inputs!$E$38,$D$26,0)","v":0},{"$f":"IF(MFW2>=Inputs!$E$38,$D$26,0)","v":0},{"$f":"IF(MFX2>=Inputs!$E$38,$D$26,0)","v":0},{"$f":"IF(MFY2>=Inputs!$E$38,$D$26,0)","v":0},{"$f":"IF(MFZ2>=Inputs!$E$38,$D$26,0)","v":0},{"$f":"IF(MGA2>=Inputs!$E$38,$D$26,0)","v":0},{"$f":"IF(MGB2>=Inputs!$E$38,$D$26,0)","v":0},{"$f":"IF(MGC2>=Inputs!$E$38,$D$26,0)","v":0},{"$f":"IF(MGD2>=Inputs!$E$38,$D$26,0)","v":0},{"$f":"IF(MGE2>=Inputs!$E$38,$D$26,0)","v":0},{"$f":"IF(MGF2>=Inputs!$E$38,$D$26,0)","v":0},{"$f":"IF(MGG2>=Inputs!$E$38,$D$26,0)","v":0},{"$f":"IF(MGH2>=Inputs!$E$38,$D$26,0)","v":0},{"$f":"IF(MGI2>=Inputs!$E$38,$D$26,0)","v":0},{"$f":"IF(MGJ2>=Inputs!$E$38,$D$26,0)","v":0},{"$f":"IF(MGK2>=Inputs!$E$38,$D$26,0)","v":0},{"$f":"IF(MGL2>=Inputs!$E$38,$D$26,0)","v":0},{"$f":"IF(MGM2>=Inputs!$E$38,$D$26,0)","v":0},{"$f":"IF(MGN2>=Inputs!$E$38,$D$26,0)","v":0},{"$f":"IF(MGO2>=Inputs!$E$38,$D$26,0)","v":0},{"$f":"IF(MGP2>=Inputs!$E$38,$D$26,0)","v":0},{"$f":"IF(MGQ2>=Inputs!$E$38,$D$26,0)","v":0},{"$f":"IF(MGR2>=Inputs!$E$38,$D$26,0)","v":0},{"$f":"IF(MGS2>=Inputs!$E$38,$D$26,0)","v":0},{"$f":"IF(MGT2>=Inputs!$E$38,$D$26,0)","v":0},{"$f":"IF(MGU2>=Inputs!$E$38,$D$26,0)","v":0},{"$f":"IF(MGV2>=Inputs!$E$38,$D$26,0)","v":0},{"$f":"IF(MGW2>=Inputs!$E$38,$D$26,0)","v":0},{"$f":"IF(MGX2>=Inputs!$E$38,$D$26,0)","v":0},{"$f":"IF(MGY2>=Inputs!$E$38,$D$26,0)","v":0},{"$f":"IF(MGZ2>=Inputs!$E$38,$D$26,0)","v":0},{"$f":"IF(MHA2>=Inputs!$E$38,$D$26,0)","v":0},{"$f":"IF(MHB2>=Inputs!$E$38,$D$26,0)","v":0},{"$f":"IF(MHC2>=Inputs!$E$38,$D$26,0)","v":0},{"$f":"IF(MHD2>=Inputs!$E$38,$D$26,0)","v":0},{"$f":"IF(MHE2>=Inputs!$E$38,$D$26,0)","v":0},{"$f":"IF(MHF2>=Inputs!$E$38,$D$26,0)","v":0},{"$f":"IF(MHG2>=Inputs!$E$38,$D$26,0)","v":0},{"$f":"IF(MHH2>=Inputs!$E$38,$D$26,0)","v":0},{"$f":"IF(MHI2>=Inputs!$E$38,$D$26,0)","v":0},{"$f":"IF(MHJ2>=Inputs!$E$38,$D$26,0)","v":0},{"$f":"IF(MHK2>=Inputs!$E$38,$D$26,0)","v":0},{"$f":"IF(MHL2>=Inputs!$E$38,$D$26,0)","v":0},{"$f":"IF(MHM2>=Inputs!$E$38,$D$26,0)","v":0},{"$f":"IF(MHN2>=Inputs!$E$38,$D$26,0)","v":0},{"$f":"IF(MHO2>=Inputs!$E$38,$D$26,0)","v":0},{"$f":"IF(MHP2>=Inputs!$E$38,$D$26,0)","v":0},{"$f":"IF(MHQ2>=Inputs!$E$38,$D$26,0)","v":0},{"$f":"IF(MHR2>=Inputs!$E$38,$D$26,0)","v":0},{"$f":"IF(MHS2>=Inputs!$E$38,$D$26,0)","v":0},{"$f":"IF(MHT2>=Inputs!$E$38,$D$26,0)","v":0},{"$f":"IF(MHU2>=Inputs!$E$38,$D$26,0)","v":0},{"$f":"IF(MHV2>=Inputs!$E$38,$D$26,0)","v":0},{"$f":"IF(MHW2>=Inputs!$E$38,$D$26,0)","v":0},{"$f":"IF(MHX2>=Inputs!$E$38,$D$26,0)","v":0},{"$f":"IF(MHY2>=Inputs!$E$38,$D$26,0)","v":0},{"$f":"IF(MHZ2>=Inputs!$E$38,$D$26,0)","v":0},{"$f":"IF(MIA2>=Inputs!$E$38,$D$26,0)","v":0},{"$f":"IF(MIB2>=Inputs!$E$38,$D$26,0)","v":0},{"$f":"IF(MIC2>=Inputs!$E$38,$D$26,0)","v":0},{"$f":"IF(MID2>=Inputs!$E$38,$D$26,0)","v":0},{"$f":"IF(MIE2>=Inputs!$E$38,$D$26,0)","v":0},{"$f":"IF(MIF2>=Inputs!$E$38,$D$26,0)","v":0},{"$f":"IF(MIG2>=Inputs!$E$38,$D$26,0)","v":0},{"$f":"IF(MIH2>=Inputs!$E$38,$D$26,0)","v":0},{"$f":"IF(MII2>=Inputs!$E$38,$D$26,0)","v":0},{"$f":"IF(MIJ2>=Inputs!$E$38,$D$26,0)","v":0},{"$f":"IF(MIK2>=Inputs!$E$38,$D$26,0)","v":0},{"$f":"IF(MIL2>=Inputs!$E$38,$D$26,0)","v":0},{"$f":"IF(MIM2>=Inputs!$E$38,$D$26,0)","v":0},{"$f":"IF(MIN2>=Inputs!$E$38,$D$26,0)","v":0},{"$f":"IF(MIO2>=Inputs!$E$38,$D$26,0)","v":0},{"$f":"IF(MIP2>=Inputs!$E$38,$D$26,0)","v":0},{"$f":"IF(MIQ2>=Inputs!$E$38,$D$26,0)","v":0},{"$f":"IF(MIR2>=Inputs!$E$38,$D$26,0)","v":0},{"$f":"IF(MIS2>=Inputs!$E$38,$D$26,0)","v":0},{"$f":"IF(MIT2>=Inputs!$E$38,$D$26,0)","v":0},{"$f":"IF(MIU2>=Inputs!$E$38,$D$26,0)","v":0},{"$f":"IF(MIV2>=Inputs!$E$38,$D$26,0)","v":0},{"$f":"IF(MIW2>=Inputs!$E$38,$D$26,0)","v":0},{"$f":"IF(MIX2>=Inputs!$E$38,$D$26,0)","v":0},{"$f":"IF(MIY2>=Inputs!$E$38,$D$26,0)","v":0},{"$f":"IF(MIZ2>=Inputs!$E$38,$D$26,0)","v":0},{"$f":"IF(MJA2>=Inputs!$E$38,$D$26,0)","v":0},{"$f":"IF(MJB2>=Inputs!$E$38,$D$26,0)","v":0},{"$f":"IF(MJC2>=Inputs!$E$38,$D$26,0)","v":0},{"$f":"IF(MJD2>=Inputs!$E$38,$D$26,0)","v":0},{"$f":"IF(MJE2>=Inputs!$E$38,$D$26,0)","v":0},{"$f":"IF(MJF2>=Inputs!$E$38,$D$26,0)","v":0},{"$f":"IF(MJG2>=Inputs!$E$38,$D$26,0)","v":0},{"$f":"IF(MJH2>=Inputs!$E$38,$D$26,0)","v":0},{"$f":"IF(MJI2>=Inputs!$E$38,$D$26,0)","v":0},{"$f":"IF(MJJ2>=Inputs!$E$38,$D$26,0)","v":0},{"$f":"IF(MJK2>=Inputs!$E$38,$D$26,0)","v":0},{"$f":"IF(MJL2>=Inputs!$E$38,$D$26,0)","v":0},{"$f":"IF(MJM2>=Inputs!$E$38,$D$26,0)","v":0},{"$f":"IF(MJN2>=Inputs!$E$38,$D$26,0)","v":0},{"$f":"IF(MJO2>=Inputs!$E$38,$D$26,0)","v":0},{"$f":"IF(MJP2>=Inputs!$E$38,$D$26,0)","v":0},{"$f":"IF(MJQ2>=Inputs!$E$38,$D$26,0)","v":0},{"$f":"IF(MJR2>=Inputs!$E$38,$D$26,0)","v":0},{"$f":"IF(MJS2>=Inputs!$E$38,$D$26,0)","v":0},{"$f":"IF(MJT2>=Inputs!$E$38,$D$26,0)","v":0},{"$f":"IF(MJU2>=Inputs!$E$38,$D$26,0)","v":0},{"$f":"IF(MJV2>=Inputs!$E$38,$D$26,0)","v":0},{"$f":"IF(MJW2>=Inputs!$E$38,$D$26,0)","v":0},{"$f":"IF(MJX2>=Inputs!$E$38,$D$26,0)","v":0},{"$f":"IF(MJY2>=Inputs!$E$38,$D$26,0)","v":0},{"$f":"IF(MJZ2>=Inputs!$E$38,$D$26,0)","v":0},{"$f":"IF(MKA2>=Inputs!$E$38,$D$26,0)","v":0},{"$f":"IF(MKB2>=Inputs!$E$38,$D$26,0)","v":0},{"$f":"IF(MKC2>=Inputs!$E$38,$D$26,0)","v":0},{"$f":"IF(MKD2>=Inputs!$E$38,$D$26,0)","v":0},{"$f":"IF(MKE2>=Inputs!$E$38,$D$26,0)","v":0},{"$f":"IF(MKF2>=Inputs!$E$38,$D$26,0)","v":0},{"$f":"IF(MKG2>=Inputs!$E$38,$D$26,0)","v":0},{"$f":"IF(MKH2>=Inputs!$E$38,$D$26,0)","v":0},{"$f":"IF(MKI2>=Inputs!$E$38,$D$26,0)","v":0},{"$f":"IF(MKJ2>=Inputs!$E$38,$D$26,0)","v":0},{"$f":"IF(MKK2>=Inputs!$E$38,$D$26,0)","v":0},{"$f":"IF(MKL2>=Inputs!$E$38,$D$26,0)","v":0},{"$f":"IF(MKM2>=Inputs!$E$38,$D$26,0)","v":0},{"$f":"IF(MKN2>=Inputs!$E$38,$D$26,0)","v":0},{"$f":"IF(MKO2>=Inputs!$E$38,$D$26,0)","v":0},{"$f":"IF(MKP2>=Inputs!$E$38,$D$26,0)","v":0},{"$f":"IF(MKQ2>=Inputs!$E$38,$D$26,0)","v":0},{"$f":"IF(MKR2>=Inputs!$E$38,$D$26,0)","v":0},{"$f":"IF(MKS2>=Inputs!$E$38,$D$26,0)","v":0},{"$f":"IF(MKT2>=Inputs!$E$38,$D$26,0)","v":0},{"$f":"IF(MKU2>=Inputs!$E$38,$D$26,0)","v":0},{"$f":"IF(MKV2>=Inputs!$E$38,$D$26,0)","v":0},{"$f":"IF(MKW2>=Inputs!$E$38,$D$26,0)","v":0},{"$f":"IF(MKX2>=Inputs!$E$38,$D$26,0)","v":0},{"$f":"IF(MKY2>=Inputs!$E$38,$D$26,0)","v":0},{"$f":"IF(MKZ2>=Inputs!$E$38,$D$26,0)","v":0},{"$f":"IF(MLA2>=Inputs!$E$38,$D$26,0)","v":0},{"$f":"IF(MLB2>=Inputs!$E$38,$D$26,0)","v":0},{"$f":"IF(MLC2>=Inputs!$E$38,$D$26,0)","v":0},{"$f":"IF(MLD2>=Inputs!$E$38,$D$26,0)","v":0},{"$f":"IF(MLE2>=Inputs!$E$38,$D$26,0)","v":0},{"$f":"IF(MLF2>=Inputs!$E$38,$D$26,0)","v":0},{"$f":"IF(MLG2>=Inputs!$E$38,$D$26,0)","v":0},{"$f":"IF(MLH2>=Inputs!$E$38,$D$26,0)","v":0},{"$f":"IF(MLI2>=Inputs!$E$38,$D$26,0)","v":0},{"$f":"IF(MLJ2>=Inputs!$E$38,$D$26,0)","v":0},{"$f":"IF(MLK2>=Inputs!$E$38,$D$26,0)","v":0},{"$f":"IF(MLL2>=Inputs!$E$38,$D$26,0)","v":0},{"$f":"IF(MLM2>=Inputs!$E$38,$D$26,0)","v":0},{"$f":"IF(MLN2>=Inputs!$E$38,$D$26,0)","v":0},{"$f":"IF(MLO2>=Inputs!$E$38,$D$26,0)","v":0},{"$f":"IF(MLP2>=Inputs!$E$38,$D$26,0)","v":0},{"$f":"IF(MLQ2>=Inputs!$E$38,$D$26,0)","v":0},{"$f":"IF(MLR2>=Inputs!$E$38,$D$26,0)","v":0},{"$f":"IF(MLS2>=Inputs!$E$38,$D$26,0)","v":0},{"$f":"IF(MLT2>=Inputs!$E$38,$D$26,0)","v":0},{"$f":"IF(MLU2>=Inputs!$E$38,$D$26,0)","v":0},{"$f":"IF(MLV2>=Inputs!$E$38,$D$26,0)","v":0},{"$f":"IF(MLW2>=Inputs!$E$38,$D$26,0)","v":0},{"$f":"IF(MLX2>=Inputs!$E$38,$D$26,0)","v":0},{"$f":"IF(MLY2>=Inputs!$E$38,$D$26,0)","v":0},{"$f":"IF(MLZ2>=Inputs!$E$38,$D$26,0)","v":0},{"$f":"IF(MMA2>=Inputs!$E$38,$D$26,0)","v":0},{"$f":"IF(MMB2>=Inputs!$E$38,$D$26,0)","v":0},{"$f":"IF(MMC2>=Inputs!$E$38,$D$26,0)","v":0},{"$f":"IF(MMD2>=Inputs!$E$38,$D$26,0)","v":0},{"$f":"IF(MME2>=Inputs!$E$38,$D$26,0)","v":0},{"$f":"IF(MMF2>=Inputs!$E$38,$D$26,0)","v":0},{"$f":"IF(MMG2>=Inputs!$E$38,$D$26,0)","v":0},{"$f":"IF(MMH2>=Inputs!$E$38,$D$26,0)","v":0},{"$f":"IF(MMI2>=Inputs!$E$38,$D$26,0)","v":0},{"$f":"IF(MMJ2>=Inputs!$E$38,$D$26,0)","v":0},{"$f":"IF(MMK2>=Inputs!$E$38,$D$26,0)","v":0},{"$f":"IF(MML2>=Inputs!$E$38,$D$26,0)","v":0},{"$f":"IF(MMM2>=Inputs!$E$38,$D$26,0)","v":0},{"$f":"IF(MMN2>=Inputs!$E$38,$D$26,0)","v":0},{"$f":"IF(MMO2>=Inputs!$E$38,$D$26,0)","v":0},{"$f":"IF(MMP2>=Inputs!$E$38,$D$26,0)","v":0},{"$f":"IF(MMQ2>=Inputs!$E$38,$D$26,0)","v":0},{"$f":"IF(MMR2>=Inputs!$E$38,$D$26,0)","v":0},{"$f":"IF(MMS2>=Inputs!$E$38,$D$26,0)","v":0},{"$f":"IF(MMT2>=Inputs!$E$38,$D$26,0)","v":0},{"$f":"IF(MMU2>=Inputs!$E$38,$D$26,0)","v":0},{"$f":"IF(MMV2>=Inputs!$E$38,$D$26,0)","v":0},{"$f":"IF(MMW2>=Inputs!$E$38,$D$26,0)","v":0},{"$f":"IF(MMX2>=Inputs!$E$38,$D$26,0)","v":0},{"$f":"IF(MMY2>=Inputs!$E$38,$D$26,0)","v":0},{"$f":"IF(MMZ2>=Inputs!$E$38,$D$26,0)","v":0},{"$f":"IF(MNA2>=Inputs!$E$38,$D$26,0)","v":0},{"$f":"IF(MNB2>=Inputs!$E$38,$D$26,0)","v":0},{"$f":"IF(MNC2>=Inputs!$E$38,$D$26,0)","v":0},{"$f":"IF(MND2>=Inputs!$E$38,$D$26,0)","v":0},{"$f":"IF(MNE2>=Inputs!$E$38,$D$26,0)","v":0},{"$f":"IF(MNF2>=Inputs!$E$38,$D$26,0)","v":0},{"$f":"IF(MNG2>=Inputs!$E$38,$D$26,0)","v":0},{"$f":"IF(MNH2>=Inputs!$E$38,$D$26,0)","v":0},{"$f":"IF(MNI2>=Inputs!$E$38,$D$26,0)","v":0},{"$f":"IF(MNJ2>=Inputs!$E$38,$D$26,0)","v":0},{"$f":"IF(MNK2>=Inputs!$E$38,$D$26,0)","v":0},{"$f":"IF(MNL2>=Inputs!$E$38,$D$26,0)","v":0},{"$f":"IF(MNM2>=Inputs!$E$38,$D$26,0)","v":0},{"$f":"IF(MNN2>=Inputs!$E$38,$D$26,0)","v":0},{"$f":"IF(MNO2>=Inputs!$E$38,$D$26,0)","v":0},{"$f":"IF(MNP2>=Inputs!$E$38,$D$26,0)","v":0},{"$f":"IF(MNQ2>=Inputs!$E$38,$D$26,0)","v":0},{"$f":"IF(MNR2>=Inputs!$E$38,$D$26,0)","v":0},{"$f":"IF(MNS2>=Inputs!$E$38,$D$26,0)","v":0},{"$f":"IF(MNT2>=Inputs!$E$38,$D$26,0)","v":0},{"$f":"IF(MNU2>=Inputs!$E$38,$D$26,0)","v":0},{"$f":"IF(MNV2>=Inputs!$E$38,$D$26,0)","v":0},{"$f":"IF(MNW2>=Inputs!$E$38,$D$26,0)","v":0},{"$f":"IF(MNX2>=Inputs!$E$38,$D$26,0)","v":0},{"$f":"IF(MNY2>=Inputs!$E$38,$D$26,0)","v":0},{"$f":"IF(MNZ2>=Inputs!$E$38,$D$26,0)","v":0},{"$f":"IF(MOA2>=Inputs!$E$38,$D$26,0)","v":0},{"$f":"IF(MOB2>=Inputs!$E$38,$D$26,0)","v":0},{"$f":"IF(MOC2>=Inputs!$E$38,$D$26,0)","v":0},{"$f":"IF(MOD2>=Inputs!$E$38,$D$26,0)","v":0},{"$f":"IF(MOE2>=Inputs!$E$38,$D$26,0)","v":0},{"$f":"IF(MOF2>=Inputs!$E$38,$D$26,0)","v":0},{"$f":"IF(MOG2>=Inputs!$E$38,$D$26,0)","v":0},{"$f":"IF(MOH2>=Inputs!$E$38,$D$26,0)","v":0},{"$f":"IF(MOI2>=Inputs!$E$38,$D$26,0)","v":0},{"$f":"IF(MOJ2>=Inputs!$E$38,$D$26,0)","v":0},{"$f":"IF(MOK2>=Inputs!$E$38,$D$26,0)","v":0},{"$f":"IF(MOL2>=Inputs!$E$38,$D$26,0)","v":0},{"$f":"IF(MOM2>=Inputs!$E$38,$D$26,0)","v":0},{"$f":"IF(MON2>=Inputs!$E$38,$D$26,0)","v":0},{"$f":"IF(MOO2>=Inputs!$E$38,$D$26,0)","v":0},{"$f":"IF(MOP2>=Inputs!$E$38,$D$26,0)","v":0},{"$f":"IF(MOQ2>=Inputs!$E$38,$D$26,0)","v":0},{"$f":"IF(MOR2>=Inputs!$E$38,$D$26,0)","v":0},{"$f":"IF(MOS2>=Inputs!$E$38,$D$26,0)","v":0},{"$f":"IF(MOT2>=Inputs!$E$38,$D$26,0)","v":0},{"$f":"IF(MOU2>=Inputs!$E$38,$D$26,0)","v":0},{"$f":"IF(MOV2>=Inputs!$E$38,$D$26,0)","v":0},{"$f":"IF(MOW2>=Inputs!$E$38,$D$26,0)","v":0},{"$f":"IF(MOX2>=Inputs!$E$38,$D$26,0)","v":0},{"$f":"IF(MOY2>=Inputs!$E$38,$D$26,0)","v":0},{"$f":"IF(MOZ2>=Inputs!$E$38,$D$26,0)","v":0},{"$f":"IF(MPA2>=Inputs!$E$38,$D$26,0)","v":0},{"$f":"IF(MPB2>=Inputs!$E$38,$D$26,0)","v":0},{"$f":"IF(MPC2>=Inputs!$E$38,$D$26,0)","v":0},{"$f":"IF(MPD2>=Inputs!$E$38,$D$26,0)","v":0},{"$f":"IF(MPE2>=Inputs!$E$38,$D$26,0)","v":0},{"$f":"IF(MPF2>=Inputs!$E$38,$D$26,0)","v":0},{"$f":"IF(MPG2>=Inputs!$E$38,$D$26,0)","v":0},{"$f":"IF(MPH2>=Inputs!$E$38,$D$26,0)","v":0},{"$f":"IF(MPI2>=Inputs!$E$38,$D$26,0)","v":0},{"$f":"IF(MPJ2>=Inputs!$E$38,$D$26,0)","v":0},{"$f":"IF(MPK2>=Inputs!$E$38,$D$26,0)","v":0},{"$f":"IF(MPL2>=Inputs!$E$38,$D$26,0)","v":0},{"$f":"IF(MPM2>=Inputs!$E$38,$D$26,0)","v":0},{"$f":"IF(MPN2>=Inputs!$E$38,$D$26,0)","v":0},{"$f":"IF(MPO2>=Inputs!$E$38,$D$26,0)","v":0},{"$f":"IF(MPP2>=Inputs!$E$38,$D$26,0)","v":0},{"$f":"IF(MPQ2>=Inputs!$E$38,$D$26,0)","v":0},{"$f":"IF(MPR2>=Inputs!$E$38,$D$26,0)","v":0},{"$f":"IF(MPS2>=Inputs!$E$38,$D$26,0)","v":0},{"$f":"IF(MPT2>=Inputs!$E$38,$D$26,0)","v":0},{"$f":"IF(MPU2>=Inputs!$E$38,$D$26,0)","v":0},{"$f":"IF(MPV2>=Inputs!$E$38,$D$26,0)","v":0},{"$f":"IF(MPW2>=Inputs!$E$38,$D$26,0)","v":0},{"$f":"IF(MPX2>=Inputs!$E$38,$D$26,0)","v":0},{"$f":"IF(MPY2>=Inputs!$E$38,$D$26,0)","v":0},{"$f":"IF(MPZ2>=Inputs!$E$38,$D$26,0)","v":0},{"$f":"IF(MQA2>=Inputs!$E$38,$D$26,0)","v":0},{"$f":"IF(MQB2>=Inputs!$E$38,$D$26,0)","v":0},{"$f":"IF(MQC2>=Inputs!$E$38,$D$26,0)","v":0},{"$f":"IF(MQD2>=Inputs!$E$38,$D$26,0)","v":0},{"$f":"IF(MQE2>=Inputs!$E$38,$D$26,0)","v":0},{"$f":"IF(MQF2>=Inputs!$E$38,$D$26,0)","v":0},{"$f":"IF(MQG2>=Inputs!$E$38,$D$26,0)","v":0},{"$f":"IF(MQH2>=Inputs!$E$38,$D$26,0)","v":0},{"$f":"IF(MQI2>=Inputs!$E$38,$D$26,0)","v":0},{"$f":"IF(MQJ2>=Inputs!$E$38,$D$26,0)","v":0},{"$f":"IF(MQK2>=Inputs!$E$38,$D$26,0)","v":0},{"$f":"IF(MQL2>=Inputs!$E$38,$D$26,0)","v":0},{"$f":"IF(MQM2>=Inputs!$E$38,$D$26,0)","v":0},{"$f":"IF(MQN2>=Inputs!$E$38,$D$26,0)","v":0},{"$f":"IF(MQO2>=Inputs!$E$38,$D$26,0)","v":0},{"$f":"IF(MQP2>=Inputs!$E$38,$D$26,0)","v":0},{"$f":"IF(MQQ2>=Inputs!$E$38,$D$26,0)","v":0},{"$f":"IF(MQR2>=Inputs!$E$38,$D$26,0)","v":0},{"$f":"IF(MQS2>=Inputs!$E$38,$D$26,0)","v":0},{"$f":"IF(MQT2>=Inputs!$E$38,$D$26,0)","v":0},{"$f":"IF(MQU2>=Inputs!$E$38,$D$26,0)","v":0},{"$f":"IF(MQV2>=Inputs!$E$38,$D$26,0)","v":0},{"$f":"IF(MQW2>=Inputs!$E$38,$D$26,0)","v":0},{"$f":"IF(MQX2>=Inputs!$E$38,$D$26,0)","v":0},{"$f":"IF(MQY2>=Inputs!$E$38,$D$26,0)","v":0},{"$f":"IF(MQZ2>=Inputs!$E$38,$D$26,0)","v":0},{"$f":"IF(MRA2>=Inputs!$E$38,$D$26,0)","v":0},{"$f":"IF(MRB2>=Inputs!$E$38,$D$26,0)","v":0},{"$f":"IF(MRC2>=Inputs!$E$38,$D$26,0)","v":0},{"$f":"IF(MRD2>=Inputs!$E$38,$D$26,0)","v":0},{"$f":"IF(MRE2>=Inputs!$E$38,$D$26,0)","v":0},{"$f":"IF(MRF2>=Inputs!$E$38,$D$26,0)","v":0},{"$f":"IF(MRG2>=Inputs!$E$38,$D$26,0)","v":0},{"$f":"IF(MRH2>=Inputs!$E$38,$D$26,0)","v":0},{"$f":"IF(MRI2>=Inputs!$E$38,$D$26,0)","v":0},{"$f":"IF(MRJ2>=Inputs!$E$38,$D$26,0)","v":0},{"$f":"IF(MRK2>=Inputs!$E$38,$D$26,0)","v":0},{"$f":"IF(MRL2>=Inputs!$E$38,$D$26,0)","v":0},{"$f":"IF(MRM2>=Inputs!$E$38,$D$26,0)","v":0},{"$f":"IF(MRN2>=Inputs!$E$38,$D$26,0)","v":0},{"$f":"IF(MRO2>=Inputs!$E$38,$D$26,0)","v":0},{"$f":"IF(MRP2>=Inputs!$E$38,$D$26,0)","v":0},{"$f":"IF(MRQ2>=Inputs!$E$38,$D$26,0)","v":0},{"$f":"IF(MRR2>=Inputs!$E$38,$D$26,0)","v":0},{"$f":"IF(MRS2>=Inputs!$E$38,$D$26,0)","v":0},{"$f":"IF(MRT2>=Inputs!$E$38,$D$26,0)","v":0},{"$f":"IF(MRU2>=Inputs!$E$38,$D$26,0)","v":0},{"$f":"IF(MRV2>=Inputs!$E$38,$D$26,0)","v":0},{"$f":"IF(MRW2>=Inputs!$E$38,$D$26,0)","v":0},{"$f":"IF(MRX2>=Inputs!$E$38,$D$26,0)","v":0},{"$f":"IF(MRY2>=Inputs!$E$38,$D$26,0)","v":0},{"$f":"IF(MRZ2>=Inputs!$E$38,$D$26,0)","v":0},{"$f":"IF(MSA2>=Inputs!$E$38,$D$26,0)","v":0},{"$f":"IF(MSB2>=Inputs!$E$38,$D$26,0)","v":0},{"$f":"IF(MSC2>=Inputs!$E$38,$D$26,0)","v":0},{"$f":"IF(MSD2>=Inputs!$E$38,$D$26,0)","v":0},{"$f":"IF(MSE2>=Inputs!$E$38,$D$26,0)","v":0},{"$f":"IF(MSF2>=Inputs!$E$38,$D$26,0)","v":0},{"$f":"IF(MSG2>=Inputs!$E$38,$D$26,0)","v":0},{"$f":"IF(MSH2>=Inputs!$E$38,$D$26,0)","v":0},{"$f":"IF(MSI2>=Inputs!$E$38,$D$26,0)","v":0},{"$f":"IF(MSJ2>=Inputs!$E$38,$D$26,0)","v":0},{"$f":"IF(MSK2>=Inputs!$E$38,$D$26,0)","v":0},{"$f":"IF(MSL2>=Inputs!$E$38,$D$26,0)","v":0},{"$f":"IF(MSM2>=Inputs!$E$38,$D$26,0)","v":0},{"$f":"IF(MSN2>=Inputs!$E$38,$D$26,0)","v":0},{"$f":"IF(MSO2>=Inputs!$E$38,$D$26,0)","v":0},{"$f":"IF(MSP2>=Inputs!$E$38,$D$26,0)","v":0},{"$f":"IF(MSQ2>=Inputs!$E$38,$D$26,0)","v":0},{"$f":"IF(MSR2>=Inputs!$E$38,$D$26,0)","v":0},{"$f":"IF(MSS2>=Inputs!$E$38,$D$26,0)","v":0},{"$f":"IF(MST2>=Inputs!$E$38,$D$26,0)","v":0},{"$f":"IF(MSU2>=Inputs!$E$38,$D$26,0)","v":0},{"$f":"IF(MSV2>=Inputs!$E$38,$D$26,0)","v":0},{"$f":"IF(MSW2>=Inputs!$E$38,$D$26,0)","v":0},{"$f":"IF(MSX2>=Inputs!$E$38,$D$26,0)","v":0},{"$f":"IF(MSY2>=Inputs!$E$38,$D$26,0)","v":0},{"$f":"IF(MSZ2>=Inputs!$E$38,$D$26,0)","v":0},{"$f":"IF(MTA2>=Inputs!$E$38,$D$26,0)","v":0},{"$f":"IF(MTB2>=Inputs!$E$38,$D$26,0)","v":0},{"$f":"IF(MTC2>=Inputs!$E$38,$D$26,0)","v":0},{"$f":"IF(MTD2>=Inputs!$E$38,$D$26,0)","v":0},{"$f":"IF(MTE2>=Inputs!$E$38,$D$26,0)","v":0},{"$f":"IF(MTF2>=Inputs!$E$38,$D$26,0)","v":0},{"$f":"IF(MTG2>=Inputs!$E$38,$D$26,0)","v":0},{"$f":"IF(MTH2>=Inputs!$E$38,$D$26,0)","v":0},{"$f":"IF(MTI2>=Inputs!$E$38,$D$26,0)","v":0},{"$f":"IF(MTJ2>=Inputs!$E$38,$D$26,0)","v":0},{"$f":"IF(MTK2>=Inputs!$E$38,$D$26,0)","v":0},{"$f":"IF(MTL2>=Inputs!$E$38,$D$26,0)","v":0},{"$f":"IF(MTM2>=Inputs!$E$38,$D$26,0)","v":0},{"$f":"IF(MTN2>=Inputs!$E$38,$D$26,0)","v":0},{"$f":"IF(MTO2>=Inputs!$E$38,$D$26,0)","v":0},{"$f":"IF(MTP2>=Inputs!$E$38,$D$26,0)","v":0},{"$f":"IF(MTQ2>=Inputs!$E$38,$D$26,0)","v":0},{"$f":"IF(MTR2>=Inputs!$E$38,$D$26,0)","v":0},{"$f":"IF(MTS2>=Inputs!$E$38,$D$26,0)","v":0},{"$f":"IF(MTT2>=Inputs!$E$38,$D$26,0)","v":0},{"$f":"IF(MTU2>=Inputs!$E$38,$D$26,0)","v":0},{"$f":"IF(MTV2>=Inputs!$E$38,$D$26,0)","v":0},{"$f":"IF(MTW2>=Inputs!$E$38,$D$26,0)","v":0},{"$f":"IF(MTX2>=Inputs!$E$38,$D$26,0)","v":0},{"$f":"IF(MTY2>=Inputs!$E$38,$D$26,0)","v":0},{"$f":"IF(MTZ2>=Inputs!$E$38,$D$26,0)","v":0},{"$f":"IF(MUA2>=Inputs!$E$38,$D$26,0)","v":0},{"$f":"IF(MUB2>=Inputs!$E$38,$D$26,0)","v":0},{"$f":"IF(MUC2>=Inputs!$E$38,$D$26,0)","v":0},{"$f":"IF(MUD2>=Inputs!$E$38,$D$26,0)","v":0},{"$f":"IF(MUE2>=Inputs!$E$38,$D$26,0)","v":0},{"$f":"IF(MUF2>=Inputs!$E$38,$D$26,0)","v":0},{"$f":"IF(MUG2>=Inputs!$E$38,$D$26,0)","v":0},{"$f":"IF(MUH2>=Inputs!$E$38,$D$26,0)","v":0},{"$f":"IF(MUI2>=Inputs!$E$38,$D$26,0)","v":0},{"$f":"IF(MUJ2>=Inputs!$E$38,$D$26,0)","v":0},{"$f":"IF(MUK2>=Inputs!$E$38,$D$26,0)","v":0},{"$f":"IF(MUL2>=Inputs!$E$38,$D$26,0)","v":0},{"$f":"IF(MUM2>=Inputs!$E$38,$D$26,0)","v":0},{"$f":"IF(MUN2>=Inputs!$E$38,$D$26,0)","v":0},{"$f":"IF(MUO2>=Inputs!$E$38,$D$26,0)","v":0},{"$f":"IF(MUP2>=Inputs!$E$38,$D$26,0)","v":0},{"$f":"IF(MUQ2>=Inputs!$E$38,$D$26,0)","v":0},{"$f":"IF(MUR2>=Inputs!$E$38,$D$26,0)","v":0},{"$f":"IF(MUS2>=Inputs!$E$38,$D$26,0)","v":0},{"$f":"IF(MUT2>=Inputs!$E$38,$D$26,0)","v":0},{"$f":"IF(MUU2>=Inputs!$E$38,$D$26,0)","v":0},{"$f":"IF(MUV2>=Inputs!$E$38,$D$26,0)","v":0},{"$f":"IF(MUW2>=Inputs!$E$38,$D$26,0)","v":0},{"$f":"IF(MUX2>=Inputs!$E$38,$D$26,0)","v":0},{"$f":"IF(MUY2>=Inputs!$E$38,$D$26,0)","v":0},{"$f":"IF(MUZ2>=Inputs!$E$38,$D$26,0)","v":0},{"$f":"IF(MVA2>=Inputs!$E$38,$D$26,0)","v":0},{"$f":"IF(MVB2>=Inputs!$E$38,$D$26,0)","v":0},{"$f":"IF(MVC2>=Inputs!$E$38,$D$26,0)","v":0},{"$f":"IF(MVD2>=Inputs!$E$38,$D$26,0)","v":0},{"$f":"IF(MVE2>=Inputs!$E$38,$D$26,0)","v":0},{"$f":"IF(MVF2>=Inputs!$E$38,$D$26,0)","v":0},{"$f":"IF(MVG2>=Inputs!$E$38,$D$26,0)","v":0},{"$f":"IF(MVH2>=Inputs!$E$38,$D$26,0)","v":0},{"$f":"IF(MVI2>=Inputs!$E$38,$D$26,0)","v":0},{"$f":"IF(MVJ2>=Inputs!$E$38,$D$26,0)","v":0},{"$f":"IF(MVK2>=Inputs!$E$38,$D$26,0)","v":0},{"$f":"IF(MVL2>=Inputs!$E$38,$D$26,0)","v":0},{"$f":"IF(MVM2>=Inputs!$E$38,$D$26,0)","v":0},{"$f":"IF(MVN2>=Inputs!$E$38,$D$26,0)","v":0},{"$f":"IF(MVO2>=Inputs!$E$38,$D$26,0)","v":0},{"$f":"IF(MVP2>=Inputs!$E$38,$D$26,0)","v":0},{"$f":"IF(MVQ2>=Inputs!$E$38,$D$26,0)","v":0},{"$f":"IF(MVR2>=Inputs!$E$38,$D$26,0)","v":0},{"$f":"IF(MVS2>=Inputs!$E$38,$D$26,0)","v":0},{"$f":"IF(MVT2>=Inputs!$E$38,$D$26,0)","v":0},{"$f":"IF(MVU2>=Inputs!$E$38,$D$26,0)","v":0},{"$f":"IF(MVV2>=Inputs!$E$38,$D$26,0)","v":0},{"$f":"IF(MVW2>=Inputs!$E$38,$D$26,0)","v":0},{"$f":"IF(MVX2>=Inputs!$E$38,$D$26,0)","v":0},{"$f":"IF(MVY2>=Inputs!$E$38,$D$26,0)","v":0},{"$f":"IF(MVZ2>=Inputs!$E$38,$D$26,0)","v":0},{"$f":"IF(MWA2>=Inputs!$E$38,$D$26,0)","v":0},{"$f":"IF(MWB2>=Inputs!$E$38,$D$26,0)","v":0},{"$f":"IF(MWC2>=Inputs!$E$38,$D$26,0)","v":0},{"$f":"IF(MWD2>=Inputs!$E$38,$D$26,0)","v":0},{"$f":"IF(MWE2>=Inputs!$E$38,$D$26,0)","v":0},{"$f":"IF(MWF2>=Inputs!$E$38,$D$26,0)","v":0},{"$f":"IF(MWG2>=Inputs!$E$38,$D$26,0)","v":0},{"$f":"IF(MWH2>=Inputs!$E$38,$D$26,0)","v":0},{"$f":"IF(MWI2>=Inputs!$E$38,$D$26,0)","v":0},{"$f":"IF(MWJ2>=Inputs!$E$38,$D$26,0)","v":0},{"$f":"IF(MWK2>=Inputs!$E$38,$D$26,0)","v":0},{"$f":"IF(MWL2>=Inputs!$E$38,$D$26,0)","v":0},{"$f":"IF(MWM2>=Inputs!$E$38,$D$26,0)","v":0},{"$f":"IF(MWN2>=Inputs!$E$38,$D$26,0)","v":0},{"$f":"IF(MWO2>=Inputs!$E$38,$D$26,0)","v":0},{"$f":"IF(MWP2>=Inputs!$E$38,$D$26,0)","v":0},{"$f":"IF(MWQ2>=Inputs!$E$38,$D$26,0)","v":0},{"$f":"IF(MWR2>=Inputs!$E$38,$D$26,0)","v":0},{"$f":"IF(MWS2>=Inputs!$E$38,$D$26,0)","v":0},{"$f":"IF(MWT2>=Inputs!$E$38,$D$26,0)","v":0},{"$f":"IF(MWU2>=Inputs!$E$38,$D$26,0)","v":0},{"$f":"IF(MWV2>=Inputs!$E$38,$D$26,0)","v":0},{"$f":"IF(MWW2>=Inputs!$E$38,$D$26,0)","v":0},{"$f":"IF(MWX2>=Inputs!$E$38,$D$26,0)","v":0},{"$f":"IF(MWY2>=Inputs!$E$38,$D$26,0)","v":0},{"$f":"IF(MWZ2>=Inputs!$E$38,$D$26,0)","v":0},{"$f":"IF(MXA2>=Inputs!$E$38,$D$26,0)","v":0},{"$f":"IF(MXB2>=Inputs!$E$38,$D$26,0)","v":0},{"$f":"IF(MXC2>=Inputs!$E$38,$D$26,0)","v":0},{"$f":"IF(MXD2>=Inputs!$E$38,$D$26,0)","v":0},{"$f":"IF(MXE2>=Inputs!$E$38,$D$26,0)","v":0},{"$f":"IF(MXF2>=Inputs!$E$38,$D$26,0)","v":0},{"$f":"IF(MXG2>=Inputs!$E$38,$D$26,0)","v":0},{"$f":"IF(MXH2>=Inputs!$E$38,$D$26,0)","v":0},{"$f":"IF(MXI2>=Inputs!$E$38,$D$26,0)","v":0},{"$f":"IF(MXJ2>=Inputs!$E$38,$D$26,0)","v":0},{"$f":"IF(MXK2>=Inputs!$E$38,$D$26,0)","v":0},{"$f":"IF(MXL2>=Inputs!$E$38,$D$26,0)","v":0},{"$f":"IF(MXM2>=Inputs!$E$38,$D$26,0)","v":0},{"$f":"IF(MXN2>=Inputs!$E$38,$D$26,0)","v":0},{"$f":"IF(MXO2>=Inputs!$E$38,$D$26,0)","v":0},{"$f":"IF(MXP2>=Inputs!$E$38,$D$26,0)","v":0},{"$f":"IF(MXQ2>=Inputs!$E$38,$D$26,0)","v":0},{"$f":"IF(MXR2>=Inputs!$E$38,$D$26,0)","v":0},{"$f":"IF(MXS2>=Inputs!$E$38,$D$26,0)","v":0},{"$f":"IF(MXT2>=Inputs!$E$38,$D$26,0)","v":0},{"$f":"IF(MXU2>=Inputs!$E$38,$D$26,0)","v":0},{"$f":"IF(MXV2>=Inputs!$E$38,$D$26,0)","v":0},{"$f":"IF(MXW2>=Inputs!$E$38,$D$26,0)","v":0},{"$f":"IF(MXX2>=Inputs!$E$38,$D$26,0)","v":0},{"$f":"IF(MXY2>=Inputs!$E$38,$D$26,0)","v":0},{"$f":"IF(MXZ2>=Inputs!$E$38,$D$26,0)","v":0},{"$f":"IF(MYA2>=Inputs!$E$38,$D$26,0)","v":0},{"$f":"IF(MYB2>=Inputs!$E$38,$D$26,0)","v":0},{"$f":"IF(MYC2>=Inputs!$E$38,$D$26,0)","v":0},{"$f":"IF(MYD2>=Inputs!$E$38,$D$26,0)","v":0},{"$f":"IF(MYE2>=Inputs!$E$38,$D$26,0)","v":0},{"$f":"IF(MYF2>=Inputs!$E$38,$D$26,0)","v":0},{"$f":"IF(MYG2>=Inputs!$E$38,$D$26,0)","v":0},{"$f":"IF(MYH2>=Inputs!$E$38,$D$26,0)","v":0},{"$f":"IF(MYI2>=Inputs!$E$38,$D$26,0)","v":0},{"$f":"IF(MYJ2>=Inputs!$E$38,$D$26,0)","v":0},{"$f":"IF(MYK2>=Inputs!$E$38,$D$26,0)","v":0},{"$f":"IF(MYL2>=Inputs!$E$38,$D$26,0)","v":0},{"$f":"IF(MYM2>=Inputs!$E$38,$D$26,0)","v":0},{"$f":"IF(MYN2>=Inputs!$E$38,$D$26,0)","v":0},{"$f":"IF(MYO2>=Inputs!$E$38,$D$26,0)","v":0},{"$f":"IF(MYP2>=Inputs!$E$38,$D$26,0)","v":0},{"$f":"IF(MYQ2>=Inputs!$E$38,$D$26,0)","v":0},{"$f":"IF(MYR2>=Inputs!$E$38,$D$26,0)","v":0},{"$f":"IF(MYS2>=Inputs!$E$38,$D$26,0)","v":0},{"$f":"IF(MYT2>=Inputs!$E$38,$D$26,0)","v":0},{"$f":"IF(MYU2>=Inputs!$E$38,$D$26,0)","v":0},{"$f":"IF(MYV2>=Inputs!$E$38,$D$26,0)","v":0},{"$f":"IF(MYW2>=Inputs!$E$38,$D$26,0)","v":0},{"$f":"IF(MYX2>=Inputs!$E$38,$D$26,0)","v":0},{"$f":"IF(MYY2>=Inputs!$E$38,$D$26,0)","v":0},{"$f":"IF(MYZ2>=Inputs!$E$38,$D$26,0)","v":0},{"$f":"IF(MZA2>=Inputs!$E$38,$D$26,0)","v":0},{"$f":"IF(MZB2>=Inputs!$E$38,$D$26,0)","v":0},{"$f":"IF(MZC2>=Inputs!$E$38,$D$26,0)","v":0},{"$f":"IF(MZD2>=Inputs!$E$38,$D$26,0)","v":0},{"$f":"IF(MZE2>=Inputs!$E$38,$D$26,0)","v":0},{"$f":"IF(MZF2>=Inputs!$E$38,$D$26,0)","v":0},{"$f":"IF(MZG2>=Inputs!$E$38,$D$26,0)","v":0},{"$f":"IF(MZH2>=Inputs!$E$38,$D$26,0)","v":0},{"$f":"IF(MZI2>=Inputs!$E$38,$D$26,0)","v":0},{"$f":"IF(MZJ2>=Inputs!$E$38,$D$26,0)","v":0},{"$f":"IF(MZK2>=Inputs!$E$38,$D$26,0)","v":0},{"$f":"IF(MZL2>=Inputs!$E$38,$D$26,0)","v":0},{"$f":"IF(MZM2>=Inputs!$E$38,$D$26,0)","v":0},{"$f":"IF(MZN2>=Inputs!$E$38,$D$26,0)","v":0},{"$f":"IF(MZO2>=Inputs!$E$38,$D$26,0)","v":0},{"$f":"IF(MZP2>=Inputs!$E$38,$D$26,0)","v":0},{"$f":"IF(MZQ2>=Inputs!$E$38,$D$26,0)","v":0},{"$f":"IF(MZR2>=Inputs!$E$38,$D$26,0)","v":0},{"$f":"IF(MZS2>=Inputs!$E$38,$D$26,0)","v":0},{"$f":"IF(MZT2>=Inputs!$E$38,$D$26,0)","v":0},{"$f":"IF(MZU2>=Inputs!$E$38,$D$26,0)","v":0},{"$f":"IF(MZV2>=Inputs!$E$38,$D$26,0)","v":0},{"$f":"IF(MZW2>=Inputs!$E$38,$D$26,0)","v":0},{"$f":"IF(MZX2>=Inputs!$E$38,$D$26,0)","v":0},{"$f":"IF(MZY2>=Inputs!$E$38,$D$26,0)","v":0},{"$f":"IF(MZZ2>=Inputs!$E$38,$D$26,0)","v":0},{"$f":"IF(NAA2>=Inputs!$E$38,$D$26,0)","v":0},{"$f":"IF(NAB2>=Inputs!$E$38,$D$26,0)","v":0},{"$f":"IF(NAC2>=Inputs!$E$38,$D$26,0)","v":0},{"$f":"IF(NAD2>=Inputs!$E$38,$D$26,0)","v":0},{"$f":"IF(NAE2>=Inputs!$E$38,$D$26,0)","v":0},{"$f":"IF(NAF2>=Inputs!$E$38,$D$26,0)","v":0},{"$f":"IF(NAG2>=Inputs!$E$38,$D$26,0)","v":0},{"$f":"IF(NAH2>=Inputs!$E$38,$D$26,0)","v":0},{"$f":"IF(NAI2>=Inputs!$E$38,$D$26,0)","v":0},{"$f":"IF(NAJ2>=Inputs!$E$38,$D$26,0)","v":0},{"$f":"IF(NAK2>=Inputs!$E$38,$D$26,0)","v":0},{"$f":"IF(NAL2>=Inputs!$E$38,$D$26,0)","v":0},{"$f":"IF(NAM2>=Inputs!$E$38,$D$26,0)","v":0},{"$f":"IF(NAN2>=Inputs!$E$38,$D$26,0)","v":0},{"$f":"IF(NAO2>=Inputs!$E$38,$D$26,0)","v":0},{"$f":"IF(NAP2>=Inputs!$E$38,$D$26,0)","v":0},{"$f":"IF(NAQ2>=Inputs!$E$38,$D$26,0)","v":0},{"$f":"IF(NAR2>=Inputs!$E$38,$D$26,0)","v":0},{"$f":"IF(NAS2>=Inputs!$E$38,$D$26,0)","v":0},{"$f":"IF(NAT2>=Inputs!$E$38,$D$26,0)","v":0},{"$f":"IF(NAU2>=Inputs!$E$38,$D$26,0)","v":0},{"$f":"IF(NAV2>=Inputs!$E$38,$D$26,0)","v":0},{"$f":"IF(NAW2>=Inputs!$E$38,$D$26,0)","v":0},{"$f":"IF(NAX2>=Inputs!$E$38,$D$26,0)","v":0},{"$f":"IF(NAY2>=Inputs!$E$38,$D$26,0)","v":0},{"$f":"IF(NAZ2>=Inputs!$E$38,$D$26,0)","v":0},{"$f":"IF(NBA2>=Inputs!$E$38,$D$26,0)","v":0},{"$f":"IF(NBB2>=Inputs!$E$38,$D$26,0)","v":0},{"$f":"IF(NBC2>=Inputs!$E$38,$D$26,0)","v":0},{"$f":"IF(NBD2>=Inputs!$E$38,$D$26,0)","v":0},{"$f":"IF(NBE2>=Inputs!$E$38,$D$26,0)","v":0},{"$f":"IF(NBF2>=Inputs!$E$38,$D$26,0)","v":0},{"$f":"IF(NBG2>=Inputs!$E$38,$D$26,0)","v":0},{"$f":"IF(NBH2>=Inputs!$E$38,$D$26,0)","v":0},{"$f":"IF(NBI2>=Inputs!$E$38,$D$26,0)","v":0},{"$f":"IF(NBJ2>=Inputs!$E$38,$D$26,0)","v":0},{"$f":"IF(NBK2>=Inputs!$E$38,$D$26,0)","v":0},{"$f":"IF(NBL2>=Inputs!$E$38,$D$26,0)","v":0},{"$f":"IF(NBM2>=Inputs!$E$38,$D$26,0)","v":0},{"$f":"IF(NBN2>=Inputs!$E$38,$D$26,0)","v":0},{"$f":"IF(NBO2>=Inputs!$E$38,$D$26,0)","v":0},{"$f":"IF(NBP2>=Inputs!$E$38,$D$26,0)","v":0},{"$f":"IF(NBQ2>=Inputs!$E$38,$D$26,0)","v":0},{"$f":"IF(NBR2>=Inputs!$E$38,$D$26,0)","v":0},{"$f":"IF(NBS2>=Inputs!$E$38,$D$26,0)","v":0},{"$f":"IF(NBT2>=Inputs!$E$38,$D$26,0)","v":0},{"$f":"IF(NBU2>=Inputs!$E$38,$D$26,0)","v":0},{"$f":"IF(NBV2>=Inputs!$E$38,$D$26,0)","v":0},{"$f":"IF(NBW2>=Inputs!$E$38,$D$26,0)","v":0},{"$f":"IF(NBX2>=Inputs!$E$38,$D$26,0)","v":0},{"$f":"IF(NBY2>=Inputs!$E$38,$D$26,0)","v":0},{"$f":"IF(NBZ2>=Inputs!$E$38,$D$26,0)","v":0},{"$f":"IF(NCA2>=Inputs!$E$38,$D$26,0)","v":0},{"$f":"IF(NCB2>=Inputs!$E$38,$D$26,0)","v":0},{"$f":"IF(NCC2>=Inputs!$E$38,$D$26,0)","v":0},{"$f":"IF(NCD2>=Inputs!$E$38,$D$26,0)","v":0},{"$f":"IF(NCE2>=Inputs!$E$38,$D$26,0)","v":0},{"$f":"IF(NCF2>=Inputs!$E$38,$D$26,0)","v":0},{"$f":"IF(NCG2>=Inputs!$E$38,$D$26,0)","v":0},{"$f":"IF(NCH2>=Inputs!$E$38,$D$26,0)","v":0},{"$f":"IF(NCI2>=Inputs!$E$38,$D$26,0)","v":0},{"$f":"IF(NCJ2>=Inputs!$E$38,$D$26,0)","v":0},{"$f":"IF(NCK2>=Inputs!$E$38,$D$26,0)","v":0},{"$f":"IF(NCL2>=Inputs!$E$38,$D$26,0)","v":0},{"$f":"IF(NCM2>=Inputs!$E$38,$D$26,0)","v":0},{"$f":"IF(NCN2>=Inputs!$E$38,$D$26,0)","v":0},{"$f":"IF(NCO2>=Inputs!$E$38,$D$26,0)","v":0},{"$f":"IF(NCP2>=Inputs!$E$38,$D$26,0)","v":0},{"$f":"IF(NCQ2>=Inputs!$E$38,$D$26,0)","v":0},{"$f":"IF(NCR2>=Inputs!$E$38,$D$26,0)","v":0},{"$f":"IF(NCS2>=Inputs!$E$38,$D$26,0)","v":0},{"$f":"IF(NCT2>=Inputs!$E$38,$D$26,0)","v":0},{"$f":"IF(NCU2>=Inputs!$E$38,$D$26,0)","v":0},{"$f":"IF(NCV2>=Inputs!$E$38,$D$26,0)","v":0},{"$f":"IF(NCW2>=Inputs!$E$38,$D$26,0)","v":0},{"$f":"IF(NCX2>=Inputs!$E$38,$D$26,0)","v":0},{"$f":"IF(NCY2>=Inputs!$E$38,$D$26,0)","v":0},{"$f":"IF(NCZ2>=Inputs!$E$38,$D$26,0)","v":0},{"$f":"IF(NDA2>=Inputs!$E$38,$D$26,0)","v":0},{"$f":"IF(NDB2>=Inputs!$E$38,$D$26,0)","v":0},{"$f":"IF(NDC2>=Inputs!$E$38,$D$26,0)","v":0},{"$f":"IF(NDD2>=Inputs!$E$38,$D$26,0)","v":0},{"$f":"IF(NDE2>=Inputs!$E$38,$D$26,0)","v":0},{"$f":"IF(NDF2>=Inputs!$E$38,$D$26,0)","v":0},{"$f":"IF(NDG2>=Inputs!$E$38,$D$26,0)","v":0},{"$f":"IF(NDH2>=Inputs!$E$38,$D$26,0)","v":0},{"$f":"IF(NDI2>=Inputs!$E$38,$D$26,0)","v":0},{"$f":"IF(NDJ2>=Inputs!$E$38,$D$26,0)","v":0},{"$f":"IF(NDK2>=Inputs!$E$38,$D$26,0)","v":0},{"$f":"IF(NDL2>=Inputs!$E$38,$D$26,0)","v":0},{"$f":"IF(NDM2>=Inputs!$E$38,$D$26,0)","v":0},{"$f":"IF(NDN2>=Inputs!$E$38,$D$26,0)","v":0},{"$f":"IF(NDO2>=Inputs!$E$38,$D$26,0)","v":0},{"$f":"IF(NDP2>=Inputs!$E$38,$D$26,0)","v":0},{"$f":"IF(NDQ2>=Inputs!$E$38,$D$26,0)","v":0},{"$f":"IF(NDR2>=Inputs!$E$38,$D$26,0)","v":0},{"$f":"IF(NDS2>=Inputs!$E$38,$D$26,0)","v":0},{"$f":"IF(NDT2>=Inputs!$E$38,$D$26,0)","v":0},{"$f":"IF(NDU2>=Inputs!$E$38,$D$26,0)","v":0},{"$f":"IF(NDV2>=Inputs!$E$38,$D$26,0)","v":0},{"$f":"IF(NDW2>=Inputs!$E$38,$D$26,0)","v":0},{"$f":"IF(NDX2>=Inputs!$E$38,$D$26,0)","v":0},{"$f":"IF(NDY2>=Inputs!$E$38,$D$26,0)","v":0},{"$f":"IF(NDZ2>=Inputs!$E$38,$D$26,0)","v":0},{"$f":"IF(NEA2>=Inputs!$E$38,$D$26,0)","v":0},{"$f":"IF(NEB2>=Inputs!$E$38,$D$26,0)","v":0},{"$f":"IF(NEC2>=Inputs!$E$38,$D$26,0)","v":0},{"$f":"IF(NED2>=Inputs!$E$38,$D$26,0)","v":0},{"$f":"IF(NEE2>=Inputs!$E$38,$D$26,0)","v":0},{"$f":"IF(NEF2>=Inputs!$E$38,$D$26,0)","v":0},{"$f":"IF(NEG2>=Inputs!$E$38,$D$26,0)","v":0},{"$f":"IF(NEH2>=Inputs!$E$38,$D$26,0)","v":0},{"$f":"IF(NEI2>=Inputs!$E$38,$D$26,0)","v":0},{"$f":"IF(NEJ2>=Inputs!$E$38,$D$26,0)","v":0},{"$f":"IF(NEK2>=Inputs!$E$38,$D$26,0)","v":0},{"$f":"IF(NEL2>=Inputs!$E$38,$D$26,0)","v":0},{"$f":"IF(NEM2>=Inputs!$E$38,$D$26,0)","v":0},{"$f":"IF(NEN2>=Inputs!$E$38,$D$26,0)","v":0},{"$f":"IF(NEO2>=Inputs!$E$38,$D$26,0)","v":0},{"$f":"IF(NEP2>=Inputs!$E$38,$D$26,0)","v":0},{"$f":"IF(NEQ2>=Inputs!$E$38,$D$26,0)","v":0},{"$f":"IF(NER2>=Inputs!$E$38,$D$26,0)","v":0},{"$f":"IF(NES2>=Inputs!$E$38,$D$26,0)","v":0},{"$f":"IF(NET2>=Inputs!$E$38,$D$26,0)","v":0},{"$f":"IF(NEU2>=Inputs!$E$38,$D$26,0)","v":0},{"$f":"IF(NEV2>=Inputs!$E$38,$D$26,0)","v":0},{"$f":"IF(NEW2>=Inputs!$E$38,$D$26,0)","v":0},{"$f":"IF(NEX2>=Inputs!$E$38,$D$26,0)","v":0},{"$f":"IF(NEY2>=Inputs!$E$38,$D$26,0)","v":0},{"$f":"IF(NEZ2>=Inputs!$E$38,$D$26,0)","v":0},{"$f":"IF(NFA2>=Inputs!$E$38,$D$26,0)","v":0},{"$f":"IF(NFB2>=Inputs!$E$38,$D$26,0)","v":0},{"$f":"IF(NFC2>=Inputs!$E$38,$D$26,0)","v":0},{"$f":"IF(NFD2>=Inputs!$E$38,$D$26,0)","v":0},{"$f":"IF(NFE2>=Inputs!$E$38,$D$26,0)","v":0},{"$f":"IF(NFF2>=Inputs!$E$38,$D$26,0)","v":0},{"$f":"IF(NFG2>=Inputs!$E$38,$D$26,0)","v":0},{"$f":"IF(NFH2>=Inputs!$E$38,$D$26,0)","v":0},{"$f":"IF(NFI2>=Inputs!$E$38,$D$26,0)","v":0},{"$f":"IF(NFJ2>=Inputs!$E$38,$D$26,0)","v":0},{"$f":"IF(NFK2>=Inputs!$E$38,$D$26,0)","v":0},{"$f":"IF(NFL2>=Inputs!$E$38,$D$26,0)","v":0},{"$f":"IF(NFM2>=Inputs!$E$38,$D$26,0)","v":0},{"$f":"IF(NFN2>=Inputs!$E$38,$D$26,0)","v":0},{"$f":"IF(NFO2>=Inputs!$E$38,$D$26,0)","v":0},{"$f":"IF(NFP2>=Inputs!$E$38,$D$26,0)","v":0},{"$f":"IF(NFQ2>=Inputs!$E$38,$D$26,0)","v":0},{"$f":"IF(NFR2>=Inputs!$E$38,$D$26,0)","v":0},{"$f":"IF(NFS2>=Inputs!$E$38,$D$26,0)","v":0},{"$f":"IF(NFT2>=Inputs!$E$38,$D$26,0)","v":0},{"$f":"IF(NFU2>=Inputs!$E$38,$D$26,0)","v":0},{"$f":"IF(NFV2>=Inputs!$E$38,$D$26,0)","v":0},{"$f":"IF(NFW2>=Inputs!$E$38,$D$26,0)","v":0},{"$f":"IF(NFX2>=Inputs!$E$38,$D$26,0)","v":0},{"$f":"IF(NFY2>=Inputs!$E$38,$D$26,0)","v":0},{"$f":"IF(NFZ2>=Inputs!$E$38,$D$26,0)","v":0},{"$f":"IF(NGA2>=Inputs!$E$38,$D$26,0)","v":0},{"$f":"IF(NGB2>=Inputs!$E$38,$D$26,0)","v":0},{"$f":"IF(NGC2>=Inputs!$E$38,$D$26,0)","v":0},{"$f":"IF(NGD2>=Inputs!$E$38,$D$26,0)","v":0},{"$f":"IF(NGE2>=Inputs!$E$38,$D$26,0)","v":0},{"$f":"IF(NGF2>=Inputs!$E$38,$D$26,0)","v":0},{"$f":"IF(NGG2>=Inputs!$E$38,$D$26,0)","v":0},{"$f":"IF(NGH2>=Inputs!$E$38,$D$26,0)","v":0},{"$f":"IF(NGI2>=Inputs!$E$38,$D$26,0)","v":0},{"$f":"IF(NGJ2>=Inputs!$E$38,$D$26,0)","v":0},{"$f":"IF(NGK2>=Inputs!$E$38,$D$26,0)","v":0},{"$f":"IF(NGL2>=Inputs!$E$38,$D$26,0)","v":0},{"$f":"IF(NGM2>=Inputs!$E$38,$D$26,0)","v":0},{"$f":"IF(NGN2>=Inputs!$E$38,$D$26,0)","v":0},{"$f":"IF(NGO2>=Inputs!$E$38,$D$26,0)","v":0},{"$f":"IF(NGP2>=Inputs!$E$38,$D$26,0)","v":0},{"$f":"IF(NGQ2>=Inputs!$E$38,$D$26,0)","v":0},{"$f":"IF(NGR2>=Inputs!$E$38,$D$26,0)","v":0},{"$f":"IF(NGS2>=Inputs!$E$38,$D$26,0)","v":0},{"$f":"IF(NGT2>=Inputs!$E$38,$D$26,0)","v":0},{"$f":"IF(NGU2>=Inputs!$E$38,$D$26,0)","v":0},{"$f":"IF(NGV2>=Inputs!$E$38,$D$26,0)","v":0},{"$f":"IF(NGW2>=Inputs!$E$38,$D$26,0)","v":0},{"$f":"IF(NGX2>=Inputs!$E$38,$D$26,0)","v":0},{"$f":"IF(NGY2>=Inputs!$E$38,$D$26,0)","v":0},{"$f":"IF(NGZ2>=Inputs!$E$38,$D$26,0)","v":0},{"$f":"IF(NHA2>=Inputs!$E$38,$D$26,0)","v":0},{"$f":"IF(NHB2>=Inputs!$E$38,$D$26,0)","v":0},{"$f":"IF(NHC2>=Inputs!$E$38,$D$26,0)","v":0},{"$f":"IF(NHD2>=Inputs!$E$38,$D$26,0)","v":0},{"$f":"IF(NHE2>=Inputs!$E$38,$D$26,0)","v":0},{"$f":"IF(NHF2>=Inputs!$E$38,$D$26,0)","v":0},{"$f":"IF(NHG2>=Inputs!$E$38,$D$26,0)","v":0},{"$f":"IF(NHH2>=Inputs!$E$38,$D$26,0)","v":0},{"$f":"IF(NHI2>=Inputs!$E$38,$D$26,0)","v":0},{"$f":"IF(NHJ2>=Inputs!$E$38,$D$26,0)","v":0},{"$f":"IF(NHK2>=Inputs!$E$38,$D$26,0)","v":0},{"$f":"IF(NHL2>=Inputs!$E$38,$D$26,0)","v":0},{"$f":"IF(NHM2>=Inputs!$E$38,$D$26,0)","v":0},{"$f":"IF(NHN2>=Inputs!$E$38,$D$26,0)","v":0},{"$f":"IF(NHO2>=Inputs!$E$38,$D$26,0)","v":0},{"$f":"IF(NHP2>=Inputs!$E$38,$D$26,0)","v":0},{"$f":"IF(NHQ2>=Inputs!$E$38,$D$26,0)","v":0},{"$f":"IF(NHR2>=Inputs!$E$38,$D$26,0)","v":0},{"$f":"IF(NHS2>=Inputs!$E$38,$D$26,0)","v":0},{"$f":"IF(NHT2>=Inputs!$E$38,$D$26,0)","v":0},{"$f":"IF(NHU2>=Inputs!$E$38,$D$26,0)","v":0},{"$f":"IF(NHV2>=Inputs!$E$38,$D$26,0)","v":0},{"$f":"IF(NHW2>=Inputs!$E$38,$D$26,0)","v":0},{"$f":"IF(NHX2>=Inputs!$E$38,$D$26,0)","v":0},{"$f":"IF(NHY2>=Inputs!$E$38,$D$26,0)","v":0},{"$f":"IF(NHZ2>=Inputs!$E$38,$D$26,0)","v":0},{"$f":"IF(NIA2>=Inputs!$E$38,$D$26,0)","v":0},{"$f":"IF(NIB2>=Inputs!$E$38,$D$26,0)","v":0},{"$f":"IF(NIC2>=Inputs!$E$38,$D$26,0)","v":0},{"$f":"IF(NID2>=Inputs!$E$38,$D$26,0)","v":0},{"$f":"IF(NIE2>=Inputs!$E$38,$D$26,0)","v":0},{"$f":"IF(NIF2>=Inputs!$E$38,$D$26,0)","v":0},{"$f":"IF(NIG2>=Inputs!$E$38,$D$26,0)","v":0},{"$f":"IF(NIH2>=Inputs!$E$38,$D$26,0)","v":0},{"$f":"IF(NII2>=Inputs!$E$38,$D$26,0)","v":0},{"$f":"IF(NIJ2>=Inputs!$E$38,$D$26,0)","v":0},{"$f":"IF(NIK2>=Inputs!$E$38,$D$26,0)","v":0},{"$f":"IF(NIL2>=Inputs!$E$38,$D$26,0)","v":0},{"$f":"IF(NIM2>=Inputs!$E$38,$D$26,0)","v":0},{"$f":"IF(NIN2>=Inputs!$E$38,$D$26,0)","v":0},{"$f":"IF(NIO2>=Inputs!$E$38,$D$26,0)","v":0},{"$f":"IF(NIP2>=Inputs!$E$38,$D$26,0)","v":0},{"$f":"IF(NIQ2>=Inputs!$E$38,$D$26,0)","v":0},{"$f":"IF(NIR2>=Inputs!$E$38,$D$26,0)","v":0},{"$f":"IF(NIS2>=Inputs!$E$38,$D$26,0)","v":0},{"$f":"IF(NIT2>=Inputs!$E$38,$D$26,0)","v":0},{"$f":"IF(NIU2>=Inputs!$E$38,$D$26,0)","v":0},{"$f":"IF(NIV2>=Inputs!$E$38,$D$26,0)","v":0},{"$f":"IF(NIW2>=Inputs!$E$38,$D$26,0)","v":0},{"$f":"IF(NIX2>=Inputs!$E$38,$D$26,0)","v":0},{"$f":"IF(NIY2>=Inputs!$E$38,$D$26,0)","v":0},{"$f":"IF(NIZ2>=Inputs!$E$38,$D$26,0)","v":0},{"$f":"IF(NJA2>=Inputs!$E$38,$D$26,0)","v":0},{"$f":"IF(NJB2>=Inputs!$E$38,$D$26,0)","v":0},{"$f":"IF(NJC2>=Inputs!$E$38,$D$26,0)","v":0},{"$f":"IF(NJD2>=Inputs!$E$38,$D$26,0)","v":0},{"$f":"IF(NJE2>=Inputs!$E$38,$D$26,0)","v":0},{"$f":"IF(NJF2>=Inputs!$E$38,$D$26,0)","v":0},{"$f":"IF(NJG2>=Inputs!$E$38,$D$26,0)","v":0},{"$f":"IF(NJH2>=Inputs!$E$38,$D$26,0)","v":0},{"$f":"IF(NJI2>=Inputs!$E$38,$D$26,0)","v":0},{"$f":"IF(NJJ2>=Inputs!$E$38,$D$26,0)","v":0},{"$f":"IF(NJK2>=Inputs!$E$38,$D$26,0)","v":0},{"$f":"IF(NJL2>=Inputs!$E$38,$D$26,0)","v":0},{"$f":"IF(NJM2>=Inputs!$E$38,$D$26,0)","v":0},{"$f":"IF(NJN2>=Inputs!$E$38,$D$26,0)","v":0},{"$f":"IF(NJO2>=Inputs!$E$38,$D$26,0)","v":0},{"$f":"IF(NJP2>=Inputs!$E$38,$D$26,0)","v":0},{"$f":"IF(NJQ2>=Inputs!$E$38,$D$26,0)","v":0},{"$f":"IF(NJR2>=Inputs!$E$38,$D$26,0)","v":0},{"$f":"IF(NJS2>=Inputs!$E$38,$D$26,0)","v":0},{"$f":"IF(NJT2>=Inputs!$E$38,$D$26,0)","v":0},{"$f":"IF(NJU2>=Inputs!$E$38,$D$26,0)","v":0},{"$f":"IF(NJV2>=Inputs!$E$38,$D$26,0)","v":0},{"$f":"IF(NJW2>=Inputs!$E$38,$D$26,0)","v":0},{"$f":"IF(NJX2>=Inputs!$E$38,$D$26,0)","v":0},{"$f":"IF(NJY2>=Inputs!$E$38,$D$26,0)","v":0},{"$f":"IF(NJZ2>=Inputs!$E$38,$D$26,0)","v":0},{"$f":"IF(NKA2>=Inputs!$E$38,$D$26,0)","v":0},{"$f":"IF(NKB2>=Inputs!$E$38,$D$26,0)","v":0},{"$f":"IF(NKC2>=Inputs!$E$38,$D$26,0)","v":0},{"$f":"IF(NKD2>=Inputs!$E$38,$D$26,0)","v":0},{"$f":"IF(NKE2>=Inputs!$E$38,$D$26,0)","v":0},{"$f":"IF(NKF2>=Inputs!$E$38,$D$26,0)","v":0},{"$f":"IF(NKG2>=Inputs!$E$38,$D$26,0)","v":0},{"$f":"IF(NKH2>=Inputs!$E$38,$D$26,0)","v":0},{"$f":"IF(NKI2>=Inputs!$E$38,$D$26,0)","v":0},{"$f":"IF(NKJ2>=Inputs!$E$38,$D$26,0)","v":0},{"$f":"IF(NKK2>=Inputs!$E$38,$D$26,0)","v":0},{"$f":"IF(NKL2>=Inputs!$E$38,$D$26,0)","v":0},{"$f":"IF(NKM2>=Inputs!$E$38,$D$26,0)","v":0},{"$f":"IF(NKN2>=Inputs!$E$38,$D$26,0)","v":0},{"$f":"IF(NKO2>=Inputs!$E$38,$D$26,0)","v":0},{"$f":"IF(NKP2>=Inputs!$E$38,$D$26,0)","v":0},{"$f":"IF(NKQ2>=Inputs!$E$38,$D$26,0)","v":0},{"$f":"IF(NKR2>=Inputs!$E$38,$D$26,0)","v":0},{"$f":"IF(NKS2>=Inputs!$E$38,$D$26,0)","v":0},{"$f":"IF(NKT2>=Inputs!$E$38,$D$26,0)","v":0},{"$f":"IF(NKU2>=Inputs!$E$38,$D$26,0)","v":0},{"$f":"IF(NKV2>=Inputs!$E$38,$D$26,0)","v":0},{"$f":"IF(NKW2>=Inputs!$E$38,$D$26,0)","v":0},{"$f":"IF(NKX2>=Inputs!$E$38,$D$26,0)","v":0},{"$f":"IF(NKY2>=Inputs!$E$38,$D$26,0)","v":0},{"$f":"IF(NKZ2>=Inputs!$E$38,$D$26,0)","v":0},{"$f":"IF(NLA2>=Inputs!$E$38,$D$26,0)","v":0},{"$f":"IF(NLB2>=Inputs!$E$38,$D$26,0)","v":0},{"$f":"IF(NLC2>=Inputs!$E$38,$D$26,0)","v":0},{"$f":"IF(NLD2>=Inputs!$E$38,$D$26,0)","v":0},{"$f":"IF(NLE2>=Inputs!$E$38,$D$26,0)","v":0},{"$f":"IF(NLF2>=Inputs!$E$38,$D$26,0)","v":0},{"$f":"IF(NLG2>=Inputs!$E$38,$D$26,0)","v":0},{"$f":"IF(NLH2>=Inputs!$E$38,$D$26,0)","v":0},{"$f":"IF(NLI2>=Inputs!$E$38,$D$26,0)","v":0},{"$f":"IF(NLJ2>=Inputs!$E$38,$D$26,0)","v":0},{"$f":"IF(NLK2>=Inputs!$E$38,$D$26,0)","v":0},{"$f":"IF(NLL2>=Inputs!$E$38,$D$26,0)","v":0},{"$f":"IF(NLM2>=Inputs!$E$38,$D$26,0)","v":0},{"$f":"IF(NLN2>=Inputs!$E$38,$D$26,0)","v":0},{"$f":"IF(NLO2>=Inputs!$E$38,$D$26,0)","v":0},{"$f":"IF(NLP2>=Inputs!$E$38,$D$26,0)","v":0},{"$f":"IF(NLQ2>=Inputs!$E$38,$D$26,0)","v":0},{"$f":"IF(NLR2>=Inputs!$E$38,$D$26,0)","v":0},{"$f":"IF(NLS2>=Inputs!$E$38,$D$26,0)","v":0},{"$f":"IF(NLT2>=Inputs!$E$38,$D$26,0)","v":0},{"$f":"IF(NLU2>=Inputs!$E$38,$D$26,0)","v":0},{"$f":"IF(NLV2>=Inputs!$E$38,$D$26,0)","v":0},{"$f":"IF(NLW2>=Inputs!$E$38,$D$26,0)","v":0},{"$f":"IF(NLX2>=Inputs!$E$38,$D$26,0)","v":0},{"$f":"IF(NLY2>=Inputs!$E$38,$D$26,0)","v":0},{"$f":"IF(NLZ2>=Inputs!$E$38,$D$26,0)","v":0},{"$f":"IF(NMA2>=Inputs!$E$38,$D$26,0)","v":0},{"$f":"IF(NMB2>=Inputs!$E$38,$D$26,0)","v":0},{"$f":"IF(NMC2>=Inputs!$E$38,$D$26,0)","v":0},{"$f":"IF(NMD2>=Inputs!$E$38,$D$26,0)","v":0},{"$f":"IF(NME2>=Inputs!$E$38,$D$26,0)","v":0},{"$f":"IF(NMF2>=Inputs!$E$38,$D$26,0)","v":0},{"$f":"IF(NMG2>=Inputs!$E$38,$D$26,0)","v":0},{"$f":"IF(NMH2>=Inputs!$E$38,$D$26,0)","v":0},{"$f":"IF(NMI2>=Inputs!$E$38,$D$26,0)","v":0},{"$f":"IF(NMJ2>=Inputs!$E$38,$D$26,0)","v":0},{"$f":"IF(NMK2>=Inputs!$E$38,$D$26,0)","v":0},{"$f":"IF(NML2>=Inputs!$E$38,$D$26,0)","v":0},{"$f":"IF(NMM2>=Inputs!$E$38,$D$26,0)","v":0},{"$f":"IF(NMN2>=Inputs!$E$38,$D$26,0)","v":0},{"$f":"IF(NMO2>=Inputs!$E$38,$D$26,0)","v":0},{"$f":"IF(NMP2>=Inputs!$E$38,$D$26,0)","v":0},{"$f":"IF(NMQ2>=Inputs!$E$38,$D$26,0)","v":0},{"$f":"IF(NMR2>=Inputs!$E$38,$D$26,0)","v":0},{"$f":"IF(NMS2>=Inputs!$E$38,$D$26,0)","v":0},{"$f":"IF(NMT2>=Inputs!$E$38,$D$26,0)","v":0},{"$f":"IF(NMU2>=Inputs!$E$38,$D$26,0)","v":0},{"$f":"IF(NMV2>=Inputs!$E$38,$D$26,0)","v":0},{"$f":"IF(NMW2>=Inputs!$E$38,$D$26,0)","v":0},{"$f":"IF(NMX2>=Inputs!$E$38,$D$26,0)","v":0},{"$f":"IF(NMY2>=Inputs!$E$38,$D$26,0)","v":0},{"$f":"IF(NMZ2>=Inputs!$E$38,$D$26,0)","v":0},{"$f":"IF(NNA2>=Inputs!$E$38,$D$26,0)","v":0},{"$f":"IF(NNB2>=Inputs!$E$38,$D$26,0)","v":0},{"$f":"IF(NNC2>=Inputs!$E$38,$D$26,0)","v":0},{"$f":"IF(NND2>=Inputs!$E$38,$D$26,0)","v":0},{"$f":"IF(NNE2>=Inputs!$E$38,$D$26,0)","v":0},{"$f":"IF(NNF2>=Inputs!$E$38,$D$26,0)","v":0},{"$f":"IF(NNG2>=Inputs!$E$38,$D$26,0)","v":0},{"$f":"IF(NNH2>=Inputs!$E$38,$D$26,0)","v":0},{"$f":"IF(NNI2>=Inputs!$E$38,$D$26,0)","v":0},{"$f":"IF(NNJ2>=Inputs!$E$38,$D$26,0)","v":0},{"$f":"IF(NNK2>=Inputs!$E$38,$D$26,0)","v":0},{"$f":"IF(NNL2>=Inputs!$E$38,$D$26,0)","v":0},{"$f":"IF(NNM2>=Inputs!$E$38,$D$26,0)","v":0},{"$f":"IF(NNN2>=Inputs!$E$38,$D$26,0)","v":0},{"$f":"IF(NNO2>=Inputs!$E$38,$D$26,0)","v":0},{"$f":"IF(NNP2>=Inputs!$E$38,$D$26,0)","v":0},{"$f":"IF(NNQ2>=Inputs!$E$38,$D$26,0)","v":0},{"$f":"IF(NNR2>=Inputs!$E$38,$D$26,0)","v":0},{"$f":"IF(NNS2>=Inputs!$E$38,$D$26,0)","v":0},{"$f":"IF(NNT2>=Inputs!$E$38,$D$26,0)","v":0},{"$f":"IF(NNU2>=Inputs!$E$38,$D$26,0)","v":0},{"$f":"IF(NNV2>=Inputs!$E$38,$D$26,0)","v":0},{"$f":"IF(NNW2>=Inputs!$E$38,$D$26,0)","v":0},{"$f":"IF(NNX2>=Inputs!$E$38,$D$26,0)","v":0},{"$f":"IF(NNY2>=Inputs!$E$38,$D$26,0)","v":0},{"$f":"IF(NNZ2>=Inputs!$E$38,$D$26,0)","v":0},{"$f":"IF(NOA2>=Inputs!$E$38,$D$26,0)","v":0},{"$f":"IF(NOB2>=Inputs!$E$38,$D$26,0)","v":0},{"$f":"IF(NOC2>=Inputs!$E$38,$D$26,0)","v":0},{"$f":"IF(NOD2>=Inputs!$E$38,$D$26,0)","v":0},{"$f":"IF(NOE2>=Inputs!$E$38,$D$26,0)","v":0},{"$f":"IF(NOF2>=Inputs!$E$38,$D$26,0)","v":0},{"$f":"IF(NOG2>=Inputs!$E$38,$D$26,0)","v":0},{"$f":"IF(NOH2>=Inputs!$E$38,$D$26,0)","v":0},{"$f":"IF(NOI2>=Inputs!$E$38,$D$26,0)","v":0},{"$f":"IF(NOJ2>=Inputs!$E$38,$D$26,0)","v":0},{"$f":"IF(NOK2>=Inputs!$E$38,$D$26,0)","v":0},{"$f":"IF(NOL2>=Inputs!$E$38,$D$26,0)","v":0},{"$f":"IF(NOM2>=Inputs!$E$38,$D$26,0)","v":0},{"$f":"IF(NON2>=Inputs!$E$38,$D$26,0)","v":0},{"$f":"IF(NOO2>=Inputs!$E$38,$D$26,0)","v":0},{"$f":"IF(NOP2>=Inputs!$E$38,$D$26,0)","v":0},{"$f":"IF(NOQ2>=Inputs!$E$38,$D$26,0)","v":0},{"$f":"IF(NOR2>=Inputs!$E$38,$D$26,0)","v":0},{"$f":"IF(NOS2>=Inputs!$E$38,$D$26,0)","v":0},{"$f":"IF(NOT2>=Inputs!$E$38,$D$26,0)","v":0},{"$f":"IF(NOU2>=Inputs!$E$38,$D$26,0)","v":0},{"$f":"IF(NOV2>=Inputs!$E$38,$D$26,0)","v":0},{"$f":"IF(NOW2>=Inputs!$E$38,$D$26,0)","v":0},{"$f":"IF(NOX2>=Inputs!$E$38,$D$26,0)","v":0},{"$f":"IF(NOY2>=Inputs!$E$38,$D$26,0)","v":0},{"$f":"IF(NOZ2>=Inputs!$E$38,$D$26,0)","v":0},{"$f":"IF(NPA2>=Inputs!$E$38,$D$26,0)","v":0},{"$f":"IF(NPB2>=Inputs!$E$38,$D$26,0)","v":0},{"$f":"IF(NPC2>=Inputs!$E$38,$D$26,0)","v":0},{"$f":"IF(NPD2>=Inputs!$E$38,$D$26,0)","v":0},{"$f":"IF(NPE2>=Inputs!$E$38,$D$26,0)","v":0},{"$f":"IF(NPF2>=Inputs!$E$38,$D$26,0)","v":0},{"$f":"IF(NPG2>=Inputs!$E$38,$D$26,0)","v":0},{"$f":"IF(NPH2>=Inputs!$E$38,$D$26,0)","v":0},{"$f":"IF(NPI2>=Inputs!$E$38,$D$26,0)","v":0},{"$f":"IF(NPJ2>=Inputs!$E$38,$D$26,0)","v":0},{"$f":"IF(NPK2>=Inputs!$E$38,$D$26,0)","v":0},{"$f":"IF(NPL2>=Inputs!$E$38,$D$26,0)","v":0},{"$f":"IF(NPM2>=Inputs!$E$38,$D$26,0)","v":0},{"$f":"IF(NPN2>=Inputs!$E$38,$D$26,0)","v":0},{"$f":"IF(NPO2>=Inputs!$E$38,$D$26,0)","v":0},{"$f":"IF(NPP2>=Inputs!$E$38,$D$26,0)","v":0},{"$f":"IF(NPQ2>=Inputs!$E$38,$D$26,0)","v":0},{"$f":"IF(NPR2>=Inputs!$E$38,$D$26,0)","v":0},{"$f":"IF(NPS2>=Inputs!$E$38,$D$26,0)","v":0},{"$f":"IF(NPT2>=Inputs!$E$38,$D$26,0)","v":0},{"$f":"IF(NPU2>=Inputs!$E$38,$D$26,0)","v":0},{"$f":"IF(NPV2>=Inputs!$E$38,$D$26,0)","v":0},{"$f":"IF(NPW2>=Inputs!$E$38,$D$26,0)","v":0},{"$f":"IF(NPX2>=Inputs!$E$38,$D$26,0)","v":0},{"$f":"IF(NPY2>=Inputs!$E$38,$D$26,0)","v":0},{"$f":"IF(NPZ2>=Inputs!$E$38,$D$26,0)","v":0},{"$f":"IF(NQA2>=Inputs!$E$38,$D$26,0)","v":0},{"$f":"IF(NQB2>=Inputs!$E$38,$D$26,0)","v":0},{"$f":"IF(NQC2>=Inputs!$E$38,$D$26,0)","v":0},{"$f":"IF(NQD2>=Inputs!$E$38,$D$26,0)","v":0},{"$f":"IF(NQE2>=Inputs!$E$38,$D$26,0)","v":0},{"$f":"IF(NQF2>=Inputs!$E$38,$D$26,0)","v":0},{"$f":"IF(NQG2>=Inputs!$E$38,$D$26,0)","v":0},{"$f":"IF(NQH2>=Inputs!$E$38,$D$26,0)","v":0},{"$f":"IF(NQI2>=Inputs!$E$38,$D$26,0)","v":0},{"$f":"IF(NQJ2>=Inputs!$E$38,$D$26,0)","v":0},{"$f":"IF(NQK2>=Inputs!$E$38,$D$26,0)","v":0},{"$f":"IF(NQL2>=Inputs!$E$38,$D$26,0)","v":0},{"$f":"IF(NQM2>=Inputs!$E$38,$D$26,0)","v":0},{"$f":"IF(NQN2>=Inputs!$E$38,$D$26,0)","v":0},{"$f":"IF(NQO2>=Inputs!$E$38,$D$26,0)","v":0},{"$f":"IF(NQP2>=Inputs!$E$38,$D$26,0)","v":0},{"$f":"IF(NQQ2>=Inputs!$E$38,$D$26,0)","v":0},{"$f":"IF(NQR2>=Inputs!$E$38,$D$26,0)","v":0},{"$f":"IF(NQS2>=Inputs!$E$38,$D$26,0)","v":0},{"$f":"IF(NQT2>=Inputs!$E$38,$D$26,0)","v":0},{"$f":"IF(NQU2>=Inputs!$E$38,$D$26,0)","v":0},{"$f":"IF(NQV2>=Inputs!$E$38,$D$26,0)","v":0},{"$f":"IF(NQW2>=Inputs!$E$38,$D$26,0)","v":0},{"$f":"IF(NQX2>=Inputs!$E$38,$D$26,0)","v":0},{"$f":"IF(NQY2>=Inputs!$E$38,$D$26,0)","v":0},{"$f":"IF(NQZ2>=Inputs!$E$38,$D$26,0)","v":0},{"$f":"IF(NRA2>=Inputs!$E$38,$D$26,0)","v":0},{"$f":"IF(NRB2>=Inputs!$E$38,$D$26,0)","v":0},{"$f":"IF(NRC2>=Inputs!$E$38,$D$26,0)","v":0},{"$f":"IF(NRD2>=Inputs!$E$38,$D$26,0)","v":0},{"$f":"IF(NRE2>=Inputs!$E$38,$D$26,0)","v":0},{"$f":"IF(NRF2>=Inputs!$E$38,$D$26,0)","v":0},{"$f":"IF(NRG2>=Inputs!$E$38,$D$26,0)","v":0},{"$f":"IF(NRH2>=Inputs!$E$38,$D$26,0)","v":0},{"$f":"IF(NRI2>=Inputs!$E$38,$D$26,0)","v":0},{"$f":"IF(NRJ2>=Inputs!$E$38,$D$26,0)","v":0},{"$f":"IF(NRK2>=Inputs!$E$38,$D$26,0)","v":0},{"$f":"IF(NRL2>=Inputs!$E$38,$D$26,0)","v":0},{"$f":"IF(NRM2>=Inputs!$E$38,$D$26,0)","v":0},{"$f":"IF(NRN2>=Inputs!$E$38,$D$26,0)","v":0},{"$f":"IF(NRO2>=Inputs!$E$38,$D$26,0)","v":0},{"$f":"IF(NRP2>=Inputs!$E$38,$D$26,0)","v":0},{"$f":"IF(NRQ2>=Inputs!$E$38,$D$26,0)","v":0},{"$f":"IF(NRR2>=Inputs!$E$38,$D$26,0)","v":0},{"$f":"IF(NRS2>=Inputs!$E$38,$D$26,0)","v":0},{"$f":"IF(NRT2>=Inputs!$E$38,$D$26,0)","v":0},{"$f":"IF(NRU2>=Inputs!$E$38,$D$26,0)","v":0},{"$f":"IF(NRV2>=Inputs!$E$38,$D$26,0)","v":0},{"$f":"IF(NRW2>=Inputs!$E$38,$D$26,0)","v":0},{"$f":"IF(NRX2>=Inputs!$E$38,$D$26,0)","v":0},{"$f":"IF(NRY2>=Inputs!$E$38,$D$26,0)","v":0},{"$f":"IF(NRZ2>=Inputs!$E$38,$D$26,0)","v":0},{"$f":"IF(NSA2>=Inputs!$E$38,$D$26,0)","v":0},{"$f":"IF(NSB2>=Inputs!$E$38,$D$26,0)","v":0},{"$f":"IF(NSC2>=Inputs!$E$38,$D$26,0)","v":0},{"$f":"IF(NSD2>=Inputs!$E$38,$D$26,0)","v":0},{"$f":"IF(NSE2>=Inputs!$E$38,$D$26,0)","v":0},{"$f":"IF(NSF2>=Inputs!$E$38,$D$26,0)","v":0},{"$f":"IF(NSG2>=Inputs!$E$38,$D$26,0)","v":0},{"$f":"IF(NSH2>=Inputs!$E$38,$D$26,0)","v":0},{"$f":"IF(NSI2>=Inputs!$E$38,$D$26,0)","v":0},{"$f":"IF(NSJ2>=Inputs!$E$38,$D$26,0)","v":0},{"$f":"IF(NSK2>=Inputs!$E$38,$D$26,0)","v":0},{"$f":"IF(NSL2>=Inputs!$E$38,$D$26,0)","v":0},{"$f":"IF(NSM2>=Inputs!$E$38,$D$26,0)","v":0},{"$f":"IF(NSN2>=Inputs!$E$38,$D$26,0)","v":0},{"$f":"IF(NSO2>=Inputs!$E$38,$D$26,0)","v":0},{"$f":"IF(NSP2>=Inputs!$E$38,$D$26,0)","v":0},{"$f":"IF(NSQ2>=Inputs!$E$38,$D$26,0)","v":0},{"$f":"IF(NSR2>=Inputs!$E$38,$D$26,0)","v":0},{"$f":"IF(NSS2>=Inputs!$E$38,$D$26,0)","v":0},{"$f":"IF(NST2>=Inputs!$E$38,$D$26,0)","v":0},{"$f":"IF(NSU2>=Inputs!$E$38,$D$26,0)","v":0},{"$f":"IF(NSV2>=Inputs!$E$38,$D$26,0)","v":0},{"$f":"IF(NSW2>=Inputs!$E$38,$D$26,0)","v":0},{"$f":"IF(NSX2>=Inputs!$E$38,$D$26,0)","v":0},{"$f":"IF(NSY2>=Inputs!$E$38,$D$26,0)","v":0},{"$f":"IF(NSZ2>=Inputs!$E$38,$D$26,0)","v":0},{"$f":"IF(NTA2>=Inputs!$E$38,$D$26,0)","v":0},{"$f":"IF(NTB2>=Inputs!$E$38,$D$26,0)","v":0},{"$f":"IF(NTC2>=Inputs!$E$38,$D$26,0)","v":0},{"$f":"IF(NTD2>=Inputs!$E$38,$D$26,0)","v":0},{"$f":"IF(NTE2>=Inputs!$E$38,$D$26,0)","v":0},{"$f":"IF(NTF2>=Inputs!$E$38,$D$26,0)","v":0},{"$f":"IF(NTG2>=Inputs!$E$38,$D$26,0)","v":0},{"$f":"IF(NTH2>=Inputs!$E$38,$D$26,0)","v":0},{"$f":"IF(NTI2>=Inputs!$E$38,$D$26,0)","v":0},{"$f":"IF(NTJ2>=Inputs!$E$38,$D$26,0)","v":0},{"$f":"IF(NTK2>=Inputs!$E$38,$D$26,0)","v":0},{"$f":"IF(NTL2>=Inputs!$E$38,$D$26,0)","v":0},{"$f":"IF(NTM2>=Inputs!$E$38,$D$26,0)","v":0},{"$f":"IF(NTN2>=Inputs!$E$38,$D$26,0)","v":0},{"$f":"IF(NTO2>=Inputs!$E$38,$D$26,0)","v":0},{"$f":"IF(NTP2>=Inputs!$E$38,$D$26,0)","v":0},{"$f":"IF(NTQ2>=Inputs!$E$38,$D$26,0)","v":0},{"$f":"IF(NTR2>=Inputs!$E$38,$D$26,0)","v":0},{"$f":"IF(NTS2>=Inputs!$E$38,$D$26,0)","v":0},{"$f":"IF(NTT2>=Inputs!$E$38,$D$26,0)","v":0},{"$f":"IF(NTU2>=Inputs!$E$38,$D$26,0)","v":0},{"$f":"IF(NTV2>=Inputs!$E$38,$D$26,0)","v":0},{"$f":"IF(NTW2>=Inputs!$E$38,$D$26,0)","v":0},{"$f":"IF(NTX2>=Inputs!$E$38,$D$26,0)","v":0},{"$f":"IF(NTY2>=Inputs!$E$38,$D$26,0)","v":0},{"$f":"IF(NTZ2>=Inputs!$E$38,$D$26,0)","v":0},{"$f":"IF(NUA2>=Inputs!$E$38,$D$26,0)","v":0},{"$f":"IF(NUB2>=Inputs!$E$38,$D$26,0)","v":0},{"$f":"IF(NUC2>=Inputs!$E$38,$D$26,0)","v":0},{"$f":"IF(NUD2>=Inputs!$E$38,$D$26,0)","v":0},{"$f":"IF(NUE2>=Inputs!$E$38,$D$26,0)","v":0},{"$f":"IF(NUF2>=Inputs!$E$38,$D$26,0)","v":0},{"$f":"IF(NUG2>=Inputs!$E$38,$D$26,0)","v":0},{"$f":"IF(NUH2>=Inputs!$E$38,$D$26,0)","v":0},{"$f":"IF(NUI2>=Inputs!$E$38,$D$26,0)","v":0},{"$f":"IF(NUJ2>=Inputs!$E$38,$D$26,0)","v":0},{"$f":"IF(NUK2>=Inputs!$E$38,$D$26,0)","v":0},{"$f":"IF(NUL2>=Inputs!$E$38,$D$26,0)","v":0},{"$f":"IF(NUM2>=Inputs!$E$38,$D$26,0)","v":0},{"$f":"IF(NUN2>=Inputs!$E$38,$D$26,0)","v":0},{"$f":"IF(NUO2>=Inputs!$E$38,$D$26,0)","v":0},{"$f":"IF(NUP2>=Inputs!$E$38,$D$26,0)","v":0},{"$f":"IF(NUQ2>=Inputs!$E$38,$D$26,0)","v":0},{"$f":"IF(NUR2>=Inputs!$E$38,$D$26,0)","v":0},{"$f":"IF(NUS2>=Inputs!$E$38,$D$26,0)","v":0},{"$f":"IF(NUT2>=Inputs!$E$38,$D$26,0)","v":0},{"$f":"IF(NUU2>=Inputs!$E$38,$D$26,0)","v":0},{"$f":"IF(NUV2>=Inputs!$E$38,$D$26,0)","v":0},{"$f":"IF(NUW2>=Inputs!$E$38,$D$26,0)","v":0},{"$f":"IF(NUX2>=Inputs!$E$38,$D$26,0)","v":0},{"$f":"IF(NUY2>=Inputs!$E$38,$D$26,0)","v":0},{"$f":"IF(NUZ2>=Inputs!$E$38,$D$26,0)","v":0},{"$f":"IF(NVA2>=Inputs!$E$38,$D$26,0)","v":0},{"$f":"IF(NVB2>=Inputs!$E$38,$D$26,0)","v":0},{"$f":"IF(NVC2>=Inputs!$E$38,$D$26,0)","v":0},{"$f":"IF(NVD2>=Inputs!$E$38,$D$26,0)","v":0},{"$f":"IF(NVE2>=Inputs!$E$38,$D$26,0)","v":0},{"$f":"IF(NVF2>=Inputs!$E$38,$D$26,0)","v":0},{"$f":"IF(NVG2>=Inputs!$E$38,$D$26,0)","v":0},{"$f":"IF(NVH2>=Inputs!$E$38,$D$26,0)","v":0},{"$f":"IF(NVI2>=Inputs!$E$38,$D$26,0)","v":0},{"$f":"IF(NVJ2>=Inputs!$E$38,$D$26,0)","v":0},{"$f":"IF(NVK2>=Inputs!$E$38,$D$26,0)","v":0},{"$f":"IF(NVL2>=Inputs!$E$38,$D$26,0)","v":0},{"$f":"IF(NVM2>=Inputs!$E$38,$D$26,0)","v":0},{"$f":"IF(NVN2>=Inputs!$E$38,$D$26,0)","v":0},{"$f":"IF(NVO2>=Inputs!$E$38,$D$26,0)","v":0},{"$f":"IF(NVP2>=Inputs!$E$38,$D$26,0)","v":0},{"$f":"IF(NVQ2>=Inputs!$E$38,$D$26,0)","v":0},{"$f":"IF(NVR2>=Inputs!$E$38,$D$26,0)","v":0},{"$f":"IF(NVS2>=Inputs!$E$38,$D$26,0)","v":0},{"$f":"IF(NVT2>=Inputs!$E$38,$D$26,0)","v":0},{"$f":"IF(NVU2>=Inputs!$E$38,$D$26,0)","v":0},{"$f":"IF(NVV2>=Inputs!$E$38,$D$26,0)","v":0},{"$f":"IF(NVW2>=Inputs!$E$38,$D$26,0)","v":0},{"$f":"IF(NVX2>=Inputs!$E$38,$D$26,0)","v":0},{"$f":"IF(NVY2>=Inputs!$E$38,$D$26,0)","v":0},{"$f":"IF(NVZ2>=Inputs!$E$38,$D$26,0)","v":0},{"$f":"IF(NWA2>=Inputs!$E$38,$D$26,0)","v":0},{"$f":"IF(NWB2>=Inputs!$E$38,$D$26,0)","v":0},{"$f":"IF(NWC2>=Inputs!$E$38,$D$26,0)","v":0},{"$f":"IF(NWD2>=Inputs!$E$38,$D$26,0)","v":0},{"$f":"IF(NWE2>=Inputs!$E$38,$D$26,0)","v":0},{"$f":"IF(NWF2>=Inputs!$E$38,$D$26,0)","v":0},{"$f":"IF(NWG2>=Inputs!$E$38,$D$26,0)","v":0},{"$f":"IF(NWH2>=Inputs!$E$38,$D$26,0)","v":0},{"$f":"IF(NWI2>=Inputs!$E$38,$D$26,0)","v":0},{"$f":"IF(NWJ2>=Inputs!$E$38,$D$26,0)","v":0},{"$f":"IF(NWK2>=Inputs!$E$38,$D$26,0)","v":0},{"$f":"IF(NWL2>=Inputs!$E$38,$D$26,0)","v":0},{"$f":"IF(NWM2>=Inputs!$E$38,$D$26,0)","v":0},{"$f":"IF(NWN2>=Inputs!$E$38,$D$26,0)","v":0},{"$f":"IF(NWO2>=Inputs!$E$38,$D$26,0)","v":0},{"$f":"IF(NWP2>=Inputs!$E$38,$D$26,0)","v":0},{"$f":"IF(NWQ2>=Inputs!$E$38,$D$26,0)","v":0},{"$f":"IF(NWR2>=Inputs!$E$38,$D$26,0)","v":0},{"$f":"IF(NWS2>=Inputs!$E$38,$D$26,0)","v":0},{"$f":"IF(NWT2>=Inputs!$E$38,$D$26,0)","v":0},{"$f":"IF(NWU2>=Inputs!$E$38,$D$26,0)","v":0},{"$f":"IF(NWV2>=Inputs!$E$38,$D$26,0)","v":0},{"$f":"IF(NWW2>=Inputs!$E$38,$D$26,0)","v":0},{"$f":"IF(NWX2>=Inputs!$E$38,$D$26,0)","v":0},{"$f":"IF(NWY2>=Inputs!$E$38,$D$26,0)","v":0},{"$f":"IF(NWZ2>=Inputs!$E$38,$D$26,0)","v":0},{"$f":"IF(NXA2>=Inputs!$E$38,$D$26,0)","v":0},{"$f":"IF(NXB2>=Inputs!$E$38,$D$26,0)","v":0},{"$f":"IF(NXC2>=Inputs!$E$38,$D$26,0)","v":0},{"$f":"IF(NXD2>=Inputs!$E$38,$D$26,0)","v":0},{"$f":"IF(NXE2>=Inputs!$E$38,$D$26,0)","v":0},{"$f":"IF(NXF2>=Inputs!$E$38,$D$26,0)","v":0},{"$f":"IF(NXG2>=Inputs!$E$38,$D$26,0)","v":0},{"$f":"IF(NXH2>=Inputs!$E$38,$D$26,0)","v":0},{"$f":"IF(NXI2>=Inputs!$E$38,$D$26,0)","v":0},{"$f":"IF(NXJ2>=Inputs!$E$38,$D$26,0)","v":0},{"$f":"IF(NXK2>=Inputs!$E$38,$D$26,0)","v":0},{"$f":"IF(NXL2>=Inputs!$E$38,$D$26,0)","v":0},{"$f":"IF(NXM2>=Inputs!$E$38,$D$26,0)","v":0},{"$f":"IF(NXN2>=Inputs!$E$38,$D$26,0)","v":0},{"$f":"IF(NXO2>=Inputs!$E$38,$D$26,0)","v":0},{"$f":"IF(NXP2>=Inputs!$E$38,$D$26,0)","v":0},{"$f":"IF(NXQ2>=Inputs!$E$38,$D$26,0)","v":0},{"$f":"IF(NXR2>=Inputs!$E$38,$D$26,0)","v":0},{"$f":"IF(NXS2>=Inputs!$E$38,$D$26,0)","v":0},{"$f":"IF(NXT2>=Inputs!$E$38,$D$26,0)","v":0},{"$f":"IF(NXU2>=Inputs!$E$38,$D$26,0)","v":0},{"$f":"IF(NXV2>=Inputs!$E$38,$D$26,0)","v":0},{"$f":"IF(NXW2>=Inputs!$E$38,$D$26,0)","v":0},{"$f":"IF(NXX2>=Inputs!$E$38,$D$26,0)","v":0},{"$f":"IF(NXY2>=Inputs!$E$38,$D$26,0)","v":0},{"$f":"IF(NXZ2>=Inputs!$E$38,$D$26,0)","v":0},{"$f":"IF(NYA2>=Inputs!$E$38,$D$26,0)","v":0},{"$f":"IF(NYB2>=Inputs!$E$38,$D$26,0)","v":0},{"$f":"IF(NYC2>=Inputs!$E$38,$D$26,0)","v":0},{"$f":"IF(NYD2>=Inputs!$E$38,$D$26,0)","v":0},{"$f":"IF(NYE2>=Inputs!$E$38,$D$26,0)","v":0},{"$f":"IF(NYF2>=Inputs!$E$38,$D$26,0)","v":0},{"$f":"IF(NYG2>=Inputs!$E$38,$D$26,0)","v":0},{"$f":"IF(NYH2>=Inputs!$E$38,$D$26,0)","v":0},{"$f":"IF(NYI2>=Inputs!$E$38,$D$26,0)","v":0},{"$f":"IF(NYJ2>=Inputs!$E$38,$D$26,0)","v":0},{"$f":"IF(NYK2>=Inputs!$E$38,$D$26,0)","v":0},{"$f":"IF(NYL2>=Inputs!$E$38,$D$26,0)","v":0},{"$f":"IF(NYM2>=Inputs!$E$38,$D$26,0)","v":0},{"$f":"IF(NYN2>=Inputs!$E$38,$D$26,0)","v":0},{"$f":"IF(NYO2>=Inputs!$E$38,$D$26,0)","v":0},{"$f":"IF(NYP2>=Inputs!$E$38,$D$26,0)","v":0},{"$f":"IF(NYQ2>=Inputs!$E$38,$D$26,0)","v":0},{"$f":"IF(NYR2>=Inputs!$E$38,$D$26,0)","v":0},{"$f":"IF(NYS2>=Inputs!$E$38,$D$26,0)","v":0},{"$f":"IF(NYT2>=Inputs!$E$38,$D$26,0)","v":0},{"$f":"IF(NYU2>=Inputs!$E$38,$D$26,0)","v":0},{"$f":"IF(NYV2>=Inputs!$E$38,$D$26,0)","v":0},{"$f":"IF(NYW2>=Inputs!$E$38,$D$26,0)","v":0},{"$f":"IF(NYX2>=Inputs!$E$38,$D$26,0)","v":0},{"$f":"IF(NYY2>=Inputs!$E$38,$D$26,0)","v":0},{"$f":"IF(NYZ2>=Inputs!$E$38,$D$26,0)","v":0},{"$f":"IF(NZA2>=Inputs!$E$38,$D$26,0)","v":0},{"$f":"IF(NZB2>=Inputs!$E$38,$D$26,0)","v":0},{"$f":"IF(NZC2>=Inputs!$E$38,$D$26,0)","v":0},{"$f":"IF(NZD2>=Inputs!$E$38,$D$26,0)","v":0},{"$f":"IF(NZE2>=Inputs!$E$38,$D$26,0)","v":0},{"$f":"IF(NZF2>=Inputs!$E$38,$D$26,0)","v":0},{"$f":"IF(NZG2>=Inputs!$E$38,$D$26,0)","v":0},{"$f":"IF(NZH2>=Inputs!$E$38,$D$26,0)","v":0},{"$f":"IF(NZI2>=Inputs!$E$38,$D$26,0)","v":0},{"$f":"IF(NZJ2>=Inputs!$E$38,$D$26,0)","v":0},{"$f":"IF(NZK2>=Inputs!$E$38,$D$26,0)","v":0},{"$f":"IF(NZL2>=Inputs!$E$38,$D$26,0)","v":0},{"$f":"IF(NZM2>=Inputs!$E$38,$D$26,0)","v":0},{"$f":"IF(NZN2>=Inputs!$E$38,$D$26,0)","v":0},{"$f":"IF(NZO2>=Inputs!$E$38,$D$26,0)","v":0},{"$f":"IF(NZP2>=Inputs!$E$38,$D$26,0)","v":0},{"$f":"IF(NZQ2>=Inputs!$E$38,$D$26,0)","v":0},{"$f":"IF(NZR2>=Inputs!$E$38,$D$26,0)","v":0},{"$f":"IF(NZS2>=Inputs!$E$38,$D$26,0)","v":0},{"$f":"IF(NZT2>=Inputs!$E$38,$D$26,0)","v":0},{"$f":"IF(NZU2>=Inputs!$E$38,$D$26,0)","v":0},{"$f":"IF(NZV2>=Inputs!$E$38,$D$26,0)","v":0},{"$f":"IF(NZW2>=Inputs!$E$38,$D$26,0)","v":0},{"$f":"IF(NZX2>=Inputs!$E$38,$D$26,0)","v":0},{"$f":"IF(NZY2>=Inputs!$E$38,$D$26,0)","v":0},{"$f":"IF(NZZ2>=Inputs!$E$38,$D$26,0)","v":0},{"$f":"IF(OAA2>=Inputs!$E$38,$D$26,0)","v":0},{"$f":"IF(OAB2>=Inputs!$E$38,$D$26,0)","v":0},{"$f":"IF(OAC2>=Inputs!$E$38,$D$26,0)","v":0},{"$f":"IF(OAD2>=Inputs!$E$38,$D$26,0)","v":0},{"$f":"IF(OAE2>=Inputs!$E$38,$D$26,0)","v":0},{"$f":"IF(OAF2>=Inputs!$E$38,$D$26,0)","v":0},{"$f":"IF(OAG2>=Inputs!$E$38,$D$26,0)","v":0},{"$f":"IF(OAH2>=Inputs!$E$38,$D$26,0)","v":0},{"$f":"IF(OAI2>=Inputs!$E$38,$D$26,0)","v":0},{"$f":"IF(OAJ2>=Inputs!$E$38,$D$26,0)","v":0},{"$f":"IF(OAK2>=Inputs!$E$38,$D$26,0)","v":0},{"$f":"IF(OAL2>=Inputs!$E$38,$D$26,0)","v":0},{"$f":"IF(OAM2>=Inputs!$E$38,$D$26,0)","v":0},{"$f":"IF(OAN2>=Inputs!$E$38,$D$26,0)","v":0},{"$f":"IF(OAO2>=Inputs!$E$38,$D$26,0)","v":0},{"$f":"IF(OAP2>=Inputs!$E$38,$D$26,0)","v":0},{"$f":"IF(OAQ2>=Inputs!$E$38,$D$26,0)","v":0},{"$f":"IF(OAR2>=Inputs!$E$38,$D$26,0)","v":0},{"$f":"IF(OAS2>=Inputs!$E$38,$D$26,0)","v":0},{"$f":"IF(OAT2>=Inputs!$E$38,$D$26,0)","v":0},{"$f":"IF(OAU2>=Inputs!$E$38,$D$26,0)","v":0},{"$f":"IF(OAV2>=Inputs!$E$38,$D$26,0)","v":0},{"$f":"IF(OAW2>=Inputs!$E$38,$D$26,0)","v":0},{"$f":"IF(OAX2>=Inputs!$E$38,$D$26,0)","v":0},{"$f":"IF(OAY2>=Inputs!$E$38,$D$26,0)","v":0},{"$f":"IF(OAZ2>=Inputs!$E$38,$D$26,0)","v":0},{"$f":"IF(OBA2>=Inputs!$E$38,$D$26,0)","v":0},{"$f":"IF(OBB2>=Inputs!$E$38,$D$26,0)","v":0},{"$f":"IF(OBC2>=Inputs!$E$38,$D$26,0)","v":0},{"$f":"IF(OBD2>=Inputs!$E$38,$D$26,0)","v":0},{"$f":"IF(OBE2>=Inputs!$E$38,$D$26,0)","v":0},{"$f":"IF(OBF2>=Inputs!$E$38,$D$26,0)","v":0},{"$f":"IF(OBG2>=Inputs!$E$38,$D$26,0)","v":0},{"$f":"IF(OBH2>=Inputs!$E$38,$D$26,0)","v":0},{"$f":"IF(OBI2>=Inputs!$E$38,$D$26,0)","v":0},{"$f":"IF(OBJ2>=Inputs!$E$38,$D$26,0)","v":0},{"$f":"IF(OBK2>=Inputs!$E$38,$D$26,0)","v":0},{"$f":"IF(OBL2>=Inputs!$E$38,$D$26,0)","v":0},{"$f":"IF(OBM2>=Inputs!$E$38,$D$26,0)","v":0},{"$f":"IF(OBN2>=Inputs!$E$38,$D$26,0)","v":0},{"$f":"IF(OBO2>=Inputs!$E$38,$D$26,0)","v":0},{"$f":"IF(OBP2>=Inputs!$E$38,$D$26,0)","v":0},{"$f":"IF(OBQ2>=Inputs!$E$38,$D$26,0)","v":0},{"$f":"IF(OBR2>=Inputs!$E$38,$D$26,0)","v":0},{"$f":"IF(OBS2>=Inputs!$E$38,$D$26,0)","v":0},{"$f":"IF(OBT2>=Inputs!$E$38,$D$26,0)","v":0},{"$f":"IF(OBU2>=Inputs!$E$38,$D$26,0)","v":0},{"$f":"IF(OBV2>=Inputs!$E$38,$D$26,0)","v":0},{"$f":"IF(OBW2>=Inputs!$E$38,$D$26,0)","v":0},{"$f":"IF(OBX2>=Inputs!$E$38,$D$26,0)","v":0},{"$f":"IF(OBY2>=Inputs!$E$38,$D$26,0)","v":0},{"$f":"IF(OBZ2>=Inputs!$E$38,$D$26,0)","v":0},{"$f":"IF(OCA2>=Inputs!$E$38,$D$26,0)","v":0},{"$f":"IF(OCB2>=Inputs!$E$38,$D$26,0)","v":0},{"$f":"IF(OCC2>=Inputs!$E$38,$D$26,0)","v":0},{"$f":"IF(OCD2>=Inputs!$E$38,$D$26,0)","v":0},{"$f":"IF(OCE2>=Inputs!$E$38,$D$26,0)","v":0},{"$f":"IF(OCF2>=Inputs!$E$38,$D$26,0)","v":0},{"$f":"IF(OCG2>=Inputs!$E$38,$D$26,0)","v":0},{"$f":"IF(OCH2>=Inputs!$E$38,$D$26,0)","v":0},{"$f":"IF(OCI2>=Inputs!$E$38,$D$26,0)","v":0},{"$f":"IF(OCJ2>=Inputs!$E$38,$D$26,0)","v":0},{"$f":"IF(OCK2>=Inputs!$E$38,$D$26,0)","v":0},{"$f":"IF(OCL2>=Inputs!$E$38,$D$26,0)","v":0},{"$f":"IF(OCM2>=Inputs!$E$38,$D$26,0)","v":0},{"$f":"IF(OCN2>=Inputs!$E$38,$D$26,0)","v":0},{"$f":"IF(OCO2>=Inputs!$E$38,$D$26,0)","v":0},{"$f":"IF(OCP2>=Inputs!$E$38,$D$26,0)","v":0},{"$f":"IF(OCQ2>=Inputs!$E$38,$D$26,0)","v":0},{"$f":"IF(OCR2>=Inputs!$E$38,$D$26,0)","v":0},{"$f":"IF(OCS2>=Inputs!$E$38,$D$26,0)","v":0},{"$f":"IF(OCT2>=Inputs!$E$38,$D$26,0)","v":0},{"$f":"IF(OCU2>=Inputs!$E$38,$D$26,0)","v":0},{"$f":"IF(OCV2>=Inputs!$E$38,$D$26,0)","v":0},{"$f":"IF(OCW2>=Inputs!$E$38,$D$26,0)","v":0},{"$f":"IF(OCX2>=Inputs!$E$38,$D$26,0)","v":0},{"$f":"IF(OCY2>=Inputs!$E$38,$D$26,0)","v":0},{"$f":"IF(OCZ2>=Inputs!$E$38,$D$26,0)","v":0},{"$f":"IF(ODA2>=Inputs!$E$38,$D$26,0)","v":0},{"$f":"IF(ODB2>=Inputs!$E$38,$D$26,0)","v":0},{"$f":"IF(ODC2>=Inputs!$E$38,$D$26,0)","v":0},{"$f":"IF(ODD2>=Inputs!$E$38,$D$26,0)","v":0},{"$f":"IF(ODE2>=Inputs!$E$38,$D$26,0)","v":0},{"$f":"IF(ODF2>=Inputs!$E$38,$D$26,0)","v":0},{"$f":"IF(ODG2>=Inputs!$E$38,$D$26,0)","v":0},{"$f":"IF(ODH2>=Inputs!$E$38,$D$26,0)","v":0},{"$f":"IF(ODI2>=Inputs!$E$38,$D$26,0)","v":0},{"$f":"IF(ODJ2>=Inputs!$E$38,$D$26,0)","v":0},{"$f":"IF(ODK2>=Inputs!$E$38,$D$26,0)","v":0},{"$f":"IF(ODL2>=Inputs!$E$38,$D$26,0)","v":0},{"$f":"IF(ODM2>=Inputs!$E$38,$D$26,0)","v":0},{"$f":"IF(ODN2>=Inputs!$E$38,$D$26,0)","v":0},{"$f":"IF(ODO2>=Inputs!$E$38,$D$26,0)","v":0},{"$f":"IF(ODP2>=Inputs!$E$38,$D$26,0)","v":0},{"$f":"IF(ODQ2>=Inputs!$E$38,$D$26,0)","v":0},{"$f":"IF(ODR2>=Inputs!$E$38,$D$26,0)","v":0},{"$f":"IF(ODS2>=Inputs!$E$38,$D$26,0)","v":0},{"$f":"IF(ODT2>=Inputs!$E$38,$D$26,0)","v":0},{"$f":"IF(ODU2>=Inputs!$E$38,$D$26,0)","v":0},{"$f":"IF(ODV2>=Inputs!$E$38,$D$26,0)","v":0},{"$f":"IF(ODW2>=Inputs!$E$38,$D$26,0)","v":0},{"$f":"IF(ODX2>=Inputs!$E$38,$D$26,0)","v":0},{"$f":"IF(ODY2>=Inputs!$E$38,$D$26,0)","v":0},{"$f":"IF(ODZ2>=Inputs!$E$38,$D$26,0)","v":0},{"$f":"IF(OEA2>=Inputs!$E$38,$D$26,0)","v":0},{"$f":"IF(OEB2>=Inputs!$E$38,$D$26,0)","v":0},{"$f":"IF(OEC2>=Inputs!$E$38,$D$26,0)","v":0},{"$f":"IF(OED2>=Inputs!$E$38,$D$26,0)","v":0},{"$f":"IF(OEE2>=Inputs!$E$38,$D$26,0)","v":0},{"$f":"IF(OEF2>=Inputs!$E$38,$D$26,0)","v":0},{"$f":"IF(OEG2>=Inputs!$E$38,$D$26,0)","v":0},{"$f":"IF(OEH2>=Inputs!$E$38,$D$26,0)","v":0},{"$f":"IF(OEI2>=Inputs!$E$38,$D$26,0)","v":0},{"$f":"IF(OEJ2>=Inputs!$E$38,$D$26,0)","v":0},{"$f":"IF(OEK2>=Inputs!$E$38,$D$26,0)","v":0},{"$f":"IF(OEL2>=Inputs!$E$38,$D$26,0)","v":0},{"$f":"IF(OEM2>=Inputs!$E$38,$D$26,0)","v":0},{"$f":"IF(OEN2>=Inputs!$E$38,$D$26,0)","v":0},{"$f":"IF(OEO2>=Inputs!$E$38,$D$26,0)","v":0},{"$f":"IF(OEP2>=Inputs!$E$38,$D$26,0)","v":0},{"$f":"IF(OEQ2>=Inputs!$E$38,$D$26,0)","v":0},{"$f":"IF(OER2>=Inputs!$E$38,$D$26,0)","v":0},{"$f":"IF(OES2>=Inputs!$E$38,$D$26,0)","v":0},{"$f":"IF(OET2>=Inputs!$E$38,$D$26,0)","v":0},{"$f":"IF(OEU2>=Inputs!$E$38,$D$26,0)","v":0},{"$f":"IF(OEV2>=Inputs!$E$38,$D$26,0)","v":0},{"$f":"IF(OEW2>=Inputs!$E$38,$D$26,0)","v":0},{"$f":"IF(OEX2>=Inputs!$E$38,$D$26,0)","v":0},{"$f":"IF(OEY2>=Inputs!$E$38,$D$26,0)","v":0},{"$f":"IF(OEZ2>=Inputs!$E$38,$D$26,0)","v":0},{"$f":"IF(OFA2>=Inputs!$E$38,$D$26,0)","v":0},{"$f":"IF(OFB2>=Inputs!$E$38,$D$26,0)","v":0},{"$f":"IF(OFC2>=Inputs!$E$38,$D$26,0)","v":0},{"$f":"IF(OFD2>=Inputs!$E$38,$D$26,0)","v":0},{"$f":"IF(OFE2>=Inputs!$E$38,$D$26,0)","v":0},{"$f":"IF(OFF2>=Inputs!$E$38,$D$26,0)","v":0},{"$f":"IF(OFG2>=Inputs!$E$38,$D$26,0)","v":0},{"$f":"IF(OFH2>=Inputs!$E$38,$D$26,0)","v":0},{"$f":"IF(OFI2>=Inputs!$E$38,$D$26,0)","v":0},{"$f":"IF(OFJ2>=Inputs!$E$38,$D$26,0)","v":0},{"$f":"IF(OFK2>=Inputs!$E$38,$D$26,0)","v":0},{"$f":"IF(OFL2>=Inputs!$E$38,$D$26,0)","v":0},{"$f":"IF(OFM2>=Inputs!$E$38,$D$26,0)","v":0},{"$f":"IF(OFN2>=Inputs!$E$38,$D$26,0)","v":0},{"$f":"IF(OFO2>=Inputs!$E$38,$D$26,0)","v":0},{"$f":"IF(OFP2>=Inputs!$E$38,$D$26,0)","v":0},{"$f":"IF(OFQ2>=Inputs!$E$38,$D$26,0)","v":0},{"$f":"IF(OFR2>=Inputs!$E$38,$D$26,0)","v":0},{"$f":"IF(OFS2>=Inputs!$E$38,$D$26,0)","v":0},{"$f":"IF(OFT2>=Inputs!$E$38,$D$26,0)","v":0},{"$f":"IF(OFU2>=Inputs!$E$38,$D$26,0)","v":0},{"$f":"IF(OFV2>=Inputs!$E$38,$D$26,0)","v":0},{"$f":"IF(OFW2>=Inputs!$E$38,$D$26,0)","v":0},{"$f":"IF(OFX2>=Inputs!$E$38,$D$26,0)","v":0},{"$f":"IF(OFY2>=Inputs!$E$38,$D$26,0)","v":0},{"$f":"IF(OFZ2>=Inputs!$E$38,$D$26,0)","v":0},{"$f":"IF(OGA2>=Inputs!$E$38,$D$26,0)","v":0},{"$f":"IF(OGB2>=Inputs!$E$38,$D$26,0)","v":0},{"$f":"IF(OGC2>=Inputs!$E$38,$D$26,0)","v":0},{"$f":"IF(OGD2>=Inputs!$E$38,$D$26,0)","v":0},{"$f":"IF(OGE2>=Inputs!$E$38,$D$26,0)","v":0},{"$f":"IF(OGF2>=Inputs!$E$38,$D$26,0)","v":0},{"$f":"IF(OGG2>=Inputs!$E$38,$D$26,0)","v":0},{"$f":"IF(OGH2>=Inputs!$E$38,$D$26,0)","v":0},{"$f":"IF(OGI2>=Inputs!$E$38,$D$26,0)","v":0},{"$f":"IF(OGJ2>=Inputs!$E$38,$D$26,0)","v":0},{"$f":"IF(OGK2>=Inputs!$E$38,$D$26,0)","v":0},{"$f":"IF(OGL2>=Inputs!$E$38,$D$26,0)","v":0},{"$f":"IF(OGM2>=Inputs!$E$38,$D$26,0)","v":0},{"$f":"IF(OGN2>=Inputs!$E$38,$D$26,0)","v":0},{"$f":"IF(OGO2>=Inputs!$E$38,$D$26,0)","v":0},{"$f":"IF(OGP2>=Inputs!$E$38,$D$26,0)","v":0},{"$f":"IF(OGQ2>=Inputs!$E$38,$D$26,0)","v":0},{"$f":"IF(OGR2>=Inputs!$E$38,$D$26,0)","v":0},{"$f":"IF(OGS2>=Inputs!$E$38,$D$26,0)","v":0},{"$f":"IF(OGT2>=Inputs!$E$38,$D$26,0)","v":0},{"$f":"IF(OGU2>=Inputs!$E$38,$D$26,0)","v":0},{"$f":"IF(OGV2>=Inputs!$E$38,$D$26,0)","v":0},{"$f":"IF(OGW2>=Inputs!$E$38,$D$26,0)","v":0},{"$f":"IF(OGX2>=Inputs!$E$38,$D$26,0)","v":0},{"$f":"IF(OGY2>=Inputs!$E$38,$D$26,0)","v":0},{"$f":"IF(OGZ2>=Inputs!$E$38,$D$26,0)","v":0},{"$f":"IF(OHA2>=Inputs!$E$38,$D$26,0)","v":0},{"$f":"IF(OHB2>=Inputs!$E$38,$D$26,0)","v":0},{"$f":"IF(OHC2>=Inputs!$E$38,$D$26,0)","v":0},{"$f":"IF(OHD2>=Inputs!$E$38,$D$26,0)","v":0},{"$f":"IF(OHE2>=Inputs!$E$38,$D$26,0)","v":0},{"$f":"IF(OHF2>=Inputs!$E$38,$D$26,0)","v":0},{"$f":"IF(OHG2>=Inputs!$E$38,$D$26,0)","v":0},{"$f":"IF(OHH2>=Inputs!$E$38,$D$26,0)","v":0},{"$f":"IF(OHI2>=Inputs!$E$38,$D$26,0)","v":0},{"$f":"IF(OHJ2>=Inputs!$E$38,$D$26,0)","v":0},{"$f":"IF(OHK2>=Inputs!$E$38,$D$26,0)","v":0},{"$f":"IF(OHL2>=Inputs!$E$38,$D$26,0)","v":0},{"$f":"IF(OHM2>=Inputs!$E$38,$D$26,0)","v":0},{"$f":"IF(OHN2>=Inputs!$E$38,$D$26,0)","v":0},{"$f":"IF(OHO2>=Inputs!$E$38,$D$26,0)","v":0},{"$f":"IF(OHP2>=Inputs!$E$38,$D$26,0)","v":0},{"$f":"IF(OHQ2>=Inputs!$E$38,$D$26,0)","v":0},{"$f":"IF(OHR2>=Inputs!$E$38,$D$26,0)","v":0},{"$f":"IF(OHS2>=Inputs!$E$38,$D$26,0)","v":0},{"$f":"IF(OHT2>=Inputs!$E$38,$D$26,0)","v":0},{"$f":"IF(OHU2>=Inputs!$E$38,$D$26,0)","v":0},{"$f":"IF(OHV2>=Inputs!$E$38,$D$26,0)","v":0},{"$f":"IF(OHW2>=Inputs!$E$38,$D$26,0)","v":0},{"$f":"IF(OHX2>=Inputs!$E$38,$D$26,0)","v":0},{"$f":"IF(OHY2>=Inputs!$E$38,$D$26,0)","v":0},{"$f":"IF(OHZ2>=Inputs!$E$38,$D$26,0)","v":0},{"$f":"IF(OIA2>=Inputs!$E$38,$D$26,0)","v":0},{"$f":"IF(OIB2>=Inputs!$E$38,$D$26,0)","v":0},{"$f":"IF(OIC2>=Inputs!$E$38,$D$26,0)","v":0},{"$f":"IF(OID2>=Inputs!$E$38,$D$26,0)","v":0},{"$f":"IF(OIE2>=Inputs!$E$38,$D$26,0)","v":0},{"$f":"IF(OIF2>=Inputs!$E$38,$D$26,0)","v":0},{"$f":"IF(OIG2>=Inputs!$E$38,$D$26,0)","v":0},{"$f":"IF(OIH2>=Inputs!$E$38,$D$26,0)","v":0},{"$f":"IF(OII2>=Inputs!$E$38,$D$26,0)","v":0},{"$f":"IF(OIJ2>=Inputs!$E$38,$D$26,0)","v":0},{"$f":"IF(OIK2>=Inputs!$E$38,$D$26,0)","v":0},{"$f":"IF(OIL2>=Inputs!$E$38,$D$26,0)","v":0},{"$f":"IF(OIM2>=Inputs!$E$38,$D$26,0)","v":0},{"$f":"IF(OIN2>=Inputs!$E$38,$D$26,0)","v":0},{"$f":"IF(OIO2>=Inputs!$E$38,$D$26,0)","v":0},{"$f":"IF(OIP2>=Inputs!$E$38,$D$26,0)","v":0},{"$f":"IF(OIQ2>=Inputs!$E$38,$D$26,0)","v":0},{"$f":"IF(OIR2>=Inputs!$E$38,$D$26,0)","v":0},{"$f":"IF(OIS2>=Inputs!$E$38,$D$26,0)","v":0},{"$f":"IF(OIT2>=Inputs!$E$38,$D$26,0)","v":0},{"$f":"IF(OIU2>=Inputs!$E$38,$D$26,0)","v":0},{"$f":"IF(OIV2>=Inputs!$E$38,$D$26,0)","v":0},{"$f":"IF(OIW2>=Inputs!$E$38,$D$26,0)","v":0},{"$f":"IF(OIX2>=Inputs!$E$38,$D$26,0)","v":0},{"$f":"IF(OIY2>=Inputs!$E$38,$D$26,0)","v":0},{"$f":"IF(OIZ2>=Inputs!$E$38,$D$26,0)","v":0},{"$f":"IF(OJA2>=Inputs!$E$38,$D$26,0)","v":0},{"$f":"IF(OJB2>=Inputs!$E$38,$D$26,0)","v":0},{"$f":"IF(OJC2>=Inputs!$E$38,$D$26,0)","v":0},{"$f":"IF(OJD2>=Inputs!$E$38,$D$26,0)","v":0},{"$f":"IF(OJE2>=Inputs!$E$38,$D$26,0)","v":0},{"$f":"IF(OJF2>=Inputs!$E$38,$D$26,0)","v":0},{"$f":"IF(OJG2>=Inputs!$E$38,$D$26,0)","v":0},{"$f":"IF(OJH2>=Inputs!$E$38,$D$26,0)","v":0},{"$f":"IF(OJI2>=Inputs!$E$38,$D$26,0)","v":0},{"$f":"IF(OJJ2>=Inputs!$E$38,$D$26,0)","v":0},{"$f":"IF(OJK2>=Inputs!$E$38,$D$26,0)","v":0},{"$f":"IF(OJL2>=Inputs!$E$38,$D$26,0)","v":0},{"$f":"IF(OJM2>=Inputs!$E$38,$D$26,0)","v":0},{"$f":"IF(OJN2>=Inputs!$E$38,$D$26,0)","v":0},{"$f":"IF(OJO2>=Inputs!$E$38,$D$26,0)","v":0},{"$f":"IF(OJP2>=Inputs!$E$38,$D$26,0)","v":0},{"$f":"IF(OJQ2>=Inputs!$E$38,$D$26,0)","v":0},{"$f":"IF(OJR2>=Inputs!$E$38,$D$26,0)","v":0},{"$f":"IF(OJS2>=Inputs!$E$38,$D$26,0)","v":0},{"$f":"IF(OJT2>=Inputs!$E$38,$D$26,0)","v":0},{"$f":"IF(OJU2>=Inputs!$E$38,$D$26,0)","v":0},{"$f":"IF(OJV2>=Inputs!$E$38,$D$26,0)","v":0},{"$f":"IF(OJW2>=Inputs!$E$38,$D$26,0)","v":0},{"$f":"IF(OJX2>=Inputs!$E$38,$D$26,0)","v":0},{"$f":"IF(OJY2>=Inputs!$E$38,$D$26,0)","v":0},{"$f":"IF(OJZ2>=Inputs!$E$38,$D$26,0)","v":0},{"$f":"IF(OKA2>=Inputs!$E$38,$D$26,0)","v":0},{"$f":"IF(OKB2>=Inputs!$E$38,$D$26,0)","v":0},{"$f":"IF(OKC2>=Inputs!$E$38,$D$26,0)","v":0},{"$f":"IF(OKD2>=Inputs!$E$38,$D$26,0)","v":0},{"$f":"IF(OKE2>=Inputs!$E$38,$D$26,0)","v":0},{"$f":"IF(OKF2>=Inputs!$E$38,$D$26,0)","v":0},{"$f":"IF(OKG2>=Inputs!$E$38,$D$26,0)","v":0},{"$f":"IF(OKH2>=Inputs!$E$38,$D$26,0)","v":0},{"$f":"IF(OKI2>=Inputs!$E$38,$D$26,0)","v":0},{"$f":"IF(OKJ2>=Inputs!$E$38,$D$26,0)","v":0},{"$f":"IF(OKK2>=Inputs!$E$38,$D$26,0)","v":0},{"$f":"IF(OKL2>=Inputs!$E$38,$D$26,0)","v":0},{"$f":"IF(OKM2>=Inputs!$E$38,$D$26,0)","v":0},{"$f":"IF(OKN2>=Inputs!$E$38,$D$26,0)","v":0},{"$f":"IF(OKO2>=Inputs!$E$38,$D$26,0)","v":0},{"$f":"IF(OKP2>=Inputs!$E$38,$D$26,0)","v":0},{"$f":"IF(OKQ2>=Inputs!$E$38,$D$26,0)","v":0},{"$f":"IF(OKR2>=Inputs!$E$38,$D$26,0)","v":0},{"$f":"IF(OKS2>=Inputs!$E$38,$D$26,0)","v":0},{"$f":"IF(OKT2>=Inputs!$E$38,$D$26,0)","v":0},{"$f":"IF(OKU2>=Inputs!$E$38,$D$26,0)","v":0},{"$f":"IF(OKV2>=Inputs!$E$38,$D$26,0)","v":0},{"$f":"IF(OKW2>=Inputs!$E$38,$D$26,0)","v":0},{"$f":"IF(OKX2>=Inputs!$E$38,$D$26,0)","v":0},{"$f":"IF(OKY2>=Inputs!$E$38,$D$26,0)","v":0},{"$f":"IF(OKZ2>=Inputs!$E$38,$D$26,0)","v":0},{"$f":"IF(OLA2>=Inputs!$E$38,$D$26,0)","v":0},{"$f":"IF(OLB2>=Inputs!$E$38,$D$26,0)","v":0},{"$f":"IF(OLC2>=Inputs!$E$38,$D$26,0)","v":0},{"$f":"IF(OLD2>=Inputs!$E$38,$D$26,0)","v":0},{"$f":"IF(OLE2>=Inputs!$E$38,$D$26,0)","v":0},{"$f":"IF(OLF2>=Inputs!$E$38,$D$26,0)","v":0},{"$f":"IF(OLG2>=Inputs!$E$38,$D$26,0)","v":0},{"$f":"IF(OLH2>=Inputs!$E$38,$D$26,0)","v":0},{"$f":"IF(OLI2>=Inputs!$E$38,$D$26,0)","v":0},{"$f":"IF(OLJ2>=Inputs!$E$38,$D$26,0)","v":0},{"$f":"IF(OLK2>=Inputs!$E$38,$D$26,0)","v":0},{"$f":"IF(OLL2>=Inputs!$E$38,$D$26,0)","v":0},{"$f":"IF(OLM2>=Inputs!$E$38,$D$26,0)","v":0},{"$f":"IF(OLN2>=Inputs!$E$38,$D$26,0)","v":0},{"$f":"IF(OLO2>=Inputs!$E$38,$D$26,0)","v":0},{"$f":"IF(OLP2>=Inputs!$E$38,$D$26,0)","v":0},{"$f":"IF(OLQ2>=Inputs!$E$38,$D$26,0)","v":0},{"$f":"IF(OLR2>=Inputs!$E$38,$D$26,0)","v":0},{"$f":"IF(OLS2>=Inputs!$E$38,$D$26,0)","v":0},{"$f":"IF(OLT2>=Inputs!$E$38,$D$26,0)","v":0},{"$f":"IF(OLU2>=Inputs!$E$38,$D$26,0)","v":0},{"$f":"IF(OLV2>=Inputs!$E$38,$D$26,0)","v":0},{"$f":"IF(OLW2>=Inputs!$E$38,$D$26,0)","v":0},{"$f":"IF(OLX2>=Inputs!$E$38,$D$26,0)","v":0},{"$f":"IF(OLY2>=Inputs!$E$38,$D$26,0)","v":0},{"$f":"IF(OLZ2>=Inputs!$E$38,$D$26,0)","v":0},{"$f":"IF(OMA2>=Inputs!$E$38,$D$26,0)","v":0},{"$f":"IF(OMB2>=Inputs!$E$38,$D$26,0)","v":0},{"$f":"IF(OMC2>=Inputs!$E$38,$D$26,0)","v":0},{"$f":"IF(OMD2>=Inputs!$E$38,$D$26,0)","v":0},{"$f":"IF(OME2>=Inputs!$E$38,$D$26,0)","v":0},{"$f":"IF(OMF2>=Inputs!$E$38,$D$26,0)","v":0},{"$f":"IF(OMG2>=Inputs!$E$38,$D$26,0)","v":0},{"$f":"IF(OMH2>=Inputs!$E$38,$D$26,0)","v":0},{"$f":"IF(OMI2>=Inputs!$E$38,$D$26,0)","v":0},{"$f":"IF(OMJ2>=Inputs!$E$38,$D$26,0)","v":0},{"$f":"IF(OMK2>=Inputs!$E$38,$D$26,0)","v":0},{"$f":"IF(OML2>=Inputs!$E$38,$D$26,0)","v":0},{"$f":"IF(OMM2>=Inputs!$E$38,$D$26,0)","v":0},{"$f":"IF(OMN2>=Inputs!$E$38,$D$26,0)","v":0},{"$f":"IF(OMO2>=Inputs!$E$38,$D$26,0)","v":0},{"$f":"IF(OMP2>=Inputs!$E$38,$D$26,0)","v":0},{"$f":"IF(OMQ2>=Inputs!$E$38,$D$26,0)","v":0},{"$f":"IF(OMR2>=Inputs!$E$38,$D$26,0)","v":0},{"$f":"IF(OMS2>=Inputs!$E$38,$D$26,0)","v":0},{"$f":"IF(OMT2>=Inputs!$E$38,$D$26,0)","v":0},{"$f":"IF(OMU2>=Inputs!$E$38,$D$26,0)","v":0},{"$f":"IF(OMV2>=Inputs!$E$38,$D$26,0)","v":0},{"$f":"IF(OMW2>=Inputs!$E$38,$D$26,0)","v":0},{"$f":"IF(OMX2>=Inputs!$E$38,$D$26,0)","v":0},{"$f":"IF(OMY2>=Inputs!$E$38,$D$26,0)","v":0},{"$f":"IF(OMZ2>=Inputs!$E$38,$D$26,0)","v":0},{"$f":"IF(ONA2>=Inputs!$E$38,$D$26,0)","v":0},{"$f":"IF(ONB2>=Inputs!$E$38,$D$26,0)","v":0},{"$f":"IF(ONC2>=Inputs!$E$38,$D$26,0)","v":0},{"$f":"IF(OND2>=Inputs!$E$38,$D$26,0)","v":0},{"$f":"IF(ONE2>=Inputs!$E$38,$D$26,0)","v":0},{"$f":"IF(ONF2>=Inputs!$E$38,$D$26,0)","v":0},{"$f":"IF(ONG2>=Inputs!$E$38,$D$26,0)","v":0},{"$f":"IF(ONH2>=Inputs!$E$38,$D$26,0)","v":0},{"$f":"IF(ONI2>=Inputs!$E$38,$D$26,0)","v":0},{"$f":"IF(ONJ2>=Inputs!$E$38,$D$26,0)","v":0},{"$f":"IF(ONK2>=Inputs!$E$38,$D$26,0)","v":0},{"$f":"IF(ONL2>=Inputs!$E$38,$D$26,0)","v":0},{"$f":"IF(ONM2>=Inputs!$E$38,$D$26,0)","v":0},{"$f":"IF(ONN2>=Inputs!$E$38,$D$26,0)","v":0},{"$f":"IF(ONO2>=Inputs!$E$38,$D$26,0)","v":0},{"$f":"IF(ONP2>=Inputs!$E$38,$D$26,0)","v":0},{"$f":"IF(ONQ2>=Inputs!$E$38,$D$26,0)","v":0},{"$f":"IF(ONR2>=Inputs!$E$38,$D$26,0)","v":0},{"$f":"IF(ONS2>=Inputs!$E$38,$D$26,0)","v":0},{"$f":"IF(ONT2>=Inputs!$E$38,$D$26,0)","v":0},{"$f":"IF(ONU2>=Inputs!$E$38,$D$26,0)","v":0},{"$f":"IF(ONV2>=Inputs!$E$38,$D$26,0)","v":0},{"$f":"IF(ONW2>=Inputs!$E$38,$D$26,0)","v":0},{"$f":"IF(ONX2>=Inputs!$E$38,$D$26,0)","v":0},{"$f":"IF(ONY2>=Inputs!$E$38,$D$26,0)","v":0},{"$f":"IF(ONZ2>=Inputs!$E$38,$D$26,0)","v":0},{"$f":"IF(OOA2>=Inputs!$E$38,$D$26,0)","v":0},{"$f":"IF(OOB2>=Inputs!$E$38,$D$26,0)","v":0},{"$f":"IF(OOC2>=Inputs!$E$38,$D$26,0)","v":0},{"$f":"IF(OOD2>=Inputs!$E$38,$D$26,0)","v":0},{"$f":"IF(OOE2>=Inputs!$E$38,$D$26,0)","v":0},{"$f":"IF(OOF2>=Inputs!$E$38,$D$26,0)","v":0},{"$f":"IF(OOG2>=Inputs!$E$38,$D$26,0)","v":0},{"$f":"IF(OOH2>=Inputs!$E$38,$D$26,0)","v":0},{"$f":"IF(OOI2>=Inputs!$E$38,$D$26,0)","v":0},{"$f":"IF(OOJ2>=Inputs!$E$38,$D$26,0)","v":0},{"$f":"IF(OOK2>=Inputs!$E$38,$D$26,0)","v":0},{"$f":"IF(OOL2>=Inputs!$E$38,$D$26,0)","v":0},{"$f":"IF(OOM2>=Inputs!$E$38,$D$26,0)","v":0},{"$f":"IF(OON2>=Inputs!$E$38,$D$26,0)","v":0},{"$f":"IF(OOO2>=Inputs!$E$38,$D$26,0)","v":0},{"$f":"IF(OOP2>=Inputs!$E$38,$D$26,0)","v":0},{"$f":"IF(OOQ2>=Inputs!$E$38,$D$26,0)","v":0},{"$f":"IF(OOR2>=Inputs!$E$38,$D$26,0)","v":0},{"$f":"IF(OOS2>=Inputs!$E$38,$D$26,0)","v":0},{"$f":"IF(OOT2>=Inputs!$E$38,$D$26,0)","v":0},{"$f":"IF(OOU2>=Inputs!$E$38,$D$26,0)","v":0},{"$f":"IF(OOV2>=Inputs!$E$38,$D$26,0)","v":0},{"$f":"IF(OOW2>=Inputs!$E$38,$D$26,0)","v":0},{"$f":"IF(OOX2>=Inputs!$E$38,$D$26,0)","v":0},{"$f":"IF(OOY2>=Inputs!$E$38,$D$26,0)","v":0},{"$f":"IF(OOZ2>=Inputs!$E$38,$D$26,0)","v":0},{"$f":"IF(OPA2>=Inputs!$E$38,$D$26,0)","v":0},{"$f":"IF(OPB2>=Inputs!$E$38,$D$26,0)","v":0},{"$f":"IF(OPC2>=Inputs!$E$38,$D$26,0)","v":0},{"$f":"IF(OPD2>=Inputs!$E$38,$D$26,0)","v":0},{"$f":"IF(OPE2>=Inputs!$E$38,$D$26,0)","v":0},{"$f":"IF(OPF2>=Inputs!$E$38,$D$26,0)","v":0},{"$f":"IF(OPG2>=Inputs!$E$38,$D$26,0)","v":0},{"$f":"IF(OPH2>=Inputs!$E$38,$D$26,0)","v":0},{"$f":"IF(OPI2>=Inputs!$E$38,$D$26,0)","v":0},{"$f":"IF(OPJ2>=Inputs!$E$38,$D$26,0)","v":0},{"$f":"IF(OPK2>=Inputs!$E$38,$D$26,0)","v":0},{"$f":"IF(OPL2>=Inputs!$E$38,$D$26,0)","v":0},{"$f":"IF(OPM2>=Inputs!$E$38,$D$26,0)","v":0},{"$f":"IF(OPN2>=Inputs!$E$38,$D$26,0)","v":0},{"$f":"IF(OPO2>=Inputs!$E$38,$D$26,0)","v":0},{"$f":"IF(OPP2>=Inputs!$E$38,$D$26,0)","v":0},{"$f":"IF(OPQ2>=Inputs!$E$38,$D$26,0)","v":0},{"$f":"IF(OPR2>=Inputs!$E$38,$D$26,0)","v":0},{"$f":"IF(OPS2>=Inputs!$E$38,$D$26,0)","v":0},{"$f":"IF(OPT2>=Inputs!$E$38,$D$26,0)","v":0},{"$f":"IF(OPU2>=Inputs!$E$38,$D$26,0)","v":0},{"$f":"IF(OPV2>=Inputs!$E$38,$D$26,0)","v":0},{"$f":"IF(OPW2>=Inputs!$E$38,$D$26,0)","v":0},{"$f":"IF(OPX2>=Inputs!$E$38,$D$26,0)","v":0},{"$f":"IF(OPY2>=Inputs!$E$38,$D$26,0)","v":0},{"$f":"IF(OPZ2>=Inputs!$E$38,$D$26,0)","v":0},{"$f":"IF(OQA2>=Inputs!$E$38,$D$26,0)","v":0},{"$f":"IF(OQB2>=Inputs!$E$38,$D$26,0)","v":0},{"$f":"IF(OQC2>=Inputs!$E$38,$D$26,0)","v":0},{"$f":"IF(OQD2>=Inputs!$E$38,$D$26,0)","v":0},{"$f":"IF(OQE2>=Inputs!$E$38,$D$26,0)","v":0},{"$f":"IF(OQF2>=Inputs!$E$38,$D$26,0)","v":0},{"$f":"IF(OQG2>=Inputs!$E$38,$D$26,0)","v":0},{"$f":"IF(OQH2>=Inputs!$E$38,$D$26,0)","v":0},{"$f":"IF(OQI2>=Inputs!$E$38,$D$26,0)","v":0},{"$f":"IF(OQJ2>=Inputs!$E$38,$D$26,0)","v":0},{"$f":"IF(OQK2>=Inputs!$E$38,$D$26,0)","v":0},{"$f":"IF(OQL2>=Inputs!$E$38,$D$26,0)","v":0},{"$f":"IF(OQM2>=Inputs!$E$38,$D$26,0)","v":0},{"$f":"IF(OQN2>=Inputs!$E$38,$D$26,0)","v":0},{"$f":"IF(OQO2>=Inputs!$E$38,$D$26,0)","v":0},{"$f":"IF(OQP2>=Inputs!$E$38,$D$26,0)","v":0},{"$f":"IF(OQQ2>=Inputs!$E$38,$D$26,0)","v":0},{"$f":"IF(OQR2>=Inputs!$E$38,$D$26,0)","v":0},{"$f":"IF(OQS2>=Inputs!$E$38,$D$26,0)","v":0},{"$f":"IF(OQT2>=Inputs!$E$38,$D$26,0)","v":0},{"$f":"IF(OQU2>=Inputs!$E$38,$D$26,0)","v":0},{"$f":"IF(OQV2>=Inputs!$E$38,$D$26,0)","v":0},{"$f":"IF(OQW2>=Inputs!$E$38,$D$26,0)","v":0},{"$f":"IF(OQX2>=Inputs!$E$38,$D$26,0)","v":0},{"$f":"IF(OQY2>=Inputs!$E$38,$D$26,0)","v":0},{"$f":"IF(OQZ2>=Inputs!$E$38,$D$26,0)","v":0},{"$f":"IF(ORA2>=Inputs!$E$38,$D$26,0)","v":0},{"$f":"IF(ORB2>=Inputs!$E$38,$D$26,0)","v":0},{"$f":"IF(ORC2>=Inputs!$E$38,$D$26,0)","v":0},{"$f":"IF(ORD2>=Inputs!$E$38,$D$26,0)","v":0},{"$f":"IF(ORE2>=Inputs!$E$38,$D$26,0)","v":0},{"$f":"IF(ORF2>=Inputs!$E$38,$D$26,0)","v":0},{"$f":"IF(ORG2>=Inputs!$E$38,$D$26,0)","v":0},{"$f":"IF(ORH2>=Inputs!$E$38,$D$26,0)","v":0},{"$f":"IF(ORI2>=Inputs!$E$38,$D$26,0)","v":0},{"$f":"IF(ORJ2>=Inputs!$E$38,$D$26,0)","v":0},{"$f":"IF(ORK2>=Inputs!$E$38,$D$26,0)","v":0},{"$f":"IF(ORL2>=Inputs!$E$38,$D$26,0)","v":0},{"$f":"IF(ORM2>=Inputs!$E$38,$D$26,0)","v":0},{"$f":"IF(ORN2>=Inputs!$E$38,$D$26,0)","v":0},{"$f":"IF(ORO2>=Inputs!$E$38,$D$26,0)","v":0},{"$f":"IF(ORP2>=Inputs!$E$38,$D$26,0)","v":0},{"$f":"IF(ORQ2>=Inputs!$E$38,$D$26,0)","v":0},{"$f":"IF(ORR2>=Inputs!$E$38,$D$26,0)","v":0},{"$f":"IF(ORS2>=Inputs!$E$38,$D$26,0)","v":0},{"$f":"IF(ORT2>=Inputs!$E$38,$D$26,0)","v":0},{"$f":"IF(ORU2>=Inputs!$E$38,$D$26,0)","v":0},{"$f":"IF(ORV2>=Inputs!$E$38,$D$26,0)","v":0},{"$f":"IF(ORW2>=Inputs!$E$38,$D$26,0)","v":0},{"$f":"IF(ORX2>=Inputs!$E$38,$D$26,0)","v":0},{"$f":"IF(ORY2>=Inputs!$E$38,$D$26,0)","v":0},{"$f":"IF(ORZ2>=Inputs!$E$38,$D$26,0)","v":0},{"$f":"IF(OSA2>=Inputs!$E$38,$D$26,0)","v":0},{"$f":"IF(OSB2>=Inputs!$E$38,$D$26,0)","v":0},{"$f":"IF(OSC2>=Inputs!$E$38,$D$26,0)","v":0},{"$f":"IF(OSD2>=Inputs!$E$38,$D$26,0)","v":0},{"$f":"IF(OSE2>=Inputs!$E$38,$D$26,0)","v":0},{"$f":"IF(OSF2>=Inputs!$E$38,$D$26,0)","v":0},{"$f":"IF(OSG2>=Inputs!$E$38,$D$26,0)","v":0},{"$f":"IF(OSH2>=Inputs!$E$38,$D$26,0)","v":0},{"$f":"IF(OSI2>=Inputs!$E$38,$D$26,0)","v":0},{"$f":"IF(OSJ2>=Inputs!$E$38,$D$26,0)","v":0},{"$f":"IF(OSK2>=Inputs!$E$38,$D$26,0)","v":0},{"$f":"IF(OSL2>=Inputs!$E$38,$D$26,0)","v":0},{"$f":"IF(OSM2>=Inputs!$E$38,$D$26,0)","v":0},{"$f":"IF(OSN2>=Inputs!$E$38,$D$26,0)","v":0},{"$f":"IF(OSO2>=Inputs!$E$38,$D$26,0)","v":0},{"$f":"IF(OSP2>=Inputs!$E$38,$D$26,0)","v":0},{"$f":"IF(OSQ2>=Inputs!$E$38,$D$26,0)","v":0},{"$f":"IF(OSR2>=Inputs!$E$38,$D$26,0)","v":0},{"$f":"IF(OSS2>=Inputs!$E$38,$D$26,0)","v":0},{"$f":"IF(OST2>=Inputs!$E$38,$D$26,0)","v":0},{"$f":"IF(OSU2>=Inputs!$E$38,$D$26,0)","v":0},{"$f":"IF(OSV2>=Inputs!$E$38,$D$26,0)","v":0},{"$f":"IF(OSW2>=Inputs!$E$38,$D$26,0)","v":0},{"$f":"IF(OSX2>=Inputs!$E$38,$D$26,0)","v":0},{"$f":"IF(OSY2>=Inputs!$E$38,$D$26,0)","v":0},{"$f":"IF(OSZ2>=Inputs!$E$38,$D$26,0)","v":0},{"$f":"IF(OTA2>=Inputs!$E$38,$D$26,0)","v":0},{"$f":"IF(OTB2>=Inputs!$E$38,$D$26,0)","v":0},{"$f":"IF(OTC2>=Inputs!$E$38,$D$26,0)","v":0},{"$f":"IF(OTD2>=Inputs!$E$38,$D$26,0)","v":0},{"$f":"IF(OTE2>=Inputs!$E$38,$D$26,0)","v":0},{"$f":"IF(OTF2>=Inputs!$E$38,$D$26,0)","v":0},{"$f":"IF(OTG2>=Inputs!$E$38,$D$26,0)","v":0},{"$f":"IF(OTH2>=Inputs!$E$38,$D$26,0)","v":0},{"$f":"IF(OTI2>=Inputs!$E$38,$D$26,0)","v":0},{"$f":"IF(OTJ2>=Inputs!$E$38,$D$26,0)","v":0},{"$f":"IF(OTK2>=Inputs!$E$38,$D$26,0)","v":0},{"$f":"IF(OTL2>=Inputs!$E$38,$D$26,0)","v":0},{"$f":"IF(OTM2>=Inputs!$E$38,$D$26,0)","v":0},{"$f":"IF(OTN2>=Inputs!$E$38,$D$26,0)","v":0},{"$f":"IF(OTO2>=Inputs!$E$38,$D$26,0)","v":0},{"$f":"IF(OTP2>=Inputs!$E$38,$D$26,0)","v":0},{"$f":"IF(OTQ2>=Inputs!$E$38,$D$26,0)","v":0},{"$f":"IF(OTR2>=Inputs!$E$38,$D$26,0)","v":0},{"$f":"IF(OTS2>=Inputs!$E$38,$D$26,0)","v":0},{"$f":"IF(OTT2>=Inputs!$E$38,$D$26,0)","v":0},{"$f":"IF(OTU2>=Inputs!$E$38,$D$26,0)","v":0},{"$f":"IF(OTV2>=Inputs!$E$38,$D$26,0)","v":0},{"$f":"IF(OTW2>=Inputs!$E$38,$D$26,0)","v":0},{"$f":"IF(OTX2>=Inputs!$E$38,$D$26,0)","v":0},{"$f":"IF(OTY2>=Inputs!$E$38,$D$26,0)","v":0},{"$f":"IF(OTZ2>=Inputs!$E$38,$D$26,0)","v":0},{"$f":"IF(OUA2>=Inputs!$E$38,$D$26,0)","v":0},{"$f":"IF(OUB2>=Inputs!$E$38,$D$26,0)","v":0},{"$f":"IF(OUC2>=Inputs!$E$38,$D$26,0)","v":0},{"$f":"IF(OUD2>=Inputs!$E$38,$D$26,0)","v":0},{"$f":"IF(OUE2>=Inputs!$E$38,$D$26,0)","v":0},{"$f":"IF(OUF2>=Inputs!$E$38,$D$26,0)","v":0},{"$f":"IF(OUG2>=Inputs!$E$38,$D$26,0)","v":0},{"$f":"IF(OUH2>=Inputs!$E$38,$D$26,0)","v":0},{"$f":"IF(OUI2>=Inputs!$E$38,$D$26,0)","v":0},{"$f":"IF(OUJ2>=Inputs!$E$38,$D$26,0)","v":0},{"$f":"IF(OUK2>=Inputs!$E$38,$D$26,0)","v":0},{"$f":"IF(OUL2>=Inputs!$E$38,$D$26,0)","v":0},{"$f":"IF(OUM2>=Inputs!$E$38,$D$26,0)","v":0},{"$f":"IF(OUN2>=Inputs!$E$38,$D$26,0)","v":0},{"$f":"IF(OUO2>=Inputs!$E$38,$D$26,0)","v":0},{"$f":"IF(OUP2>=Inputs!$E$38,$D$26,0)","v":0},{"$f":"IF(OUQ2>=Inputs!$E$38,$D$26,0)","v":0},{"$f":"IF(OUR2>=Inputs!$E$38,$D$26,0)","v":0},{"$f":"IF(OUS2>=Inputs!$E$38,$D$26,0)","v":0},{"$f":"IF(OUT2>=Inputs!$E$38,$D$26,0)","v":0},{"$f":"IF(OUU2>=Inputs!$E$38,$D$26,0)","v":0},{"$f":"IF(OUV2>=Inputs!$E$38,$D$26,0)","v":0},{"$f":"IF(OUW2>=Inputs!$E$38,$D$26,0)","v":0},{"$f":"IF(OUX2>=Inputs!$E$38,$D$26,0)","v":0},{"$f":"IF(OUY2>=Inputs!$E$38,$D$26,0)","v":0},{"$f":"IF(OUZ2>=Inputs!$E$38,$D$26,0)","v":0},{"$f":"IF(OVA2>=Inputs!$E$38,$D$26,0)","v":0},{"$f":"IF(OVB2>=Inputs!$E$38,$D$26,0)","v":0},{"$f":"IF(OVC2>=Inputs!$E$38,$D$26,0)","v":0},{"$f":"IF(OVD2>=Inputs!$E$38,$D$26,0)","v":0},{"$f":"IF(OVE2>=Inputs!$E$38,$D$26,0)","v":0},{"$f":"IF(OVF2>=Inputs!$E$38,$D$26,0)","v":0},{"$f":"IF(OVG2>=Inputs!$E$38,$D$26,0)","v":0},{"$f":"IF(OVH2>=Inputs!$E$38,$D$26,0)","v":0},{"$f":"IF(OVI2>=Inputs!$E$38,$D$26,0)","v":0},{"$f":"IF(OVJ2>=Inputs!$E$38,$D$26,0)","v":0},{"$f":"IF(OVK2>=Inputs!$E$38,$D$26,0)","v":0},{"$f":"IF(OVL2>=Inputs!$E$38,$D$26,0)","v":0},{"$f":"IF(OVM2>=Inputs!$E$38,$D$26,0)","v":0},{"$f":"IF(OVN2>=Inputs!$E$38,$D$26,0)","v":0},{"$f":"IF(OVO2>=Inputs!$E$38,$D$26,0)","v":0},{"$f":"IF(OVP2>=Inputs!$E$38,$D$26,0)","v":0},{"$f":"IF(OVQ2>=Inputs!$E$38,$D$26,0)","v":0},{"$f":"IF(OVR2>=Inputs!$E$38,$D$26,0)","v":0},{"$f":"IF(OVS2>=Inputs!$E$38,$D$26,0)","v":0},{"$f":"IF(OVT2>=Inputs!$E$38,$D$26,0)","v":0},{"$f":"IF(OVU2>=Inputs!$E$38,$D$26,0)","v":0},{"$f":"IF(OVV2>=Inputs!$E$38,$D$26,0)","v":0},{"$f":"IF(OVW2>=Inputs!$E$38,$D$26,0)","v":0},{"$f":"IF(OVX2>=Inputs!$E$38,$D$26,0)","v":0},{"$f":"IF(OVY2>=Inputs!$E$38,$D$26,0)","v":0},{"$f":"IF(OVZ2>=Inputs!$E$38,$D$26,0)","v":0},{"$f":"IF(OWA2>=Inputs!$E$38,$D$26,0)","v":0},{"$f":"IF(OWB2>=Inputs!$E$38,$D$26,0)","v":0},{"$f":"IF(OWC2>=Inputs!$E$38,$D$26,0)","v":0},{"$f":"IF(OWD2>=Inputs!$E$38,$D$26,0)","v":0},{"$f":"IF(OWE2>=Inputs!$E$38,$D$26,0)","v":0},{"$f":"IF(OWF2>=Inputs!$E$38,$D$26,0)","v":0},{"$f":"IF(OWG2>=Inputs!$E$38,$D$26,0)","v":0},{"$f":"IF(OWH2>=Inputs!$E$38,$D$26,0)","v":0},{"$f":"IF(OWI2>=Inputs!$E$38,$D$26,0)","v":0},{"$f":"IF(OWJ2>=Inputs!$E$38,$D$26,0)","v":0},{"$f":"IF(OWK2>=Inputs!$E$38,$D$26,0)","v":0},{"$f":"IF(OWL2>=Inputs!$E$38,$D$26,0)","v":0},{"$f":"IF(OWM2>=Inputs!$E$38,$D$26,0)","v":0},{"$f":"IF(OWN2>=Inputs!$E$38,$D$26,0)","v":0},{"$f":"IF(OWO2>=Inputs!$E$38,$D$26,0)","v":0},{"$f":"IF(OWP2>=Inputs!$E$38,$D$26,0)","v":0},{"$f":"IF(OWQ2>=Inputs!$E$38,$D$26,0)","v":0},{"$f":"IF(OWR2>=Inputs!$E$38,$D$26,0)","v":0},{"$f":"IF(OWS2>=Inputs!$E$38,$D$26,0)","v":0},{"$f":"IF(OWT2>=Inputs!$E$38,$D$26,0)","v":0},{"$f":"IF(OWU2>=Inputs!$E$38,$D$26,0)","v":0},{"$f":"IF(OWV2>=Inputs!$E$38,$D$26,0)","v":0},{"$f":"IF(OWW2>=Inputs!$E$38,$D$26,0)","v":0},{"$f":"IF(OWX2>=Inputs!$E$38,$D$26,0)","v":0},{"$f":"IF(OWY2>=Inputs!$E$38,$D$26,0)","v":0},{"$f":"IF(OWZ2>=Inputs!$E$38,$D$26,0)","v":0},{"$f":"IF(OXA2>=Inputs!$E$38,$D$26,0)","v":0},{"$f":"IF(OXB2>=Inputs!$E$38,$D$26,0)","v":0},{"$f":"IF(OXC2>=Inputs!$E$38,$D$26,0)","v":0},{"$f":"IF(OXD2>=Inputs!$E$38,$D$26,0)","v":0},{"$f":"IF(OXE2>=Inputs!$E$38,$D$26,0)","v":0},{"$f":"IF(OXF2>=Inputs!$E$38,$D$26,0)","v":0},{"$f":"IF(OXG2>=Inputs!$E$38,$D$26,0)","v":0},{"$f":"IF(OXH2>=Inputs!$E$38,$D$26,0)","v":0},{"$f":"IF(OXI2>=Inputs!$E$38,$D$26,0)","v":0},{"$f":"IF(OXJ2>=Inputs!$E$38,$D$26,0)","v":0},{"$f":"IF(OXK2>=Inputs!$E$38,$D$26,0)","v":0},{"$f":"IF(OXL2>=Inputs!$E$38,$D$26,0)","v":0},{"$f":"IF(OXM2>=Inputs!$E$38,$D$26,0)","v":0},{"$f":"IF(OXN2>=Inputs!$E$38,$D$26,0)","v":0},{"$f":"IF(OXO2>=Inputs!$E$38,$D$26,0)","v":0},{"$f":"IF(OXP2>=Inputs!$E$38,$D$26,0)","v":0},{"$f":"IF(OXQ2>=Inputs!$E$38,$D$26,0)","v":0},{"$f":"IF(OXR2>=Inputs!$E$38,$D$26,0)","v":0},{"$f":"IF(OXS2>=Inputs!$E$38,$D$26,0)","v":0},{"$f":"IF(OXT2>=Inputs!$E$38,$D$26,0)","v":0},{"$f":"IF(OXU2>=Inputs!$E$38,$D$26,0)","v":0},{"$f":"IF(OXV2>=Inputs!$E$38,$D$26,0)","v":0},{"$f":"IF(OXW2>=Inputs!$E$38,$D$26,0)","v":0},{"$f":"IF(OXX2>=Inputs!$E$38,$D$26,0)","v":0},{"$f":"IF(OXY2>=Inputs!$E$38,$D$26,0)","v":0},{"$f":"IF(OXZ2>=Inputs!$E$38,$D$26,0)","v":0},{"$f":"IF(OYA2>=Inputs!$E$38,$D$26,0)","v":0},{"$f":"IF(OYB2>=Inputs!$E$38,$D$26,0)","v":0},{"$f":"IF(OYC2>=Inputs!$E$38,$D$26,0)","v":0},{"$f":"IF(OYD2>=Inputs!$E$38,$D$26,0)","v":0},{"$f":"IF(OYE2>=Inputs!$E$38,$D$26,0)","v":0},{"$f":"IF(OYF2>=Inputs!$E$38,$D$26,0)","v":0},{"$f":"IF(OYG2>=Inputs!$E$38,$D$26,0)","v":0},{"$f":"IF(OYH2>=Inputs!$E$38,$D$26,0)","v":0},{"$f":"IF(OYI2>=Inputs!$E$38,$D$26,0)","v":0},{"$f":"IF(OYJ2>=Inputs!$E$38,$D$26,0)","v":0},{"$f":"IF(OYK2>=Inputs!$E$38,$D$26,0)","v":0},{"$f":"IF(OYL2>=Inputs!$E$38,$D$26,0)","v":0},{"$f":"IF(OYM2>=Inputs!$E$38,$D$26,0)","v":0},{"$f":"IF(OYN2>=Inputs!$E$38,$D$26,0)","v":0},{"$f":"IF(OYO2>=Inputs!$E$38,$D$26,0)","v":0},{"$f":"IF(OYP2>=Inputs!$E$38,$D$26,0)","v":0},{"$f":"IF(OYQ2>=Inputs!$E$38,$D$26,0)","v":0},{"$f":"IF(OYR2>=Inputs!$E$38,$D$26,0)","v":0},{"$f":"IF(OYS2>=Inputs!$E$38,$D$26,0)","v":0},{"$f":"IF(OYT2>=Inputs!$E$38,$D$26,0)","v":0},{"$f":"IF(OYU2>=Inputs!$E$38,$D$26,0)","v":0},{"$f":"IF(OYV2>=Inputs!$E$38,$D$26,0)","v":0},{"$f":"IF(OYW2>=Inputs!$E$38,$D$26,0)","v":0},{"$f":"IF(OYX2>=Inputs!$E$38,$D$26,0)","v":0},{"$f":"IF(OYY2>=Inputs!$E$38,$D$26,0)","v":0},{"$f":"IF(OYZ2>=Inputs!$E$38,$D$26,0)","v":0},{"$f":"IF(OZA2>=Inputs!$E$38,$D$26,0)","v":0},{"$f":"IF(OZB2>=Inputs!$E$38,$D$26,0)","v":0},{"$f":"IF(OZC2>=Inputs!$E$38,$D$26,0)","v":0},{"$f":"IF(OZD2>=Inputs!$E$38,$D$26,0)","v":0},{"$f":"IF(OZE2>=Inputs!$E$38,$D$26,0)","v":0},{"$f":"IF(OZF2>=Inputs!$E$38,$D$26,0)","v":0},{"$f":"IF(OZG2>=Inputs!$E$38,$D$26,0)","v":0},{"$f":"IF(OZH2>=Inputs!$E$38,$D$26,0)","v":0},{"$f":"IF(OZI2>=Inputs!$E$38,$D$26,0)","v":0},{"$f":"IF(OZJ2>=Inputs!$E$38,$D$26,0)","v":0},{"$f":"IF(OZK2>=Inputs!$E$38,$D$26,0)","v":0},{"$f":"IF(OZL2>=Inputs!$E$38,$D$26,0)","v":0},{"$f":"IF(OZM2>=Inputs!$E$38,$D$26,0)","v":0},{"$f":"IF(OZN2>=Inputs!$E$38,$D$26,0)","v":0},{"$f":"IF(OZO2>=Inputs!$E$38,$D$26,0)","v":0},{"$f":"IF(OZP2>=Inputs!$E$38,$D$26,0)","v":0},{"$f":"IF(OZQ2>=Inputs!$E$38,$D$26,0)","v":0},{"$f":"IF(OZR2>=Inputs!$E$38,$D$26,0)","v":0},{"$f":"IF(OZS2>=Inputs!$E$38,$D$26,0)","v":0},{"$f":"IF(OZT2>=Inputs!$E$38,$D$26,0)","v":0},{"$f":"IF(OZU2>=Inputs!$E$38,$D$26,0)","v":0},{"$f":"IF(OZV2>=Inputs!$E$38,$D$26,0)","v":0},{"$f":"IF(OZW2>=Inputs!$E$38,$D$26,0)","v":0},{"$f":"IF(OZX2>=Inputs!$E$38,$D$26,0)","v":0},{"$f":"IF(OZY2>=Inputs!$E$38,$D$26,0)","v":0},{"$f":"IF(OZZ2>=Inputs!$E$38,$D$26,0)","v":0},{"$f":"IF(PAA2>=Inputs!$E$38,$D$26,0)","v":0},{"$f":"IF(PAB2>=Inputs!$E$38,$D$26,0)","v":0},{"$f":"IF(PAC2>=Inputs!$E$38,$D$26,0)","v":0},{"$f":"IF(PAD2>=Inputs!$E$38,$D$26,0)","v":0},{"$f":"IF(PAE2>=Inputs!$E$38,$D$26,0)","v":0},{"$f":"IF(PAF2>=Inputs!$E$38,$D$26,0)","v":0},{"$f":"IF(PAG2>=Inputs!$E$38,$D$26,0)","v":0},{"$f":"IF(PAH2>=Inputs!$E$38,$D$26,0)","v":0},{"$f":"IF(PAI2>=Inputs!$E$38,$D$26,0)","v":0},{"$f":"IF(PAJ2>=Inputs!$E$38,$D$26,0)","v":0},{"$f":"IF(PAK2>=Inputs!$E$38,$D$26,0)","v":0},{"$f":"IF(PAL2>=Inputs!$E$38,$D$26,0)","v":0},{"$f":"IF(PAM2>=Inputs!$E$38,$D$26,0)","v":0},{"$f":"IF(PAN2>=Inputs!$E$38,$D$26,0)","v":0},{"$f":"IF(PAO2>=Inputs!$E$38,$D$26,0)","v":0},{"$f":"IF(PAP2>=Inputs!$E$38,$D$26,0)","v":0},{"$f":"IF(PAQ2>=Inputs!$E$38,$D$26,0)","v":0},{"$f":"IF(PAR2>=Inputs!$E$38,$D$26,0)","v":0},{"$f":"IF(PAS2>=Inputs!$E$38,$D$26,0)","v":0},{"$f":"IF(PAT2>=Inputs!$E$38,$D$26,0)","v":0},{"$f":"IF(PAU2>=Inputs!$E$38,$D$26,0)","v":0},{"$f":"IF(PAV2>=Inputs!$E$38,$D$26,0)","v":0},{"$f":"IF(PAW2>=Inputs!$E$38,$D$26,0)","v":0},{"$f":"IF(PAX2>=Inputs!$E$38,$D$26,0)","v":0},{"$f":"IF(PAY2>=Inputs!$E$38,$D$26,0)","v":0},{"$f":"IF(PAZ2>=Inputs!$E$38,$D$26,0)","v":0},{"$f":"IF(PBA2>=Inputs!$E$38,$D$26,0)","v":0},{"$f":"IF(PBB2>=Inputs!$E$38,$D$26,0)","v":0},{"$f":"IF(PBC2>=Inputs!$E$38,$D$26,0)","v":0},{"$f":"IF(PBD2>=Inputs!$E$38,$D$26,0)","v":0},{"$f":"IF(PBE2>=Inputs!$E$38,$D$26,0)","v":0},{"$f":"IF(PBF2>=Inputs!$E$38,$D$26,0)","v":0},{"$f":"IF(PBG2>=Inputs!$E$38,$D$26,0)","v":0},{"$f":"IF(PBH2>=Inputs!$E$38,$D$26,0)","v":0},{"$f":"IF(PBI2>=Inputs!$E$38,$D$26,0)","v":0},{"$f":"IF(PBJ2>=Inputs!$E$38,$D$26,0)","v":0},{"$f":"IF(PBK2>=Inputs!$E$38,$D$26,0)","v":0},{"$f":"IF(PBL2>=Inputs!$E$38,$D$26,0)","v":0},{"$f":"IF(PBM2>=Inputs!$E$38,$D$26,0)","v":0},{"$f":"IF(PBN2>=Inputs!$E$38,$D$26,0)","v":0},{"$f":"IF(PBO2>=Inputs!$E$38,$D$26,0)","v":0},{"$f":"IF(PBP2>=Inputs!$E$38,$D$26,0)","v":0},{"$f":"IF(PBQ2>=Inputs!$E$38,$D$26,0)","v":0},{"$f":"IF(PBR2>=Inputs!$E$38,$D$26,0)","v":0},{"$f":"IF(PBS2>=Inputs!$E$38,$D$26,0)","v":0},{"$f":"IF(PBT2>=Inputs!$E$38,$D$26,0)","v":0},{"$f":"IF(PBU2>=Inputs!$E$38,$D$26,0)","v":0},{"$f":"IF(PBV2>=Inputs!$E$38,$D$26,0)","v":0},{"$f":"IF(PBW2>=Inputs!$E$38,$D$26,0)","v":0},{"$f":"IF(PBX2>=Inputs!$E$38,$D$26,0)","v":0},{"$f":"IF(PBY2>=Inputs!$E$38,$D$26,0)","v":0},{"$f":"IF(PBZ2>=Inputs!$E$38,$D$26,0)","v":0},{"$f":"IF(PCA2>=Inputs!$E$38,$D$26,0)","v":0},{"$f":"IF(PCB2>=Inputs!$E$38,$D$26,0)","v":0},{"$f":"IF(PCC2>=Inputs!$E$38,$D$26,0)","v":0},{"$f":"IF(PCD2>=Inputs!$E$38,$D$26,0)","v":0},{"$f":"IF(PCE2>=Inputs!$E$38,$D$26,0)","v":0},{"$f":"IF(PCF2>=Inputs!$E$38,$D$26,0)","v":0},{"$f":"IF(PCG2>=Inputs!$E$38,$D$26,0)","v":0},{"$f":"IF(PCH2>=Inputs!$E$38,$D$26,0)","v":0},{"$f":"IF(PCI2>=Inputs!$E$38,$D$26,0)","v":0},{"$f":"IF(PCJ2>=Inputs!$E$38,$D$26,0)","v":0},{"$f":"IF(PCK2>=Inputs!$E$38,$D$26,0)","v":0},{"$f":"IF(PCL2>=Inputs!$E$38,$D$26,0)","v":0},{"$f":"IF(PCM2>=Inputs!$E$38,$D$26,0)","v":0},{"$f":"IF(PCN2>=Inputs!$E$38,$D$26,0)","v":0},{"$f":"IF(PCO2>=Inputs!$E$38,$D$26,0)","v":0},{"$f":"IF(PCP2>=Inputs!$E$38,$D$26,0)","v":0},{"$f":"IF(PCQ2>=Inputs!$E$38,$D$26,0)","v":0},{"$f":"IF(PCR2>=Inputs!$E$38,$D$26,0)","v":0},{"$f":"IF(PCS2>=Inputs!$E$38,$D$26,0)","v":0},{"$f":"IF(PCT2>=Inputs!$E$38,$D$26,0)","v":0},{"$f":"IF(PCU2>=Inputs!$E$38,$D$26,0)","v":0},{"$f":"IF(PCV2>=Inputs!$E$38,$D$26,0)","v":0},{"$f":"IF(PCW2>=Inputs!$E$38,$D$26,0)","v":0},{"$f":"IF(PCX2>=Inputs!$E$38,$D$26,0)","v":0},{"$f":"IF(PCY2>=Inputs!$E$38,$D$26,0)","v":0},{"$f":"IF(PCZ2>=Inputs!$E$38,$D$26,0)","v":0},{"$f":"IF(PDA2>=Inputs!$E$38,$D$26,0)","v":0},{"$f":"IF(PDB2>=Inputs!$E$38,$D$26,0)","v":0},{"$f":"IF(PDC2>=Inputs!$E$38,$D$26,0)","v":0},{"$f":"IF(PDD2>=Inputs!$E$38,$D$26,0)","v":0},{"$f":"IF(PDE2>=Inputs!$E$38,$D$26,0)","v":0},{"$f":"IF(PDF2>=Inputs!$E$38,$D$26,0)","v":0},{"$f":"IF(PDG2>=Inputs!$E$38,$D$26,0)","v":0},{"$f":"IF(PDH2>=Inputs!$E$38,$D$26,0)","v":0},{"$f":"IF(PDI2>=Inputs!$E$38,$D$26,0)","v":0},{"$f":"IF(PDJ2>=Inputs!$E$38,$D$26,0)","v":0},{"$f":"IF(PDK2>=Inputs!$E$38,$D$26,0)","v":0},{"$f":"IF(PDL2>=Inputs!$E$38,$D$26,0)","v":0},{"$f":"IF(PDM2>=Inputs!$E$38,$D$26,0)","v":0},{"$f":"IF(PDN2>=Inputs!$E$38,$D$26,0)","v":0},{"$f":"IF(PDO2>=Inputs!$E$38,$D$26,0)","v":0},{"$f":"IF(PDP2>=Inputs!$E$38,$D$26,0)","v":0},{"$f":"IF(PDQ2>=Inputs!$E$38,$D$26,0)","v":0},{"$f":"IF(PDR2>=Inputs!$E$38,$D$26,0)","v":0},{"$f":"IF(PDS2>=Inputs!$E$38,$D$26,0)","v":0},{"$f":"IF(PDT2>=Inputs!$E$38,$D$26,0)","v":0},{"$f":"IF(PDU2>=Inputs!$E$38,$D$26,0)","v":0},{"$f":"IF(PDV2>=Inputs!$E$38,$D$26,0)","v":0},{"$f":"IF(PDW2>=Inputs!$E$38,$D$26,0)","v":0},{"$f":"IF(PDX2>=Inputs!$E$38,$D$26,0)","v":0},{"$f":"IF(PDY2>=Inputs!$E$38,$D$26,0)","v":0},{"$f":"IF(PDZ2>=Inputs!$E$38,$D$26,0)","v":0},{"$f":"IF(PEA2>=Inputs!$E$38,$D$26,0)","v":0},{"$f":"IF(PEB2>=Inputs!$E$38,$D$26,0)","v":0},{"$f":"IF(PEC2>=Inputs!$E$38,$D$26,0)","v":0},{"$f":"IF(PED2>=Inputs!$E$38,$D$26,0)","v":0},{"$f":"IF(PEE2>=Inputs!$E$38,$D$26,0)","v":0},{"$f":"IF(PEF2>=Inputs!$E$38,$D$26,0)","v":0},{"$f":"IF(PEG2>=Inputs!$E$38,$D$26,0)","v":0},{"$f":"IF(PEH2>=Inputs!$E$38,$D$26,0)","v":0},{"$f":"IF(PEI2>=Inputs!$E$38,$D$26,0)","v":0},{"$f":"IF(PEJ2>=Inputs!$E$38,$D$26,0)","v":0},{"$f":"IF(PEK2>=Inputs!$E$38,$D$26,0)","v":0},{"$f":"IF(PEL2>=Inputs!$E$38,$D$26,0)","v":0},{"$f":"IF(PEM2>=Inputs!$E$38,$D$26,0)","v":0},{"$f":"IF(PEN2>=Inputs!$E$38,$D$26,0)","v":0},{"$f":"IF(PEO2>=Inputs!$E$38,$D$26,0)","v":0},{"$f":"IF(PEP2>=Inputs!$E$38,$D$26,0)","v":0},{"$f":"IF(PEQ2>=Inputs!$E$38,$D$26,0)","v":0},{"$f":"IF(PER2>=Inputs!$E$38,$D$26,0)","v":0},{"$f":"IF(PES2>=Inputs!$E$38,$D$26,0)","v":0},{"$f":"IF(PET2>=Inputs!$E$38,$D$26,0)","v":0},{"$f":"IF(PEU2>=Inputs!$E$38,$D$26,0)","v":0},{"$f":"IF(PEV2>=Inputs!$E$38,$D$26,0)","v":0},{"$f":"IF(PEW2>=Inputs!$E$38,$D$26,0)","v":0},{"$f":"IF(PEX2>=Inputs!$E$38,$D$26,0)","v":0},{"$f":"IF(PEY2>=Inputs!$E$38,$D$26,0)","v":0},{"$f":"IF(PEZ2>=Inputs!$E$38,$D$26,0)","v":0},{"$f":"IF(PFA2>=Inputs!$E$38,$D$26,0)","v":0},{"$f":"IF(PFB2>=Inputs!$E$38,$D$26,0)","v":0},{"$f":"IF(PFC2>=Inputs!$E$38,$D$26,0)","v":0},{"$f":"IF(PFD2>=Inputs!$E$38,$D$26,0)","v":0},{"$f":"IF(PFE2>=Inputs!$E$38,$D$26,0)","v":0},{"$f":"IF(PFF2>=Inputs!$E$38,$D$26,0)","v":0},{"$f":"IF(PFG2>=Inputs!$E$38,$D$26,0)","v":0},{"$f":"IF(PFH2>=Inputs!$E$38,$D$26,0)","v":0},{"$f":"IF(PFI2>=Inputs!$E$38,$D$26,0)","v":0},{"$f":"IF(PFJ2>=Inputs!$E$38,$D$26,0)","v":0},{"$f":"IF(PFK2>=Inputs!$E$38,$D$26,0)","v":0},{"$f":"IF(PFL2>=Inputs!$E$38,$D$26,0)","v":0},{"$f":"IF(PFM2>=Inputs!$E$38,$D$26,0)","v":0},{"$f":"IF(PFN2>=Inputs!$E$38,$D$26,0)","v":0},{"$f":"IF(PFO2>=Inputs!$E$38,$D$26,0)","v":0},{"$f":"IF(PFP2>=Inputs!$E$38,$D$26,0)","v":0},{"$f":"IF(PFQ2>=Inputs!$E$38,$D$26,0)","v":0},{"$f":"IF(PFR2>=Inputs!$E$38,$D$26,0)","v":0},{"$f":"IF(PFS2>=Inputs!$E$38,$D$26,0)","v":0},{"$f":"IF(PFT2>=Inputs!$E$38,$D$26,0)","v":0},{"$f":"IF(PFU2>=Inputs!$E$38,$D$26,0)","v":0},{"$f":"IF(PFV2>=Inputs!$E$38,$D$26,0)","v":0},{"$f":"IF(PFW2>=Inputs!$E$38,$D$26,0)","v":0},{"$f":"IF(PFX2>=Inputs!$E$38,$D$26,0)","v":0},{"$f":"IF(PFY2>=Inputs!$E$38,$D$26,0)","v":0},{"$f":"IF(PFZ2>=Inputs!$E$38,$D$26,0)","v":0},{"$f":"IF(PGA2>=Inputs!$E$38,$D$26,0)","v":0},{"$f":"IF(PGB2>=Inputs!$E$38,$D$26,0)","v":0},{"$f":"IF(PGC2>=Inputs!$E$38,$D$26,0)","v":0},{"$f":"IF(PGD2>=Inputs!$E$38,$D$26,0)","v":0},{"$f":"IF(PGE2>=Inputs!$E$38,$D$26,0)","v":0},{"$f":"IF(PGF2>=Inputs!$E$38,$D$26,0)","v":0},{"$f":"IF(PGG2>=Inputs!$E$38,$D$26,0)","v":0},{"$f":"IF(PGH2>=Inputs!$E$38,$D$26,0)","v":0},{"$f":"IF(PGI2>=Inputs!$E$38,$D$26,0)","v":0},{"$f":"IF(PGJ2>=Inputs!$E$38,$D$26,0)","v":0},{"$f":"IF(PGK2>=Inputs!$E$38,$D$26,0)","v":0},{"$f":"IF(PGL2>=Inputs!$E$38,$D$26,0)","v":0},{"$f":"IF(PGM2>=Inputs!$E$38,$D$26,0)","v":0},{"$f":"IF(PGN2>=Inputs!$E$38,$D$26,0)","v":0},{"$f":"IF(PGO2>=Inputs!$E$38,$D$26,0)","v":0},{"$f":"IF(PGP2>=Inputs!$E$38,$D$26,0)","v":0},{"$f":"IF(PGQ2>=Inputs!$E$38,$D$26,0)","v":0},{"$f":"IF(PGR2>=Inputs!$E$38,$D$26,0)","v":0},{"$f":"IF(PGS2>=Inputs!$E$38,$D$26,0)","v":0},{"$f":"IF(PGT2>=Inputs!$E$38,$D$26,0)","v":0},{"$f":"IF(PGU2>=Inputs!$E$38,$D$26,0)","v":0},{"$f":"IF(PGV2>=Inputs!$E$38,$D$26,0)","v":0},{"$f":"IF(PGW2>=Inputs!$E$38,$D$26,0)","v":0},{"$f":"IF(PGX2>=Inputs!$E$38,$D$26,0)","v":0},{"$f":"IF(PGY2>=Inputs!$E$38,$D$26,0)","v":0},{"$f":"IF(PGZ2>=Inputs!$E$38,$D$26,0)","v":0},{"$f":"IF(PHA2>=Inputs!$E$38,$D$26,0)","v":0},{"$f":"IF(PHB2>=Inputs!$E$38,$D$26,0)","v":0},{"$f":"IF(PHC2>=Inputs!$E$38,$D$26,0)","v":0},{"$f":"IF(PHD2>=Inputs!$E$38,$D$26,0)","v":0},{"$f":"IF(PHE2>=Inputs!$E$38,$D$26,0)","v":0},{"$f":"IF(PHF2>=Inputs!$E$38,$D$26,0)","v":0},{"$f":"IF(PHG2>=Inputs!$E$38,$D$26,0)","v":0},{"$f":"IF(PHH2>=Inputs!$E$38,$D$26,0)","v":0},{"$f":"IF(PHI2>=Inputs!$E$38,$D$26,0)","v":0},{"$f":"IF(PHJ2>=Inputs!$E$38,$D$26,0)","v":0},{"$f":"IF(PHK2>=Inputs!$E$38,$D$26,0)","v":0},{"$f":"IF(PHL2>=Inputs!$E$38,$D$26,0)","v":0},{"$f":"IF(PHM2>=Inputs!$E$38,$D$26,0)","v":0},{"$f":"IF(PHN2>=Inputs!$E$38,$D$26,0)","v":0},{"$f":"IF(PHO2>=Inputs!$E$38,$D$26,0)","v":0},{"$f":"IF(PHP2>=Inputs!$E$38,$D$26,0)","v":0},{"$f":"IF(PHQ2>=Inputs!$E$38,$D$26,0)","v":0},{"$f":"IF(PHR2>=Inputs!$E$38,$D$26,0)","v":0},{"$f":"IF(PHS2>=Inputs!$E$38,$D$26,0)","v":0},{"$f":"IF(PHT2>=Inputs!$E$38,$D$26,0)","v":0},{"$f":"IF(PHU2>=Inputs!$E$38,$D$26,0)","v":0},{"$f":"IF(PHV2>=Inputs!$E$38,$D$26,0)","v":0},{"$f":"IF(PHW2>=Inputs!$E$38,$D$26,0)","v":0},{"$f":"IF(PHX2>=Inputs!$E$38,$D$26,0)","v":0},{"$f":"IF(PHY2>=Inputs!$E$38,$D$26,0)","v":0},{"$f":"IF(PHZ2>=Inputs!$E$38,$D$26,0)","v":0},{"$f":"IF(PIA2>=Inputs!$E$38,$D$26,0)","v":0},{"$f":"IF(PIB2>=Inputs!$E$38,$D$26,0)","v":0},{"$f":"IF(PIC2>=Inputs!$E$38,$D$26,0)","v":0},{"$f":"IF(PID2>=Inputs!$E$38,$D$26,0)","v":0},{"$f":"IF(PIE2>=Inputs!$E$38,$D$26,0)","v":0},{"$f":"IF(PIF2>=Inputs!$E$38,$D$26,0)","v":0},{"$f":"IF(PIG2>=Inputs!$E$38,$D$26,0)","v":0},{"$f":"IF(PIH2>=Inputs!$E$38,$D$26,0)","v":0},{"$f":"IF(PII2>=Inputs!$E$38,$D$26,0)","v":0},{"$f":"IF(PIJ2>=Inputs!$E$38,$D$26,0)","v":0},{"$f":"IF(PIK2>=Inputs!$E$38,$D$26,0)","v":0},{"$f":"IF(PIL2>=Inputs!$E$38,$D$26,0)","v":0},{"$f":"IF(PIM2>=Inputs!$E$38,$D$26,0)","v":0},{"$f":"IF(PIN2>=Inputs!$E$38,$D$26,0)","v":0},{"$f":"IF(PIO2>=Inputs!$E$38,$D$26,0)","v":0},{"$f":"IF(PIP2>=Inputs!$E$38,$D$26,0)","v":0},{"$f":"IF(PIQ2>=Inputs!$E$38,$D$26,0)","v":0},{"$f":"IF(PIR2>=Inputs!$E$38,$D$26,0)","v":0},{"$f":"IF(PIS2>=Inputs!$E$38,$D$26,0)","v":0},{"$f":"IF(PIT2>=Inputs!$E$38,$D$26,0)","v":0},{"$f":"IF(PIU2>=Inputs!$E$38,$D$26,0)","v":0},{"$f":"IF(PIV2>=Inputs!$E$38,$D$26,0)","v":0},{"$f":"IF(PIW2>=Inputs!$E$38,$D$26,0)","v":0},{"$f":"IF(PIX2>=Inputs!$E$38,$D$26,0)","v":0},{"$f":"IF(PIY2>=Inputs!$E$38,$D$26,0)","v":0},{"$f":"IF(PIZ2>=Inputs!$E$38,$D$26,0)","v":0},{"$f":"IF(PJA2>=Inputs!$E$38,$D$26,0)","v":0},{"$f":"IF(PJB2>=Inputs!$E$38,$D$26,0)","v":0},{"$f":"IF(PJC2>=Inputs!$E$38,$D$26,0)","v":0},{"$f":"IF(PJD2>=Inputs!$E$38,$D$26,0)","v":0},{"$f":"IF(PJE2>=Inputs!$E$38,$D$26,0)","v":0},{"$f":"IF(PJF2>=Inputs!$E$38,$D$26,0)","v":0},{"$f":"IF(PJG2>=Inputs!$E$38,$D$26,0)","v":0},{"$f":"IF(PJH2>=Inputs!$E$38,$D$26,0)","v":0},{"$f":"IF(PJI2>=Inputs!$E$38,$D$26,0)","v":0},{"$f":"IF(PJJ2>=Inputs!$E$38,$D$26,0)","v":0},{"$f":"IF(PJK2>=Inputs!$E$38,$D$26,0)","v":0},{"$f":"IF(PJL2>=Inputs!$E$38,$D$26,0)","v":0},{"$f":"IF(PJM2>=Inputs!$E$38,$D$26,0)","v":0},{"$f":"IF(PJN2>=Inputs!$E$38,$D$26,0)","v":0},{"$f":"IF(PJO2>=Inputs!$E$38,$D$26,0)","v":0},{"$f":"IF(PJP2>=Inputs!$E$38,$D$26,0)","v":0},{"$f":"IF(PJQ2>=Inputs!$E$38,$D$26,0)","v":0},{"$f":"IF(PJR2>=Inputs!$E$38,$D$26,0)","v":0},{"$f":"IF(PJS2>=Inputs!$E$38,$D$26,0)","v":0},{"$f":"IF(PJT2>=Inputs!$E$38,$D$26,0)","v":0},{"$f":"IF(PJU2>=Inputs!$E$38,$D$26,0)","v":0},{"$f":"IF(PJV2>=Inputs!$E$38,$D$26,0)","v":0},{"$f":"IF(PJW2>=Inputs!$E$38,$D$26,0)","v":0},{"$f":"IF(PJX2>=Inputs!$E$38,$D$26,0)","v":0},{"$f":"IF(PJY2>=Inputs!$E$38,$D$26,0)","v":0},{"$f":"IF(PJZ2>=Inputs!$E$38,$D$26,0)","v":0},{"$f":"IF(PKA2>=Inputs!$E$38,$D$26,0)","v":0},{"$f":"IF(PKB2>=Inputs!$E$38,$D$26,0)","v":0},{"$f":"IF(PKC2>=Inputs!$E$38,$D$26,0)","v":0},{"$f":"IF(PKD2>=Inputs!$E$38,$D$26,0)","v":0},{"$f":"IF(PKE2>=Inputs!$E$38,$D$26,0)","v":0},{"$f":"IF(PKF2>=Inputs!$E$38,$D$26,0)","v":0},{"$f":"IF(PKG2>=Inputs!$E$38,$D$26,0)","v":0},{"$f":"IF(PKH2>=Inputs!$E$38,$D$26,0)","v":0},{"$f":"IF(PKI2>=Inputs!$E$38,$D$26,0)","v":0},{"$f":"IF(PKJ2>=Inputs!$E$38,$D$26,0)","v":0},{"$f":"IF(PKK2>=Inputs!$E$38,$D$26,0)","v":0},{"$f":"IF(PKL2>=Inputs!$E$38,$D$26,0)","v":0},{"$f":"IF(PKM2>=Inputs!$E$38,$D$26,0)","v":0},{"$f":"IF(PKN2>=Inputs!$E$38,$D$26,0)","v":0},{"$f":"IF(PKO2>=Inputs!$E$38,$D$26,0)","v":0},{"$f":"IF(PKP2>=Inputs!$E$38,$D$26,0)","v":0},{"$f":"IF(PKQ2>=Inputs!$E$38,$D$26,0)","v":0},{"$f":"IF(PKR2>=Inputs!$E$38,$D$26,0)","v":0},{"$f":"IF(PKS2>=Inputs!$E$38,$D$26,0)","v":0},{"$f":"IF(PKT2>=Inputs!$E$38,$D$26,0)","v":0},{"$f":"IF(PKU2>=Inputs!$E$38,$D$26,0)","v":0},{"$f":"IF(PKV2>=Inputs!$E$38,$D$26,0)","v":0},{"$f":"IF(PKW2>=Inputs!$E$38,$D$26,0)","v":0},{"$f":"IF(PKX2>=Inputs!$E$38,$D$26,0)","v":0},{"$f":"IF(PKY2>=Inputs!$E$38,$D$26,0)","v":0},{"$f":"IF(PKZ2>=Inputs!$E$38,$D$26,0)","v":0},{"$f":"IF(PLA2>=Inputs!$E$38,$D$26,0)","v":0},{"$f":"IF(PLB2>=Inputs!$E$38,$D$26,0)","v":0},{"$f":"IF(PLC2>=Inputs!$E$38,$D$26,0)","v":0},{"$f":"IF(PLD2>=Inputs!$E$38,$D$26,0)","v":0},{"$f":"IF(PLE2>=Inputs!$E$38,$D$26,0)","v":0},{"$f":"IF(PLF2>=Inputs!$E$38,$D$26,0)","v":0},{"$f":"IF(PLG2>=Inputs!$E$38,$D$26,0)","v":0},{"$f":"IF(PLH2>=Inputs!$E$38,$D$26,0)","v":0},{"$f":"IF(PLI2>=Inputs!$E$38,$D$26,0)","v":0},{"$f":"IF(PLJ2>=Inputs!$E$38,$D$26,0)","v":0},{"$f":"IF(PLK2>=Inputs!$E$38,$D$26,0)","v":0},{"$f":"IF(PLL2>=Inputs!$E$38,$D$26,0)","v":0},{"$f":"IF(PLM2>=Inputs!$E$38,$D$26,0)","v":0},{"$f":"IF(PLN2>=Inputs!$E$38,$D$26,0)","v":0},{"$f":"IF(PLO2>=Inputs!$E$38,$D$26,0)","v":0},{"$f":"IF(PLP2>=Inputs!$E$38,$D$26,0)","v":0},{"$f":"IF(PLQ2>=Inputs!$E$38,$D$26,0)","v":0},{"$f":"IF(PLR2>=Inputs!$E$38,$D$26,0)","v":0},{"$f":"IF(PLS2>=Inputs!$E$38,$D$26,0)","v":0},{"$f":"IF(PLT2>=Inputs!$E$38,$D$26,0)","v":0},{"$f":"IF(PLU2>=Inputs!$E$38,$D$26,0)","v":0},{"$f":"IF(PLV2>=Inputs!$E$38,$D$26,0)","v":0},{"$f":"IF(PLW2>=Inputs!$E$38,$D$26,0)","v":0},{"$f":"IF(PLX2>=Inputs!$E$38,$D$26,0)","v":0},{"$f":"IF(PLY2>=Inputs!$E$38,$D$26,0)","v":0},{"$f":"IF(PLZ2>=Inputs!$E$38,$D$26,0)","v":0},{"$f":"IF(PMA2>=Inputs!$E$38,$D$26,0)","v":0},{"$f":"IF(PMB2>=Inputs!$E$38,$D$26,0)","v":0},{"$f":"IF(PMC2>=Inputs!$E$38,$D$26,0)","v":0},{"$f":"IF(PMD2>=Inputs!$E$38,$D$26,0)","v":0},{"$f":"IF(PME2>=Inputs!$E$38,$D$26,0)","v":0},{"$f":"IF(PMF2>=Inputs!$E$38,$D$26,0)","v":0},{"$f":"IF(PMG2>=Inputs!$E$38,$D$26,0)","v":0},{"$f":"IF(PMH2>=Inputs!$E$38,$D$26,0)","v":0},{"$f":"IF(PMI2>=Inputs!$E$38,$D$26,0)","v":0},{"$f":"IF(PMJ2>=Inputs!$E$38,$D$26,0)","v":0},{"$f":"IF(PMK2>=Inputs!$E$38,$D$26,0)","v":0},{"$f":"IF(PML2>=Inputs!$E$38,$D$26,0)","v":0},{"$f":"IF(PMM2>=Inputs!$E$38,$D$26,0)","v":0},{"$f":"IF(PMN2>=Inputs!$E$38,$D$26,0)","v":0},{"$f":"IF(PMO2>=Inputs!$E$38,$D$26,0)","v":0},{"$f":"IF(PMP2>=Inputs!$E$38,$D$26,0)","v":0},{"$f":"IF(PMQ2>=Inputs!$E$38,$D$26,0)","v":0},{"$f":"IF(PMR2>=Inputs!$E$38,$D$26,0)","v":0},{"$f":"IF(PMS2>=Inputs!$E$38,$D$26,0)","v":0},{"$f":"IF(PMT2>=Inputs!$E$38,$D$26,0)","v":0},{"$f":"IF(PMU2>=Inputs!$E$38,$D$26,0)","v":0},{"$f":"IF(PMV2>=Inputs!$E$38,$D$26,0)","v":0},{"$f":"IF(PMW2>=Inputs!$E$38,$D$26,0)","v":0},{"$f":"IF(PMX2>=Inputs!$E$38,$D$26,0)","v":0},{"$f":"IF(PMY2>=Inputs!$E$38,$D$26,0)","v":0},{"$f":"IF(PMZ2>=Inputs!$E$38,$D$26,0)","v":0},{"$f":"IF(PNA2>=Inputs!$E$38,$D$26,0)","v":0},{"$f":"IF(PNB2>=Inputs!$E$38,$D$26,0)","v":0},{"$f":"IF(PNC2>=Inputs!$E$38,$D$26,0)","v":0},{"$f":"IF(PND2>=Inputs!$E$38,$D$26,0)","v":0},{"$f":"IF(PNE2>=Inputs!$E$38,$D$26,0)","v":0},{"$f":"IF(PNF2>=Inputs!$E$38,$D$26,0)","v":0},{"$f":"IF(PNG2>=Inputs!$E$38,$D$26,0)","v":0},{"$f":"IF(PNH2>=Inputs!$E$38,$D$26,0)","v":0},{"$f":"IF(PNI2>=Inputs!$E$38,$D$26,0)","v":0},{"$f":"IF(PNJ2>=Inputs!$E$38,$D$26,0)","v":0},{"$f":"IF(PNK2>=Inputs!$E$38,$D$26,0)","v":0},{"$f":"IF(PNL2>=Inputs!$E$38,$D$26,0)","v":0},{"$f":"IF(PNM2>=Inputs!$E$38,$D$26,0)","v":0},{"$f":"IF(PNN2>=Inputs!$E$38,$D$26,0)","v":0},{"$f":"IF(PNO2>=Inputs!$E$38,$D$26,0)","v":0},{"$f":"IF(PNP2>=Inputs!$E$38,$D$26,0)","v":0},{"$f":"IF(PNQ2>=Inputs!$E$38,$D$26,0)","v":0},{"$f":"IF(PNR2>=Inputs!$E$38,$D$26,0)","v":0},{"$f":"IF(PNS2>=Inputs!$E$38,$D$26,0)","v":0},{"$f":"IF(PNT2>=Inputs!$E$38,$D$26,0)","v":0},{"$f":"IF(PNU2>=Inputs!$E$38,$D$26,0)","v":0},{"$f":"IF(PNV2>=Inputs!$E$38,$D$26,0)","v":0},{"$f":"IF(PNW2>=Inputs!$E$38,$D$26,0)","v":0},{"$f":"IF(PNX2>=Inputs!$E$38,$D$26,0)","v":0},{"$f":"IF(PNY2>=Inputs!$E$38,$D$26,0)","v":0},{"$f":"IF(PNZ2>=Inputs!$E$38,$D$26,0)","v":0},{"$f":"IF(POA2>=Inputs!$E$38,$D$26,0)","v":0},{"$f":"IF(POB2>=Inputs!$E$38,$D$26,0)","v":0},{"$f":"IF(POC2>=Inputs!$E$38,$D$26,0)","v":0},{"$f":"IF(POD2>=Inputs!$E$38,$D$26,0)","v":0},{"$f":"IF(POE2>=Inputs!$E$38,$D$26,0)","v":0},{"$f":"IF(POF2>=Inputs!$E$38,$D$26,0)","v":0},{"$f":"IF(POG2>=Inputs!$E$38,$D$26,0)","v":0},{"$f":"IF(POH2>=Inputs!$E$38,$D$26,0)","v":0},{"$f":"IF(POI2>=Inputs!$E$38,$D$26,0)","v":0},{"$f":"IF(POJ2>=Inputs!$E$38,$D$26,0)","v":0},{"$f":"IF(POK2>=Inputs!$E$38,$D$26,0)","v":0},{"$f":"IF(POL2>=Inputs!$E$38,$D$26,0)","v":0},{"$f":"IF(POM2>=Inputs!$E$38,$D$26,0)","v":0},{"$f":"IF(PON2>=Inputs!$E$38,$D$26,0)","v":0},{"$f":"IF(POO2>=Inputs!$E$38,$D$26,0)","v":0},{"$f":"IF(POP2>=Inputs!$E$38,$D$26,0)","v":0},{"$f":"IF(POQ2>=Inputs!$E$38,$D$26,0)","v":0},{"$f":"IF(POR2>=Inputs!$E$38,$D$26,0)","v":0},{"$f":"IF(POS2>=Inputs!$E$38,$D$26,0)","v":0},{"$f":"IF(POT2>=Inputs!$E$38,$D$26,0)","v":0},{"$f":"IF(POU2>=Inputs!$E$38,$D$26,0)","v":0},{"$f":"IF(POV2>=Inputs!$E$38,$D$26,0)","v":0},{"$f":"IF(POW2>=Inputs!$E$38,$D$26,0)","v":0},{"$f":"IF(POX2>=Inputs!$E$38,$D$26,0)","v":0},{"$f":"IF(POY2>=Inputs!$E$38,$D$26,0)","v":0},{"$f":"IF(POZ2>=Inputs!$E$38,$D$26,0)","v":0},{"$f":"IF(PPA2>=Inputs!$E$38,$D$26,0)","v":0},{"$f":"IF(PPB2>=Inputs!$E$38,$D$26,0)","v":0},{"$f":"IF(PPC2>=Inputs!$E$38,$D$26,0)","v":0},{"$f":"IF(PPD2>=Inputs!$E$38,$D$26,0)","v":0},{"$f":"IF(PPE2>=Inputs!$E$38,$D$26,0)","v":0},{"$f":"IF(PPF2>=Inputs!$E$38,$D$26,0)","v":0},{"$f":"IF(PPG2>=Inputs!$E$38,$D$26,0)","v":0},{"$f":"IF(PPH2>=Inputs!$E$38,$D$26,0)","v":0},{"$f":"IF(PPI2>=Inputs!$E$38,$D$26,0)","v":0},{"$f":"IF(PPJ2>=Inputs!$E$38,$D$26,0)","v":0},{"$f":"IF(PPK2>=Inputs!$E$38,$D$26,0)","v":0},{"$f":"IF(PPL2>=Inputs!$E$38,$D$26,0)","v":0},{"$f":"IF(PPM2>=Inputs!$E$38,$D$26,0)","v":0},{"$f":"IF(PPN2>=Inputs!$E$38,$D$26,0)","v":0},{"$f":"IF(PPO2>=Inputs!$E$38,$D$26,0)","v":0},{"$f":"IF(PPP2>=Inputs!$E$38,$D$26,0)","v":0},{"$f":"IF(PPQ2>=Inputs!$E$38,$D$26,0)","v":0},{"$f":"IF(PPR2>=Inputs!$E$38,$D$26,0)","v":0},{"$f":"IF(PPS2>=Inputs!$E$38,$D$26,0)","v":0},{"$f":"IF(PPT2>=Inputs!$E$38,$D$26,0)","v":0},{"$f":"IF(PPU2>=Inputs!$E$38,$D$26,0)","v":0},{"$f":"IF(PPV2>=Inputs!$E$38,$D$26,0)","v":0},{"$f":"IF(PPW2>=Inputs!$E$38,$D$26,0)","v":0},{"$f":"IF(PPX2>=Inputs!$E$38,$D$26,0)","v":0},{"$f":"IF(PPY2>=Inputs!$E$38,$D$26,0)","v":0},{"$f":"IF(PPZ2>=Inputs!$E$38,$D$26,0)","v":0},{"$f":"IF(PQA2>=Inputs!$E$38,$D$26,0)","v":0},{"$f":"IF(PQB2>=Inputs!$E$38,$D$26,0)","v":0},{"$f":"IF(PQC2>=Inputs!$E$38,$D$26,0)","v":0},{"$f":"IF(PQD2>=Inputs!$E$38,$D$26,0)","v":0},{"$f":"IF(PQE2>=Inputs!$E$38,$D$26,0)","v":0},{"$f":"IF(PQF2>=Inputs!$E$38,$D$26,0)","v":0},{"$f":"IF(PQG2>=Inputs!$E$38,$D$26,0)","v":0},{"$f":"IF(PQH2>=Inputs!$E$38,$D$26,0)","v":0},{"$f":"IF(PQI2>=Inputs!$E$38,$D$26,0)","v":0},{"$f":"IF(PQJ2>=Inputs!$E$38,$D$26,0)","v":0},{"$f":"IF(PQK2>=Inputs!$E$38,$D$26,0)","v":0},{"$f":"IF(PQL2>=Inputs!$E$38,$D$26,0)","v":0},{"$f":"IF(PQM2>=Inputs!$E$38,$D$26,0)","v":0},{"$f":"IF(PQN2>=Inputs!$E$38,$D$26,0)","v":0},{"$f":"IF(PQO2>=Inputs!$E$38,$D$26,0)","v":0},{"$f":"IF(PQP2>=Inputs!$E$38,$D$26,0)","v":0},{"$f":"IF(PQQ2>=Inputs!$E$38,$D$26,0)","v":0},{"$f":"IF(PQR2>=Inputs!$E$38,$D$26,0)","v":0},{"$f":"IF(PQS2>=Inputs!$E$38,$D$26,0)","v":0},{"$f":"IF(PQT2>=Inputs!$E$38,$D$26,0)","v":0},{"$f":"IF(PQU2>=Inputs!$E$38,$D$26,0)","v":0},{"$f":"IF(PQV2>=Inputs!$E$38,$D$26,0)","v":0},{"$f":"IF(PQW2>=Inputs!$E$38,$D$26,0)","v":0},{"$f":"IF(PQX2>=Inputs!$E$38,$D$26,0)","v":0},{"$f":"IF(PQY2>=Inputs!$E$38,$D$26,0)","v":0},{"$f":"IF(PQZ2>=Inputs!$E$38,$D$26,0)","v":0},{"$f":"IF(PRA2>=Inputs!$E$38,$D$26,0)","v":0},{"$f":"IF(PRB2>=Inputs!$E$38,$D$26,0)","v":0},{"$f":"IF(PRC2>=Inputs!$E$38,$D$26,0)","v":0},{"$f":"IF(PRD2>=Inputs!$E$38,$D$26,0)","v":0},{"$f":"IF(PRE2>=Inputs!$E$38,$D$26,0)","v":0},{"$f":"IF(PRF2>=Inputs!$E$38,$D$26,0)","v":0},{"$f":"IF(PRG2>=Inputs!$E$38,$D$26,0)","v":0},{"$f":"IF(PRH2>=Inputs!$E$38,$D$26,0)","v":0},{"$f":"IF(PRI2>=Inputs!$E$38,$D$26,0)","v":0},{"$f":"IF(PRJ2>=Inputs!$E$38,$D$26,0)","v":0},{"$f":"IF(PRK2>=Inputs!$E$38,$D$26,0)","v":0},{"$f":"IF(PRL2>=Inputs!$E$38,$D$26,0)","v":0},{"$f":"IF(PRM2>=Inputs!$E$38,$D$26,0)","v":0},{"$f":"IF(PRN2>=Inputs!$E$38,$D$26,0)","v":0},{"$f":"IF(PRO2>=Inputs!$E$38,$D$26,0)","v":0},{"$f":"IF(PRP2>=Inputs!$E$38,$D$26,0)","v":0},{"$f":"IF(PRQ2>=Inputs!$E$38,$D$26,0)","v":0},{"$f":"IF(PRR2>=Inputs!$E$38,$D$26,0)","v":0},{"$f":"IF(PRS2>=Inputs!$E$38,$D$26,0)","v":0},{"$f":"IF(PRT2>=Inputs!$E$38,$D$26,0)","v":0},{"$f":"IF(PRU2>=Inputs!$E$38,$D$26,0)","v":0},{"$f":"IF(PRV2>=Inputs!$E$38,$D$26,0)","v":0},{"$f":"IF(PRW2>=Inputs!$E$38,$D$26,0)","v":0},{"$f":"IF(PRX2>=Inputs!$E$38,$D$26,0)","v":0},{"$f":"IF(PRY2>=Inputs!$E$38,$D$26,0)","v":0},{"$f":"IF(PRZ2>=Inputs!$E$38,$D$26,0)","v":0},{"$f":"IF(PSA2>=Inputs!$E$38,$D$26,0)","v":0},{"$f":"IF(PSB2>=Inputs!$E$38,$D$26,0)","v":0},{"$f":"IF(PSC2>=Inputs!$E$38,$D$26,0)","v":0},{"$f":"IF(PSD2>=Inputs!$E$38,$D$26,0)","v":0},{"$f":"IF(PSE2>=Inputs!$E$38,$D$26,0)","v":0},{"$f":"IF(PSF2>=Inputs!$E$38,$D$26,0)","v":0},{"$f":"IF(PSG2>=Inputs!$E$38,$D$26,0)","v":0},{"$f":"IF(PSH2>=Inputs!$E$38,$D$26,0)","v":0},{"$f":"IF(PSI2>=Inputs!$E$38,$D$26,0)","v":0},{"$f":"IF(PSJ2>=Inputs!$E$38,$D$26,0)","v":0},{"$f":"IF(PSK2>=Inputs!$E$38,$D$26,0)","v":0},{"$f":"IF(PSL2>=Inputs!$E$38,$D$26,0)","v":0},{"$f":"IF(PSM2>=Inputs!$E$38,$D$26,0)","v":0},{"$f":"IF(PSN2>=Inputs!$E$38,$D$26,0)","v":0},{"$f":"IF(PSO2>=Inputs!$E$38,$D$26,0)","v":0},{"$f":"IF(PSP2>=Inputs!$E$38,$D$26,0)","v":0},{"$f":"IF(PSQ2>=Inputs!$E$38,$D$26,0)","v":0},{"$f":"IF(PSR2>=Inputs!$E$38,$D$26,0)","v":0},{"$f":"IF(PSS2>=Inputs!$E$38,$D$26,0)","v":0},{"$f":"IF(PST2>=Inputs!$E$38,$D$26,0)","v":0},{"$f":"IF(PSU2>=Inputs!$E$38,$D$26,0)","v":0},{"$f":"IF(PSV2>=Inputs!$E$38,$D$26,0)","v":0},{"$f":"IF(PSW2>=Inputs!$E$38,$D$26,0)","v":0},{"$f":"IF(PSX2>=Inputs!$E$38,$D$26,0)","v":0},{"$f":"IF(PSY2>=Inputs!$E$38,$D$26,0)","v":0},{"$f":"IF(PSZ2>=Inputs!$E$38,$D$26,0)","v":0},{"$f":"IF(PTA2>=Inputs!$E$38,$D$26,0)","v":0},{"$f":"IF(PTB2>=Inputs!$E$38,$D$26,0)","v":0},{"$f":"IF(PTC2>=Inputs!$E$38,$D$26,0)","v":0},{"$f":"IF(PTD2>=Inputs!$E$38,$D$26,0)","v":0},{"$f":"IF(PTE2>=Inputs!$E$38,$D$26,0)","v":0},{"$f":"IF(PTF2>=Inputs!$E$38,$D$26,0)","v":0},{"$f":"IF(PTG2>=Inputs!$E$38,$D$26,0)","v":0},{"$f":"IF(PTH2>=Inputs!$E$38,$D$26,0)","v":0},{"$f":"IF(PTI2>=Inputs!$E$38,$D$26,0)","v":0},{"$f":"IF(PTJ2>=Inputs!$E$38,$D$26,0)","v":0},{"$f":"IF(PTK2>=Inputs!$E$38,$D$26,0)","v":0},{"$f":"IF(PTL2>=Inputs!$E$38,$D$26,0)","v":0},{"$f":"IF(PTM2>=Inputs!$E$38,$D$26,0)","v":0},{"$f":"IF(PTN2>=Inputs!$E$38,$D$26,0)","v":0},{"$f":"IF(PTO2>=Inputs!$E$38,$D$26,0)","v":0},{"$f":"IF(PTP2>=Inputs!$E$38,$D$26,0)","v":0},{"$f":"IF(PTQ2>=Inputs!$E$38,$D$26,0)","v":0},{"$f":"IF(PTR2>=Inputs!$E$38,$D$26,0)","v":0},{"$f":"IF(PTS2>=Inputs!$E$38,$D$26,0)","v":0},{"$f":"IF(PTT2>=Inputs!$E$38,$D$26,0)","v":0},{"$f":"IF(PTU2>=Inputs!$E$38,$D$26,0)","v":0},{"$f":"IF(PTV2>=Inputs!$E$38,$D$26,0)","v":0},{"$f":"IF(PTW2>=Inputs!$E$38,$D$26,0)","v":0},{"$f":"IF(PTX2>=Inputs!$E$38,$D$26,0)","v":0},{"$f":"IF(PTY2>=Inputs!$E$38,$D$26,0)","v":0},{"$f":"IF(PTZ2>=Inputs!$E$38,$D$26,0)","v":0},{"$f":"IF(PUA2>=Inputs!$E$38,$D$26,0)","v":0},{"$f":"IF(PUB2>=Inputs!$E$38,$D$26,0)","v":0},{"$f":"IF(PUC2>=Inputs!$E$38,$D$26,0)","v":0},{"$f":"IF(PUD2>=Inputs!$E$38,$D$26,0)","v":0},{"$f":"IF(PUE2>=Inputs!$E$38,$D$26,0)","v":0},{"$f":"IF(PUF2>=Inputs!$E$38,$D$26,0)","v":0},{"$f":"IF(PUG2>=Inputs!$E$38,$D$26,0)","v":0},{"$f":"IF(PUH2>=Inputs!$E$38,$D$26,0)","v":0},{"$f":"IF(PUI2>=Inputs!$E$38,$D$26,0)","v":0},{"$f":"IF(PUJ2>=Inputs!$E$38,$D$26,0)","v":0},{"$f":"IF(PUK2>=Inputs!$E$38,$D$26,0)","v":0},{"$f":"IF(PUL2>=Inputs!$E$38,$D$26,0)","v":0},{"$f":"IF(PUM2>=Inputs!$E$38,$D$26,0)","v":0},{"$f":"IF(PUN2>=Inputs!$E$38,$D$26,0)","v":0},{"$f":"IF(PUO2>=Inputs!$E$38,$D$26,0)","v":0},{"$f":"IF(PUP2>=Inputs!$E$38,$D$26,0)","v":0},{"$f":"IF(PUQ2>=Inputs!$E$38,$D$26,0)","v":0},{"$f":"IF(PUR2>=Inputs!$E$38,$D$26,0)","v":0},{"$f":"IF(PUS2>=Inputs!$E$38,$D$26,0)","v":0},{"$f":"IF(PUT2>=Inputs!$E$38,$D$26,0)","v":0},{"$f":"IF(PUU2>=Inputs!$E$38,$D$26,0)","v":0},{"$f":"IF(PUV2>=Inputs!$E$38,$D$26,0)","v":0},{"$f":"IF(PUW2>=Inputs!$E$38,$D$26,0)","v":0},{"$f":"IF(PUX2>=Inputs!$E$38,$D$26,0)","v":0},{"$f":"IF(PUY2>=Inputs!$E$38,$D$26,0)","v":0},{"$f":"IF(PUZ2>=Inputs!$E$38,$D$26,0)","v":0},{"$f":"IF(PVA2>=Inputs!$E$38,$D$26,0)","v":0},{"$f":"IF(PVB2>=Inputs!$E$38,$D$26,0)","v":0},{"$f":"IF(PVC2>=Inputs!$E$38,$D$26,0)","v":0},{"$f":"IF(PVD2>=Inputs!$E$38,$D$26,0)","v":0},{"$f":"IF(PVE2>=Inputs!$E$38,$D$26,0)","v":0},{"$f":"IF(PVF2>=Inputs!$E$38,$D$26,0)","v":0},{"$f":"IF(PVG2>=Inputs!$E$38,$D$26,0)","v":0},{"$f":"IF(PVH2>=Inputs!$E$38,$D$26,0)","v":0},{"$f":"IF(PVI2>=Inputs!$E$38,$D$26,0)","v":0},{"$f":"IF(PVJ2>=Inputs!$E$38,$D$26,0)","v":0},{"$f":"IF(PVK2>=Inputs!$E$38,$D$26,0)","v":0},{"$f":"IF(PVL2>=Inputs!$E$38,$D$26,0)","v":0},{"$f":"IF(PVM2>=Inputs!$E$38,$D$26,0)","v":0},{"$f":"IF(PVN2>=Inputs!$E$38,$D$26,0)","v":0},{"$f":"IF(PVO2>=Inputs!$E$38,$D$26,0)","v":0},{"$f":"IF(PVP2>=Inputs!$E$38,$D$26,0)","v":0},{"$f":"IF(PVQ2>=Inputs!$E$38,$D$26,0)","v":0},{"$f":"IF(PVR2>=Inputs!$E$38,$D$26,0)","v":0},{"$f":"IF(PVS2>=Inputs!$E$38,$D$26,0)","v":0},{"$f":"IF(PVT2>=Inputs!$E$38,$D$26,0)","v":0},{"$f":"IF(PVU2>=Inputs!$E$38,$D$26,0)","v":0},{"$f":"IF(PVV2>=Inputs!$E$38,$D$26,0)","v":0},{"$f":"IF(PVW2>=Inputs!$E$38,$D$26,0)","v":0},{"$f":"IF(PVX2>=Inputs!$E$38,$D$26,0)","v":0},{"$f":"IF(PVY2>=Inputs!$E$38,$D$26,0)","v":0},{"$f":"IF(PVZ2>=Inputs!$E$38,$D$26,0)","v":0},{"$f":"IF(PWA2>=Inputs!$E$38,$D$26,0)","v":0},{"$f":"IF(PWB2>=Inputs!$E$38,$D$26,0)","v":0},{"$f":"IF(PWC2>=Inputs!$E$38,$D$26,0)","v":0},{"$f":"IF(PWD2>=Inputs!$E$38,$D$26,0)","v":0},{"$f":"IF(PWE2>=Inputs!$E$38,$D$26,0)","v":0},{"$f":"IF(PWF2>=Inputs!$E$38,$D$26,0)","v":0},{"$f":"IF(PWG2>=Inputs!$E$38,$D$26,0)","v":0},{"$f":"IF(PWH2>=Inputs!$E$38,$D$26,0)","v":0},{"$f":"IF(PWI2>=Inputs!$E$38,$D$26,0)","v":0},{"$f":"IF(PWJ2>=Inputs!$E$38,$D$26,0)","v":0},{"$f":"IF(PWK2>=Inputs!$E$38,$D$26,0)","v":0},{"$f":"IF(PWL2>=Inputs!$E$38,$D$26,0)","v":0},{"$f":"IF(PWM2>=Inputs!$E$38,$D$26,0)","v":0},{"$f":"IF(PWN2>=Inputs!$E$38,$D$26,0)","v":0},{"$f":"IF(PWO2>=Inputs!$E$38,$D$26,0)","v":0},{"$f":"IF(PWP2>=Inputs!$E$38,$D$26,0)","v":0},{"$f":"IF(PWQ2>=Inputs!$E$38,$D$26,0)","v":0},{"$f":"IF(PWR2>=Inputs!$E$38,$D$26,0)","v":0},{"$f":"IF(PWS2>=Inputs!$E$38,$D$26,0)","v":0},{"$f":"IF(PWT2>=Inputs!$E$38,$D$26,0)","v":0},{"$f":"IF(PWU2>=Inputs!$E$38,$D$26,0)","v":0},{"$f":"IF(PWV2>=Inputs!$E$38,$D$26,0)","v":0},{"$f":"IF(PWW2>=Inputs!$E$38,$D$26,0)","v":0},{"$f":"IF(PWX2>=Inputs!$E$38,$D$26,0)","v":0},{"$f":"IF(PWY2>=Inputs!$E$38,$D$26,0)","v":0},{"$f":"IF(PWZ2>=Inputs!$E$38,$D$26,0)","v":0},{"$f":"IF(PXA2>=Inputs!$E$38,$D$26,0)","v":0},{"$f":"IF(PXB2>=Inputs!$E$38,$D$26,0)","v":0},{"$f":"IF(PXC2>=Inputs!$E$38,$D$26,0)","v":0},{"$f":"IF(PXD2>=Inputs!$E$38,$D$26,0)","v":0},{"$f":"IF(PXE2>=Inputs!$E$38,$D$26,0)","v":0},{"$f":"IF(PXF2>=Inputs!$E$38,$D$26,0)","v":0},{"$f":"IF(PXG2>=Inputs!$E$38,$D$26,0)","v":0},{"$f":"IF(PXH2>=Inputs!$E$38,$D$26,0)","v":0},{"$f":"IF(PXI2>=Inputs!$E$38,$D$26,0)","v":0},{"$f":"IF(PXJ2>=Inputs!$E$38,$D$26,0)","v":0},{"$f":"IF(PXK2>=Inputs!$E$38,$D$26,0)","v":0},{"$f":"IF(PXL2>=Inputs!$E$38,$D$26,0)","v":0},{"$f":"IF(PXM2>=Inputs!$E$38,$D$26,0)","v":0},{"$f":"IF(PXN2>=Inputs!$E$38,$D$26,0)","v":0},{"$f":"IF(PXO2>=Inputs!$E$38,$D$26,0)","v":0},{"$f":"IF(PXP2>=Inputs!$E$38,$D$26,0)","v":0},{"$f":"IF(PXQ2>=Inputs!$E$38,$D$26,0)","v":0},{"$f":"IF(PXR2>=Inputs!$E$38,$D$26,0)","v":0},{"$f":"IF(PXS2>=Inputs!$E$38,$D$26,0)","v":0},{"$f":"IF(PXT2>=Inputs!$E$38,$D$26,0)","v":0},{"$f":"IF(PXU2>=Inputs!$E$38,$D$26,0)","v":0},{"$f":"IF(PXV2>=Inputs!$E$38,$D$26,0)","v":0},{"$f":"IF(PXW2>=Inputs!$E$38,$D$26,0)","v":0},{"$f":"IF(PXX2>=Inputs!$E$38,$D$26,0)","v":0},{"$f":"IF(PXY2>=Inputs!$E$38,$D$26,0)","v":0},{"$f":"IF(PXZ2>=Inputs!$E$38,$D$26,0)","v":0},{"$f":"IF(PYA2>=Inputs!$E$38,$D$26,0)","v":0},{"$f":"IF(PYB2>=Inputs!$E$38,$D$26,0)","v":0},{"$f":"IF(PYC2>=Inputs!$E$38,$D$26,0)","v":0},{"$f":"IF(PYD2>=Inputs!$E$38,$D$26,0)","v":0},{"$f":"IF(PYE2>=Inputs!$E$38,$D$26,0)","v":0},{"$f":"IF(PYF2>=Inputs!$E$38,$D$26,0)","v":0},{"$f":"IF(PYG2>=Inputs!$E$38,$D$26,0)","v":0},{"$f":"IF(PYH2>=Inputs!$E$38,$D$26,0)","v":0},{"$f":"IF(PYI2>=Inputs!$E$38,$D$26,0)","v":0},{"$f":"IF(PYJ2>=Inputs!$E$38,$D$26,0)","v":0},{"$f":"IF(PYK2>=Inputs!$E$38,$D$26,0)","v":0},{"$f":"IF(PYL2>=Inputs!$E$38,$D$26,0)","v":0},{"$f":"IF(PYM2>=Inputs!$E$38,$D$26,0)","v":0},{"$f":"IF(PYN2>=Inputs!$E$38,$D$26,0)","v":0},{"$f":"IF(PYO2>=Inputs!$E$38,$D$26,0)","v":0},{"$f":"IF(PYP2>=Inputs!$E$38,$D$26,0)","v":0},{"$f":"IF(PYQ2>=Inputs!$E$38,$D$26,0)","v":0},{"$f":"IF(PYR2>=Inputs!$E$38,$D$26,0)","v":0},{"$f":"IF(PYS2>=Inputs!$E$38,$D$26,0)","v":0},{"$f":"IF(PYT2>=Inputs!$E$38,$D$26,0)","v":0},{"$f":"IF(PYU2>=Inputs!$E$38,$D$26,0)","v":0},{"$f":"IF(PYV2>=Inputs!$E$38,$D$26,0)","v":0},{"$f":"IF(PYW2>=Inputs!$E$38,$D$26,0)","v":0},{"$f":"IF(PYX2>=Inputs!$E$38,$D$26,0)","v":0},{"$f":"IF(PYY2>=Inputs!$E$38,$D$26,0)","v":0},{"$f":"IF(PYZ2>=Inputs!$E$38,$D$26,0)","v":0},{"$f":"IF(PZA2>=Inputs!$E$38,$D$26,0)","v":0},{"$f":"IF(PZB2>=Inputs!$E$38,$D$26,0)","v":0},{"$f":"IF(PZC2>=Inputs!$E$38,$D$26,0)","v":0},{"$f":"IF(PZD2>=Inputs!$E$38,$D$26,0)","v":0},{"$f":"IF(PZE2>=Inputs!$E$38,$D$26,0)","v":0},{"$f":"IF(PZF2>=Inputs!$E$38,$D$26,0)","v":0},{"$f":"IF(PZG2>=Inputs!$E$38,$D$26,0)","v":0},{"$f":"IF(PZH2>=Inputs!$E$38,$D$26,0)","v":0},{"$f":"IF(PZI2>=Inputs!$E$38,$D$26,0)","v":0},{"$f":"IF(PZJ2>=Inputs!$E$38,$D$26,0)","v":0},{"$f":"IF(PZK2>=Inputs!$E$38,$D$26,0)","v":0},{"$f":"IF(PZL2>=Inputs!$E$38,$D$26,0)","v":0},{"$f":"IF(PZM2>=Inputs!$E$38,$D$26,0)","v":0},{"$f":"IF(PZN2>=Inputs!$E$38,$D$26,0)","v":0},{"$f":"IF(PZO2>=Inputs!$E$38,$D$26,0)","v":0},{"$f":"IF(PZP2>=Inputs!$E$38,$D$26,0)","v":0},{"$f":"IF(PZQ2>=Inputs!$E$38,$D$26,0)","v":0},{"$f":"IF(PZR2>=Inputs!$E$38,$D$26,0)","v":0},{"$f":"IF(PZS2>=Inputs!$E$38,$D$26,0)","v":0},{"$f":"IF(PZT2>=Inputs!$E$38,$D$26,0)","v":0},{"$f":"IF(PZU2>=Inputs!$E$38,$D$26,0)","v":0},{"$f":"IF(PZV2>=Inputs!$E$38,$D$26,0)","v":0},{"$f":"IF(PZW2>=Inputs!$E$38,$D$26,0)","v":0},{"$f":"IF(PZX2>=Inputs!$E$38,$D$26,0)","v":0},{"$f":"IF(PZY2>=Inputs!$E$38,$D$26,0)","v":0},{"$f":"IF(PZZ2>=Inputs!$E$38,$D$26,0)","v":0},{"$f":"IF(QAA2>=Inputs!$E$38,$D$26,0)","v":0},{"$f":"IF(QAB2>=Inputs!$E$38,$D$26,0)","v":0},{"$f":"IF(QAC2>=Inputs!$E$38,$D$26,0)","v":0},{"$f":"IF(QAD2>=Inputs!$E$38,$D$26,0)","v":0},{"$f":"IF(QAE2>=Inputs!$E$38,$D$26,0)","v":0},{"$f":"IF(QAF2>=Inputs!$E$38,$D$26,0)","v":0},{"$f":"IF(QAG2>=Inputs!$E$38,$D$26,0)","v":0},{"$f":"IF(QAH2>=Inputs!$E$38,$D$26,0)","v":0},{"$f":"IF(QAI2>=Inputs!$E$38,$D$26,0)","v":0},{"$f":"IF(QAJ2>=Inputs!$E$38,$D$26,0)","v":0},{"$f":"IF(QAK2>=Inputs!$E$38,$D$26,0)","v":0},{"$f":"IF(QAL2>=Inputs!$E$38,$D$26,0)","v":0},{"$f":"IF(QAM2>=Inputs!$E$38,$D$26,0)","v":0},{"$f":"IF(QAN2>=Inputs!$E$38,$D$26,0)","v":0},{"$f":"IF(QAO2>=Inputs!$E$38,$D$26,0)","v":0},{"$f":"IF(QAP2>=Inputs!$E$38,$D$26,0)","v":0},{"$f":"IF(QAQ2>=Inputs!$E$38,$D$26,0)","v":0},{"$f":"IF(QAR2>=Inputs!$E$38,$D$26,0)","v":0},{"$f":"IF(QAS2>=Inputs!$E$38,$D$26,0)","v":0},{"$f":"IF(QAT2>=Inputs!$E$38,$D$26,0)","v":0},{"$f":"IF(QAU2>=Inputs!$E$38,$D$26,0)","v":0},{"$f":"IF(QAV2>=Inputs!$E$38,$D$26,0)","v":0},{"$f":"IF(QAW2>=Inputs!$E$38,$D$26,0)","v":0},{"$f":"IF(QAX2>=Inputs!$E$38,$D$26,0)","v":0},{"$f":"IF(QAY2>=Inputs!$E$38,$D$26,0)","v":0},{"$f":"IF(QAZ2>=Inputs!$E$38,$D$26,0)","v":0},{"$f":"IF(QBA2>=Inputs!$E$38,$D$26,0)","v":0},{"$f":"IF(QBB2>=Inputs!$E$38,$D$26,0)","v":0},{"$f":"IF(QBC2>=Inputs!$E$38,$D$26,0)","v":0},{"$f":"IF(QBD2>=Inputs!$E$38,$D$26,0)","v":0},{"$f":"IF(QBE2>=Inputs!$E$38,$D$26,0)","v":0},{"$f":"IF(QBF2>=Inputs!$E$38,$D$26,0)","v":0},{"$f":"IF(QBG2>=Inputs!$E$38,$D$26,0)","v":0},{"$f":"IF(QBH2>=Inputs!$E$38,$D$26,0)","v":0},{"$f":"IF(QBI2>=Inputs!$E$38,$D$26,0)","v":0},{"$f":"IF(QBJ2>=Inputs!$E$38,$D$26,0)","v":0},{"$f":"IF(QBK2>=Inputs!$E$38,$D$26,0)","v":0},{"$f":"IF(QBL2>=Inputs!$E$38,$D$26,0)","v":0},{"$f":"IF(QBM2>=Inputs!$E$38,$D$26,0)","v":0},{"$f":"IF(QBN2>=Inputs!$E$38,$D$26,0)","v":0},{"$f":"IF(QBO2>=Inputs!$E$38,$D$26,0)","v":0},{"$f":"IF(QBP2>=Inputs!$E$38,$D$26,0)","v":0},{"$f":"IF(QBQ2>=Inputs!$E$38,$D$26,0)","v":0},{"$f":"IF(QBR2>=Inputs!$E$38,$D$26,0)","v":0},{"$f":"IF(QBS2>=Inputs!$E$38,$D$26,0)","v":0},{"$f":"IF(QBT2>=Inputs!$E$38,$D$26,0)","v":0},{"$f":"IF(QBU2>=Inputs!$E$38,$D$26,0)","v":0},{"$f":"IF(QBV2>=Inputs!$E$38,$D$26,0)","v":0},{"$f":"IF(QBW2>=Inputs!$E$38,$D$26,0)","v":0},{"$f":"IF(QBX2>=Inputs!$E$38,$D$26,0)","v":0},{"$f":"IF(QBY2>=Inputs!$E$38,$D$26,0)","v":0},{"$f":"IF(QBZ2>=Inputs!$E$38,$D$26,0)","v":0},{"$f":"IF(QCA2>=Inputs!$E$38,$D$26,0)","v":0},{"$f":"IF(QCB2>=Inputs!$E$38,$D$26,0)","v":0},{"$f":"IF(QCC2>=Inputs!$E$38,$D$26,0)","v":0},{"$f":"IF(QCD2>=Inputs!$E$38,$D$26,0)","v":0},{"$f":"IF(QCE2>=Inputs!$E$38,$D$26,0)","v":0},{"$f":"IF(QCF2>=Inputs!$E$38,$D$26,0)","v":0},{"$f":"IF(QCG2>=Inputs!$E$38,$D$26,0)","v":0},{"$f":"IF(QCH2>=Inputs!$E$38,$D$26,0)","v":0},{"$f":"IF(QCI2>=Inputs!$E$38,$D$26,0)","v":0},{"$f":"IF(QCJ2>=Inputs!$E$38,$D$26,0)","v":0},{"$f":"IF(QCK2>=Inputs!$E$38,$D$26,0)","v":0},{"$f":"IF(QCL2>=Inputs!$E$38,$D$26,0)","v":0},{"$f":"IF(QCM2>=Inputs!$E$38,$D$26,0)","v":0},{"$f":"IF(QCN2>=Inputs!$E$38,$D$26,0)","v":0},{"$f":"IF(QCO2>=Inputs!$E$38,$D$26,0)","v":0},{"$f":"IF(QCP2>=Inputs!$E$38,$D$26,0)","v":0},{"$f":"IF(QCQ2>=Inputs!$E$38,$D$26,0)","v":0},{"$f":"IF(QCR2>=Inputs!$E$38,$D$26,0)","v":0},{"$f":"IF(QCS2>=Inputs!$E$38,$D$26,0)","v":0},{"$f":"IF(QCT2>=Inputs!$E$38,$D$26,0)","v":0},{"$f":"IF(QCU2>=Inputs!$E$38,$D$26,0)","v":0},{"$f":"IF(QCV2>=Inputs!$E$38,$D$26,0)","v":0},{"$f":"IF(QCW2>=Inputs!$E$38,$D$26,0)","v":0},{"$f":"IF(QCX2>=Inputs!$E$38,$D$26,0)","v":0},{"$f":"IF(QCY2>=Inputs!$E$38,$D$26,0)","v":0},{"$f":"IF(QCZ2>=Inputs!$E$38,$D$26,0)","v":0},{"$f":"IF(QDA2>=Inputs!$E$38,$D$26,0)","v":0},{"$f":"IF(QDB2>=Inputs!$E$38,$D$26,0)","v":0},{"$f":"IF(QDC2>=Inputs!$E$38,$D$26,0)","v":0},{"$f":"IF(QDD2>=Inputs!$E$38,$D$26,0)","v":0},{"$f":"IF(QDE2>=Inputs!$E$38,$D$26,0)","v":0},{"$f":"IF(QDF2>=Inputs!$E$38,$D$26,0)","v":0},{"$f":"IF(QDG2>=Inputs!$E$38,$D$26,0)","v":0},{"$f":"IF(QDH2>=Inputs!$E$38,$D$26,0)","v":0},{"$f":"IF(QDI2>=Inputs!$E$38,$D$26,0)","v":0},{"$f":"IF(QDJ2>=Inputs!$E$38,$D$26,0)","v":0},{"$f":"IF(QDK2>=Inputs!$E$38,$D$26,0)","v":0},{"$f":"IF(QDL2>=Inputs!$E$38,$D$26,0)","v":0},{"$f":"IF(QDM2>=Inputs!$E$38,$D$26,0)","v":0},{"$f":"IF(QDN2>=Inputs!$E$38,$D$26,0)","v":0},{"$f":"IF(QDO2>=Inputs!$E$38,$D$26,0)","v":0},{"$f":"IF(QDP2>=Inputs!$E$38,$D$26,0)","v":0},{"$f":"IF(QDQ2>=Inputs!$E$38,$D$26,0)","v":0},{"$f":"IF(QDR2>=Inputs!$E$38,$D$26,0)","v":0},{"$f":"IF(QDS2>=Inputs!$E$38,$D$26,0)","v":0},{"$f":"IF(QDT2>=Inputs!$E$38,$D$26,0)","v":0},{"$f":"IF(QDU2>=Inputs!$E$38,$D$26,0)","v":0},{"$f":"IF(QDV2>=Inputs!$E$38,$D$26,0)","v":0},{"$f":"IF(QDW2>=Inputs!$E$38,$D$26,0)","v":0},{"$f":"IF(QDX2>=Inputs!$E$38,$D$26,0)","v":0},{"$f":"IF(QDY2>=Inputs!$E$38,$D$26,0)","v":0},{"$f":"IF(QDZ2>=Inputs!$E$38,$D$26,0)","v":0},{"$f":"IF(QEA2>=Inputs!$E$38,$D$26,0)","v":0},{"$f":"IF(QEB2>=Inputs!$E$38,$D$26,0)","v":0},{"$f":"IF(QEC2>=Inputs!$E$38,$D$26,0)","v":0},{"$f":"IF(QED2>=Inputs!$E$38,$D$26,0)","v":0},{"$f":"IF(QEE2>=Inputs!$E$38,$D$26,0)","v":0},{"$f":"IF(QEF2>=Inputs!$E$38,$D$26,0)","v":0},{"$f":"IF(QEG2>=Inputs!$E$38,$D$26,0)","v":0},{"$f":"IF(QEH2>=Inputs!$E$38,$D$26,0)","v":0},{"$f":"IF(QEI2>=Inputs!$E$38,$D$26,0)","v":0},{"$f":"IF(QEJ2>=Inputs!$E$38,$D$26,0)","v":0},{"$f":"IF(QEK2>=Inputs!$E$38,$D$26,0)","v":0},{"$f":"IF(QEL2>=Inputs!$E$38,$D$26,0)","v":0},{"$f":"IF(QEM2>=Inputs!$E$38,$D$26,0)","v":0},{"$f":"IF(QEN2>=Inputs!$E$38,$D$26,0)","v":0},{"$f":"IF(QEO2>=Inputs!$E$38,$D$26,0)","v":0},{"$f":"IF(QEP2>=Inputs!$E$38,$D$26,0)","v":0},{"$f":"IF(QEQ2>=Inputs!$E$38,$D$26,0)","v":0},{"$f":"IF(QER2>=Inputs!$E$38,$D$26,0)","v":0},{"$f":"IF(QES2>=Inputs!$E$38,$D$26,0)","v":0},{"$f":"IF(QET2>=Inputs!$E$38,$D$26,0)","v":0},{"$f":"IF(QEU2>=Inputs!$E$38,$D$26,0)","v":0},{"$f":"IF(QEV2>=Inputs!$E$38,$D$26,0)","v":0},{"$f":"IF(QEW2>=Inputs!$E$38,$D$26,0)","v":0},{"$f":"IF(QEX2>=Inputs!$E$38,$D$26,0)","v":0},{"$f":"IF(QEY2>=Inputs!$E$38,$D$26,0)","v":0},{"$f":"IF(QEZ2>=Inputs!$E$38,$D$26,0)","v":0},{"$f":"IF(QFA2>=Inputs!$E$38,$D$26,0)","v":0},{"$f":"IF(QFB2>=Inputs!$E$38,$D$26,0)","v":0},{"$f":"IF(QFC2>=Inputs!$E$38,$D$26,0)","v":0},{"$f":"IF(QFD2>=Inputs!$E$38,$D$26,0)","v":0},{"$f":"IF(QFE2>=Inputs!$E$38,$D$26,0)","v":0},{"$f":"IF(QFF2>=Inputs!$E$38,$D$26,0)","v":0},{"$f":"IF(QFG2>=Inputs!$E$38,$D$26,0)","v":0},{"$f":"IF(QFH2>=Inputs!$E$38,$D$26,0)","v":0},{"$f":"IF(QFI2>=Inputs!$E$38,$D$26,0)","v":0},{"$f":"IF(QFJ2>=Inputs!$E$38,$D$26,0)","v":0},{"$f":"IF(QFK2>=Inputs!$E$38,$D$26,0)","v":0},{"$f":"IF(QFL2>=Inputs!$E$38,$D$26,0)","v":0},{"$f":"IF(QFM2>=Inputs!$E$38,$D$26,0)","v":0},{"$f":"IF(QFN2>=Inputs!$E$38,$D$26,0)","v":0},{"$f":"IF(QFO2>=Inputs!$E$38,$D$26,0)","v":0},{"$f":"IF(QFP2>=Inputs!$E$38,$D$26,0)","v":0},{"$f":"IF(QFQ2>=Inputs!$E$38,$D$26,0)","v":0},{"$f":"IF(QFR2>=Inputs!$E$38,$D$26,0)","v":0},{"$f":"IF(QFS2>=Inputs!$E$38,$D$26,0)","v":0},{"$f":"IF(QFT2>=Inputs!$E$38,$D$26,0)","v":0},{"$f":"IF(QFU2>=Inputs!$E$38,$D$26,0)","v":0},{"$f":"IF(QFV2>=Inputs!$E$38,$D$26,0)","v":0},{"$f":"IF(QFW2>=Inputs!$E$38,$D$26,0)","v":0},{"$f":"IF(QFX2>=Inputs!$E$38,$D$26,0)","v":0},{"$f":"IF(QFY2>=Inputs!$E$38,$D$26,0)","v":0},{"$f":"IF(QFZ2>=Inputs!$E$38,$D$26,0)","v":0},{"$f":"IF(QGA2>=Inputs!$E$38,$D$26,0)","v":0},{"$f":"IF(QGB2>=Inputs!$E$38,$D$26,0)","v":0},{"$f":"IF(QGC2>=Inputs!$E$38,$D$26,0)","v":0},{"$f":"IF(QGD2>=Inputs!$E$38,$D$26,0)","v":0},{"$f":"IF(QGE2>=Inputs!$E$38,$D$26,0)","v":0},{"$f":"IF(QGF2>=Inputs!$E$38,$D$26,0)","v":0},{"$f":"IF(QGG2>=Inputs!$E$38,$D$26,0)","v":0},{"$f":"IF(QGH2>=Inputs!$E$38,$D$26,0)","v":0},{"$f":"IF(QGI2>=Inputs!$E$38,$D$26,0)","v":0},{"$f":"IF(QGJ2>=Inputs!$E$38,$D$26,0)","v":0},{"$f":"IF(QGK2>=Inputs!$E$38,$D$26,0)","v":0},{"$f":"IF(QGL2>=Inputs!$E$38,$D$26,0)","v":0},{"$f":"IF(QGM2>=Inputs!$E$38,$D$26,0)","v":0},{"$f":"IF(QGN2>=Inputs!$E$38,$D$26,0)","v":0},{"$f":"IF(QGO2>=Inputs!$E$38,$D$26,0)","v":0},{"$f":"IF(QGP2>=Inputs!$E$38,$D$26,0)","v":0},{"$f":"IF(QGQ2>=Inputs!$E$38,$D$26,0)","v":0},{"$f":"IF(QGR2>=Inputs!$E$38,$D$26,0)","v":0},{"$f":"IF(QGS2>=Inputs!$E$38,$D$26,0)","v":0},{"$f":"IF(QGT2>=Inputs!$E$38,$D$26,0)","v":0},{"$f":"IF(QGU2>=Inputs!$E$38,$D$26,0)","v":0},{"$f":"IF(QGV2>=Inputs!$E$38,$D$26,0)","v":0},{"$f":"IF(QGW2>=Inputs!$E$38,$D$26,0)","v":0},{"$f":"IF(QGX2>=Inputs!$E$38,$D$26,0)","v":0},{"$f":"IF(QGY2>=Inputs!$E$38,$D$26,0)","v":0},{"$f":"IF(QGZ2>=Inputs!$E$38,$D$26,0)","v":0},{"$f":"IF(QHA2>=Inputs!$E$38,$D$26,0)","v":0},{"$f":"IF(QHB2>=Inputs!$E$38,$D$26,0)","v":0},{"$f":"IF(QHC2>=Inputs!$E$38,$D$26,0)","v":0},{"$f":"IF(QHD2>=Inputs!$E$38,$D$26,0)","v":0},{"$f":"IF(QHE2>=Inputs!$E$38,$D$26,0)","v":0},{"$f":"IF(QHF2>=Inputs!$E$38,$D$26,0)","v":0},{"$f":"IF(QHG2>=Inputs!$E$38,$D$26,0)","v":0},{"$f":"IF(QHH2>=Inputs!$E$38,$D$26,0)","v":0},{"$f":"IF(QHI2>=Inputs!$E$38,$D$26,0)","v":0},{"$f":"IF(QHJ2>=Inputs!$E$38,$D$26,0)","v":0},{"$f":"IF(QHK2>=Inputs!$E$38,$D$26,0)","v":0},{"$f":"IF(QHL2>=Inputs!$E$38,$D$26,0)","v":0},{"$f":"IF(QHM2>=Inputs!$E$38,$D$26,0)","v":0},{"$f":"IF(QHN2>=Inputs!$E$38,$D$26,0)","v":0},{"$f":"IF(QHO2>=Inputs!$E$38,$D$26,0)","v":0},{"$f":"IF(QHP2>=Inputs!$E$38,$D$26,0)","v":0},{"$f":"IF(QHQ2>=Inputs!$E$38,$D$26,0)","v":0},{"$f":"IF(QHR2>=Inputs!$E$38,$D$26,0)","v":0},{"$f":"IF(QHS2>=Inputs!$E$38,$D$26,0)","v":0},{"$f":"IF(QHT2>=Inputs!$E$38,$D$26,0)","v":0},{"$f":"IF(QHU2>=Inputs!$E$38,$D$26,0)","v":0},{"$f":"IF(QHV2>=Inputs!$E$38,$D$26,0)","v":0},{"$f":"IF(QHW2>=Inputs!$E$38,$D$26,0)","v":0},{"$f":"IF(QHX2>=Inputs!$E$38,$D$26,0)","v":0},{"$f":"IF(QHY2>=Inputs!$E$38,$D$26,0)","v":0},{"$f":"IF(QHZ2>=Inputs!$E$38,$D$26,0)","v":0},{"$f":"IF(QIA2>=Inputs!$E$38,$D$26,0)","v":0},{"$f":"IF(QIB2>=Inputs!$E$38,$D$26,0)","v":0},{"$f":"IF(QIC2>=Inputs!$E$38,$D$26,0)","v":0},{"$f":"IF(QID2>=Inputs!$E$38,$D$26,0)","v":0},{"$f":"IF(QIE2>=Inputs!$E$38,$D$26,0)","v":0},{"$f":"IF(QIF2>=Inputs!$E$38,$D$26,0)","v":0},{"$f":"IF(QIG2>=Inputs!$E$38,$D$26,0)","v":0},{"$f":"IF(QIH2>=Inputs!$E$38,$D$26,0)","v":0},{"$f":"IF(QII2>=Inputs!$E$38,$D$26,0)","v":0},{"$f":"IF(QIJ2>=Inputs!$E$38,$D$26,0)","v":0},{"$f":"IF(QIK2>=Inputs!$E$38,$D$26,0)","v":0},{"$f":"IF(QIL2>=Inputs!$E$38,$D$26,0)","v":0},{"$f":"IF(QIM2>=Inputs!$E$38,$D$26,0)","v":0},{"$f":"IF(QIN2>=Inputs!$E$38,$D$26,0)","v":0},{"$f":"IF(QIO2>=Inputs!$E$38,$D$26,0)","v":0},{"$f":"IF(QIP2>=Inputs!$E$38,$D$26,0)","v":0},{"$f":"IF(QIQ2>=Inputs!$E$38,$D$26,0)","v":0},{"$f":"IF(QIR2>=Inputs!$E$38,$D$26,0)","v":0},{"$f":"IF(QIS2>=Inputs!$E$38,$D$26,0)","v":0},{"$f":"IF(QIT2>=Inputs!$E$38,$D$26,0)","v":0},{"$f":"IF(QIU2>=Inputs!$E$38,$D$26,0)","v":0},{"$f":"IF(QIV2>=Inputs!$E$38,$D$26,0)","v":0},{"$f":"IF(QIW2>=Inputs!$E$38,$D$26,0)","v":0},{"$f":"IF(QIX2>=Inputs!$E$38,$D$26,0)","v":0},{"$f":"IF(QIY2>=Inputs!$E$38,$D$26,0)","v":0},{"$f":"IF(QIZ2>=Inputs!$E$38,$D$26,0)","v":0},{"$f":"IF(QJA2>=Inputs!$E$38,$D$26,0)","v":0},{"$f":"IF(QJB2>=Inputs!$E$38,$D$26,0)","v":0},{"$f":"IF(QJC2>=Inputs!$E$38,$D$26,0)","v":0},{"$f":"IF(QJD2>=Inputs!$E$38,$D$26,0)","v":0},{"$f":"IF(QJE2>=Inputs!$E$38,$D$26,0)","v":0},{"$f":"IF(QJF2>=Inputs!$E$38,$D$26,0)","v":0},{"$f":"IF(QJG2>=Inputs!$E$38,$D$26,0)","v":0},{"$f":"IF(QJH2>=Inputs!$E$38,$D$26,0)","v":0},{"$f":"IF(QJI2>=Inputs!$E$38,$D$26,0)","v":0},{"$f":"IF(QJJ2>=Inputs!$E$38,$D$26,0)","v":0},{"$f":"IF(QJK2>=Inputs!$E$38,$D$26,0)","v":0},{"$f":"IF(QJL2>=Inputs!$E$38,$D$26,0)","v":0},{"$f":"IF(QJM2>=Inputs!$E$38,$D$26,0)","v":0},{"$f":"IF(QJN2>=Inputs!$E$38,$D$26,0)","v":0},{"$f":"IF(QJO2>=Inputs!$E$38,$D$26,0)","v":0},{"$f":"IF(QJP2>=Inputs!$E$38,$D$26,0)","v":0},{"$f":"IF(QJQ2>=Inputs!$E$38,$D$26,0)","v":0},{"$f":"IF(QJR2>=Inputs!$E$38,$D$26,0)","v":0},{"$f":"IF(QJS2>=Inputs!$E$38,$D$26,0)","v":0},{"$f":"IF(QJT2>=Inputs!$E$38,$D$26,0)","v":0},{"$f":"IF(QJU2>=Inputs!$E$38,$D$26,0)","v":0},{"$f":"IF(QJV2>=Inputs!$E$38,$D$26,0)","v":0},{"$f":"IF(QJW2>=Inputs!$E$38,$D$26,0)","v":0},{"$f":"IF(QJX2>=Inputs!$E$38,$D$26,0)","v":0},{"$f":"IF(QJY2>=Inputs!$E$38,$D$26,0)","v":0},{"$f":"IF(QJZ2>=Inputs!$E$38,$D$26,0)","v":0},{"$f":"IF(QKA2>=Inputs!$E$38,$D$26,0)","v":0},{"$f":"IF(QKB2>=Inputs!$E$38,$D$26,0)","v":0},{"$f":"IF(QKC2>=Inputs!$E$38,$D$26,0)","v":0},{"$f":"IF(QKD2>=Inputs!$E$38,$D$26,0)","v":0},{"$f":"IF(QKE2>=Inputs!$E$38,$D$26,0)","v":0},{"$f":"IF(QKF2>=Inputs!$E$38,$D$26,0)","v":0},{"$f":"IF(QKG2>=Inputs!$E$38,$D$26,0)","v":0},{"$f":"IF(QKH2>=Inputs!$E$38,$D$26,0)","v":0},{"$f":"IF(QKI2>=Inputs!$E$38,$D$26,0)","v":0},{"$f":"IF(QKJ2>=Inputs!$E$38,$D$26,0)","v":0},{"$f":"IF(QKK2>=Inputs!$E$38,$D$26,0)","v":0},{"$f":"IF(QKL2>=Inputs!$E$38,$D$26,0)","v":0},{"$f":"IF(QKM2>=Inputs!$E$38,$D$26,0)","v":0},{"$f":"IF(QKN2>=Inputs!$E$38,$D$26,0)","v":0},{"$f":"IF(QKO2>=Inputs!$E$38,$D$26,0)","v":0},{"$f":"IF(QKP2>=Inputs!$E$38,$D$26,0)","v":0},{"$f":"IF(QKQ2>=Inputs!$E$38,$D$26,0)","v":0},{"$f":"IF(QKR2>=Inputs!$E$38,$D$26,0)","v":0},{"$f":"IF(QKS2>=Inputs!$E$38,$D$26,0)","v":0},{"$f":"IF(QKT2>=Inputs!$E$38,$D$26,0)","v":0},{"$f":"IF(QKU2>=Inputs!$E$38,$D$26,0)","v":0},{"$f":"IF(QKV2>=Inputs!$E$38,$D$26,0)","v":0},{"$f":"IF(QKW2>=Inputs!$E$38,$D$26,0)","v":0},{"$f":"IF(QKX2>=Inputs!$E$38,$D$26,0)","v":0},{"$f":"IF(QKY2>=Inputs!$E$38,$D$26,0)","v":0},{"$f":"IF(QKZ2>=Inputs!$E$38,$D$26,0)","v":0},{"$f":"IF(QLA2>=Inputs!$E$38,$D$26,0)","v":0},{"$f":"IF(QLB2>=Inputs!$E$38,$D$26,0)","v":0},{"$f":"IF(QLC2>=Inputs!$E$38,$D$26,0)","v":0},{"$f":"IF(QLD2>=Inputs!$E$38,$D$26,0)","v":0},{"$f":"IF(QLE2>=Inputs!$E$38,$D$26,0)","v":0},{"$f":"IF(QLF2>=Inputs!$E$38,$D$26,0)","v":0},{"$f":"IF(QLG2>=Inputs!$E$38,$D$26,0)","v":0},{"$f":"IF(QLH2>=Inputs!$E$38,$D$26,0)","v":0},{"$f":"IF(QLI2>=Inputs!$E$38,$D$26,0)","v":0},{"$f":"IF(QLJ2>=Inputs!$E$38,$D$26,0)","v":0},{"$f":"IF(QLK2>=Inputs!$E$38,$D$26,0)","v":0},{"$f":"IF(QLL2>=Inputs!$E$38,$D$26,0)","v":0},{"$f":"IF(QLM2>=Inputs!$E$38,$D$26,0)","v":0},{"$f":"IF(QLN2>=Inputs!$E$38,$D$26,0)","v":0},{"$f":"IF(QLO2>=Inputs!$E$38,$D$26,0)","v":0},{"$f":"IF(QLP2>=Inputs!$E$38,$D$26,0)","v":0},{"$f":"IF(QLQ2>=Inputs!$E$38,$D$26,0)","v":0},{"$f":"IF(QLR2>=Inputs!$E$38,$D$26,0)","v":0},{"$f":"IF(QLS2>=Inputs!$E$38,$D$26,0)","v":0},{"$f":"IF(QLT2>=Inputs!$E$38,$D$26,0)","v":0},{"$f":"IF(QLU2>=Inputs!$E$38,$D$26,0)","v":0},{"$f":"IF(QLV2>=Inputs!$E$38,$D$26,0)","v":0},{"$f":"IF(QLW2>=Inputs!$E$38,$D$26,0)","v":0},{"$f":"IF(QLX2>=Inputs!$E$38,$D$26,0)","v":0},{"$f":"IF(QLY2>=Inputs!$E$38,$D$26,0)","v":0},{"$f":"IF(QLZ2>=Inputs!$E$38,$D$26,0)","v":0},{"$f":"IF(QMA2>=Inputs!$E$38,$D$26,0)","v":0},{"$f":"IF(QMB2>=Inputs!$E$38,$D$26,0)","v":0},{"$f":"IF(QMC2>=Inputs!$E$38,$D$26,0)","v":0},{"$f":"IF(QMD2>=Inputs!$E$38,$D$26,0)","v":0},{"$f":"IF(QME2>=Inputs!$E$38,$D$26,0)","v":0},{"$f":"IF(QMF2>=Inputs!$E$38,$D$26,0)","v":0},{"$f":"IF(QMG2>=Inputs!$E$38,$D$26,0)","v":0},{"$f":"IF(QMH2>=Inputs!$E$38,$D$26,0)","v":0},{"$f":"IF(QMI2>=Inputs!$E$38,$D$26,0)","v":0},{"$f":"IF(QMJ2>=Inputs!$E$38,$D$26,0)","v":0},{"$f":"IF(QMK2>=Inputs!$E$38,$D$26,0)","v":0},{"$f":"IF(QML2>=Inputs!$E$38,$D$26,0)","v":0},{"$f":"IF(QMM2>=Inputs!$E$38,$D$26,0)","v":0},{"$f":"IF(QMN2>=Inputs!$E$38,$D$26,0)","v":0},{"$f":"IF(QMO2>=Inputs!$E$38,$D$26,0)","v":0},{"$f":"IF(QMP2>=Inputs!$E$38,$D$26,0)","v":0},{"$f":"IF(QMQ2>=Inputs!$E$38,$D$26,0)","v":0},{"$f":"IF(QMR2>=Inputs!$E$38,$D$26,0)","v":0},{"$f":"IF(QMS2>=Inputs!$E$38,$D$26,0)","v":0},{"$f":"IF(QMT2>=Inputs!$E$38,$D$26,0)","v":0},{"$f":"IF(QMU2>=Inputs!$E$38,$D$26,0)","v":0},{"$f":"IF(QMV2>=Inputs!$E$38,$D$26,0)","v":0},{"$f":"IF(QMW2>=Inputs!$E$38,$D$26,0)","v":0},{"$f":"IF(QMX2>=Inputs!$E$38,$D$26,0)","v":0},{"$f":"IF(QMY2>=Inputs!$E$38,$D$26,0)","v":0},{"$f":"IF(QMZ2>=Inputs!$E$38,$D$26,0)","v":0},{"$f":"IF(QNA2>=Inputs!$E$38,$D$26,0)","v":0},{"$f":"IF(QNB2>=Inputs!$E$38,$D$26,0)","v":0},{"$f":"IF(QNC2>=Inputs!$E$38,$D$26,0)","v":0},{"$f":"IF(QND2>=Inputs!$E$38,$D$26,0)","v":0},{"$f":"IF(QNE2>=Inputs!$E$38,$D$26,0)","v":0},{"$f":"IF(QNF2>=Inputs!$E$38,$D$26,0)","v":0},{"$f":"IF(QNG2>=Inputs!$E$38,$D$26,0)","v":0},{"$f":"IF(QNH2>=Inputs!$E$38,$D$26,0)","v":0},{"$f":"IF(QNI2>=Inputs!$E$38,$D$26,0)","v":0},{"$f":"IF(QNJ2>=Inputs!$E$38,$D$26,0)","v":0},{"$f":"IF(QNK2>=Inputs!$E$38,$D$26,0)","v":0},{"$f":"IF(QNL2>=Inputs!$E$38,$D$26,0)","v":0},{"$f":"IF(QNM2>=Inputs!$E$38,$D$26,0)","v":0},{"$f":"IF(QNN2>=Inputs!$E$38,$D$26,0)","v":0},{"$f":"IF(QNO2>=Inputs!$E$38,$D$26,0)","v":0},{"$f":"IF(QNP2>=Inputs!$E$38,$D$26,0)","v":0},{"$f":"IF(QNQ2>=Inputs!$E$38,$D$26,0)","v":0},{"$f":"IF(QNR2>=Inputs!$E$38,$D$26,0)","v":0},{"$f":"IF(QNS2>=Inputs!$E$38,$D$26,0)","v":0},{"$f":"IF(QNT2>=Inputs!$E$38,$D$26,0)","v":0},{"$f":"IF(QNU2>=Inputs!$E$38,$D$26,0)","v":0},{"$f":"IF(QNV2>=Inputs!$E$38,$D$26,0)","v":0},{"$f":"IF(QNW2>=Inputs!$E$38,$D$26,0)","v":0},{"$f":"IF(QNX2>=Inputs!$E$38,$D$26,0)","v":0},{"$f":"IF(QNY2>=Inputs!$E$38,$D$26,0)","v":0},{"$f":"IF(QNZ2>=Inputs!$E$38,$D$26,0)","v":0},{"$f":"IF(QOA2>=Inputs!$E$38,$D$26,0)","v":0},{"$f":"IF(QOB2>=Inputs!$E$38,$D$26,0)","v":0},{"$f":"IF(QOC2>=Inputs!$E$38,$D$26,0)","v":0},{"$f":"IF(QOD2>=Inputs!$E$38,$D$26,0)","v":0},{"$f":"IF(QOE2>=Inputs!$E$38,$D$26,0)","v":0},{"$f":"IF(QOF2>=Inputs!$E$38,$D$26,0)","v":0},{"$f":"IF(QOG2>=Inputs!$E$38,$D$26,0)","v":0},{"$f":"IF(QOH2>=Inputs!$E$38,$D$26,0)","v":0},{"$f":"IF(QOI2>=Inputs!$E$38,$D$26,0)","v":0},{"$f":"IF(QOJ2>=Inputs!$E$38,$D$26,0)","v":0},{"$f":"IF(QOK2>=Inputs!$E$38,$D$26,0)","v":0},{"$f":"IF(QOL2>=Inputs!$E$38,$D$26,0)","v":0},{"$f":"IF(QOM2>=Inputs!$E$38,$D$26,0)","v":0},{"$f":"IF(QON2>=Inputs!$E$38,$D$26,0)","v":0},{"$f":"IF(QOO2>=Inputs!$E$38,$D$26,0)","v":0},{"$f":"IF(QOP2>=Inputs!$E$38,$D$26,0)","v":0},{"$f":"IF(QOQ2>=Inputs!$E$38,$D$26,0)","v":0},{"$f":"IF(QOR2>=Inputs!$E$38,$D$26,0)","v":0},{"$f":"IF(QOS2>=Inputs!$E$38,$D$26,0)","v":0},{"$f":"IF(QOT2>=Inputs!$E$38,$D$26,0)","v":0},{"$f":"IF(QOU2>=Inputs!$E$38,$D$26,0)","v":0},{"$f":"IF(QOV2>=Inputs!$E$38,$D$26,0)","v":0},{"$f":"IF(QOW2>=Inputs!$E$38,$D$26,0)","v":0},{"$f":"IF(QOX2>=Inputs!$E$38,$D$26,0)","v":0},{"$f":"IF(QOY2>=Inputs!$E$38,$D$26,0)","v":0},{"$f":"IF(QOZ2>=Inputs!$E$38,$D$26,0)","v":0},{"$f":"IF(QPA2>=Inputs!$E$38,$D$26,0)","v":0},{"$f":"IF(QPB2>=Inputs!$E$38,$D$26,0)","v":0},{"$f":"IF(QPC2>=Inputs!$E$38,$D$26,0)","v":0},{"$f":"IF(QPD2>=Inputs!$E$38,$D$26,0)","v":0},{"$f":"IF(QPE2>=Inputs!$E$38,$D$26,0)","v":0},{"$f":"IF(QPF2>=Inputs!$E$38,$D$26,0)","v":0},{"$f":"IF(QPG2>=Inputs!$E$38,$D$26,0)","v":0},{"$f":"IF(QPH2>=Inputs!$E$38,$D$26,0)","v":0},{"$f":"IF(QPI2>=Inputs!$E$38,$D$26,0)","v":0},{"$f":"IF(QPJ2>=Inputs!$E$38,$D$26,0)","v":0},{"$f":"IF(QPK2>=Inputs!$E$38,$D$26,0)","v":0},{"$f":"IF(QPL2>=Inputs!$E$38,$D$26,0)","v":0},{"$f":"IF(QPM2>=Inputs!$E$38,$D$26,0)","v":0},{"$f":"IF(QPN2>=Inputs!$E$38,$D$26,0)","v":0},{"$f":"IF(QPO2>=Inputs!$E$38,$D$26,0)","v":0},{"$f":"IF(QPP2>=Inputs!$E$38,$D$26,0)","v":0},{"$f":"IF(QPQ2>=Inputs!$E$38,$D$26,0)","v":0},{"$f":"IF(QPR2>=Inputs!$E$38,$D$26,0)","v":0},{"$f":"IF(QPS2>=Inputs!$E$38,$D$26,0)","v":0},{"$f":"IF(QPT2>=Inputs!$E$38,$D$26,0)","v":0},{"$f":"IF(QPU2>=Inputs!$E$38,$D$26,0)","v":0},{"$f":"IF(QPV2>=Inputs!$E$38,$D$26,0)","v":0},{"$f":"IF(QPW2>=Inputs!$E$38,$D$26,0)","v":0},{"$f":"IF(QPX2>=Inputs!$E$38,$D$26,0)","v":0},{"$f":"IF(QPY2>=Inputs!$E$38,$D$26,0)","v":0},{"$f":"IF(QPZ2>=Inputs!$E$38,$D$26,0)","v":0},{"$f":"IF(QQA2>=Inputs!$E$38,$D$26,0)","v":0},{"$f":"IF(QQB2>=Inputs!$E$38,$D$26,0)","v":0},{"$f":"IF(QQC2>=Inputs!$E$38,$D$26,0)","v":0},{"$f":"IF(QQD2>=Inputs!$E$38,$D$26,0)","v":0},{"$f":"IF(QQE2>=Inputs!$E$38,$D$26,0)","v":0},{"$f":"IF(QQF2>=Inputs!$E$38,$D$26,0)","v":0},{"$f":"IF(QQG2>=Inputs!$E$38,$D$26,0)","v":0},{"$f":"IF(QQH2>=Inputs!$E$38,$D$26,0)","v":0},{"$f":"IF(QQI2>=Inputs!$E$38,$D$26,0)","v":0},{"$f":"IF(QQJ2>=Inputs!$E$38,$D$26,0)","v":0},{"$f":"IF(QQK2>=Inputs!$E$38,$D$26,0)","v":0},{"$f":"IF(QQL2>=Inputs!$E$38,$D$26,0)","v":0},{"$f":"IF(QQM2>=Inputs!$E$38,$D$26,0)","v":0},{"$f":"IF(QQN2>=Inputs!$E$38,$D$26,0)","v":0},{"$f":"IF(QQO2>=Inputs!$E$38,$D$26,0)","v":0},{"$f":"IF(QQP2>=Inputs!$E$38,$D$26,0)","v":0},{"$f":"IF(QQQ2>=Inputs!$E$38,$D$26,0)","v":0},{"$f":"IF(QQR2>=Inputs!$E$38,$D$26,0)","v":0},{"$f":"IF(QQS2>=Inputs!$E$38,$D$26,0)","v":0},{"$f":"IF(QQT2>=Inputs!$E$38,$D$26,0)","v":0},{"$f":"IF(QQU2>=Inputs!$E$38,$D$26,0)","v":0},{"$f":"IF(QQV2>=Inputs!$E$38,$D$26,0)","v":0},{"$f":"IF(QQW2>=Inputs!$E$38,$D$26,0)","v":0},{"$f":"IF(QQX2>=Inputs!$E$38,$D$26,0)","v":0},{"$f":"IF(QQY2>=Inputs!$E$38,$D$26,0)","v":0},{"$f":"IF(QQZ2>=Inputs!$E$38,$D$26,0)","v":0},{"$f":"IF(QRA2>=Inputs!$E$38,$D$26,0)","v":0},{"$f":"IF(QRB2>=Inputs!$E$38,$D$26,0)","v":0},{"$f":"IF(QRC2>=Inputs!$E$38,$D$26,0)","v":0},{"$f":"IF(QRD2>=Inputs!$E$38,$D$26,0)","v":0},{"$f":"IF(QRE2>=Inputs!$E$38,$D$26,0)","v":0},{"$f":"IF(QRF2>=Inputs!$E$38,$D$26,0)","v":0},{"$f":"IF(QRG2>=Inputs!$E$38,$D$26,0)","v":0},{"$f":"IF(QRH2>=Inputs!$E$38,$D$26,0)","v":0},{"$f":"IF(QRI2>=Inputs!$E$38,$D$26,0)","v":0},{"$f":"IF(QRJ2>=Inputs!$E$38,$D$26,0)","v":0},{"$f":"IF(QRK2>=Inputs!$E$38,$D$26,0)","v":0},{"$f":"IF(QRL2>=Inputs!$E$38,$D$26,0)","v":0},{"$f":"IF(QRM2>=Inputs!$E$38,$D$26,0)","v":0},{"$f":"IF(QRN2>=Inputs!$E$38,$D$26,0)","v":0},{"$f":"IF(QRO2>=Inputs!$E$38,$D$26,0)","v":0},{"$f":"IF(QRP2>=Inputs!$E$38,$D$26,0)","v":0},{"$f":"IF(QRQ2>=Inputs!$E$38,$D$26,0)","v":0},{"$f":"IF(QRR2>=Inputs!$E$38,$D$26,0)","v":0},{"$f":"IF(QRS2>=Inputs!$E$38,$D$26,0)","v":0},{"$f":"IF(QRT2>=Inputs!$E$38,$D$26,0)","v":0},{"$f":"IF(QRU2>=Inputs!$E$38,$D$26,0)","v":0},{"$f":"IF(QRV2>=Inputs!$E$38,$D$26,0)","v":0},{"$f":"IF(QRW2>=Inputs!$E$38,$D$26,0)","v":0},{"$f":"IF(QRX2>=Inputs!$E$38,$D$26,0)","v":0},{"$f":"IF(QRY2>=Inputs!$E$38,$D$26,0)","v":0},{"$f":"IF(QRZ2>=Inputs!$E$38,$D$26,0)","v":0},{"$f":"IF(QSA2>=Inputs!$E$38,$D$26,0)","v":0},{"$f":"IF(QSB2>=Inputs!$E$38,$D$26,0)","v":0},{"$f":"IF(QSC2>=Inputs!$E$38,$D$26,0)","v":0},{"$f":"IF(QSD2>=Inputs!$E$38,$D$26,0)","v":0},{"$f":"IF(QSE2>=Inputs!$E$38,$D$26,0)","v":0},{"$f":"IF(QSF2>=Inputs!$E$38,$D$26,0)","v":0},{"$f":"IF(QSG2>=Inputs!$E$38,$D$26,0)","v":0},{"$f":"IF(QSH2>=Inputs!$E$38,$D$26,0)","v":0},{"$f":"IF(QSI2>=Inputs!$E$38,$D$26,0)","v":0},{"$f":"IF(QSJ2>=Inputs!$E$38,$D$26,0)","v":0},{"$f":"IF(QSK2>=Inputs!$E$38,$D$26,0)","v":0},{"$f":"IF(QSL2>=Inputs!$E$38,$D$26,0)","v":0},{"$f":"IF(QSM2>=Inputs!$E$38,$D$26,0)","v":0},{"$f":"IF(QSN2>=Inputs!$E$38,$D$26,0)","v":0},{"$f":"IF(QSO2>=Inputs!$E$38,$D$26,0)","v":0},{"$f":"IF(QSP2>=Inputs!$E$38,$D$26,0)","v":0},{"$f":"IF(QSQ2>=Inputs!$E$38,$D$26,0)","v":0},{"$f":"IF(QSR2>=Inputs!$E$38,$D$26,0)","v":0},{"$f":"IF(QSS2>=Inputs!$E$38,$D$26,0)","v":0},{"$f":"IF(QST2>=Inputs!$E$38,$D$26,0)","v":0},{"$f":"IF(QSU2>=Inputs!$E$38,$D$26,0)","v":0},{"$f":"IF(QSV2>=Inputs!$E$38,$D$26,0)","v":0},{"$f":"IF(QSW2>=Inputs!$E$38,$D$26,0)","v":0},{"$f":"IF(QSX2>=Inputs!$E$38,$D$26,0)","v":0},{"$f":"IF(QSY2>=Inputs!$E$38,$D$26,0)","v":0},{"$f":"IF(QSZ2>=Inputs!$E$38,$D$26,0)","v":0},{"$f":"IF(QTA2>=Inputs!$E$38,$D$26,0)","v":0},{"$f":"IF(QTB2>=Inputs!$E$38,$D$26,0)","v":0},{"$f":"IF(QTC2>=Inputs!$E$38,$D$26,0)","v":0},{"$f":"IF(QTD2>=Inputs!$E$38,$D$26,0)","v":0},{"$f":"IF(QTE2>=Inputs!$E$38,$D$26,0)","v":0},{"$f":"IF(QTF2>=Inputs!$E$38,$D$26,0)","v":0},{"$f":"IF(QTG2>=Inputs!$E$38,$D$26,0)","v":0},{"$f":"IF(QTH2>=Inputs!$E$38,$D$26,0)","v":0},{"$f":"IF(QTI2>=Inputs!$E$38,$D$26,0)","v":0},{"$f":"IF(QTJ2>=Inputs!$E$38,$D$26,0)","v":0},{"$f":"IF(QTK2>=Inputs!$E$38,$D$26,0)","v":0},{"$f":"IF(QTL2>=Inputs!$E$38,$D$26,0)","v":0},{"$f":"IF(QTM2>=Inputs!$E$38,$D$26,0)","v":0},{"$f":"IF(QTN2>=Inputs!$E$38,$D$26,0)","v":0},{"$f":"IF(QTO2>=Inputs!$E$38,$D$26,0)","v":0},{"$f":"IF(QTP2>=Inputs!$E$38,$D$26,0)","v":0},{"$f":"IF(QTQ2>=Inputs!$E$38,$D$26,0)","v":0},{"$f":"IF(QTR2>=Inputs!$E$38,$D$26,0)","v":0},{"$f":"IF(QTS2>=Inputs!$E$38,$D$26,0)","v":0},{"$f":"IF(QTT2>=Inputs!$E$38,$D$26,0)","v":0},{"$f":"IF(QTU2>=Inputs!$E$38,$D$26,0)","v":0},{"$f":"IF(QTV2>=Inputs!$E$38,$D$26,0)","v":0},{"$f":"IF(QTW2>=Inputs!$E$38,$D$26,0)","v":0},{"$f":"IF(QTX2>=Inputs!$E$38,$D$26,0)","v":0},{"$f":"IF(QTY2>=Inputs!$E$38,$D$26,0)","v":0},{"$f":"IF(QTZ2>=Inputs!$E$38,$D$26,0)","v":0},{"$f":"IF(QUA2>=Inputs!$E$38,$D$26,0)","v":0},{"$f":"IF(QUB2>=Inputs!$E$38,$D$26,0)","v":0},{"$f":"IF(QUC2>=Inputs!$E$38,$D$26,0)","v":0},{"$f":"IF(QUD2>=Inputs!$E$38,$D$26,0)","v":0},{"$f":"IF(QUE2>=Inputs!$E$38,$D$26,0)","v":0},{"$f":"IF(QUF2>=Inputs!$E$38,$D$26,0)","v":0},{"$f":"IF(QUG2>=Inputs!$E$38,$D$26,0)","v":0},{"$f":"IF(QUH2>=Inputs!$E$38,$D$26,0)","v":0},{"$f":"IF(QUI2>=Inputs!$E$38,$D$26,0)","v":0},{"$f":"IF(QUJ2>=Inputs!$E$38,$D$26,0)","v":0},{"$f":"IF(QUK2>=Inputs!$E$38,$D$26,0)","v":0},{"$f":"IF(QUL2>=Inputs!$E$38,$D$26,0)","v":0},{"$f":"IF(QUM2>=Inputs!$E$38,$D$26,0)","v":0},{"$f":"IF(QUN2>=Inputs!$E$38,$D$26,0)","v":0},{"$f":"IF(QUO2>=Inputs!$E$38,$D$26,0)","v":0},{"$f":"IF(QUP2>=Inputs!$E$38,$D$26,0)","v":0},{"$f":"IF(QUQ2>=Inputs!$E$38,$D$26,0)","v":0},{"$f":"IF(QUR2>=Inputs!$E$38,$D$26,0)","v":0},{"$f":"IF(QUS2>=Inputs!$E$38,$D$26,0)","v":0},{"$f":"IF(QUT2>=Inputs!$E$38,$D$26,0)","v":0},{"$f":"IF(QUU2>=Inputs!$E$38,$D$26,0)","v":0},{"$f":"IF(QUV2>=Inputs!$E$38,$D$26,0)","v":0},{"$f":"IF(QUW2>=Inputs!$E$38,$D$26,0)","v":0},{"$f":"IF(QUX2>=Inputs!$E$38,$D$26,0)","v":0},{"$f":"IF(QUY2>=Inputs!$E$38,$D$26,0)","v":0},{"$f":"IF(QUZ2>=Inputs!$E$38,$D$26,0)","v":0},{"$f":"IF(QVA2>=Inputs!$E$38,$D$26,0)","v":0},{"$f":"IF(QVB2>=Inputs!$E$38,$D$26,0)","v":0},{"$f":"IF(QVC2>=Inputs!$E$38,$D$26,0)","v":0},{"$f":"IF(QVD2>=Inputs!$E$38,$D$26,0)","v":0},{"$f":"IF(QVE2>=Inputs!$E$38,$D$26,0)","v":0},{"$f":"IF(QVF2>=Inputs!$E$38,$D$26,0)","v":0},{"$f":"IF(QVG2>=Inputs!$E$38,$D$26,0)","v":0},{"$f":"IF(QVH2>=Inputs!$E$38,$D$26,0)","v":0},{"$f":"IF(QVI2>=Inputs!$E$38,$D$26,0)","v":0},{"$f":"IF(QVJ2>=Inputs!$E$38,$D$26,0)","v":0},{"$f":"IF(QVK2>=Inputs!$E$38,$D$26,0)","v":0},{"$f":"IF(QVL2>=Inputs!$E$38,$D$26,0)","v":0},{"$f":"IF(QVM2>=Inputs!$E$38,$D$26,0)","v":0},{"$f":"IF(QVN2>=Inputs!$E$38,$D$26,0)","v":0},{"$f":"IF(QVO2>=Inputs!$E$38,$D$26,0)","v":0},{"$f":"IF(QVP2>=Inputs!$E$38,$D$26,0)","v":0},{"$f":"IF(QVQ2>=Inputs!$E$38,$D$26,0)","v":0},{"$f":"IF(QVR2>=Inputs!$E$38,$D$26,0)","v":0},{"$f":"IF(QVS2>=Inputs!$E$38,$D$26,0)","v":0},{"$f":"IF(QVT2>=Inputs!$E$38,$D$26,0)","v":0},{"$f":"IF(QVU2>=Inputs!$E$38,$D$26,0)","v":0},{"$f":"IF(QVV2>=Inputs!$E$38,$D$26,0)","v":0},{"$f":"IF(QVW2>=Inputs!$E$38,$D$26,0)","v":0},{"$f":"IF(QVX2>=Inputs!$E$38,$D$26,0)","v":0},{"$f":"IF(QVY2>=Inputs!$E$38,$D$26,0)","v":0},{"$f":"IF(QVZ2>=Inputs!$E$38,$D$26,0)","v":0},{"$f":"IF(QWA2>=Inputs!$E$38,$D$26,0)","v":0},{"$f":"IF(QWB2>=Inputs!$E$38,$D$26,0)","v":0},{"$f":"IF(QWC2>=Inputs!$E$38,$D$26,0)","v":0},{"$f":"IF(QWD2>=Inputs!$E$38,$D$26,0)","v":0},{"$f":"IF(QWE2>=Inputs!$E$38,$D$26,0)","v":0},{"$f":"IF(QWF2>=Inputs!$E$38,$D$26,0)","v":0},{"$f":"IF(QWG2>=Inputs!$E$38,$D$26,0)","v":0},{"$f":"IF(QWH2>=Inputs!$E$38,$D$26,0)","v":0},{"$f":"IF(QWI2>=Inputs!$E$38,$D$26,0)","v":0},{"$f":"IF(QWJ2>=Inputs!$E$38,$D$26,0)","v":0},{"$f":"IF(QWK2>=Inputs!$E$38,$D$26,0)","v":0},{"$f":"IF(QWL2>=Inputs!$E$38,$D$26,0)","v":0},{"$f":"IF(QWM2>=Inputs!$E$38,$D$26,0)","v":0},{"$f":"IF(QWN2>=Inputs!$E$38,$D$26,0)","v":0},{"$f":"IF(QWO2>=Inputs!$E$38,$D$26,0)","v":0},{"$f":"IF(QWP2>=Inputs!$E$38,$D$26,0)","v":0},{"$f":"IF(QWQ2>=Inputs!$E$38,$D$26,0)","v":0},{"$f":"IF(QWR2>=Inputs!$E$38,$D$26,0)","v":0},{"$f":"IF(QWS2>=Inputs!$E$38,$D$26,0)","v":0},{"$f":"IF(QWT2>=Inputs!$E$38,$D$26,0)","v":0},{"$f":"IF(QWU2>=Inputs!$E$38,$D$26,0)","v":0},{"$f":"IF(QWV2>=Inputs!$E$38,$D$26,0)","v":0},{"$f":"IF(QWW2>=Inputs!$E$38,$D$26,0)","v":0},{"$f":"IF(QWX2>=Inputs!$E$38,$D$26,0)","v":0},{"$f":"IF(QWY2>=Inputs!$E$38,$D$26,0)","v":0},{"$f":"IF(QWZ2>=Inputs!$E$38,$D$26,0)","v":0},{"$f":"IF(QXA2>=Inputs!$E$38,$D$26,0)","v":0},{"$f":"IF(QXB2>=Inputs!$E$38,$D$26,0)","v":0},{"$f":"IF(QXC2>=Inputs!$E$38,$D$26,0)","v":0},{"$f":"IF(QXD2>=Inputs!$E$38,$D$26,0)","v":0},{"$f":"IF(QXE2>=Inputs!$E$38,$D$26,0)","v":0},{"$f":"IF(QXF2>=Inputs!$E$38,$D$26,0)","v":0},{"$f":"IF(QXG2>=Inputs!$E$38,$D$26,0)","v":0},{"$f":"IF(QXH2>=Inputs!$E$38,$D$26,0)","v":0},{"$f":"IF(QXI2>=Inputs!$E$38,$D$26,0)","v":0},{"$f":"IF(QXJ2>=Inputs!$E$38,$D$26,0)","v":0},{"$f":"IF(QXK2>=Inputs!$E$38,$D$26,0)","v":0},{"$f":"IF(QXL2>=Inputs!$E$38,$D$26,0)","v":0},{"$f":"IF(QXM2>=Inputs!$E$38,$D$26,0)","v":0},{"$f":"IF(QXN2>=Inputs!$E$38,$D$26,0)","v":0},{"$f":"IF(QXO2>=Inputs!$E$38,$D$26,0)","v":0},{"$f":"IF(QXP2>=Inputs!$E$38,$D$26,0)","v":0},{"$f":"IF(QXQ2>=Inputs!$E$38,$D$26,0)","v":0},{"$f":"IF(QXR2>=Inputs!$E$38,$D$26,0)","v":0},{"$f":"IF(QXS2>=Inputs!$E$38,$D$26,0)","v":0},{"$f":"IF(QXT2>=Inputs!$E$38,$D$26,0)","v":0},{"$f":"IF(QXU2>=Inputs!$E$38,$D$26,0)","v":0},{"$f":"IF(QXV2>=Inputs!$E$38,$D$26,0)","v":0},{"$f":"IF(QXW2>=Inputs!$E$38,$D$26,0)","v":0},{"$f":"IF(QXX2>=Inputs!$E$38,$D$26,0)","v":0},{"$f":"IF(QXY2>=Inputs!$E$38,$D$26,0)","v":0},{"$f":"IF(QXZ2>=Inputs!$E$38,$D$26,0)","v":0},{"$f":"IF(QYA2>=Inputs!$E$38,$D$26,0)","v":0},{"$f":"IF(QYB2>=Inputs!$E$38,$D$26,0)","v":0},{"$f":"IF(QYC2>=Inputs!$E$38,$D$26,0)","v":0},{"$f":"IF(QYD2>=Inputs!$E$38,$D$26,0)","v":0},{"$f":"IF(QYE2>=Inputs!$E$38,$D$26,0)","v":0},{"$f":"IF(QYF2>=Inputs!$E$38,$D$26,0)","v":0},{"$f":"IF(QYG2>=Inputs!$E$38,$D$26,0)","v":0},{"$f":"IF(QYH2>=Inputs!$E$38,$D$26,0)","v":0},{"$f":"IF(QYI2>=Inputs!$E$38,$D$26,0)","v":0},{"$f":"IF(QYJ2>=Inputs!$E$38,$D$26,0)","v":0},{"$f":"IF(QYK2>=Inputs!$E$38,$D$26,0)","v":0},{"$f":"IF(QYL2>=Inputs!$E$38,$D$26,0)","v":0},{"$f":"IF(QYM2>=Inputs!$E$38,$D$26,0)","v":0},{"$f":"IF(QYN2>=Inputs!$E$38,$D$26,0)","v":0},{"$f":"IF(QYO2>=Inputs!$E$38,$D$26,0)","v":0},{"$f":"IF(QYP2>=Inputs!$E$38,$D$26,0)","v":0},{"$f":"IF(QYQ2>=Inputs!$E$38,$D$26,0)","v":0},{"$f":"IF(QYR2>=Inputs!$E$38,$D$26,0)","v":0},{"$f":"IF(QYS2>=Inputs!$E$38,$D$26,0)","v":0},{"$f":"IF(QYT2>=Inputs!$E$38,$D$26,0)","v":0},{"$f":"IF(QYU2>=Inputs!$E$38,$D$26,0)","v":0},{"$f":"IF(QYV2>=Inputs!$E$38,$D$26,0)","v":0},{"$f":"IF(QYW2>=Inputs!$E$38,$D$26,0)","v":0},{"$f":"IF(QYX2>=Inputs!$E$38,$D$26,0)","v":0},{"$f":"IF(QYY2>=Inputs!$E$38,$D$26,0)","v":0},{"$f":"IF(QYZ2>=Inputs!$E$38,$D$26,0)","v":0},{"$f":"IF(QZA2>=Inputs!$E$38,$D$26,0)","v":0},{"$f":"IF(QZB2>=Inputs!$E$38,$D$26,0)","v":0},{"$f":"IF(QZC2>=Inputs!$E$38,$D$26,0)","v":0},{"$f":"IF(QZD2>=Inputs!$E$38,$D$26,0)","v":0},{"$f":"IF(QZE2>=Inputs!$E$38,$D$26,0)","v":0},{"$f":"IF(QZF2>=Inputs!$E$38,$D$26,0)","v":0},{"$f":"IF(QZG2>=Inputs!$E$38,$D$26,0)","v":0},{"$f":"IF(QZH2>=Inputs!$E$38,$D$26,0)","v":0},{"$f":"IF(QZI2>=Inputs!$E$38,$D$26,0)","v":0},{"$f":"IF(QZJ2>=Inputs!$E$38,$D$26,0)","v":0},{"$f":"IF(QZK2>=Inputs!$E$38,$D$26,0)","v":0},{"$f":"IF(QZL2>=Inputs!$E$38,$D$26,0)","v":0},{"$f":"IF(QZM2>=Inputs!$E$38,$D$26,0)","v":0},{"$f":"IF(QZN2>=Inputs!$E$38,$D$26,0)","v":0},{"$f":"IF(QZO2>=Inputs!$E$38,$D$26,0)","v":0},{"$f":"IF(QZP2>=Inputs!$E$38,$D$26,0)","v":0},{"$f":"IF(QZQ2>=Inputs!$E$38,$D$26,0)","v":0},{"$f":"IF(QZR2>=Inputs!$E$38,$D$26,0)","v":0},{"$f":"IF(QZS2>=Inputs!$E$38,$D$26,0)","v":0},{"$f":"IF(QZT2>=Inputs!$E$38,$D$26,0)","v":0},{"$f":"IF(QZU2>=Inputs!$E$38,$D$26,0)","v":0},{"$f":"IF(QZV2>=Inputs!$E$38,$D$26,0)","v":0},{"$f":"IF(QZW2>=Inputs!$E$38,$D$26,0)","v":0},{"$f":"IF(QZX2>=Inputs!$E$38,$D$26,0)","v":0},{"$f":"IF(QZY2>=Inputs!$E$38,$D$26,0)","v":0},{"$f":"IF(QZZ2>=Inputs!$E$38,$D$26,0)","v":0},{"$f":"IF(RAA2>=Inputs!$E$38,$D$26,0)","v":0},{"$f":"IF(RAB2>=Inputs!$E$38,$D$26,0)","v":0},{"$f":"IF(RAC2>=Inputs!$E$38,$D$26,0)","v":0},{"$f":"IF(RAD2>=Inputs!$E$38,$D$26,0)","v":0},{"$f":"IF(RAE2>=Inputs!$E$38,$D$26,0)","v":0},{"$f":"IF(RAF2>=Inputs!$E$38,$D$26,0)","v":0},{"$f":"IF(RAG2>=Inputs!$E$38,$D$26,0)","v":0},{"$f":"IF(RAH2>=Inputs!$E$38,$D$26,0)","v":0},{"$f":"IF(RAI2>=Inputs!$E$38,$D$26,0)","v":0},{"$f":"IF(RAJ2>=Inputs!$E$38,$D$26,0)","v":0},{"$f":"IF(RAK2>=Inputs!$E$38,$D$26,0)","v":0},{"$f":"IF(RAL2>=Inputs!$E$38,$D$26,0)","v":0},{"$f":"IF(RAM2>=Inputs!$E$38,$D$26,0)","v":0},{"$f":"IF(RAN2>=Inputs!$E$38,$D$26,0)","v":0},{"$f":"IF(RAO2>=Inputs!$E$38,$D$26,0)","v":0},{"$f":"IF(RAP2>=Inputs!$E$38,$D$26,0)","v":0},{"$f":"IF(RAQ2>=Inputs!$E$38,$D$26,0)","v":0},{"$f":"IF(RAR2>=Inputs!$E$38,$D$26,0)","v":0},{"$f":"IF(RAS2>=Inputs!$E$38,$D$26,0)","v":0},{"$f":"IF(RAT2>=Inputs!$E$38,$D$26,0)","v":0},{"$f":"IF(RAU2>=Inputs!$E$38,$D$26,0)","v":0},{"$f":"IF(RAV2>=Inputs!$E$38,$D$26,0)","v":0},{"$f":"IF(RAW2>=Inputs!$E$38,$D$26,0)","v":0},{"$f":"IF(RAX2>=Inputs!$E$38,$D$26,0)","v":0},{"$f":"IF(RAY2>=Inputs!$E$38,$D$26,0)","v":0},{"$f":"IF(RAZ2>=Inputs!$E$38,$D$26,0)","v":0},{"$f":"IF(RBA2>=Inputs!$E$38,$D$26,0)","v":0},{"$f":"IF(RBB2>=Inputs!$E$38,$D$26,0)","v":0},{"$f":"IF(RBC2>=Inputs!$E$38,$D$26,0)","v":0},{"$f":"IF(RBD2>=Inputs!$E$38,$D$26,0)","v":0},{"$f":"IF(RBE2>=Inputs!$E$38,$D$26,0)","v":0},{"$f":"IF(RBF2>=Inputs!$E$38,$D$26,0)","v":0},{"$f":"IF(RBG2>=Inputs!$E$38,$D$26,0)","v":0},{"$f":"IF(RBH2>=Inputs!$E$38,$D$26,0)","v":0},{"$f":"IF(RBI2>=Inputs!$E$38,$D$26,0)","v":0},{"$f":"IF(RBJ2>=Inputs!$E$38,$D$26,0)","v":0},{"$f":"IF(RBK2>=Inputs!$E$38,$D$26,0)","v":0},{"$f":"IF(RBL2>=Inputs!$E$38,$D$26,0)","v":0},{"$f":"IF(RBM2>=Inputs!$E$38,$D$26,0)","v":0},{"$f":"IF(RBN2>=Inputs!$E$38,$D$26,0)","v":0},{"$f":"IF(RBO2>=Inputs!$E$38,$D$26,0)","v":0},{"$f":"IF(RBP2>=Inputs!$E$38,$D$26,0)","v":0},{"$f":"IF(RBQ2>=Inputs!$E$38,$D$26,0)","v":0},{"$f":"IF(RBR2>=Inputs!$E$38,$D$26,0)","v":0},{"$f":"IF(RBS2>=Inputs!$E$38,$D$26,0)","v":0},{"$f":"IF(RBT2>=Inputs!$E$38,$D$26,0)","v":0},{"$f":"IF(RBU2>=Inputs!$E$38,$D$26,0)","v":0},{"$f":"IF(RBV2>=Inputs!$E$38,$D$26,0)","v":0},{"$f":"IF(RBW2>=Inputs!$E$38,$D$26,0)","v":0},{"$f":"IF(RBX2>=Inputs!$E$38,$D$26,0)","v":0},{"$f":"IF(RBY2>=Inputs!$E$38,$D$26,0)","v":0},{"$f":"IF(RBZ2>=Inputs!$E$38,$D$26,0)","v":0},{"$f":"IF(RCA2>=Inputs!$E$38,$D$26,0)","v":0},{"$f":"IF(RCB2>=Inputs!$E$38,$D$26,0)","v":0},{"$f":"IF(RCC2>=Inputs!$E$38,$D$26,0)","v":0},{"$f":"IF(RCD2>=Inputs!$E$38,$D$26,0)","v":0},{"$f":"IF(RCE2>=Inputs!$E$38,$D$26,0)","v":0},{"$f":"IF(RCF2>=Inputs!$E$38,$D$26,0)","v":0},{"$f":"IF(RCG2>=Inputs!$E$38,$D$26,0)","v":0},{"$f":"IF(RCH2>=Inputs!$E$38,$D$26,0)","v":0},{"$f":"IF(RCI2>=Inputs!$E$38,$D$26,0)","v":0},{"$f":"IF(RCJ2>=Inputs!$E$38,$D$26,0)","v":0},{"$f":"IF(RCK2>=Inputs!$E$38,$D$26,0)","v":0},{"$f":"IF(RCL2>=Inputs!$E$38,$D$26,0)","v":0},{"$f":"IF(RCM2>=Inputs!$E$38,$D$26,0)","v":0},{"$f":"IF(RCN2>=Inputs!$E$38,$D$26,0)","v":0},{"$f":"IF(RCO2>=Inputs!$E$38,$D$26,0)","v":0},{"$f":"IF(RCP2>=Inputs!$E$38,$D$26,0)","v":0},{"$f":"IF(RCQ2>=Inputs!$E$38,$D$26,0)","v":0},{"$f":"IF(RCR2>=Inputs!$E$38,$D$26,0)","v":0},{"$f":"IF(RCS2>=Inputs!$E$38,$D$26,0)","v":0},{"$f":"IF(RCT2>=Inputs!$E$38,$D$26,0)","v":0},{"$f":"IF(RCU2>=Inputs!$E$38,$D$26,0)","v":0},{"$f":"IF(RCV2>=Inputs!$E$38,$D$26,0)","v":0},{"$f":"IF(RCW2>=Inputs!$E$38,$D$26,0)","v":0},{"$f":"IF(RCX2>=Inputs!$E$38,$D$26,0)","v":0},{"$f":"IF(RCY2>=Inputs!$E$38,$D$26,0)","v":0},{"$f":"IF(RCZ2>=Inputs!$E$38,$D$26,0)","v":0},{"$f":"IF(RDA2>=Inputs!$E$38,$D$26,0)","v":0},{"$f":"IF(RDB2>=Inputs!$E$38,$D$26,0)","v":0},{"$f":"IF(RDC2>=Inputs!$E$38,$D$26,0)","v":0},{"$f":"IF(RDD2>=Inputs!$E$38,$D$26,0)","v":0},{"$f":"IF(RDE2>=Inputs!$E$38,$D$26,0)","v":0},{"$f":"IF(RDF2>=Inputs!$E$38,$D$26,0)","v":0},{"$f":"IF(RDG2>=Inputs!$E$38,$D$26,0)","v":0},{"$f":"IF(RDH2>=Inputs!$E$38,$D$26,0)","v":0},{"$f":"IF(RDI2>=Inputs!$E$38,$D$26,0)","v":0},{"$f":"IF(RDJ2>=Inputs!$E$38,$D$26,0)","v":0},{"$f":"IF(RDK2>=Inputs!$E$38,$D$26,0)","v":0},{"$f":"IF(RDL2>=Inputs!$E$38,$D$26,0)","v":0},{"$f":"IF(RDM2>=Inputs!$E$38,$D$26,0)","v":0},{"$f":"IF(RDN2>=Inputs!$E$38,$D$26,0)","v":0},{"$f":"IF(RDO2>=Inputs!$E$38,$D$26,0)","v":0},{"$f":"IF(RDP2>=Inputs!$E$38,$D$26,0)","v":0},{"$f":"IF(RDQ2>=Inputs!$E$38,$D$26,0)","v":0},{"$f":"IF(RDR2>=Inputs!$E$38,$D$26,0)","v":0},{"$f":"IF(RDS2>=Inputs!$E$38,$D$26,0)","v":0},{"$f":"IF(RDT2>=Inputs!$E$38,$D$26,0)","v":0},{"$f":"IF(RDU2>=Inputs!$E$38,$D$26,0)","v":0},{"$f":"IF(RDV2>=Inputs!$E$38,$D$26,0)","v":0},{"$f":"IF(RDW2>=Inputs!$E$38,$D$26,0)","v":0},{"$f":"IF(RDX2>=Inputs!$E$38,$D$26,0)","v":0},{"$f":"IF(RDY2>=Inputs!$E$38,$D$26,0)","v":0},{"$f":"IF(RDZ2>=Inputs!$E$38,$D$26,0)","v":0},{"$f":"IF(REA2>=Inputs!$E$38,$D$26,0)","v":0},{"$f":"IF(REB2>=Inputs!$E$38,$D$26,0)","v":0},{"$f":"IF(REC2>=Inputs!$E$38,$D$26,0)","v":0},{"$f":"IF(RED2>=Inputs!$E$38,$D$26,0)","v":0},{"$f":"IF(REE2>=Inputs!$E$38,$D$26,0)","v":0},{"$f":"IF(REF2>=Inputs!$E$38,$D$26,0)","v":0},{"$f":"IF(REG2>=Inputs!$E$38,$D$26,0)","v":0},{"$f":"IF(REH2>=Inputs!$E$38,$D$26,0)","v":0},{"$f":"IF(REI2>=Inputs!$E$38,$D$26,0)","v":0},{"$f":"IF(REJ2>=Inputs!$E$38,$D$26,0)","v":0},{"$f":"IF(REK2>=Inputs!$E$38,$D$26,0)","v":0},{"$f":"IF(REL2>=Inputs!$E$38,$D$26,0)","v":0},{"$f":"IF(REM2>=Inputs!$E$38,$D$26,0)","v":0},{"$f":"IF(REN2>=Inputs!$E$38,$D$26,0)","v":0},{"$f":"IF(REO2>=Inputs!$E$38,$D$26,0)","v":0},{"$f":"IF(REP2>=Inputs!$E$38,$D$26,0)","v":0},{"$f":"IF(REQ2>=Inputs!$E$38,$D$26,0)","v":0},{"$f":"IF(RER2>=Inputs!$E$38,$D$26,0)","v":0},{"$f":"IF(RES2>=Inputs!$E$38,$D$26,0)","v":0},{"$f":"IF(RET2>=Inputs!$E$38,$D$26,0)","v":0},{"$f":"IF(REU2>=Inputs!$E$38,$D$26,0)","v":0},{"$f":"IF(REV2>=Inputs!$E$38,$D$26,0)","v":0},{"$f":"IF(REW2>=Inputs!$E$38,$D$26,0)","v":0},{"$f":"IF(REX2>=Inputs!$E$38,$D$26,0)","v":0},{"$f":"IF(REY2>=Inputs!$E$38,$D$26,0)","v":0},{"$f":"IF(REZ2>=Inputs!$E$38,$D$26,0)","v":0},{"$f":"IF(RFA2>=Inputs!$E$38,$D$26,0)","v":0},{"$f":"IF(RFB2>=Inputs!$E$38,$D$26,0)","v":0},{"$f":"IF(RFC2>=Inputs!$E$38,$D$26,0)","v":0},{"$f":"IF(RFD2>=Inputs!$E$38,$D$26,0)","v":0},{"$f":"IF(RFE2>=Inputs!$E$38,$D$26,0)","v":0},{"$f":"IF(RFF2>=Inputs!$E$38,$D$26,0)","v":0},{"$f":"IF(RFG2>=Inputs!$E$38,$D$26,0)","v":0},{"$f":"IF(RFH2>=Inputs!$E$38,$D$26,0)","v":0},{"$f":"IF(RFI2>=Inputs!$E$38,$D$26,0)","v":0},{"$f":"IF(RFJ2>=Inputs!$E$38,$D$26,0)","v":0},{"$f":"IF(RFK2>=Inputs!$E$38,$D$26,0)","v":0},{"$f":"IF(RFL2>=Inputs!$E$38,$D$26,0)","v":0},{"$f":"IF(RFM2>=Inputs!$E$38,$D$26,0)","v":0},{"$f":"IF(RFN2>=Inputs!$E$38,$D$26,0)","v":0},{"$f":"IF(RFO2>=Inputs!$E$38,$D$26,0)","v":0},{"$f":"IF(RFP2>=Inputs!$E$38,$D$26,0)","v":0},{"$f":"IF(RFQ2>=Inputs!$E$38,$D$26,0)","v":0},{"$f":"IF(RFR2>=Inputs!$E$38,$D$26,0)","v":0},{"$f":"IF(RFS2>=Inputs!$E$38,$D$26,0)","v":0},{"$f":"IF(RFT2>=Inputs!$E$38,$D$26,0)","v":0},{"$f":"IF(RFU2>=Inputs!$E$38,$D$26,0)","v":0},{"$f":"IF(RFV2>=Inputs!$E$38,$D$26,0)","v":0},{"$f":"IF(RFW2>=Inputs!$E$38,$D$26,0)","v":0},{"$f":"IF(RFX2>=Inputs!$E$38,$D$26,0)","v":0},{"$f":"IF(RFY2>=Inputs!$E$38,$D$26,0)","v":0},{"$f":"IF(RFZ2>=Inputs!$E$38,$D$26,0)","v":0},{"$f":"IF(RGA2>=Inputs!$E$38,$D$26,0)","v":0},{"$f":"IF(RGB2>=Inputs!$E$38,$D$26,0)","v":0},{"$f":"IF(RGC2>=Inputs!$E$38,$D$26,0)","v":0},{"$f":"IF(RGD2>=Inputs!$E$38,$D$26,0)","v":0},{"$f":"IF(RGE2>=Inputs!$E$38,$D$26,0)","v":0},{"$f":"IF(RGF2>=Inputs!$E$38,$D$26,0)","v":0},{"$f":"IF(RGG2>=Inputs!$E$38,$D$26,0)","v":0},{"$f":"IF(RGH2>=Inputs!$E$38,$D$26,0)","v":0},{"$f":"IF(RGI2>=Inputs!$E$38,$D$26,0)","v":0},{"$f":"IF(RGJ2>=Inputs!$E$38,$D$26,0)","v":0},{"$f":"IF(RGK2>=Inputs!$E$38,$D$26,0)","v":0},{"$f":"IF(RGL2>=Inputs!$E$38,$D$26,0)","v":0},{"$f":"IF(RGM2>=Inputs!$E$38,$D$26,0)","v":0},{"$f":"IF(RGN2>=Inputs!$E$38,$D$26,0)","v":0},{"$f":"IF(RGO2>=Inputs!$E$38,$D$26,0)","v":0},{"$f":"IF(RGP2>=Inputs!$E$38,$D$26,0)","v":0},{"$f":"IF(RGQ2>=Inputs!$E$38,$D$26,0)","v":0},{"$f":"IF(RGR2>=Inputs!$E$38,$D$26,0)","v":0},{"$f":"IF(RGS2>=Inputs!$E$38,$D$26,0)","v":0},{"$f":"IF(RGT2>=Inputs!$E$38,$D$26,0)","v":0},{"$f":"IF(RGU2>=Inputs!$E$38,$D$26,0)","v":0},{"$f":"IF(RGV2>=Inputs!$E$38,$D$26,0)","v":0},{"$f":"IF(RGW2>=Inputs!$E$38,$D$26,0)","v":0},{"$f":"IF(RGX2>=Inputs!$E$38,$D$26,0)","v":0},{"$f":"IF(RGY2>=Inputs!$E$38,$D$26,0)","v":0},{"$f":"IF(RGZ2>=Inputs!$E$38,$D$26,0)","v":0},{"$f":"IF(RHA2>=Inputs!$E$38,$D$26,0)","v":0},{"$f":"IF(RHB2>=Inputs!$E$38,$D$26,0)","v":0},{"$f":"IF(RHC2>=Inputs!$E$38,$D$26,0)","v":0},{"$f":"IF(RHD2>=Inputs!$E$38,$D$26,0)","v":0},{"$f":"IF(RHE2>=Inputs!$E$38,$D$26,0)","v":0},{"$f":"IF(RHF2>=Inputs!$E$38,$D$26,0)","v":0},{"$f":"IF(RHG2>=Inputs!$E$38,$D$26,0)","v":0},{"$f":"IF(RHH2>=Inputs!$E$38,$D$26,0)","v":0},{"$f":"IF(RHI2>=Inputs!$E$38,$D$26,0)","v":0},{"$f":"IF(RHJ2>=Inputs!$E$38,$D$26,0)","v":0},{"$f":"IF(RHK2>=Inputs!$E$38,$D$26,0)","v":0},{"$f":"IF(RHL2>=Inputs!$E$38,$D$26,0)","v":0},{"$f":"IF(RHM2>=Inputs!$E$38,$D$26,0)","v":0},{"$f":"IF(RHN2>=Inputs!$E$38,$D$26,0)","v":0},{"$f":"IF(RHO2>=Inputs!$E$38,$D$26,0)","v":0},{"$f":"IF(RHP2>=Inputs!$E$38,$D$26,0)","v":0},{"$f":"IF(RHQ2>=Inputs!$E$38,$D$26,0)","v":0},{"$f":"IF(RHR2>=Inputs!$E$38,$D$26,0)","v":0},{"$f":"IF(RHS2>=Inputs!$E$38,$D$26,0)","v":0},{"$f":"IF(RHT2>=Inputs!$E$38,$D$26,0)","v":0},{"$f":"IF(RHU2>=Inputs!$E$38,$D$26,0)","v":0},{"$f":"IF(RHV2>=Inputs!$E$38,$D$26,0)","v":0},{"$f":"IF(RHW2>=Inputs!$E$38,$D$26,0)","v":0},{"$f":"IF(RHX2>=Inputs!$E$38,$D$26,0)","v":0},{"$f":"IF(RHY2>=Inputs!$E$38,$D$26,0)","v":0},{"$f":"IF(RHZ2>=Inputs!$E$38,$D$26,0)","v":0},{"$f":"IF(RIA2>=Inputs!$E$38,$D$26,0)","v":0},{"$f":"IF(RIB2>=Inputs!$E$38,$D$26,0)","v":0},{"$f":"IF(RIC2>=Inputs!$E$38,$D$26,0)","v":0},{"$f":"IF(RID2>=Inputs!$E$38,$D$26,0)","v":0},{"$f":"IF(RIE2>=Inputs!$E$38,$D$26,0)","v":0},{"$f":"IF(RIF2>=Inputs!$E$38,$D$26,0)","v":0},{"$f":"IF(RIG2>=Inputs!$E$38,$D$26,0)","v":0},{"$f":"IF(RIH2>=Inputs!$E$38,$D$26,0)","v":0},{"$f":"IF(RII2>=Inputs!$E$38,$D$26,0)","v":0},{"$f":"IF(RIJ2>=Inputs!$E$38,$D$26,0)","v":0},{"$f":"IF(RIK2>=Inputs!$E$38,$D$26,0)","v":0},{"$f":"IF(RIL2>=Inputs!$E$38,$D$26,0)","v":0},{"$f":"IF(RIM2>=Inputs!$E$38,$D$26,0)","v":0},{"$f":"IF(RIN2>=Inputs!$E$38,$D$26,0)","v":0},{"$f":"IF(RIO2>=Inputs!$E$38,$D$26,0)","v":0},{"$f":"IF(RIP2>=Inputs!$E$38,$D$26,0)","v":0},{"$f":"IF(RIQ2>=Inputs!$E$38,$D$26,0)","v":0},{"$f":"IF(RIR2>=Inputs!$E$38,$D$26,0)","v":0},{"$f":"IF(RIS2>=Inputs!$E$38,$D$26,0)","v":0},{"$f":"IF(RIT2>=Inputs!$E$38,$D$26,0)","v":0},{"$f":"IF(RIU2>=Inputs!$E$38,$D$26,0)","v":0},{"$f":"IF(RIV2>=Inputs!$E$38,$D$26,0)","v":0},{"$f":"IF(RIW2>=Inputs!$E$38,$D$26,0)","v":0},{"$f":"IF(RIX2>=Inputs!$E$38,$D$26,0)","v":0},{"$f":"IF(RIY2>=Inputs!$E$38,$D$26,0)","v":0},{"$f":"IF(RIZ2>=Inputs!$E$38,$D$26,0)","v":0},{"$f":"IF(RJA2>=Inputs!$E$38,$D$26,0)","v":0},{"$f":"IF(RJB2>=Inputs!$E$38,$D$26,0)","v":0},{"$f":"IF(RJC2>=Inputs!$E$38,$D$26,0)","v":0},{"$f":"IF(RJD2>=Inputs!$E$38,$D$26,0)","v":0},{"$f":"IF(RJE2>=Inputs!$E$38,$D$26,0)","v":0},{"$f":"IF(RJF2>=Inputs!$E$38,$D$26,0)","v":0},{"$f":"IF(RJG2>=Inputs!$E$38,$D$26,0)","v":0},{"$f":"IF(RJH2>=Inputs!$E$38,$D$26,0)","v":0},{"$f":"IF(RJI2>=Inputs!$E$38,$D$26,0)","v":0},{"$f":"IF(RJJ2>=Inputs!$E$38,$D$26,0)","v":0},{"$f":"IF(RJK2>=Inputs!$E$38,$D$26,0)","v":0},{"$f":"IF(RJL2>=Inputs!$E$38,$D$26,0)","v":0},{"$f":"IF(RJM2>=Inputs!$E$38,$D$26,0)","v":0},{"$f":"IF(RJN2>=Inputs!$E$38,$D$26,0)","v":0},{"$f":"IF(RJO2>=Inputs!$E$38,$D$26,0)","v":0},{"$f":"IF(RJP2>=Inputs!$E$38,$D$26,0)","v":0},{"$f":"IF(RJQ2>=Inputs!$E$38,$D$26,0)","v":0},{"$f":"IF(RJR2>=Inputs!$E$38,$D$26,0)","v":0},{"$f":"IF(RJS2>=Inputs!$E$38,$D$26,0)","v":0},{"$f":"IF(RJT2>=Inputs!$E$38,$D$26,0)","v":0},{"$f":"IF(RJU2>=Inputs!$E$38,$D$26,0)","v":0},{"$f":"IF(RJV2>=Inputs!$E$38,$D$26,0)","v":0},{"$f":"IF(RJW2>=Inputs!$E$38,$D$26,0)","v":0},{"$f":"IF(RJX2>=Inputs!$E$38,$D$26,0)","v":0},{"$f":"IF(RJY2>=Inputs!$E$38,$D$26,0)","v":0},{"$f":"IF(RJZ2>=Inputs!$E$38,$D$26,0)","v":0},{"$f":"IF(RKA2>=Inputs!$E$38,$D$26,0)","v":0},{"$f":"IF(RKB2>=Inputs!$E$38,$D$26,0)","v":0},{"$f":"IF(RKC2>=Inputs!$E$38,$D$26,0)","v":0},{"$f":"IF(RKD2>=Inputs!$E$38,$D$26,0)","v":0},{"$f":"IF(RKE2>=Inputs!$E$38,$D$26,0)","v":0},{"$f":"IF(RKF2>=Inputs!$E$38,$D$26,0)","v":0},{"$f":"IF(RKG2>=Inputs!$E$38,$D$26,0)","v":0},{"$f":"IF(RKH2>=Inputs!$E$38,$D$26,0)","v":0},{"$f":"IF(RKI2>=Inputs!$E$38,$D$26,0)","v":0},{"$f":"IF(RKJ2>=Inputs!$E$38,$D$26,0)","v":0},{"$f":"IF(RKK2>=Inputs!$E$38,$D$26,0)","v":0},{"$f":"IF(RKL2>=Inputs!$E$38,$D$26,0)","v":0},{"$f":"IF(RKM2>=Inputs!$E$38,$D$26,0)","v":0},{"$f":"IF(RKN2>=Inputs!$E$38,$D$26,0)","v":0},{"$f":"IF(RKO2>=Inputs!$E$38,$D$26,0)","v":0},{"$f":"IF(RKP2>=Inputs!$E$38,$D$26,0)","v":0},{"$f":"IF(RKQ2>=Inputs!$E$38,$D$26,0)","v":0},{"$f":"IF(RKR2>=Inputs!$E$38,$D$26,0)","v":0},{"$f":"IF(RKS2>=Inputs!$E$38,$D$26,0)","v":0},{"$f":"IF(RKT2>=Inputs!$E$38,$D$26,0)","v":0},{"$f":"IF(RKU2>=Inputs!$E$38,$D$26,0)","v":0},{"$f":"IF(RKV2>=Inputs!$E$38,$D$26,0)","v":0},{"$f":"IF(RKW2>=Inputs!$E$38,$D$26,0)","v":0},{"$f":"IF(RKX2>=Inputs!$E$38,$D$26,0)","v":0},{"$f":"IF(RKY2>=Inputs!$E$38,$D$26,0)","v":0},{"$f":"IF(RKZ2>=Inputs!$E$38,$D$26,0)","v":0},{"$f":"IF(RLA2>=Inputs!$E$38,$D$26,0)","v":0},{"$f":"IF(RLB2>=Inputs!$E$38,$D$26,0)","v":0},{"$f":"IF(RLC2>=Inputs!$E$38,$D$26,0)","v":0},{"$f":"IF(RLD2>=Inputs!$E$38,$D$26,0)","v":0},{"$f":"IF(RLE2>=Inputs!$E$38,$D$26,0)","v":0},{"$f":"IF(RLF2>=Inputs!$E$38,$D$26,0)","v":0},{"$f":"IF(RLG2>=Inputs!$E$38,$D$26,0)","v":0},{"$f":"IF(RLH2>=Inputs!$E$38,$D$26,0)","v":0},{"$f":"IF(RLI2>=Inputs!$E$38,$D$26,0)","v":0},{"$f":"IF(RLJ2>=Inputs!$E$38,$D$26,0)","v":0},{"$f":"IF(RLK2>=Inputs!$E$38,$D$26,0)","v":0},{"$f":"IF(RLL2>=Inputs!$E$38,$D$26,0)","v":0},{"$f":"IF(RLM2>=Inputs!$E$38,$D$26,0)","v":0},{"$f":"IF(RLN2>=Inputs!$E$38,$D$26,0)","v":0},{"$f":"IF(RLO2>=Inputs!$E$38,$D$26,0)","v":0},{"$f":"IF(RLP2>=Inputs!$E$38,$D$26,0)","v":0},{"$f":"IF(RLQ2>=Inputs!$E$38,$D$26,0)","v":0},{"$f":"IF(RLR2>=Inputs!$E$38,$D$26,0)","v":0},{"$f":"IF(RLS2>=Inputs!$E$38,$D$26,0)","v":0},{"$f":"IF(RLT2>=Inputs!$E$38,$D$26,0)","v":0},{"$f":"IF(RLU2>=Inputs!$E$38,$D$26,0)","v":0},{"$f":"IF(RLV2>=Inputs!$E$38,$D$26,0)","v":0},{"$f":"IF(RLW2>=Inputs!$E$38,$D$26,0)","v":0},{"$f":"IF(RLX2>=Inputs!$E$38,$D$26,0)","v":0},{"$f":"IF(RLY2>=Inputs!$E$38,$D$26,0)","v":0},{"$f":"IF(RLZ2>=Inputs!$E$38,$D$26,0)","v":0},{"$f":"IF(RMA2>=Inputs!$E$38,$D$26,0)","v":0},{"$f":"IF(RMB2>=Inputs!$E$38,$D$26,0)","v":0},{"$f":"IF(RMC2>=Inputs!$E$38,$D$26,0)","v":0},{"$f":"IF(RMD2>=Inputs!$E$38,$D$26,0)","v":0},{"$f":"IF(RME2>=Inputs!$E$38,$D$26,0)","v":0},{"$f":"IF(RMF2>=Inputs!$E$38,$D$26,0)","v":0},{"$f":"IF(RMG2>=Inputs!$E$38,$D$26,0)","v":0},{"$f":"IF(RMH2>=Inputs!$E$38,$D$26,0)","v":0},{"$f":"IF(RMI2>=Inputs!$E$38,$D$26,0)","v":0},{"$f":"IF(RMJ2>=Inputs!$E$38,$D$26,0)","v":0},{"$f":"IF(RMK2>=Inputs!$E$38,$D$26,0)","v":0},{"$f":"IF(RML2>=Inputs!$E$38,$D$26,0)","v":0},{"$f":"IF(RMM2>=Inputs!$E$38,$D$26,0)","v":0},{"$f":"IF(RMN2>=Inputs!$E$38,$D$26,0)","v":0},{"$f":"IF(RMO2>=Inputs!$E$38,$D$26,0)","v":0},{"$f":"IF(RMP2>=Inputs!$E$38,$D$26,0)","v":0},{"$f":"IF(RMQ2>=Inputs!$E$38,$D$26,0)","v":0},{"$f":"IF(RMR2>=Inputs!$E$38,$D$26,0)","v":0},{"$f":"IF(RMS2>=Inputs!$E$38,$D$26,0)","v":0},{"$f":"IF(RMT2>=Inputs!$E$38,$D$26,0)","v":0},{"$f":"IF(RMU2>=Inputs!$E$38,$D$26,0)","v":0},{"$f":"IF(RMV2>=Inputs!$E$38,$D$26,0)","v":0},{"$f":"IF(RMW2>=Inputs!$E$38,$D$26,0)","v":0},{"$f":"IF(RMX2>=Inputs!$E$38,$D$26,0)","v":0},{"$f":"IF(RMY2>=Inputs!$E$38,$D$26,0)","v":0},{"$f":"IF(RMZ2>=Inputs!$E$38,$D$26,0)","v":0},{"$f":"IF(RNA2>=Inputs!$E$38,$D$26,0)","v":0},{"$f":"IF(RNB2>=Inputs!$E$38,$D$26,0)","v":0},{"$f":"IF(RNC2>=Inputs!$E$38,$D$26,0)","v":0},{"$f":"IF(RND2>=Inputs!$E$38,$D$26,0)","v":0},{"$f":"IF(RNE2>=Inputs!$E$38,$D$26,0)","v":0},{"$f":"IF(RNF2>=Inputs!$E$38,$D$26,0)","v":0},{"$f":"IF(RNG2>=Inputs!$E$38,$D$26,0)","v":0},{"$f":"IF(RNH2>=Inputs!$E$38,$D$26,0)","v":0},{"$f":"IF(RNI2>=Inputs!$E$38,$D$26,0)","v":0},{"$f":"IF(RNJ2>=Inputs!$E$38,$D$26,0)","v":0},{"$f":"IF(RNK2>=Inputs!$E$38,$D$26,0)","v":0},{"$f":"IF(RNL2>=Inputs!$E$38,$D$26,0)","v":0},{"$f":"IF(RNM2>=Inputs!$E$38,$D$26,0)","v":0},{"$f":"IF(RNN2>=Inputs!$E$38,$D$26,0)","v":0},{"$f":"IF(RNO2>=Inputs!$E$38,$D$26,0)","v":0},{"$f":"IF(RNP2>=Inputs!$E$38,$D$26,0)","v":0},{"$f":"IF(RNQ2>=Inputs!$E$38,$D$26,0)","v":0},{"$f":"IF(RNR2>=Inputs!$E$38,$D$26,0)","v":0},{"$f":"IF(RNS2>=Inputs!$E$38,$D$26,0)","v":0},{"$f":"IF(RNT2>=Inputs!$E$38,$D$26,0)","v":0},{"$f":"IF(RNU2>=Inputs!$E$38,$D$26,0)","v":0},{"$f":"IF(RNV2>=Inputs!$E$38,$D$26,0)","v":0},{"$f":"IF(RNW2>=Inputs!$E$38,$D$26,0)","v":0},{"$f":"IF(RNX2>=Inputs!$E$38,$D$26,0)","v":0},{"$f":"IF(RNY2>=Inputs!$E$38,$D$26,0)","v":0},{"$f":"IF(RNZ2>=Inputs!$E$38,$D$26,0)","v":0},{"$f":"IF(ROA2>=Inputs!$E$38,$D$26,0)","v":0},{"$f":"IF(ROB2>=Inputs!$E$38,$D$26,0)","v":0},{"$f":"IF(ROC2>=Inputs!$E$38,$D$26,0)","v":0},{"$f":"IF(ROD2>=Inputs!$E$38,$D$26,0)","v":0},{"$f":"IF(ROE2>=Inputs!$E$38,$D$26,0)","v":0},{"$f":"IF(ROF2>=Inputs!$E$38,$D$26,0)","v":0},{"$f":"IF(ROG2>=Inputs!$E$38,$D$26,0)","v":0},{"$f":"IF(ROH2>=Inputs!$E$38,$D$26,0)","v":0},{"$f":"IF(ROI2>=Inputs!$E$38,$D$26,0)","v":0},{"$f":"IF(ROJ2>=Inputs!$E$38,$D$26,0)","v":0},{"$f":"IF(ROK2>=Inputs!$E$38,$D$26,0)","v":0},{"$f":"IF(ROL2>=Inputs!$E$38,$D$26,0)","v":0},{"$f":"IF(ROM2>=Inputs!$E$38,$D$26,0)","v":0},{"$f":"IF(RON2>=Inputs!$E$38,$D$26,0)","v":0},{"$f":"IF(ROO2>=Inputs!$E$38,$D$26,0)","v":0},{"$f":"IF(ROP2>=Inputs!$E$38,$D$26,0)","v":0},{"$f":"IF(ROQ2>=Inputs!$E$38,$D$26,0)","v":0},{"$f":"IF(ROR2>=Inputs!$E$38,$D$26,0)","v":0},{"$f":"IF(ROS2>=Inputs!$E$38,$D$26,0)","v":0},{"$f":"IF(ROT2>=Inputs!$E$38,$D$26,0)","v":0},{"$f":"IF(ROU2>=Inputs!$E$38,$D$26,0)","v":0},{"$f":"IF(ROV2>=Inputs!$E$38,$D$26,0)","v":0},{"$f":"IF(ROW2>=Inputs!$E$38,$D$26,0)","v":0},{"$f":"IF(ROX2>=Inputs!$E$38,$D$26,0)","v":0},{"$f":"IF(ROY2>=Inputs!$E$38,$D$26,0)","v":0},{"$f":"IF(ROZ2>=Inputs!$E$38,$D$26,0)","v":0},{"$f":"IF(RPA2>=Inputs!$E$38,$D$26,0)","v":0},{"$f":"IF(RPB2>=Inputs!$E$38,$D$26,0)","v":0},{"$f":"IF(RPC2>=Inputs!$E$38,$D$26,0)","v":0},{"$f":"IF(RPD2>=Inputs!$E$38,$D$26,0)","v":0},{"$f":"IF(RPE2>=Inputs!$E$38,$D$26,0)","v":0},{"$f":"IF(RPF2>=Inputs!$E$38,$D$26,0)","v":0},{"$f":"IF(RPG2>=Inputs!$E$38,$D$26,0)","v":0},{"$f":"IF(RPH2>=Inputs!$E$38,$D$26,0)","v":0},{"$f":"IF(RPI2>=Inputs!$E$38,$D$26,0)","v":0},{"$f":"IF(RPJ2>=Inputs!$E$38,$D$26,0)","v":0},{"$f":"IF(RPK2>=Inputs!$E$38,$D$26,0)","v":0},{"$f":"IF(RPL2>=Inputs!$E$38,$D$26,0)","v":0},{"$f":"IF(RPM2>=Inputs!$E$38,$D$26,0)","v":0},{"$f":"IF(RPN2>=Inputs!$E$38,$D$26,0)","v":0},{"$f":"IF(RPO2>=Inputs!$E$38,$D$26,0)","v":0},{"$f":"IF(RPP2>=Inputs!$E$38,$D$26,0)","v":0},{"$f":"IF(RPQ2>=Inputs!$E$38,$D$26,0)","v":0},{"$f":"IF(RPR2>=Inputs!$E$38,$D$26,0)","v":0},{"$f":"IF(RPS2>=Inputs!$E$38,$D$26,0)","v":0},{"$f":"IF(RPT2>=Inputs!$E$38,$D$26,0)","v":0},{"$f":"IF(RPU2>=Inputs!$E$38,$D$26,0)","v":0},{"$f":"IF(RPV2>=Inputs!$E$38,$D$26,0)","v":0},{"$f":"IF(RPW2>=Inputs!$E$38,$D$26,0)","v":0},{"$f":"IF(RPX2>=Inputs!$E$38,$D$26,0)","v":0},{"$f":"IF(RPY2>=Inputs!$E$38,$D$26,0)","v":0},{"$f":"IF(RPZ2>=Inputs!$E$38,$D$26,0)","v":0},{"$f":"IF(RQA2>=Inputs!$E$38,$D$26,0)","v":0},{"$f":"IF(RQB2>=Inputs!$E$38,$D$26,0)","v":0},{"$f":"IF(RQC2>=Inputs!$E$38,$D$26,0)","v":0},{"$f":"IF(RQD2>=Inputs!$E$38,$D$26,0)","v":0},{"$f":"IF(RQE2>=Inputs!$E$38,$D$26,0)","v":0},{"$f":"IF(RQF2>=Inputs!$E$38,$D$26,0)","v":0},{"$f":"IF(RQG2>=Inputs!$E$38,$D$26,0)","v":0},{"$f":"IF(RQH2>=Inputs!$E$38,$D$26,0)","v":0},{"$f":"IF(RQI2>=Inputs!$E$38,$D$26,0)","v":0},{"$f":"IF(RQJ2>=Inputs!$E$38,$D$26,0)","v":0},{"$f":"IF(RQK2>=Inputs!$E$38,$D$26,0)","v":0},{"$f":"IF(RQL2>=Inputs!$E$38,$D$26,0)","v":0},{"$f":"IF(RQM2>=Inputs!$E$38,$D$26,0)","v":0},{"$f":"IF(RQN2>=Inputs!$E$38,$D$26,0)","v":0},{"$f":"IF(RQO2>=Inputs!$E$38,$D$26,0)","v":0},{"$f":"IF(RQP2>=Inputs!$E$38,$D$26,0)","v":0},{"$f":"IF(RQQ2>=Inputs!$E$38,$D$26,0)","v":0},{"$f":"IF(RQR2>=Inputs!$E$38,$D$26,0)","v":0},{"$f":"IF(RQS2>=Inputs!$E$38,$D$26,0)","v":0},{"$f":"IF(RQT2>=Inputs!$E$38,$D$26,0)","v":0},{"$f":"IF(RQU2>=Inputs!$E$38,$D$26,0)","v":0},{"$f":"IF(RQV2>=Inputs!$E$38,$D$26,0)","v":0},{"$f":"IF(RQW2>=Inputs!$E$38,$D$26,0)","v":0},{"$f":"IF(RQX2>=Inputs!$E$38,$D$26,0)","v":0},{"$f":"IF(RQY2>=Inputs!$E$38,$D$26,0)","v":0},{"$f":"IF(RQZ2>=Inputs!$E$38,$D$26,0)","v":0},{"$f":"IF(RRA2>=Inputs!$E$38,$D$26,0)","v":0},{"$f":"IF(RRB2>=Inputs!$E$38,$D$26,0)","v":0},{"$f":"IF(RRC2>=Inputs!$E$38,$D$26,0)","v":0},{"$f":"IF(RRD2>=Inputs!$E$38,$D$26,0)","v":0},{"$f":"IF(RRE2>=Inputs!$E$38,$D$26,0)","v":0},{"$f":"IF(RRF2>=Inputs!$E$38,$D$26,0)","v":0},{"$f":"IF(RRG2>=Inputs!$E$38,$D$26,0)","v":0},{"$f":"IF(RRH2>=Inputs!$E$38,$D$26,0)","v":0},{"$f":"IF(RRI2>=Inputs!$E$38,$D$26,0)","v":0},{"$f":"IF(RRJ2>=Inputs!$E$38,$D$26,0)","v":0},{"$f":"IF(RRK2>=Inputs!$E$38,$D$26,0)","v":0},{"$f":"IF(RRL2>=Inputs!$E$38,$D$26,0)","v":0},{"$f":"IF(RRM2>=Inputs!$E$38,$D$26,0)","v":0},{"$f":"IF(RRN2>=Inputs!$E$38,$D$26,0)","v":0},{"$f":"IF(RRO2>=Inputs!$E$38,$D$26,0)","v":0},{"$f":"IF(RRP2>=Inputs!$E$38,$D$26,0)","v":0},{"$f":"IF(RRQ2>=Inputs!$E$38,$D$26,0)","v":0},{"$f":"IF(RRR2>=Inputs!$E$38,$D$26,0)","v":0},{"$f":"IF(RRS2>=Inputs!$E$38,$D$26,0)","v":0},{"$f":"IF(RRT2>=Inputs!$E$38,$D$26,0)","v":0},{"$f":"IF(RRU2>=Inputs!$E$38,$D$26,0)","v":0},{"$f":"IF(RRV2>=Inputs!$E$38,$D$26,0)","v":0},{"$f":"IF(RRW2>=Inputs!$E$38,$D$26,0)","v":0},{"$f":"IF(RRX2>=Inputs!$E$38,$D$26,0)","v":0},{"$f":"IF(RRY2>=Inputs!$E$38,$D$26,0)","v":0},{"$f":"IF(RRZ2>=Inputs!$E$38,$D$26,0)","v":0},{"$f":"IF(RSA2>=Inputs!$E$38,$D$26,0)","v":0},{"$f":"IF(RSB2>=Inputs!$E$38,$D$26,0)","v":0},{"$f":"IF(RSC2>=Inputs!$E$38,$D$26,0)","v":0},{"$f":"IF(RSD2>=Inputs!$E$38,$D$26,0)","v":0},{"$f":"IF(RSE2>=Inputs!$E$38,$D$26,0)","v":0},{"$f":"IF(RSF2>=Inputs!$E$38,$D$26,0)","v":0},{"$f":"IF(RSG2>=Inputs!$E$38,$D$26,0)","v":0},{"$f":"IF(RSH2>=Inputs!$E$38,$D$26,0)","v":0},{"$f":"IF(RSI2>=Inputs!$E$38,$D$26,0)","v":0},{"$f":"IF(RSJ2>=Inputs!$E$38,$D$26,0)","v":0},{"$f":"IF(RSK2>=Inputs!$E$38,$D$26,0)","v":0},{"$f":"IF(RSL2>=Inputs!$E$38,$D$26,0)","v":0},{"$f":"IF(RSM2>=Inputs!$E$38,$D$26,0)","v":0},{"$f":"IF(RSN2>=Inputs!$E$38,$D$26,0)","v":0},{"$f":"IF(RSO2>=Inputs!$E$38,$D$26,0)","v":0},{"$f":"IF(RSP2>=Inputs!$E$38,$D$26,0)","v":0},{"$f":"IF(RSQ2>=Inputs!$E$38,$D$26,0)","v":0},{"$f":"IF(RSR2>=Inputs!$E$38,$D$26,0)","v":0},{"$f":"IF(RSS2>=Inputs!$E$38,$D$26,0)","v":0},{"$f":"IF(RST2>=Inputs!$E$38,$D$26,0)","v":0},{"$f":"IF(RSU2>=Inputs!$E$38,$D$26,0)","v":0},{"$f":"IF(RSV2>=Inputs!$E$38,$D$26,0)","v":0},{"$f":"IF(RSW2>=Inputs!$E$38,$D$26,0)","v":0},{"$f":"IF(RSX2>=Inputs!$E$38,$D$26,0)","v":0},{"$f":"IF(RSY2>=Inputs!$E$38,$D$26,0)","v":0},{"$f":"IF(RSZ2>=Inputs!$E$38,$D$26,0)","v":0},{"$f":"IF(RTA2>=Inputs!$E$38,$D$26,0)","v":0},{"$f":"IF(RTB2>=Inputs!$E$38,$D$26,0)","v":0},{"$f":"IF(RTC2>=Inputs!$E$38,$D$26,0)","v":0},{"$f":"IF(RTD2>=Inputs!$E$38,$D$26,0)","v":0},{"$f":"IF(RTE2>=Inputs!$E$38,$D$26,0)","v":0},{"$f":"IF(RTF2>=Inputs!$E$38,$D$26,0)","v":0},{"$f":"IF(RTG2>=Inputs!$E$38,$D$26,0)","v":0},{"$f":"IF(RTH2>=Inputs!$E$38,$D$26,0)","v":0},{"$f":"IF(RTI2>=Inputs!$E$38,$D$26,0)","v":0},{"$f":"IF(RTJ2>=Inputs!$E$38,$D$26,0)","v":0},{"$f":"IF(RTK2>=Inputs!$E$38,$D$26,0)","v":0},{"$f":"IF(RTL2>=Inputs!$E$38,$D$26,0)","v":0},{"$f":"IF(RTM2>=Inputs!$E$38,$D$26,0)","v":0},{"$f":"IF(RTN2>=Inputs!$E$38,$D$26,0)","v":0},{"$f":"IF(RTO2>=Inputs!$E$38,$D$26,0)","v":0},{"$f":"IF(RTP2>=Inputs!$E$38,$D$26,0)","v":0},{"$f":"IF(RTQ2>=Inputs!$E$38,$D$26,0)","v":0},{"$f":"IF(RTR2>=Inputs!$E$38,$D$26,0)","v":0},{"$f":"IF(RTS2>=Inputs!$E$38,$D$26,0)","v":0},{"$f":"IF(RTT2>=Inputs!$E$38,$D$26,0)","v":0},{"$f":"IF(RTU2>=Inputs!$E$38,$D$26,0)","v":0},{"$f":"IF(RTV2>=Inputs!$E$38,$D$26,0)","v":0},{"$f":"IF(RTW2>=Inputs!$E$38,$D$26,0)","v":0},{"$f":"IF(RTX2>=Inputs!$E$38,$D$26,0)","v":0},{"$f":"IF(RTY2>=Inputs!$E$38,$D$26,0)","v":0},{"$f":"IF(RTZ2>=Inputs!$E$38,$D$26,0)","v":0},{"$f":"IF(RUA2>=Inputs!$E$38,$D$26,0)","v":0},{"$f":"IF(RUB2>=Inputs!$E$38,$D$26,0)","v":0},{"$f":"IF(RUC2>=Inputs!$E$38,$D$26,0)","v":0},{"$f":"IF(RUD2>=Inputs!$E$38,$D$26,0)","v":0},{"$f":"IF(RUE2>=Inputs!$E$38,$D$26,0)","v":0},{"$f":"IF(RUF2>=Inputs!$E$38,$D$26,0)","v":0},{"$f":"IF(RUG2>=Inputs!$E$38,$D$26,0)","v":0},{"$f":"IF(RUH2>=Inputs!$E$38,$D$26,0)","v":0},{"$f":"IF(RUI2>=Inputs!$E$38,$D$26,0)","v":0},{"$f":"IF(RUJ2>=Inputs!$E$38,$D$26,0)","v":0},{"$f":"IF(RUK2>=Inputs!$E$38,$D$26,0)","v":0},{"$f":"IF(RUL2>=Inputs!$E$38,$D$26,0)","v":0},{"$f":"IF(RUM2>=Inputs!$E$38,$D$26,0)","v":0},{"$f":"IF(RUN2>=Inputs!$E$38,$D$26,0)","v":0},{"$f":"IF(RUO2>=Inputs!$E$38,$D$26,0)","v":0},{"$f":"IF(RUP2>=Inputs!$E$38,$D$26,0)","v":0},{"$f":"IF(RUQ2>=Inputs!$E$38,$D$26,0)","v":0},{"$f":"IF(RUR2>=Inputs!$E$38,$D$26,0)","v":0},{"$f":"IF(RUS2>=Inputs!$E$38,$D$26,0)","v":0},{"$f":"IF(RUT2>=Inputs!$E$38,$D$26,0)","v":0},{"$f":"IF(RUU2>=Inputs!$E$38,$D$26,0)","v":0},{"$f":"IF(RUV2>=Inputs!$E$38,$D$26,0)","v":0},{"$f":"IF(RUW2>=Inputs!$E$38,$D$26,0)","v":0},{"$f":"IF(RUX2>=Inputs!$E$38,$D$26,0)","v":0},{"$f":"IF(RUY2>=Inputs!$E$38,$D$26,0)","v":0},{"$f":"IF(RUZ2>=Inputs!$E$38,$D$26,0)","v":0},{"$f":"IF(RVA2>=Inputs!$E$38,$D$26,0)","v":0},{"$f":"IF(RVB2>=Inputs!$E$38,$D$26,0)","v":0},{"$f":"IF(RVC2>=Inputs!$E$38,$D$26,0)","v":0},{"$f":"IF(RVD2>=Inputs!$E$38,$D$26,0)","v":0},{"$f":"IF(RVE2>=Inputs!$E$38,$D$26,0)","v":0},{"$f":"IF(RVF2>=Inputs!$E$38,$D$26,0)","v":0},{"$f":"IF(RVG2>=Inputs!$E$38,$D$26,0)","v":0},{"$f":"IF(RVH2>=Inputs!$E$38,$D$26,0)","v":0},{"$f":"IF(RVI2>=Inputs!$E$38,$D$26,0)","v":0},{"$f":"IF(RVJ2>=Inputs!$E$38,$D$26,0)","v":0},{"$f":"IF(RVK2>=Inputs!$E$38,$D$26,0)","v":0},{"$f":"IF(RVL2>=Inputs!$E$38,$D$26,0)","v":0},{"$f":"IF(RVM2>=Inputs!$E$38,$D$26,0)","v":0},{"$f":"IF(RVN2>=Inputs!$E$38,$D$26,0)","v":0},{"$f":"IF(RVO2>=Inputs!$E$38,$D$26,0)","v":0},{"$f":"IF(RVP2>=Inputs!$E$38,$D$26,0)","v":0},{"$f":"IF(RVQ2>=Inputs!$E$38,$D$26,0)","v":0},{"$f":"IF(RVR2>=Inputs!$E$38,$D$26,0)","v":0},{"$f":"IF(RVS2>=Inputs!$E$38,$D$26,0)","v":0},{"$f":"IF(RVT2>=Inputs!$E$38,$D$26,0)","v":0},{"$f":"IF(RVU2>=Inputs!$E$38,$D$26,0)","v":0},{"$f":"IF(RVV2>=Inputs!$E$38,$D$26,0)","v":0},{"$f":"IF(RVW2>=Inputs!$E$38,$D$26,0)","v":0},{"$f":"IF(RVX2>=Inputs!$E$38,$D$26,0)","v":0},{"$f":"IF(RVY2>=Inputs!$E$38,$D$26,0)","v":0},{"$f":"IF(RVZ2>=Inputs!$E$38,$D$26,0)","v":0},{"$f":"IF(RWA2>=Inputs!$E$38,$D$26,0)","v":0},{"$f":"IF(RWB2>=Inputs!$E$38,$D$26,0)","v":0},{"$f":"IF(RWC2>=Inputs!$E$38,$D$26,0)","v":0},{"$f":"IF(RWD2>=Inputs!$E$38,$D$26,0)","v":0},{"$f":"IF(RWE2>=Inputs!$E$38,$D$26,0)","v":0},{"$f":"IF(RWF2>=Inputs!$E$38,$D$26,0)","v":0},{"$f":"IF(RWG2>=Inputs!$E$38,$D$26,0)","v":0},{"$f":"IF(RWH2>=Inputs!$E$38,$D$26,0)","v":0},{"$f":"IF(RWI2>=Inputs!$E$38,$D$26,0)","v":0},{"$f":"IF(RWJ2>=Inputs!$E$38,$D$26,0)","v":0},{"$f":"IF(RWK2>=Inputs!$E$38,$D$26,0)","v":0},{"$f":"IF(RWL2>=Inputs!$E$38,$D$26,0)","v":0},{"$f":"IF(RWM2>=Inputs!$E$38,$D$26,0)","v":0},{"$f":"IF(RWN2>=Inputs!$E$38,$D$26,0)","v":0},{"$f":"IF(RWO2>=Inputs!$E$38,$D$26,0)","v":0},{"$f":"IF(RWP2>=Inputs!$E$38,$D$26,0)","v":0},{"$f":"IF(RWQ2>=Inputs!$E$38,$D$26,0)","v":0},{"$f":"IF(RWR2>=Inputs!$E$38,$D$26,0)","v":0},{"$f":"IF(RWS2>=Inputs!$E$38,$D$26,0)","v":0},{"$f":"IF(RWT2>=Inputs!$E$38,$D$26,0)","v":0},{"$f":"IF(RWU2>=Inputs!$E$38,$D$26,0)","v":0},{"$f":"IF(RWV2>=Inputs!$E$38,$D$26,0)","v":0},{"$f":"IF(RWW2>=Inputs!$E$38,$D$26,0)","v":0},{"$f":"IF(RWX2>=Inputs!$E$38,$D$26,0)","v":0},{"$f":"IF(RWY2>=Inputs!$E$38,$D$26,0)","v":0},{"$f":"IF(RWZ2>=Inputs!$E$38,$D$26,0)","v":0},{"$f":"IF(RXA2>=Inputs!$E$38,$D$26,0)","v":0},{"$f":"IF(RXB2>=Inputs!$E$38,$D$26,0)","v":0},{"$f":"IF(RXC2>=Inputs!$E$38,$D$26,0)","v":0},{"$f":"IF(RXD2>=Inputs!$E$38,$D$26,0)","v":0},{"$f":"IF(RXE2>=Inputs!$E$38,$D$26,0)","v":0},{"$f":"IF(RXF2>=Inputs!$E$38,$D$26,0)","v":0},{"$f":"IF(RXG2>=Inputs!$E$38,$D$26,0)","v":0},{"$f":"IF(RXH2>=Inputs!$E$38,$D$26,0)","v":0},{"$f":"IF(RXI2>=Inputs!$E$38,$D$26,0)","v":0},{"$f":"IF(RXJ2>=Inputs!$E$38,$D$26,0)","v":0},{"$f":"IF(RXK2>=Inputs!$E$38,$D$26,0)","v":0},{"$f":"IF(RXL2>=Inputs!$E$38,$D$26,0)","v":0},{"$f":"IF(RXM2>=Inputs!$E$38,$D$26,0)","v":0},{"$f":"IF(RXN2>=Inputs!$E$38,$D$26,0)","v":0},{"$f":"IF(RXO2>=Inputs!$E$38,$D$26,0)","v":0},{"$f":"IF(RXP2>=Inputs!$E$38,$D$26,0)","v":0},{"$f":"IF(RXQ2>=Inputs!$E$38,$D$26,0)","v":0},{"$f":"IF(RXR2>=Inputs!$E$38,$D$26,0)","v":0},{"$f":"IF(RXS2>=Inputs!$E$38,$D$26,0)","v":0},{"$f":"IF(RXT2>=Inputs!$E$38,$D$26,0)","v":0},{"$f":"IF(RXU2>=Inputs!$E$38,$D$26,0)","v":0},{"$f":"IF(RXV2>=Inputs!$E$38,$D$26,0)","v":0},{"$f":"IF(RXW2>=Inputs!$E$38,$D$26,0)","v":0},{"$f":"IF(RXX2>=Inputs!$E$38,$D$26,0)","v":0},{"$f":"IF(RXY2>=Inputs!$E$38,$D$26,0)","v":0},{"$f":"IF(RXZ2>=Inputs!$E$38,$D$26,0)","v":0},{"$f":"IF(RYA2>=Inputs!$E$38,$D$26,0)","v":0},{"$f":"IF(RYB2>=Inputs!$E$38,$D$26,0)","v":0},{"$f":"IF(RYC2>=Inputs!$E$38,$D$26,0)","v":0},{"$f":"IF(RYD2>=Inputs!$E$38,$D$26,0)","v":0},{"$f":"IF(RYE2>=Inputs!$E$38,$D$26,0)","v":0},{"$f":"IF(RYF2>=Inputs!$E$38,$D$26,0)","v":0},{"$f":"IF(RYG2>=Inputs!$E$38,$D$26,0)","v":0},{"$f":"IF(RYH2>=Inputs!$E$38,$D$26,0)","v":0},{"$f":"IF(RYI2>=Inputs!$E$38,$D$26,0)","v":0},{"$f":"IF(RYJ2>=Inputs!$E$38,$D$26,0)","v":0},{"$f":"IF(RYK2>=Inputs!$E$38,$D$26,0)","v":0},{"$f":"IF(RYL2>=Inputs!$E$38,$D$26,0)","v":0},{"$f":"IF(RYM2>=Inputs!$E$38,$D$26,0)","v":0},{"$f":"IF(RYN2>=Inputs!$E$38,$D$26,0)","v":0},{"$f":"IF(RYO2>=Inputs!$E$38,$D$26,0)","v":0},{"$f":"IF(RYP2>=Inputs!$E$38,$D$26,0)","v":0},{"$f":"IF(RYQ2>=Inputs!$E$38,$D$26,0)","v":0},{"$f":"IF(RYR2>=Inputs!$E$38,$D$26,0)","v":0},{"$f":"IF(RYS2>=Inputs!$E$38,$D$26,0)","v":0},{"$f":"IF(RYT2>=Inputs!$E$38,$D$26,0)","v":0},{"$f":"IF(RYU2>=Inputs!$E$38,$D$26,0)","v":0},{"$f":"IF(RYV2>=Inputs!$E$38,$D$26,0)","v":0},{"$f":"IF(RYW2>=Inputs!$E$38,$D$26,0)","v":0},{"$f":"IF(RYX2>=Inputs!$E$38,$D$26,0)","v":0},{"$f":"IF(RYY2>=Inputs!$E$38,$D$26,0)","v":0},{"$f":"IF(RYZ2>=Inputs!$E$38,$D$26,0)","v":0},{"$f":"IF(RZA2>=Inputs!$E$38,$D$26,0)","v":0},{"$f":"IF(RZB2>=Inputs!$E$38,$D$26,0)","v":0},{"$f":"IF(RZC2>=Inputs!$E$38,$D$26,0)","v":0},{"$f":"IF(RZD2>=Inputs!$E$38,$D$26,0)","v":0},{"$f":"IF(RZE2>=Inputs!$E$38,$D$26,0)","v":0},{"$f":"IF(RZF2>=Inputs!$E$38,$D$26,0)","v":0},{"$f":"IF(RZG2>=Inputs!$E$38,$D$26,0)","v":0},{"$f":"IF(RZH2>=Inputs!$E$38,$D$26,0)","v":0},{"$f":"IF(RZI2>=Inputs!$E$38,$D$26,0)","v":0},{"$f":"IF(RZJ2>=Inputs!$E$38,$D$26,0)","v":0},{"$f":"IF(RZK2>=Inputs!$E$38,$D$26,0)","v":0},{"$f":"IF(RZL2>=Inputs!$E$38,$D$26,0)","v":0},{"$f":"IF(RZM2>=Inputs!$E$38,$D$26,0)","v":0},{"$f":"IF(RZN2>=Inputs!$E$38,$D$26,0)","v":0},{"$f":"IF(RZO2>=Inputs!$E$38,$D$26,0)","v":0},{"$f":"IF(RZP2>=Inputs!$E$38,$D$26,0)","v":0},{"$f":"IF(RZQ2>=Inputs!$E$38,$D$26,0)","v":0},{"$f":"IF(RZR2>=Inputs!$E$38,$D$26,0)","v":0},{"$f":"IF(RZS2>=Inputs!$E$38,$D$26,0)","v":0},{"$f":"IF(RZT2>=Inputs!$E$38,$D$26,0)","v":0},{"$f":"IF(RZU2>=Inputs!$E$38,$D$26,0)","v":0},{"$f":"IF(RZV2>=Inputs!$E$38,$D$26,0)","v":0},{"$f":"IF(RZW2>=Inputs!$E$38,$D$26,0)","v":0},{"$f":"IF(RZX2>=Inputs!$E$38,$D$26,0)","v":0},{"$f":"IF(RZY2>=Inputs!$E$38,$D$26,0)","v":0},{"$f":"IF(RZZ2>=Inputs!$E$38,$D$26,0)","v":0},{"$f":"IF(SAA2>=Inputs!$E$38,$D$26,0)","v":0},{"$f":"IF(SAB2>=Inputs!$E$38,$D$26,0)","v":0},{"$f":"IF(SAC2>=Inputs!$E$38,$D$26,0)","v":0},{"$f":"IF(SAD2>=Inputs!$E$38,$D$26,0)","v":0},{"$f":"IF(SAE2>=Inputs!$E$38,$D$26,0)","v":0},{"$f":"IF(SAF2>=Inputs!$E$38,$D$26,0)","v":0},{"$f":"IF(SAG2>=Inputs!$E$38,$D$26,0)","v":0},{"$f":"IF(SAH2>=Inputs!$E$38,$D$26,0)","v":0},{"$f":"IF(SAI2>=Inputs!$E$38,$D$26,0)","v":0},{"$f":"IF(SAJ2>=Inputs!$E$38,$D$26,0)","v":0},{"$f":"IF(SAK2>=Inputs!$E$38,$D$26,0)","v":0},{"$f":"IF(SAL2>=Inputs!$E$38,$D$26,0)","v":0},{"$f":"IF(SAM2>=Inputs!$E$38,$D$26,0)","v":0},{"$f":"IF(SAN2>=Inputs!$E$38,$D$26,0)","v":0},{"$f":"IF(SAO2>=Inputs!$E$38,$D$26,0)","v":0},{"$f":"IF(SAP2>=Inputs!$E$38,$D$26,0)","v":0},{"$f":"IF(SAQ2>=Inputs!$E$38,$D$26,0)","v":0},{"$f":"IF(SAR2>=Inputs!$E$38,$D$26,0)","v":0},{"$f":"IF(SAS2>=Inputs!$E$38,$D$26,0)","v":0},{"$f":"IF(SAT2>=Inputs!$E$38,$D$26,0)","v":0},{"$f":"IF(SAU2>=Inputs!$E$38,$D$26,0)","v":0},{"$f":"IF(SAV2>=Inputs!$E$38,$D$26,0)","v":0},{"$f":"IF(SAW2>=Inputs!$E$38,$D$26,0)","v":0},{"$f":"IF(SAX2>=Inputs!$E$38,$D$26,0)","v":0},{"$f":"IF(SAY2>=Inputs!$E$38,$D$26,0)","v":0},{"$f":"IF(SAZ2>=Inputs!$E$38,$D$26,0)","v":0},{"$f":"IF(SBA2>=Inputs!$E$38,$D$26,0)","v":0},{"$f":"IF(SBB2>=Inputs!$E$38,$D$26,0)","v":0},{"$f":"IF(SBC2>=Inputs!$E$38,$D$26,0)","v":0},{"$f":"IF(SBD2>=Inputs!$E$38,$D$26,0)","v":0},{"$f":"IF(SBE2>=Inputs!$E$38,$D$26,0)","v":0},{"$f":"IF(SBF2>=Inputs!$E$38,$D$26,0)","v":0},{"$f":"IF(SBG2>=Inputs!$E$38,$D$26,0)","v":0},{"$f":"IF(SBH2>=Inputs!$E$38,$D$26,0)","v":0},{"$f":"IF(SBI2>=Inputs!$E$38,$D$26,0)","v":0},{"$f":"IF(SBJ2>=Inputs!$E$38,$D$26,0)","v":0},{"$f":"IF(SBK2>=Inputs!$E$38,$D$26,0)","v":0},{"$f":"IF(SBL2>=Inputs!$E$38,$D$26,0)","v":0},{"$f":"IF(SBM2>=Inputs!$E$38,$D$26,0)","v":0},{"$f":"IF(SBN2>=Inputs!$E$38,$D$26,0)","v":0},{"$f":"IF(SBO2>=Inputs!$E$38,$D$26,0)","v":0},{"$f":"IF(SBP2>=Inputs!$E$38,$D$26,0)","v":0},{"$f":"IF(SBQ2>=Inputs!$E$38,$D$26,0)","v":0},{"$f":"IF(SBR2>=Inputs!$E$38,$D$26,0)","v":0},{"$f":"IF(SBS2>=Inputs!$E$38,$D$26,0)","v":0},{"$f":"IF(SBT2>=Inputs!$E$38,$D$26,0)","v":0},{"$f":"IF(SBU2>=Inputs!$E$38,$D$26,0)","v":0},{"$f":"IF(SBV2>=Inputs!$E$38,$D$26,0)","v":0},{"$f":"IF(SBW2>=Inputs!$E$38,$D$26,0)","v":0},{"$f":"IF(SBX2>=Inputs!$E$38,$D$26,0)","v":0},{"$f":"IF(SBY2>=Inputs!$E$38,$D$26,0)","v":0},{"$f":"IF(SBZ2>=Inputs!$E$38,$D$26,0)","v":0},{"$f":"IF(SCA2>=Inputs!$E$38,$D$26,0)","v":0},{"$f":"IF(SCB2>=Inputs!$E$38,$D$26,0)","v":0},{"$f":"IF(SCC2>=Inputs!$E$38,$D$26,0)","v":0},{"$f":"IF(SCD2>=Inputs!$E$38,$D$26,0)","v":0},{"$f":"IF(SCE2>=Inputs!$E$38,$D$26,0)","v":0},{"$f":"IF(SCF2>=Inputs!$E$38,$D$26,0)","v":0},{"$f":"IF(SCG2>=Inputs!$E$38,$D$26,0)","v":0},{"$f":"IF(SCH2>=Inputs!$E$38,$D$26,0)","v":0},{"$f":"IF(SCI2>=Inputs!$E$38,$D$26,0)","v":0},{"$f":"IF(SCJ2>=Inputs!$E$38,$D$26,0)","v":0},{"$f":"IF(SCK2>=Inputs!$E$38,$D$26,0)","v":0},{"$f":"IF(SCL2>=Inputs!$E$38,$D$26,0)","v":0},{"$f":"IF(SCM2>=Inputs!$E$38,$D$26,0)","v":0},{"$f":"IF(SCN2>=Inputs!$E$38,$D$26,0)","v":0},{"$f":"IF(SCO2>=Inputs!$E$38,$D$26,0)","v":0},{"$f":"IF(SCP2>=Inputs!$E$38,$D$26,0)","v":0},{"$f":"IF(SCQ2>=Inputs!$E$38,$D$26,0)","v":0},{"$f":"IF(SCR2>=Inputs!$E$38,$D$26,0)","v":0},{"$f":"IF(SCS2>=Inputs!$E$38,$D$26,0)","v":0},{"$f":"IF(SCT2>=Inputs!$E$38,$D$26,0)","v":0},{"$f":"IF(SCU2>=Inputs!$E$38,$D$26,0)","v":0},{"$f":"IF(SCV2>=Inputs!$E$38,$D$26,0)","v":0},{"$f":"IF(SCW2>=Inputs!$E$38,$D$26,0)","v":0},{"$f":"IF(SCX2>=Inputs!$E$38,$D$26,0)","v":0},{"$f":"IF(SCY2>=Inputs!$E$38,$D$26,0)","v":0},{"$f":"IF(SCZ2>=Inputs!$E$38,$D$26,0)","v":0},{"$f":"IF(SDA2>=Inputs!$E$38,$D$26,0)","v":0},{"$f":"IF(SDB2>=Inputs!$E$38,$D$26,0)","v":0},{"$f":"IF(SDC2>=Inputs!$E$38,$D$26,0)","v":0},{"$f":"IF(SDD2>=Inputs!$E$38,$D$26,0)","v":0},{"$f":"IF(SDE2>=Inputs!$E$38,$D$26,0)","v":0},{"$f":"IF(SDF2>=Inputs!$E$38,$D$26,0)","v":0},{"$f":"IF(SDG2>=Inputs!$E$38,$D$26,0)","v":0},{"$f":"IF(SDH2>=Inputs!$E$38,$D$26,0)","v":0},{"$f":"IF(SDI2>=Inputs!$E$38,$D$26,0)","v":0},{"$f":"IF(SDJ2>=Inputs!$E$38,$D$26,0)","v":0},{"$f":"IF(SDK2>=Inputs!$E$38,$D$26,0)","v":0},{"$f":"IF(SDL2>=Inputs!$E$38,$D$26,0)","v":0},{"$f":"IF(SDM2>=Inputs!$E$38,$D$26,0)","v":0},{"$f":"IF(SDN2>=Inputs!$E$38,$D$26,0)","v":0},{"$f":"IF(SDO2>=Inputs!$E$38,$D$26,0)","v":0},{"$f":"IF(SDP2>=Inputs!$E$38,$D$26,0)","v":0},{"$f":"IF(SDQ2>=Inputs!$E$38,$D$26,0)","v":0},{"$f":"IF(SDR2>=Inputs!$E$38,$D$26,0)","v":0},{"$f":"IF(SDS2>=Inputs!$E$38,$D$26,0)","v":0},{"$f":"IF(SDT2>=Inputs!$E$38,$D$26,0)","v":0},{"$f":"IF(SDU2>=Inputs!$E$38,$D$26,0)","v":0},{"$f":"IF(SDV2>=Inputs!$E$38,$D$26,0)","v":0},{"$f":"IF(SDW2>=Inputs!$E$38,$D$26,0)","v":0},{"$f":"IF(SDX2>=Inputs!$E$38,$D$26,0)","v":0},{"$f":"IF(SDY2>=Inputs!$E$38,$D$26,0)","v":0},{"$f":"IF(SDZ2>=Inputs!$E$38,$D$26,0)","v":0},{"$f":"IF(SEA2>=Inputs!$E$38,$D$26,0)","v":0},{"$f":"IF(SEB2>=Inputs!$E$38,$D$26,0)","v":0},{"$f":"IF(SEC2>=Inputs!$E$38,$D$26,0)","v":0},{"$f":"IF(SED2>=Inputs!$E$38,$D$26,0)","v":0},{"$f":"IF(SEE2>=Inputs!$E$38,$D$26,0)","v":0},{"$f":"IF(SEF2>=Inputs!$E$38,$D$26,0)","v":0},{"$f":"IF(SEG2>=Inputs!$E$38,$D$26,0)","v":0},{"$f":"IF(SEH2>=Inputs!$E$38,$D$26,0)","v":0},{"$f":"IF(SEI2>=Inputs!$E$38,$D$26,0)","v":0},{"$f":"IF(SEJ2>=Inputs!$E$38,$D$26,0)","v":0},{"$f":"IF(SEK2>=Inputs!$E$38,$D$26,0)","v":0},{"$f":"IF(SEL2>=Inputs!$E$38,$D$26,0)","v":0},{"$f":"IF(SEM2>=Inputs!$E$38,$D$26,0)","v":0},{"$f":"IF(SEN2>=Inputs!$E$38,$D$26,0)","v":0},{"$f":"IF(SEO2>=Inputs!$E$38,$D$26,0)","v":0},{"$f":"IF(SEP2>=Inputs!$E$38,$D$26,0)","v":0},{"$f":"IF(SEQ2>=Inputs!$E$38,$D$26,0)","v":0},{"$f":"IF(SER2>=Inputs!$E$38,$D$26,0)","v":0},{"$f":"IF(SES2>=Inputs!$E$38,$D$26,0)","v":0},{"$f":"IF(SET2>=Inputs!$E$38,$D$26,0)","v":0},{"$f":"IF(SEU2>=Inputs!$E$38,$D$26,0)","v":0},{"$f":"IF(SEV2>=Inputs!$E$38,$D$26,0)","v":0},{"$f":"IF(SEW2>=Inputs!$E$38,$D$26,0)","v":0},{"$f":"IF(SEX2>=Inputs!$E$38,$D$26,0)","v":0},{"$f":"IF(SEY2>=Inputs!$E$38,$D$26,0)","v":0},{"$f":"IF(SEZ2>=Inputs!$E$38,$D$26,0)","v":0},{"$f":"IF(SFA2>=Inputs!$E$38,$D$26,0)","v":0},{"$f":"IF(SFB2>=Inputs!$E$38,$D$26,0)","v":0},{"$f":"IF(SFC2>=Inputs!$E$38,$D$26,0)","v":0},{"$f":"IF(SFD2>=Inputs!$E$38,$D$26,0)","v":0},{"$f":"IF(SFE2>=Inputs!$E$38,$D$26,0)","v":0},{"$f":"IF(SFF2>=Inputs!$E$38,$D$26,0)","v":0},{"$f":"IF(SFG2>=Inputs!$E$38,$D$26,0)","v":0},{"$f":"IF(SFH2>=Inputs!$E$38,$D$26,0)","v":0},{"$f":"IF(SFI2>=Inputs!$E$38,$D$26,0)","v":0},{"$f":"IF(SFJ2>=Inputs!$E$38,$D$26,0)","v":0},{"$f":"IF(SFK2>=Inputs!$E$38,$D$26,0)","v":0},{"$f":"IF(SFL2>=Inputs!$E$38,$D$26,0)","v":0},{"$f":"IF(SFM2>=Inputs!$E$38,$D$26,0)","v":0},{"$f":"IF(SFN2>=Inputs!$E$38,$D$26,0)","v":0},{"$f":"IF(SFO2>=Inputs!$E$38,$D$26,0)","v":0},{"$f":"IF(SFP2>=Inputs!$E$38,$D$26,0)","v":0},{"$f":"IF(SFQ2>=Inputs!$E$38,$D$26,0)","v":0},{"$f":"IF(SFR2>=Inputs!$E$38,$D$26,0)","v":0},{"$f":"IF(SFS2>=Inputs!$E$38,$D$26,0)","v":0},{"$f":"IF(SFT2>=Inputs!$E$38,$D$26,0)","v":0},{"$f":"IF(SFU2>=Inputs!$E$38,$D$26,0)","v":0},{"$f":"IF(SFV2>=Inputs!$E$38,$D$26,0)","v":0},{"$f":"IF(SFW2>=Inputs!$E$38,$D$26,0)","v":0},{"$f":"IF(SFX2>=Inputs!$E$38,$D$26,0)","v":0},{"$f":"IF(SFY2>=Inputs!$E$38,$D$26,0)","v":0},{"$f":"IF(SFZ2>=Inputs!$E$38,$D$26,0)","v":0},{"$f":"IF(SGA2>=Inputs!$E$38,$D$26,0)","v":0},{"$f":"IF(SGB2>=Inputs!$E$38,$D$26,0)","v":0},{"$f":"IF(SGC2>=Inputs!$E$38,$D$26,0)","v":0},{"$f":"IF(SGD2>=Inputs!$E$38,$D$26,0)","v":0},{"$f":"IF(SGE2>=Inputs!$E$38,$D$26,0)","v":0},{"$f":"IF(SGF2>=Inputs!$E$38,$D$26,0)","v":0},{"$f":"IF(SGG2>=Inputs!$E$38,$D$26,0)","v":0},{"$f":"IF(SGH2>=Inputs!$E$38,$D$26,0)","v":0},{"$f":"IF(SGI2>=Inputs!$E$38,$D$26,0)","v":0},{"$f":"IF(SGJ2>=Inputs!$E$38,$D$26,0)","v":0},{"$f":"IF(SGK2>=Inputs!$E$38,$D$26,0)","v":0},{"$f":"IF(SGL2>=Inputs!$E$38,$D$26,0)","v":0},{"$f":"IF(SGM2>=Inputs!$E$38,$D$26,0)","v":0},{"$f":"IF(SGN2>=Inputs!$E$38,$D$26,0)","v":0},{"$f":"IF(SGO2>=Inputs!$E$38,$D$26,0)","v":0},{"$f":"IF(SGP2>=Inputs!$E$38,$D$26,0)","v":0},{"$f":"IF(SGQ2>=Inputs!$E$38,$D$26,0)","v":0},{"$f":"IF(SGR2>=Inputs!$E$38,$D$26,0)","v":0},{"$f":"IF(SGS2>=Inputs!$E$38,$D$26,0)","v":0},{"$f":"IF(SGT2>=Inputs!$E$38,$D$26,0)","v":0},{"$f":"IF(SGU2>=Inputs!$E$38,$D$26,0)","v":0},{"$f":"IF(SGV2>=Inputs!$E$38,$D$26,0)","v":0},{"$f":"IF(SGW2>=Inputs!$E$38,$D$26,0)","v":0},{"$f":"IF(SGX2>=Inputs!$E$38,$D$26,0)","v":0},{"$f":"IF(SGY2>=Inputs!$E$38,$D$26,0)","v":0},{"$f":"IF(SGZ2>=Inputs!$E$38,$D$26,0)","v":0},{"$f":"IF(SHA2>=Inputs!$E$38,$D$26,0)","v":0},{"$f":"IF(SHB2>=Inputs!$E$38,$D$26,0)","v":0},{"$f":"IF(SHC2>=Inputs!$E$38,$D$26,0)","v":0},{"$f":"IF(SHD2>=Inputs!$E$38,$D$26,0)","v":0},{"$f":"IF(SHE2>=Inputs!$E$38,$D$26,0)","v":0},{"$f":"IF(SHF2>=Inputs!$E$38,$D$26,0)","v":0},{"$f":"IF(SHG2>=Inputs!$E$38,$D$26,0)","v":0},{"$f":"IF(SHH2>=Inputs!$E$38,$D$26,0)","v":0},{"$f":"IF(SHI2>=Inputs!$E$38,$D$26,0)","v":0},{"$f":"IF(SHJ2>=Inputs!$E$38,$D$26,0)","v":0},{"$f":"IF(SHK2>=Inputs!$E$38,$D$26,0)","v":0},{"$f":"IF(SHL2>=Inputs!$E$38,$D$26,0)","v":0},{"$f":"IF(SHM2>=Inputs!$E$38,$D$26,0)","v":0},{"$f":"IF(SHN2>=Inputs!$E$38,$D$26,0)","v":0},{"$f":"IF(SHO2>=Inputs!$E$38,$D$26,0)","v":0},{"$f":"IF(SHP2>=Inputs!$E$38,$D$26,0)","v":0},{"$f":"IF(SHQ2>=Inputs!$E$38,$D$26,0)","v":0},{"$f":"IF(SHR2>=Inputs!$E$38,$D$26,0)","v":0},{"$f":"IF(SHS2>=Inputs!$E$38,$D$26,0)","v":0},{"$f":"IF(SHT2>=Inputs!$E$38,$D$26,0)","v":0},{"$f":"IF(SHU2>=Inputs!$E$38,$D$26,0)","v":0},{"$f":"IF(SHV2>=Inputs!$E$38,$D$26,0)","v":0},{"$f":"IF(SHW2>=Inputs!$E$38,$D$26,0)","v":0},{"$f":"IF(SHX2>=Inputs!$E$38,$D$26,0)","v":0},{"$f":"IF(SHY2>=Inputs!$E$38,$D$26,0)","v":0},{"$f":"IF(SHZ2>=Inputs!$E$38,$D$26,0)","v":0},{"$f":"IF(SIA2>=Inputs!$E$38,$D$26,0)","v":0},{"$f":"IF(SIB2>=Inputs!$E$38,$D$26,0)","v":0},{"$f":"IF(SIC2>=Inputs!$E$38,$D$26,0)","v":0},{"$f":"IF(SID2>=Inputs!$E$38,$D$26,0)","v":0},{"$f":"IF(SIE2>=Inputs!$E$38,$D$26,0)","v":0},{"$f":"IF(SIF2>=Inputs!$E$38,$D$26,0)","v":0},{"$f":"IF(SIG2>=Inputs!$E$38,$D$26,0)","v":0},{"$f":"IF(SIH2>=Inputs!$E$38,$D$26,0)","v":0},{"$f":"IF(SII2>=Inputs!$E$38,$D$26,0)","v":0},{"$f":"IF(SIJ2>=Inputs!$E$38,$D$26,0)","v":0},{"$f":"IF(SIK2>=Inputs!$E$38,$D$26,0)","v":0},{"$f":"IF(SIL2>=Inputs!$E$38,$D$26,0)","v":0},{"$f":"IF(SIM2>=Inputs!$E$38,$D$26,0)","v":0},{"$f":"IF(SIN2>=Inputs!$E$38,$D$26,0)","v":0},{"$f":"IF(SIO2>=Inputs!$E$38,$D$26,0)","v":0},{"$f":"IF(SIP2>=Inputs!$E$38,$D$26,0)","v":0},{"$f":"IF(SIQ2>=Inputs!$E$38,$D$26,0)","v":0},{"$f":"IF(SIR2>=Inputs!$E$38,$D$26,0)","v":0},{"$f":"IF(SIS2>=Inputs!$E$38,$D$26,0)","v":0},{"$f":"IF(SIT2>=Inputs!$E$38,$D$26,0)","v":0},{"$f":"IF(SIU2>=Inputs!$E$38,$D$26,0)","v":0},{"$f":"IF(SIV2>=Inputs!$E$38,$D$26,0)","v":0},{"$f":"IF(SIW2>=Inputs!$E$38,$D$26,0)","v":0},{"$f":"IF(SIX2>=Inputs!$E$38,$D$26,0)","v":0},{"$f":"IF(SIY2>=Inputs!$E$38,$D$26,0)","v":0},{"$f":"IF(SIZ2>=Inputs!$E$38,$D$26,0)","v":0},{"$f":"IF(SJA2>=Inputs!$E$38,$D$26,0)","v":0},{"$f":"IF(SJB2>=Inputs!$E$38,$D$26,0)","v":0},{"$f":"IF(SJC2>=Inputs!$E$38,$D$26,0)","v":0},{"$f":"IF(SJD2>=Inputs!$E$38,$D$26,0)","v":0},{"$f":"IF(SJE2>=Inputs!$E$38,$D$26,0)","v":0},{"$f":"IF(SJF2>=Inputs!$E$38,$D$26,0)","v":0},{"$f":"IF(SJG2>=Inputs!$E$38,$D$26,0)","v":0},{"$f":"IF(SJH2>=Inputs!$E$38,$D$26,0)","v":0},{"$f":"IF(SJI2>=Inputs!$E$38,$D$26,0)","v":0},{"$f":"IF(SJJ2>=Inputs!$E$38,$D$26,0)","v":0},{"$f":"IF(SJK2>=Inputs!$E$38,$D$26,0)","v":0},{"$f":"IF(SJL2>=Inputs!$E$38,$D$26,0)","v":0},{"$f":"IF(SJM2>=Inputs!$E$38,$D$26,0)","v":0},{"$f":"IF(SJN2>=Inputs!$E$38,$D$26,0)","v":0},{"$f":"IF(SJO2>=Inputs!$E$38,$D$26,0)","v":0},{"$f":"IF(SJP2>=Inputs!$E$38,$D$26,0)","v":0},{"$f":"IF(SJQ2>=Inputs!$E$38,$D$26,0)","v":0},{"$f":"IF(SJR2>=Inputs!$E$38,$D$26,0)","v":0},{"$f":"IF(SJS2>=Inputs!$E$38,$D$26,0)","v":0},{"$f":"IF(SJT2>=Inputs!$E$38,$D$26,0)","v":0},{"$f":"IF(SJU2>=Inputs!$E$38,$D$26,0)","v":0},{"$f":"IF(SJV2>=Inputs!$E$38,$D$26,0)","v":0},{"$f":"IF(SJW2>=Inputs!$E$38,$D$26,0)","v":0},{"$f":"IF(SJX2>=Inputs!$E$38,$D$26,0)","v":0},{"$f":"IF(SJY2>=Inputs!$E$38,$D$26,0)","v":0},{"$f":"IF(SJZ2>=Inputs!$E$38,$D$26,0)","v":0},{"$f":"IF(SKA2>=Inputs!$E$38,$D$26,0)","v":0},{"$f":"IF(SKB2>=Inputs!$E$38,$D$26,0)","v":0},{"$f":"IF(SKC2>=Inputs!$E$38,$D$26,0)","v":0},{"$f":"IF(SKD2>=Inputs!$E$38,$D$26,0)","v":0},{"$f":"IF(SKE2>=Inputs!$E$38,$D$26,0)","v":0},{"$f":"IF(SKF2>=Inputs!$E$38,$D$26,0)","v":0},{"$f":"IF(SKG2>=Inputs!$E$38,$D$26,0)","v":0},{"$f":"IF(SKH2>=Inputs!$E$38,$D$26,0)","v":0},{"$f":"IF(SKI2>=Inputs!$E$38,$D$26,0)","v":0},{"$f":"IF(SKJ2>=Inputs!$E$38,$D$26,0)","v":0},{"$f":"IF(SKK2>=Inputs!$E$38,$D$26,0)","v":0},{"$f":"IF(SKL2>=Inputs!$E$38,$D$26,0)","v":0},{"$f":"IF(SKM2>=Inputs!$E$38,$D$26,0)","v":0},{"$f":"IF(SKN2>=Inputs!$E$38,$D$26,0)","v":0},{"$f":"IF(SKO2>=Inputs!$E$38,$D$26,0)","v":0},{"$f":"IF(SKP2>=Inputs!$E$38,$D$26,0)","v":0},{"$f":"IF(SKQ2>=Inputs!$E$38,$D$26,0)","v":0},{"$f":"IF(SKR2>=Inputs!$E$38,$D$26,0)","v":0},{"$f":"IF(SKS2>=Inputs!$E$38,$D$26,0)","v":0},{"$f":"IF(SKT2>=Inputs!$E$38,$D$26,0)","v":0},{"$f":"IF(SKU2>=Inputs!$E$38,$D$26,0)","v":0},{"$f":"IF(SKV2>=Inputs!$E$38,$D$26,0)","v":0},{"$f":"IF(SKW2>=Inputs!$E$38,$D$26,0)","v":0},{"$f":"IF(SKX2>=Inputs!$E$38,$D$26,0)","v":0},{"$f":"IF(SKY2>=Inputs!$E$38,$D$26,0)","v":0},{"$f":"IF(SKZ2>=Inputs!$E$38,$D$26,0)","v":0},{"$f":"IF(SLA2>=Inputs!$E$38,$D$26,0)","v":0},{"$f":"IF(SLB2>=Inputs!$E$38,$D$26,0)","v":0},{"$f":"IF(SLC2>=Inputs!$E$38,$D$26,0)","v":0},{"$f":"IF(SLD2>=Inputs!$E$38,$D$26,0)","v":0},{"$f":"IF(SLE2>=Inputs!$E$38,$D$26,0)","v":0},{"$f":"IF(SLF2>=Inputs!$E$38,$D$26,0)","v":0},{"$f":"IF(SLG2>=Inputs!$E$38,$D$26,0)","v":0},{"$f":"IF(SLH2>=Inputs!$E$38,$D$26,0)","v":0},{"$f":"IF(SLI2>=Inputs!$E$38,$D$26,0)","v":0},{"$f":"IF(SLJ2>=Inputs!$E$38,$D$26,0)","v":0},{"$f":"IF(SLK2>=Inputs!$E$38,$D$26,0)","v":0},{"$f":"IF(SLL2>=Inputs!$E$38,$D$26,0)","v":0},{"$f":"IF(SLM2>=Inputs!$E$38,$D$26,0)","v":0},{"$f":"IF(SLN2>=Inputs!$E$38,$D$26,0)","v":0},{"$f":"IF(SLO2>=Inputs!$E$38,$D$26,0)","v":0},{"$f":"IF(SLP2>=Inputs!$E$38,$D$26,0)","v":0},{"$f":"IF(SLQ2>=Inputs!$E$38,$D$26,0)","v":0},{"$f":"IF(SLR2>=Inputs!$E$38,$D$26,0)","v":0},{"$f":"IF(SLS2>=Inputs!$E$38,$D$26,0)","v":0},{"$f":"IF(SLT2>=Inputs!$E$38,$D$26,0)","v":0},{"$f":"IF(SLU2>=Inputs!$E$38,$D$26,0)","v":0},{"$f":"IF(SLV2>=Inputs!$E$38,$D$26,0)","v":0},{"$f":"IF(SLW2>=Inputs!$E$38,$D$26,0)","v":0},{"$f":"IF(SLX2>=Inputs!$E$38,$D$26,0)","v":0},{"$f":"IF(SLY2>=Inputs!$E$38,$D$26,0)","v":0},{"$f":"IF(SLZ2>=Inputs!$E$38,$D$26,0)","v":0},{"$f":"IF(SMA2>=Inputs!$E$38,$D$26,0)","v":0},{"$f":"IF(SMB2>=Inputs!$E$38,$D$26,0)","v":0},{"$f":"IF(SMC2>=Inputs!$E$38,$D$26,0)","v":0},{"$f":"IF(SMD2>=Inputs!$E$38,$D$26,0)","v":0},{"$f":"IF(SME2>=Inputs!$E$38,$D$26,0)","v":0},{"$f":"IF(SMF2>=Inputs!$E$38,$D$26,0)","v":0},{"$f":"IF(SMG2>=Inputs!$E$38,$D$26,0)","v":0},{"$f":"IF(SMH2>=Inputs!$E$38,$D$26,0)","v":0},{"$f":"IF(SMI2>=Inputs!$E$38,$D$26,0)","v":0},{"$f":"IF(SMJ2>=Inputs!$E$38,$D$26,0)","v":0},{"$f":"IF(SMK2>=Inputs!$E$38,$D$26,0)","v":0},{"$f":"IF(SML2>=Inputs!$E$38,$D$26,0)","v":0},{"$f":"IF(SMM2>=Inputs!$E$38,$D$26,0)","v":0},{"$f":"IF(SMN2>=Inputs!$E$38,$D$26,0)","v":0},{"$f":"IF(SMO2>=Inputs!$E$38,$D$26,0)","v":0},{"$f":"IF(SMP2>=Inputs!$E$38,$D$26,0)","v":0},{"$f":"IF(SMQ2>=Inputs!$E$38,$D$26,0)","v":0},{"$f":"IF(SMR2>=Inputs!$E$38,$D$26,0)","v":0},{"$f":"IF(SMS2>=Inputs!$E$38,$D$26,0)","v":0},{"$f":"IF(SMT2>=Inputs!$E$38,$D$26,0)","v":0},{"$f":"IF(SMU2>=Inputs!$E$38,$D$26,0)","v":0},{"$f":"IF(SMV2>=Inputs!$E$38,$D$26,0)","v":0},{"$f":"IF(SMW2>=Inputs!$E$38,$D$26,0)","v":0},{"$f":"IF(SMX2>=Inputs!$E$38,$D$26,0)","v":0},{"$f":"IF(SMY2>=Inputs!$E$38,$D$26,0)","v":0},{"$f":"IF(SMZ2>=Inputs!$E$38,$D$26,0)","v":0},{"$f":"IF(SNA2>=Inputs!$E$38,$D$26,0)","v":0},{"$f":"IF(SNB2>=Inputs!$E$38,$D$26,0)","v":0},{"$f":"IF(SNC2>=Inputs!$E$38,$D$26,0)","v":0},{"$f":"IF(SND2>=Inputs!$E$38,$D$26,0)","v":0},{"$f":"IF(SNE2>=Inputs!$E$38,$D$26,0)","v":0},{"$f":"IF(SNF2>=Inputs!$E$38,$D$26,0)","v":0},{"$f":"IF(SNG2>=Inputs!$E$38,$D$26,0)","v":0},{"$f":"IF(SNH2>=Inputs!$E$38,$D$26,0)","v":0},{"$f":"IF(SNI2>=Inputs!$E$38,$D$26,0)","v":0},{"$f":"IF(SNJ2>=Inputs!$E$38,$D$26,0)","v":0},{"$f":"IF(SNK2>=Inputs!$E$38,$D$26,0)","v":0},{"$f":"IF(SNL2>=Inputs!$E$38,$D$26,0)","v":0},{"$f":"IF(SNM2>=Inputs!$E$38,$D$26,0)","v":0},{"$f":"IF(SNN2>=Inputs!$E$38,$D$26,0)","v":0},{"$f":"IF(SNO2>=Inputs!$E$38,$D$26,0)","v":0},{"$f":"IF(SNP2>=Inputs!$E$38,$D$26,0)","v":0},{"$f":"IF(SNQ2>=Inputs!$E$38,$D$26,0)","v":0},{"$f":"IF(SNR2>=Inputs!$E$38,$D$26,0)","v":0},{"$f":"IF(SNS2>=Inputs!$E$38,$D$26,0)","v":0},{"$f":"IF(SNT2>=Inputs!$E$38,$D$26,0)","v":0},{"$f":"IF(SNU2>=Inputs!$E$38,$D$26,0)","v":0},{"$f":"IF(SNV2>=Inputs!$E$38,$D$26,0)","v":0},{"$f":"IF(SNW2>=Inputs!$E$38,$D$26,0)","v":0},{"$f":"IF(SNX2>=Inputs!$E$38,$D$26,0)","v":0},{"$f":"IF(SNY2>=Inputs!$E$38,$D$26,0)","v":0},{"$f":"IF(SNZ2>=Inputs!$E$38,$D$26,0)","v":0},{"$f":"IF(SOA2>=Inputs!$E$38,$D$26,0)","v":0},{"$f":"IF(SOB2>=Inputs!$E$38,$D$26,0)","v":0},{"$f":"IF(SOC2>=Inputs!$E$38,$D$26,0)","v":0},{"$f":"IF(SOD2>=Inputs!$E$38,$D$26,0)","v":0},{"$f":"IF(SOE2>=Inputs!$E$38,$D$26,0)","v":0},{"$f":"IF(SOF2>=Inputs!$E$38,$D$26,0)","v":0},{"$f":"IF(SOG2>=Inputs!$E$38,$D$26,0)","v":0},{"$f":"IF(SOH2>=Inputs!$E$38,$D$26,0)","v":0},{"$f":"IF(SOI2>=Inputs!$E$38,$D$26,0)","v":0},{"$f":"IF(SOJ2>=Inputs!$E$38,$D$26,0)","v":0},{"$f":"IF(SOK2>=Inputs!$E$38,$D$26,0)","v":0},{"$f":"IF(SOL2>=Inputs!$E$38,$D$26,0)","v":0},{"$f":"IF(SOM2>=Inputs!$E$38,$D$26,0)","v":0},{"$f":"IF(SON2>=Inputs!$E$38,$D$26,0)","v":0},{"$f":"IF(SOO2>=Inputs!$E$38,$D$26,0)","v":0},{"$f":"IF(SOP2>=Inputs!$E$38,$D$26,0)","v":0},{"$f":"IF(SOQ2>=Inputs!$E$38,$D$26,0)","v":0},{"$f":"IF(SOR2>=Inputs!$E$38,$D$26,0)","v":0},{"$f":"IF(SOS2>=Inputs!$E$38,$D$26,0)","v":0},{"$f":"IF(SOT2>=Inputs!$E$38,$D$26,0)","v":0},{"$f":"IF(SOU2>=Inputs!$E$38,$D$26,0)","v":0},{"$f":"IF(SOV2>=Inputs!$E$38,$D$26,0)","v":0},{"$f":"IF(SOW2>=Inputs!$E$38,$D$26,0)","v":0},{"$f":"IF(SOX2>=Inputs!$E$38,$D$26,0)","v":0},{"$f":"IF(SOY2>=Inputs!$E$38,$D$26,0)","v":0},{"$f":"IF(SOZ2>=Inputs!$E$38,$D$26,0)","v":0},{"$f":"IF(SPA2>=Inputs!$E$38,$D$26,0)","v":0},{"$f":"IF(SPB2>=Inputs!$E$38,$D$26,0)","v":0},{"$f":"IF(SPC2>=Inputs!$E$38,$D$26,0)","v":0},{"$f":"IF(SPD2>=Inputs!$E$38,$D$26,0)","v":0},{"$f":"IF(SPE2>=Inputs!$E$38,$D$26,0)","v":0},{"$f":"IF(SPF2>=Inputs!$E$38,$D$26,0)","v":0},{"$f":"IF(SPG2>=Inputs!$E$38,$D$26,0)","v":0},{"$f":"IF(SPH2>=Inputs!$E$38,$D$26,0)","v":0},{"$f":"IF(SPI2>=Inputs!$E$38,$D$26,0)","v":0},{"$f":"IF(SPJ2>=Inputs!$E$38,$D$26,0)","v":0},{"$f":"IF(SPK2>=Inputs!$E$38,$D$26,0)","v":0},{"$f":"IF(SPL2>=Inputs!$E$38,$D$26,0)","v":0},{"$f":"IF(SPM2>=Inputs!$E$38,$D$26,0)","v":0},{"$f":"IF(SPN2>=Inputs!$E$38,$D$26,0)","v":0},{"$f":"IF(SPO2>=Inputs!$E$38,$D$26,0)","v":0},{"$f":"IF(SPP2>=Inputs!$E$38,$D$26,0)","v":0},{"$f":"IF(SPQ2>=Inputs!$E$38,$D$26,0)","v":0},{"$f":"IF(SPR2>=Inputs!$E$38,$D$26,0)","v":0},{"$f":"IF(SPS2>=Inputs!$E$38,$D$26,0)","v":0},{"$f":"IF(SPT2>=Inputs!$E$38,$D$26,0)","v":0},{"$f":"IF(SPU2>=Inputs!$E$38,$D$26,0)","v":0},{"$f":"IF(SPV2>=Inputs!$E$38,$D$26,0)","v":0},{"$f":"IF(SPW2>=Inputs!$E$38,$D$26,0)","v":0},{"$f":"IF(SPX2>=Inputs!$E$38,$D$26,0)","v":0},{"$f":"IF(SPY2>=Inputs!$E$38,$D$26,0)","v":0},{"$f":"IF(SPZ2>=Inputs!$E$38,$D$26,0)","v":0},{"$f":"IF(SQA2>=Inputs!$E$38,$D$26,0)","v":0},{"$f":"IF(SQB2>=Inputs!$E$38,$D$26,0)","v":0},{"$f":"IF(SQC2>=Inputs!$E$38,$D$26,0)","v":0},{"$f":"IF(SQD2>=Inputs!$E$38,$D$26,0)","v":0},{"$f":"IF(SQE2>=Inputs!$E$38,$D$26,0)","v":0},{"$f":"IF(SQF2>=Inputs!$E$38,$D$26,0)","v":0},{"$f":"IF(SQG2>=Inputs!$E$38,$D$26,0)","v":0},{"$f":"IF(SQH2>=Inputs!$E$38,$D$26,0)","v":0},{"$f":"IF(SQI2>=Inputs!$E$38,$D$26,0)","v":0},{"$f":"IF(SQJ2>=Inputs!$E$38,$D$26,0)","v":0},{"$f":"IF(SQK2>=Inputs!$E$38,$D$26,0)","v":0},{"$f":"IF(SQL2>=Inputs!$E$38,$D$26,0)","v":0},{"$f":"IF(SQM2>=Inputs!$E$38,$D$26,0)","v":0},{"$f":"IF(SQN2>=Inputs!$E$38,$D$26,0)","v":0},{"$f":"IF(SQO2>=Inputs!$E$38,$D$26,0)","v":0},{"$f":"IF(SQP2>=Inputs!$E$38,$D$26,0)","v":0},{"$f":"IF(SQQ2>=Inputs!$E$38,$D$26,0)","v":0},{"$f":"IF(SQR2>=Inputs!$E$38,$D$26,0)","v":0},{"$f":"IF(SQS2>=Inputs!$E$38,$D$26,0)","v":0},{"$f":"IF(SQT2>=Inputs!$E$38,$D$26,0)","v":0},{"$f":"IF(SQU2>=Inputs!$E$38,$D$26,0)","v":0},{"$f":"IF(SQV2>=Inputs!$E$38,$D$26,0)","v":0},{"$f":"IF(SQW2>=Inputs!$E$38,$D$26,0)","v":0},{"$f":"IF(SQX2>=Inputs!$E$38,$D$26,0)","v":0},{"$f":"IF(SQY2>=Inputs!$E$38,$D$26,0)","v":0},{"$f":"IF(SQZ2>=Inputs!$E$38,$D$26,0)","v":0},{"$f":"IF(SRA2>=Inputs!$E$38,$D$26,0)","v":0},{"$f":"IF(SRB2>=Inputs!$E$38,$D$26,0)","v":0},{"$f":"IF(SRC2>=Inputs!$E$38,$D$26,0)","v":0},{"$f":"IF(SRD2>=Inputs!$E$38,$D$26,0)","v":0},{"$f":"IF(SRE2>=Inputs!$E$38,$D$26,0)","v":0},{"$f":"IF(SRF2>=Inputs!$E$38,$D$26,0)","v":0},{"$f":"IF(SRG2>=Inputs!$E$38,$D$26,0)","v":0},{"$f":"IF(SRH2>=Inputs!$E$38,$D$26,0)","v":0},{"$f":"IF(SRI2>=Inputs!$E$38,$D$26,0)","v":0},{"$f":"IF(SRJ2>=Inputs!$E$38,$D$26,0)","v":0},{"$f":"IF(SRK2>=Inputs!$E$38,$D$26,0)","v":0},{"$f":"IF(SRL2>=Inputs!$E$38,$D$26,0)","v":0},{"$f":"IF(SRM2>=Inputs!$E$38,$D$26,0)","v":0},{"$f":"IF(SRN2>=Inputs!$E$38,$D$26,0)","v":0},{"$f":"IF(SRO2>=Inputs!$E$38,$D$26,0)","v":0},{"$f":"IF(SRP2>=Inputs!$E$38,$D$26,0)","v":0},{"$f":"IF(SRQ2>=Inputs!$E$38,$D$26,0)","v":0},{"$f":"IF(SRR2>=Inputs!$E$38,$D$26,0)","v":0},{"$f":"IF(SRS2>=Inputs!$E$38,$D$26,0)","v":0},{"$f":"IF(SRT2>=Inputs!$E$38,$D$26,0)","v":0},{"$f":"IF(SRU2>=Inputs!$E$38,$D$26,0)","v":0},{"$f":"IF(SRV2>=Inputs!$E$38,$D$26,0)","v":0},{"$f":"IF(SRW2>=Inputs!$E$38,$D$26,0)","v":0},{"$f":"IF(SRX2>=Inputs!$E$38,$D$26,0)","v":0},{"$f":"IF(SRY2>=Inputs!$E$38,$D$26,0)","v":0},{"$f":"IF(SRZ2>=Inputs!$E$38,$D$26,0)","v":0},{"$f":"IF(SSA2>=Inputs!$E$38,$D$26,0)","v":0},{"$f":"IF(SSB2>=Inputs!$E$38,$D$26,0)","v":0},{"$f":"IF(SSC2>=Inputs!$E$38,$D$26,0)","v":0},{"$f":"IF(SSD2>=Inputs!$E$38,$D$26,0)","v":0},{"$f":"IF(SSE2>=Inputs!$E$38,$D$26,0)","v":0},{"$f":"IF(SSF2>=Inputs!$E$38,$D$26,0)","v":0},{"$f":"IF(SSG2>=Inputs!$E$38,$D$26,0)","v":0},{"$f":"IF(SSH2>=Inputs!$E$38,$D$26,0)","v":0},{"$f":"IF(SSI2>=Inputs!$E$38,$D$26,0)","v":0},{"$f":"IF(SSJ2>=Inputs!$E$38,$D$26,0)","v":0},{"$f":"IF(SSK2>=Inputs!$E$38,$D$26,0)","v":0},{"$f":"IF(SSL2>=Inputs!$E$38,$D$26,0)","v":0},{"$f":"IF(SSM2>=Inputs!$E$38,$D$26,0)","v":0},{"$f":"IF(SSN2>=Inputs!$E$38,$D$26,0)","v":0},{"$f":"IF(SSO2>=Inputs!$E$38,$D$26,0)","v":0},{"$f":"IF(SSP2>=Inputs!$E$38,$D$26,0)","v":0},{"$f":"IF(SSQ2>=Inputs!$E$38,$D$26,0)","v":0},{"$f":"IF(SSR2>=Inputs!$E$38,$D$26,0)","v":0},{"$f":"IF(SSS2>=Inputs!$E$38,$D$26,0)","v":0},{"$f":"IF(SST2>=Inputs!$E$38,$D$26,0)","v":0},{"$f":"IF(SSU2>=Inputs!$E$38,$D$26,0)","v":0},{"$f":"IF(SSV2>=Inputs!$E$38,$D$26,0)","v":0},{"$f":"IF(SSW2>=Inputs!$E$38,$D$26,0)","v":0},{"$f":"IF(SSX2>=Inputs!$E$38,$D$26,0)","v":0},{"$f":"IF(SSY2>=Inputs!$E$38,$D$26,0)","v":0},{"$f":"IF(SSZ2>=Inputs!$E$38,$D$26,0)","v":0},{"$f":"IF(STA2>=Inputs!$E$38,$D$26,0)","v":0},{"$f":"IF(STB2>=Inputs!$E$38,$D$26,0)","v":0},{"$f":"IF(STC2>=Inputs!$E$38,$D$26,0)","v":0},{"$f":"IF(STD2>=Inputs!$E$38,$D$26,0)","v":0},{"$f":"IF(STE2>=Inputs!$E$38,$D$26,0)","v":0},{"$f":"IF(STF2>=Inputs!$E$38,$D$26,0)","v":0},{"$f":"IF(STG2>=Inputs!$E$38,$D$26,0)","v":0},{"$f":"IF(STH2>=Inputs!$E$38,$D$26,0)","v":0},{"$f":"IF(STI2>=Inputs!$E$38,$D$26,0)","v":0},{"$f":"IF(STJ2>=Inputs!$E$38,$D$26,0)","v":0},{"$f":"IF(STK2>=Inputs!$E$38,$D$26,0)","v":0},{"$f":"IF(STL2>=Inputs!$E$38,$D$26,0)","v":0},{"$f":"IF(STM2>=Inputs!$E$38,$D$26,0)","v":0},{"$f":"IF(STN2>=Inputs!$E$38,$D$26,0)","v":0},{"$f":"IF(STO2>=Inputs!$E$38,$D$26,0)","v":0},{"$f":"IF(STP2>=Inputs!$E$38,$D$26,0)","v":0},{"$f":"IF(STQ2>=Inputs!$E$38,$D$26,0)","v":0},{"$f":"IF(STR2>=Inputs!$E$38,$D$26,0)","v":0},{"$f":"IF(STS2>=Inputs!$E$38,$D$26,0)","v":0},{"$f":"IF(STT2>=Inputs!$E$38,$D$26,0)","v":0},{"$f":"IF(STU2>=Inputs!$E$38,$D$26,0)","v":0},{"$f":"IF(STV2>=Inputs!$E$38,$D$26,0)","v":0},{"$f":"IF(STW2>=Inputs!$E$38,$D$26,0)","v":0},{"$f":"IF(STX2>=Inputs!$E$38,$D$26,0)","v":0},{"$f":"IF(STY2>=Inputs!$E$38,$D$26,0)","v":0},{"$f":"IF(STZ2>=Inputs!$E$38,$D$26,0)","v":0},{"$f":"IF(SUA2>=Inputs!$E$38,$D$26,0)","v":0},{"$f":"IF(SUB2>=Inputs!$E$38,$D$26,0)","v":0},{"$f":"IF(SUC2>=Inputs!$E$38,$D$26,0)","v":0},{"$f":"IF(SUD2>=Inputs!$E$38,$D$26,0)","v":0},{"$f":"IF(SUE2>=Inputs!$E$38,$D$26,0)","v":0},{"$f":"IF(SUF2>=Inputs!$E$38,$D$26,0)","v":0},{"$f":"IF(SUG2>=Inputs!$E$38,$D$26,0)","v":0},{"$f":"IF(SUH2>=Inputs!$E$38,$D$26,0)","v":0},{"$f":"IF(SUI2>=Inputs!$E$38,$D$26,0)","v":0},{"$f":"IF(SUJ2>=Inputs!$E$38,$D$26,0)","v":0},{"$f":"IF(SUK2>=Inputs!$E$38,$D$26,0)","v":0},{"$f":"IF(SUL2>=Inputs!$E$38,$D$26,0)","v":0},{"$f":"IF(SUM2>=Inputs!$E$38,$D$26,0)","v":0},{"$f":"IF(SUN2>=Inputs!$E$38,$D$26,0)","v":0},{"$f":"IF(SUO2>=Inputs!$E$38,$D$26,0)","v":0},{"$f":"IF(SUP2>=Inputs!$E$38,$D$26,0)","v":0},{"$f":"IF(SUQ2>=Inputs!$E$38,$D$26,0)","v":0},{"$f":"IF(SUR2>=Inputs!$E$38,$D$26,0)","v":0},{"$f":"IF(SUS2>=Inputs!$E$38,$D$26,0)","v":0},{"$f":"IF(SUT2>=Inputs!$E$38,$D$26,0)","v":0},{"$f":"IF(SUU2>=Inputs!$E$38,$D$26,0)","v":0},{"$f":"IF(SUV2>=Inputs!$E$38,$D$26,0)","v":0},{"$f":"IF(SUW2>=Inputs!$E$38,$D$26,0)","v":0},{"$f":"IF(SUX2>=Inputs!$E$38,$D$26,0)","v":0},{"$f":"IF(SUY2>=Inputs!$E$38,$D$26,0)","v":0},{"$f":"IF(SUZ2>=Inputs!$E$38,$D$26,0)","v":0},{"$f":"IF(SVA2>=Inputs!$E$38,$D$26,0)","v":0},{"$f":"IF(SVB2>=Inputs!$E$38,$D$26,0)","v":0},{"$f":"IF(SVC2>=Inputs!$E$38,$D$26,0)","v":0},{"$f":"IF(SVD2>=Inputs!$E$38,$D$26,0)","v":0},{"$f":"IF(SVE2>=Inputs!$E$38,$D$26,0)","v":0},{"$f":"IF(SVF2>=Inputs!$E$38,$D$26,0)","v":0},{"$f":"IF(SVG2>=Inputs!$E$38,$D$26,0)","v":0},{"$f":"IF(SVH2>=Inputs!$E$38,$D$26,0)","v":0},{"$f":"IF(SVI2>=Inputs!$E$38,$D$26,0)","v":0},{"$f":"IF(SVJ2>=Inputs!$E$38,$D$26,0)","v":0},{"$f":"IF(SVK2>=Inputs!$E$38,$D$26,0)","v":0},{"$f":"IF(SVL2>=Inputs!$E$38,$D$26,0)","v":0},{"$f":"IF(SVM2>=Inputs!$E$38,$D$26,0)","v":0},{"$f":"IF(SVN2>=Inputs!$E$38,$D$26,0)","v":0},{"$f":"IF(SVO2>=Inputs!$E$38,$D$26,0)","v":0},{"$f":"IF(SVP2>=Inputs!$E$38,$D$26,0)","v":0},{"$f":"IF(SVQ2>=Inputs!$E$38,$D$26,0)","v":0},{"$f":"IF(SVR2>=Inputs!$E$38,$D$26,0)","v":0},{"$f":"IF(SVS2>=Inputs!$E$38,$D$26,0)","v":0},{"$f":"IF(SVT2>=Inputs!$E$38,$D$26,0)","v":0},{"$f":"IF(SVU2>=Inputs!$E$38,$D$26,0)","v":0},{"$f":"IF(SVV2>=Inputs!$E$38,$D$26,0)","v":0},{"$f":"IF(SVW2>=Inputs!$E$38,$D$26,0)","v":0},{"$f":"IF(SVX2>=Inputs!$E$38,$D$26,0)","v":0},{"$f":"IF(SVY2>=Inputs!$E$38,$D$26,0)","v":0},{"$f":"IF(SVZ2>=Inputs!$E$38,$D$26,0)","v":0},{"$f":"IF(SWA2>=Inputs!$E$38,$D$26,0)","v":0},{"$f":"IF(SWB2>=Inputs!$E$38,$D$26,0)","v":0},{"$f":"IF(SWC2>=Inputs!$E$38,$D$26,0)","v":0},{"$f":"IF(SWD2>=Inputs!$E$38,$D$26,0)","v":0},{"$f":"IF(SWE2>=Inputs!$E$38,$D$26,0)","v":0},{"$f":"IF(SWF2>=Inputs!$E$38,$D$26,0)","v":0},{"$f":"IF(SWG2>=Inputs!$E$38,$D$26,0)","v":0},{"$f":"IF(SWH2>=Inputs!$E$38,$D$26,0)","v":0},{"$f":"IF(SWI2>=Inputs!$E$38,$D$26,0)","v":0},{"$f":"IF(SWJ2>=Inputs!$E$38,$D$26,0)","v":0},{"$f":"IF(SWK2>=Inputs!$E$38,$D$26,0)","v":0},{"$f":"IF(SWL2>=Inputs!$E$38,$D$26,0)","v":0},{"$f":"IF(SWM2>=Inputs!$E$38,$D$26,0)","v":0},{"$f":"IF(SWN2>=Inputs!$E$38,$D$26,0)","v":0},{"$f":"IF(SWO2>=Inputs!$E$38,$D$26,0)","v":0},{"$f":"IF(SWP2>=Inputs!$E$38,$D$26,0)","v":0},{"$f":"IF(SWQ2>=Inputs!$E$38,$D$26,0)","v":0},{"$f":"IF(SWR2>=Inputs!$E$38,$D$26,0)","v":0},{"$f":"IF(SWS2>=Inputs!$E$38,$D$26,0)","v":0},{"$f":"IF(SWT2>=Inputs!$E$38,$D$26,0)","v":0},{"$f":"IF(SWU2>=Inputs!$E$38,$D$26,0)","v":0},{"$f":"IF(SWV2>=Inputs!$E$38,$D$26,0)","v":0},{"$f":"IF(SWW2>=Inputs!$E$38,$D$26,0)","v":0},{"$f":"IF(SWX2>=Inputs!$E$38,$D$26,0)","v":0},{"$f":"IF(SWY2>=Inputs!$E$38,$D$26,0)","v":0},{"$f":"IF(SWZ2>=Inputs!$E$38,$D$26,0)","v":0},{"$f":"IF(SXA2>=Inputs!$E$38,$D$26,0)","v":0},{"$f":"IF(SXB2>=Inputs!$E$38,$D$26,0)","v":0},{"$f":"IF(SXC2>=Inputs!$E$38,$D$26,0)","v":0},{"$f":"IF(SXD2>=Inputs!$E$38,$D$26,0)","v":0},{"$f":"IF(SXE2>=Inputs!$E$38,$D$26,0)","v":0},{"$f":"IF(SXF2>=Inputs!$E$38,$D$26,0)","v":0},{"$f":"IF(SXG2>=Inputs!$E$38,$D$26,0)","v":0},{"$f":"IF(SXH2>=Inputs!$E$38,$D$26,0)","v":0},{"$f":"IF(SXI2>=Inputs!$E$38,$D$26,0)","v":0},{"$f":"IF(SXJ2>=Inputs!$E$38,$D$26,0)","v":0},{"$f":"IF(SXK2>=Inputs!$E$38,$D$26,0)","v":0},{"$f":"IF(SXL2>=Inputs!$E$38,$D$26,0)","v":0},{"$f":"IF(SXM2>=Inputs!$E$38,$D$26,0)","v":0},{"$f":"IF(SXN2>=Inputs!$E$38,$D$26,0)","v":0},{"$f":"IF(SXO2>=Inputs!$E$38,$D$26,0)","v":0},{"$f":"IF(SXP2>=Inputs!$E$38,$D$26,0)","v":0},{"$f":"IF(SXQ2>=Inputs!$E$38,$D$26,0)","v":0},{"$f":"IF(SXR2>=Inputs!$E$38,$D$26,0)","v":0},{"$f":"IF(SXS2>=Inputs!$E$38,$D$26,0)","v":0},{"$f":"IF(SXT2>=Inputs!$E$38,$D$26,0)","v":0},{"$f":"IF(SXU2>=Inputs!$E$38,$D$26,0)","v":0},{"$f":"IF(SXV2>=Inputs!$E$38,$D$26,0)","v":0},{"$f":"IF(SXW2>=Inputs!$E$38,$D$26,0)","v":0},{"$f":"IF(SXX2>=Inputs!$E$38,$D$26,0)","v":0},{"$f":"IF(SXY2>=Inputs!$E$38,$D$26,0)","v":0},{"$f":"IF(SXZ2>=Inputs!$E$38,$D$26,0)","v":0},{"$f":"IF(SYA2>=Inputs!$E$38,$D$26,0)","v":0},{"$f":"IF(SYB2>=Inputs!$E$38,$D$26,0)","v":0},{"$f":"IF(SYC2>=Inputs!$E$38,$D$26,0)","v":0},{"$f":"IF(SYD2>=Inputs!$E$38,$D$26,0)","v":0},{"$f":"IF(SYE2>=Inputs!$E$38,$D$26,0)","v":0},{"$f":"IF(SYF2>=Inputs!$E$38,$D$26,0)","v":0},{"$f":"IF(SYG2>=Inputs!$E$38,$D$26,0)","v":0},{"$f":"IF(SYH2>=Inputs!$E$38,$D$26,0)","v":0},{"$f":"IF(SYI2>=Inputs!$E$38,$D$26,0)","v":0},{"$f":"IF(SYJ2>=Inputs!$E$38,$D$26,0)","v":0},{"$f":"IF(SYK2>=Inputs!$E$38,$D$26,0)","v":0},{"$f":"IF(SYL2>=Inputs!$E$38,$D$26,0)","v":0},{"$f":"IF(SYM2>=Inputs!$E$38,$D$26,0)","v":0},{"$f":"IF(SYN2>=Inputs!$E$38,$D$26,0)","v":0},{"$f":"IF(SYO2>=Inputs!$E$38,$D$26,0)","v":0},{"$f":"IF(SYP2>=Inputs!$E$38,$D$26,0)","v":0},{"$f":"IF(SYQ2>=Inputs!$E$38,$D$26,0)","v":0},{"$f":"IF(SYR2>=Inputs!$E$38,$D$26,0)","v":0},{"$f":"IF(SYS2>=Inputs!$E$38,$D$26,0)","v":0},{"$f":"IF(SYT2>=Inputs!$E$38,$D$26,0)","v":0},{"$f":"IF(SYU2>=Inputs!$E$38,$D$26,0)","v":0},{"$f":"IF(SYV2>=Inputs!$E$38,$D$26,0)","v":0},{"$f":"IF(SYW2>=Inputs!$E$38,$D$26,0)","v":0},{"$f":"IF(SYX2>=Inputs!$E$38,$D$26,0)","v":0},{"$f":"IF(SYY2>=Inputs!$E$38,$D$26,0)","v":0},{"$f":"IF(SYZ2>=Inputs!$E$38,$D$26,0)","v":0},{"$f":"IF(SZA2>=Inputs!$E$38,$D$26,0)","v":0},{"$f":"IF(SZB2>=Inputs!$E$38,$D$26,0)","v":0},{"$f":"IF(SZC2>=Inputs!$E$38,$D$26,0)","v":0},{"$f":"IF(SZD2>=Inputs!$E$38,$D$26,0)","v":0},{"$f":"IF(SZE2>=Inputs!$E$38,$D$26,0)","v":0},{"$f":"IF(SZF2>=Inputs!$E$38,$D$26,0)","v":0},{"$f":"IF(SZG2>=Inputs!$E$38,$D$26,0)","v":0},{"$f":"IF(SZH2>=Inputs!$E$38,$D$26,0)","v":0},{"$f":"IF(SZI2>=Inputs!$E$38,$D$26,0)","v":0},{"$f":"IF(SZJ2>=Inputs!$E$38,$D$26,0)","v":0},{"$f":"IF(SZK2>=Inputs!$E$38,$D$26,0)","v":0},{"$f":"IF(SZL2>=Inputs!$E$38,$D$26,0)","v":0},{"$f":"IF(SZM2>=Inputs!$E$38,$D$26,0)","v":0},{"$f":"IF(SZN2>=Inputs!$E$38,$D$26,0)","v":0},{"$f":"IF(SZO2>=Inputs!$E$38,$D$26,0)","v":0},{"$f":"IF(SZP2>=Inputs!$E$38,$D$26,0)","v":0},{"$f":"IF(SZQ2>=Inputs!$E$38,$D$26,0)","v":0},{"$f":"IF(SZR2>=Inputs!$E$38,$D$26,0)","v":0},{"$f":"IF(SZS2>=Inputs!$E$38,$D$26,0)","v":0},{"$f":"IF(SZT2>=Inputs!$E$38,$D$26,0)","v":0},{"$f":"IF(SZU2>=Inputs!$E$38,$D$26,0)","v":0},{"$f":"IF(SZV2>=Inputs!$E$38,$D$26,0)","v":0},{"$f":"IF(SZW2>=Inputs!$E$38,$D$26,0)","v":0},{"$f":"IF(SZX2>=Inputs!$E$38,$D$26,0)","v":0},{"$f":"IF(SZY2>=Inputs!$E$38,$D$26,0)","v":0},{"$f":"IF(SZZ2>=Inputs!$E$38,$D$26,0)","v":0},{"$f":"IF(TAA2>=Inputs!$E$38,$D$26,0)","v":0},{"$f":"IF(TAB2>=Inputs!$E$38,$D$26,0)","v":0},{"$f":"IF(TAC2>=Inputs!$E$38,$D$26,0)","v":0},{"$f":"IF(TAD2>=Inputs!$E$38,$D$26,0)","v":0},{"$f":"IF(TAE2>=Inputs!$E$38,$D$26,0)","v":0},{"$f":"IF(TAF2>=Inputs!$E$38,$D$26,0)","v":0},{"$f":"IF(TAG2>=Inputs!$E$38,$D$26,0)","v":0},{"$f":"IF(TAH2>=Inputs!$E$38,$D$26,0)","v":0},{"$f":"IF(TAI2>=Inputs!$E$38,$D$26,0)","v":0},{"$f":"IF(TAJ2>=Inputs!$E$38,$D$26,0)","v":0},{"$f":"IF(TAK2>=Inputs!$E$38,$D$26,0)","v":0},{"$f":"IF(TAL2>=Inputs!$E$38,$D$26,0)","v":0},{"$f":"IF(TAM2>=Inputs!$E$38,$D$26,0)","v":0},{"$f":"IF(TAN2>=Inputs!$E$38,$D$26,0)","v":0},{"$f":"IF(TAO2>=Inputs!$E$38,$D$26,0)","v":0},{"$f":"IF(TAP2>=Inputs!$E$38,$D$26,0)","v":0},{"$f":"IF(TAQ2>=Inputs!$E$38,$D$26,0)","v":0},{"$f":"IF(TAR2>=Inputs!$E$38,$D$26,0)","v":0},{"$f":"IF(TAS2>=Inputs!$E$38,$D$26,0)","v":0},{"$f":"IF(TAT2>=Inputs!$E$38,$D$26,0)","v":0},{"$f":"IF(TAU2>=Inputs!$E$38,$D$26,0)","v":0},{"$f":"IF(TAV2>=Inputs!$E$38,$D$26,0)","v":0},{"$f":"IF(TAW2>=Inputs!$E$38,$D$26,0)","v":0},{"$f":"IF(TAX2>=Inputs!$E$38,$D$26,0)","v":0},{"$f":"IF(TAY2>=Inputs!$E$38,$D$26,0)","v":0},{"$f":"IF(TAZ2>=Inputs!$E$38,$D$26,0)","v":0},{"$f":"IF(TBA2>=Inputs!$E$38,$D$26,0)","v":0},{"$f":"IF(TBB2>=Inputs!$E$38,$D$26,0)","v":0},{"$f":"IF(TBC2>=Inputs!$E$38,$D$26,0)","v":0},{"$f":"IF(TBD2>=Inputs!$E$38,$D$26,0)","v":0},{"$f":"IF(TBE2>=Inputs!$E$38,$D$26,0)","v":0},{"$f":"IF(TBF2>=Inputs!$E$38,$D$26,0)","v":0},{"$f":"IF(TBG2>=Inputs!$E$38,$D$26,0)","v":0},{"$f":"IF(TBH2>=Inputs!$E$38,$D$26,0)","v":0},{"$f":"IF(TBI2>=Inputs!$E$38,$D$26,0)","v":0},{"$f":"IF(TBJ2>=Inputs!$E$38,$D$26,0)","v":0},{"$f":"IF(TBK2>=Inputs!$E$38,$D$26,0)","v":0},{"$f":"IF(TBL2>=Inputs!$E$38,$D$26,0)","v":0},{"$f":"IF(TBM2>=Inputs!$E$38,$D$26,0)","v":0},{"$f":"IF(TBN2>=Inputs!$E$38,$D$26,0)","v":0},{"$f":"IF(TBO2>=Inputs!$E$38,$D$26,0)","v":0},{"$f":"IF(TBP2>=Inputs!$E$38,$D$26,0)","v":0},{"$f":"IF(TBQ2>=Inputs!$E$38,$D$26,0)","v":0},{"$f":"IF(TBR2>=Inputs!$E$38,$D$26,0)","v":0},{"$f":"IF(TBS2>=Inputs!$E$38,$D$26,0)","v":0},{"$f":"IF(TBT2>=Inputs!$E$38,$D$26,0)","v":0},{"$f":"IF(TBU2>=Inputs!$E$38,$D$26,0)","v":0},{"$f":"IF(TBV2>=Inputs!$E$38,$D$26,0)","v":0},{"$f":"IF(TBW2>=Inputs!$E$38,$D$26,0)","v":0},{"$f":"IF(TBX2>=Inputs!$E$38,$D$26,0)","v":0},{"$f":"IF(TBY2>=Inputs!$E$38,$D$26,0)","v":0},{"$f":"IF(TBZ2>=Inputs!$E$38,$D$26,0)","v":0},{"$f":"IF(TCA2>=Inputs!$E$38,$D$26,0)","v":0},{"$f":"IF(TCB2>=Inputs!$E$38,$D$26,0)","v":0},{"$f":"IF(TCC2>=Inputs!$E$38,$D$26,0)","v":0},{"$f":"IF(TCD2>=Inputs!$E$38,$D$26,0)","v":0},{"$f":"IF(TCE2>=Inputs!$E$38,$D$26,0)","v":0},{"$f":"IF(TCF2>=Inputs!$E$38,$D$26,0)","v":0},{"$f":"IF(TCG2>=Inputs!$E$38,$D$26,0)","v":0},{"$f":"IF(TCH2>=Inputs!$E$38,$D$26,0)","v":0},{"$f":"IF(TCI2>=Inputs!$E$38,$D$26,0)","v":0},{"$f":"IF(TCJ2>=Inputs!$E$38,$D$26,0)","v":0},{"$f":"IF(TCK2>=Inputs!$E$38,$D$26,0)","v":0},{"$f":"IF(TCL2>=Inputs!$E$38,$D$26,0)","v":0},{"$f":"IF(TCM2>=Inputs!$E$38,$D$26,0)","v":0},{"$f":"IF(TCN2>=Inputs!$E$38,$D$26,0)","v":0},{"$f":"IF(TCO2>=Inputs!$E$38,$D$26,0)","v":0},{"$f":"IF(TCP2>=Inputs!$E$38,$D$26,0)","v":0},{"$f":"IF(TCQ2>=Inputs!$E$38,$D$26,0)","v":0},{"$f":"IF(TCR2>=Inputs!$E$38,$D$26,0)","v":0},{"$f":"IF(TCS2>=Inputs!$E$38,$D$26,0)","v":0},{"$f":"IF(TCT2>=Inputs!$E$38,$D$26,0)","v":0},{"$f":"IF(TCU2>=Inputs!$E$38,$D$26,0)","v":0},{"$f":"IF(TCV2>=Inputs!$E$38,$D$26,0)","v":0},{"$f":"IF(TCW2>=Inputs!$E$38,$D$26,0)","v":0},{"$f":"IF(TCX2>=Inputs!$E$38,$D$26,0)","v":0},{"$f":"IF(TCY2>=Inputs!$E$38,$D$26,0)","v":0},{"$f":"IF(TCZ2>=Inputs!$E$38,$D$26,0)","v":0},{"$f":"IF(TDA2>=Inputs!$E$38,$D$26,0)","v":0},{"$f":"IF(TDB2>=Inputs!$E$38,$D$26,0)","v":0},{"$f":"IF(TDC2>=Inputs!$E$38,$D$26,0)","v":0},{"$f":"IF(TDD2>=Inputs!$E$38,$D$26,0)","v":0},{"$f":"IF(TDE2>=Inputs!$E$38,$D$26,0)","v":0},{"$f":"IF(TDF2>=Inputs!$E$38,$D$26,0)","v":0},{"$f":"IF(TDG2>=Inputs!$E$38,$D$26,0)","v":0},{"$f":"IF(TDH2>=Inputs!$E$38,$D$26,0)","v":0},{"$f":"IF(TDI2>=Inputs!$E$38,$D$26,0)","v":0},{"$f":"IF(TDJ2>=Inputs!$E$38,$D$26,0)","v":0},{"$f":"IF(TDK2>=Inputs!$E$38,$D$26,0)","v":0},{"$f":"IF(TDL2>=Inputs!$E$38,$D$26,0)","v":0},{"$f":"IF(TDM2>=Inputs!$E$38,$D$26,0)","v":0},{"$f":"IF(TDN2>=Inputs!$E$38,$D$26,0)","v":0},{"$f":"IF(TDO2>=Inputs!$E$38,$D$26,0)","v":0},{"$f":"IF(TDP2>=Inputs!$E$38,$D$26,0)","v":0},{"$f":"IF(TDQ2>=Inputs!$E$38,$D$26,0)","v":0},{"$f":"IF(TDR2>=Inputs!$E$38,$D$26,0)","v":0},{"$f":"IF(TDS2>=Inputs!$E$38,$D$26,0)","v":0},{"$f":"IF(TDT2>=Inputs!$E$38,$D$26,0)","v":0},{"$f":"IF(TDU2>=Inputs!$E$38,$D$26,0)","v":0},{"$f":"IF(TDV2>=Inputs!$E$38,$D$26,0)","v":0},{"$f":"IF(TDW2>=Inputs!$E$38,$D$26,0)","v":0},{"$f":"IF(TDX2>=Inputs!$E$38,$D$26,0)","v":0},{"$f":"IF(TDY2>=Inputs!$E$38,$D$26,0)","v":0},{"$f":"IF(TDZ2>=Inputs!$E$38,$D$26,0)","v":0},{"$f":"IF(TEA2>=Inputs!$E$38,$D$26,0)","v":0},{"$f":"IF(TEB2>=Inputs!$E$38,$D$26,0)","v":0},{"$f":"IF(TEC2>=Inputs!$E$38,$D$26,0)","v":0},{"$f":"IF(TED2>=Inputs!$E$38,$D$26,0)","v":0},{"$f":"IF(TEE2>=Inputs!$E$38,$D$26,0)","v":0},{"$f":"IF(TEF2>=Inputs!$E$38,$D$26,0)","v":0},{"$f":"IF(TEG2>=Inputs!$E$38,$D$26,0)","v":0},{"$f":"IF(TEH2>=Inputs!$E$38,$D$26,0)","v":0},{"$f":"IF(TEI2>=Inputs!$E$38,$D$26,0)","v":0},{"$f":"IF(TEJ2>=Inputs!$E$38,$D$26,0)","v":0},{"$f":"IF(TEK2>=Inputs!$E$38,$D$26,0)","v":0},{"$f":"IF(TEL2>=Inputs!$E$38,$D$26,0)","v":0},{"$f":"IF(TEM2>=Inputs!$E$38,$D$26,0)","v":0},{"$f":"IF(TEN2>=Inputs!$E$38,$D$26,0)","v":0},{"$f":"IF(TEO2>=Inputs!$E$38,$D$26,0)","v":0},{"$f":"IF(TEP2>=Inputs!$E$38,$D$26,0)","v":0},{"$f":"IF(TEQ2>=Inputs!$E$38,$D$26,0)","v":0},{"$f":"IF(TER2>=Inputs!$E$38,$D$26,0)","v":0},{"$f":"IF(TES2>=Inputs!$E$38,$D$26,0)","v":0},{"$f":"IF(TET2>=Inputs!$E$38,$D$26,0)","v":0},{"$f":"IF(TEU2>=Inputs!$E$38,$D$26,0)","v":0},{"$f":"IF(TEV2>=Inputs!$E$38,$D$26,0)","v":0},{"$f":"IF(TEW2>=Inputs!$E$38,$D$26,0)","v":0},{"$f":"IF(TEX2>=Inputs!$E$38,$D$26,0)","v":0},{"$f":"IF(TEY2>=Inputs!$E$38,$D$26,0)","v":0},{"$f":"IF(TEZ2>=Inputs!$E$38,$D$26,0)","v":0},{"$f":"IF(TFA2>=Inputs!$E$38,$D$26,0)","v":0},{"$f":"IF(TFB2>=Inputs!$E$38,$D$26,0)","v":0},{"$f":"IF(TFC2>=Inputs!$E$38,$D$26,0)","v":0},{"$f":"IF(TFD2>=Inputs!$E$38,$D$26,0)","v":0},{"$f":"IF(TFE2>=Inputs!$E$38,$D$26,0)","v":0},{"$f":"IF(TFF2>=Inputs!$E$38,$D$26,0)","v":0},{"$f":"IF(TFG2>=Inputs!$E$38,$D$26,0)","v":0},{"$f":"IF(TFH2>=Inputs!$E$38,$D$26,0)","v":0},{"$f":"IF(TFI2>=Inputs!$E$38,$D$26,0)","v":0},{"$f":"IF(TFJ2>=Inputs!$E$38,$D$26,0)","v":0},{"$f":"IF(TFK2>=Inputs!$E$38,$D$26,0)","v":0},{"$f":"IF(TFL2>=Inputs!$E$38,$D$26,0)","v":0},{"$f":"IF(TFM2>=Inputs!$E$38,$D$26,0)","v":0},{"$f":"IF(TFN2>=Inputs!$E$38,$D$26,0)","v":0},{"$f":"IF(TFO2>=Inputs!$E$38,$D$26,0)","v":0},{"$f":"IF(TFP2>=Inputs!$E$38,$D$26,0)","v":0},{"$f":"IF(TFQ2>=Inputs!$E$38,$D$26,0)","v":0},{"$f":"IF(TFR2>=Inputs!$E$38,$D$26,0)","v":0},{"$f":"IF(TFS2>=Inputs!$E$38,$D$26,0)","v":0},{"$f":"IF(TFT2>=Inputs!$E$38,$D$26,0)","v":0},{"$f":"IF(TFU2>=Inputs!$E$38,$D$26,0)","v":0},{"$f":"IF(TFV2>=Inputs!$E$38,$D$26,0)","v":0},{"$f":"IF(TFW2>=Inputs!$E$38,$D$26,0)","v":0},{"$f":"IF(TFX2>=Inputs!$E$38,$D$26,0)","v":0},{"$f":"IF(TFY2>=Inputs!$E$38,$D$26,0)","v":0},{"$f":"IF(TFZ2>=Inputs!$E$38,$D$26,0)","v":0},{"$f":"IF(TGA2>=Inputs!$E$38,$D$26,0)","v":0},{"$f":"IF(TGB2>=Inputs!$E$38,$D$26,0)","v":0},{"$f":"IF(TGC2>=Inputs!$E$38,$D$26,0)","v":0},{"$f":"IF(TGD2>=Inputs!$E$38,$D$26,0)","v":0},{"$f":"IF(TGE2>=Inputs!$E$38,$D$26,0)","v":0},{"$f":"IF(TGF2>=Inputs!$E$38,$D$26,0)","v":0},{"$f":"IF(TGG2>=Inputs!$E$38,$D$26,0)","v":0},{"$f":"IF(TGH2>=Inputs!$E$38,$D$26,0)","v":0},{"$f":"IF(TGI2>=Inputs!$E$38,$D$26,0)","v":0},{"$f":"IF(TGJ2>=Inputs!$E$38,$D$26,0)","v":0},{"$f":"IF(TGK2>=Inputs!$E$38,$D$26,0)","v":0},{"$f":"IF(TGL2>=Inputs!$E$38,$D$26,0)","v":0},{"$f":"IF(TGM2>=Inputs!$E$38,$D$26,0)","v":0},{"$f":"IF(TGN2>=Inputs!$E$38,$D$26,0)","v":0},{"$f":"IF(TGO2>=Inputs!$E$38,$D$26,0)","v":0},{"$f":"IF(TGP2>=Inputs!$E$38,$D$26,0)","v":0},{"$f":"IF(TGQ2>=Inputs!$E$38,$D$26,0)","v":0},{"$f":"IF(TGR2>=Inputs!$E$38,$D$26,0)","v":0},{"$f":"IF(TGS2>=Inputs!$E$38,$D$26,0)","v":0},{"$f":"IF(TGT2>=Inputs!$E$38,$D$26,0)","v":0},{"$f":"IF(TGU2>=Inputs!$E$38,$D$26,0)","v":0},{"$f":"IF(TGV2>=Inputs!$E$38,$D$26,0)","v":0},{"$f":"IF(TGW2>=Inputs!$E$38,$D$26,0)","v":0},{"$f":"IF(TGX2>=Inputs!$E$38,$D$26,0)","v":0},{"$f":"IF(TGY2>=Inputs!$E$38,$D$26,0)","v":0},{"$f":"IF(TGZ2>=Inputs!$E$38,$D$26,0)","v":0},{"$f":"IF(THA2>=Inputs!$E$38,$D$26,0)","v":0},{"$f":"IF(THB2>=Inputs!$E$38,$D$26,0)","v":0},{"$f":"IF(THC2>=Inputs!$E$38,$D$26,0)","v":0},{"$f":"IF(THD2>=Inputs!$E$38,$D$26,0)","v":0},{"$f":"IF(THE2>=Inputs!$E$38,$D$26,0)","v":0},{"$f":"IF(THF2>=Inputs!$E$38,$D$26,0)","v":0},{"$f":"IF(THG2>=Inputs!$E$38,$D$26,0)","v":0},{"$f":"IF(THH2>=Inputs!$E$38,$D$26,0)","v":0},{"$f":"IF(THI2>=Inputs!$E$38,$D$26,0)","v":0},{"$f":"IF(THJ2>=Inputs!$E$38,$D$26,0)","v":0},{"$f":"IF(THK2>=Inputs!$E$38,$D$26,0)","v":0},{"$f":"IF(THL2>=Inputs!$E$38,$D$26,0)","v":0},{"$f":"IF(THM2>=Inputs!$E$38,$D$26,0)","v":0},{"$f":"IF(THN2>=Inputs!$E$38,$D$26,0)","v":0},{"$f":"IF(THO2>=Inputs!$E$38,$D$26,0)","v":0},{"$f":"IF(THP2>=Inputs!$E$38,$D$26,0)","v":0},{"$f":"IF(THQ2>=Inputs!$E$38,$D$26,0)","v":0},{"$f":"IF(THR2>=Inputs!$E$38,$D$26,0)","v":0},{"$f":"IF(THS2>=Inputs!$E$38,$D$26,0)","v":0},{"$f":"IF(THT2>=Inputs!$E$38,$D$26,0)","v":0},{"$f":"IF(THU2>=Inputs!$E$38,$D$26,0)","v":0},{"$f":"IF(THV2>=Inputs!$E$38,$D$26,0)","v":0},{"$f":"IF(THW2>=Inputs!$E$38,$D$26,0)","v":0},{"$f":"IF(THX2>=Inputs!$E$38,$D$26,0)","v":0},{"$f":"IF(THY2>=Inputs!$E$38,$D$26,0)","v":0},{"$f":"IF(THZ2>=Inputs!$E$38,$D$26,0)","v":0},{"$f":"IF(TIA2>=Inputs!$E$38,$D$26,0)","v":0},{"$f":"IF(TIB2>=Inputs!$E$38,$D$26,0)","v":0},{"$f":"IF(TIC2>=Inputs!$E$38,$D$26,0)","v":0},{"$f":"IF(TID2>=Inputs!$E$38,$D$26,0)","v":0},{"$f":"IF(TIE2>=Inputs!$E$38,$D$26,0)","v":0},{"$f":"IF(TIF2>=Inputs!$E$38,$D$26,0)","v":0},{"$f":"IF(TIG2>=Inputs!$E$38,$D$26,0)","v":0},{"$f":"IF(TIH2>=Inputs!$E$38,$D$26,0)","v":0},{"$f":"IF(TII2>=Inputs!$E$38,$D$26,0)","v":0},{"$f":"IF(TIJ2>=Inputs!$E$38,$D$26,0)","v":0},{"$f":"IF(TIK2>=Inputs!$E$38,$D$26,0)","v":0},{"$f":"IF(TIL2>=Inputs!$E$38,$D$26,0)","v":0},{"$f":"IF(TIM2>=Inputs!$E$38,$D$26,0)","v":0},{"$f":"IF(TIN2>=Inputs!$E$38,$D$26,0)","v":0},{"$f":"IF(TIO2>=Inputs!$E$38,$D$26,0)","v":0},{"$f":"IF(TIP2>=Inputs!$E$38,$D$26,0)","v":0},{"$f":"IF(TIQ2>=Inputs!$E$38,$D$26,0)","v":0},{"$f":"IF(TIR2>=Inputs!$E$38,$D$26,0)","v":0},{"$f":"IF(TIS2>=Inputs!$E$38,$D$26,0)","v":0},{"$f":"IF(TIT2>=Inputs!$E$38,$D$26,0)","v":0},{"$f":"IF(TIU2>=Inputs!$E$38,$D$26,0)","v":0},{"$f":"IF(TIV2>=Inputs!$E$38,$D$26,0)","v":0},{"$f":"IF(TIW2>=Inputs!$E$38,$D$26,0)","v":0},{"$f":"IF(TIX2>=Inputs!$E$38,$D$26,0)","v":0},{"$f":"IF(TIY2>=Inputs!$E$38,$D$26,0)","v":0},{"$f":"IF(TIZ2>=Inputs!$E$38,$D$26,0)","v":0},{"$f":"IF(TJA2>=Inputs!$E$38,$D$26,0)","v":0},{"$f":"IF(TJB2>=Inputs!$E$38,$D$26,0)","v":0},{"$f":"IF(TJC2>=Inputs!$E$38,$D$26,0)","v":0},{"$f":"IF(TJD2>=Inputs!$E$38,$D$26,0)","v":0},{"$f":"IF(TJE2>=Inputs!$E$38,$D$26,0)","v":0},{"$f":"IF(TJF2>=Inputs!$E$38,$D$26,0)","v":0},{"$f":"IF(TJG2>=Inputs!$E$38,$D$26,0)","v":0},{"$f":"IF(TJH2>=Inputs!$E$38,$D$26,0)","v":0},{"$f":"IF(TJI2>=Inputs!$E$38,$D$26,0)","v":0},{"$f":"IF(TJJ2>=Inputs!$E$38,$D$26,0)","v":0},{"$f":"IF(TJK2>=Inputs!$E$38,$D$26,0)","v":0},{"$f":"IF(TJL2>=Inputs!$E$38,$D$26,0)","v":0},{"$f":"IF(TJM2>=Inputs!$E$38,$D$26,0)","v":0},{"$f":"IF(TJN2>=Inputs!$E$38,$D$26,0)","v":0},{"$f":"IF(TJO2>=Inputs!$E$38,$D$26,0)","v":0},{"$f":"IF(TJP2>=Inputs!$E$38,$D$26,0)","v":0},{"$f":"IF(TJQ2>=Inputs!$E$38,$D$26,0)","v":0},{"$f":"IF(TJR2>=Inputs!$E$38,$D$26,0)","v":0},{"$f":"IF(TJS2>=Inputs!$E$38,$D$26,0)","v":0},{"$f":"IF(TJT2>=Inputs!$E$38,$D$26,0)","v":0},{"$f":"IF(TJU2>=Inputs!$E$38,$D$26,0)","v":0},{"$f":"IF(TJV2>=Inputs!$E$38,$D$26,0)","v":0},{"$f":"IF(TJW2>=Inputs!$E$38,$D$26,0)","v":0},{"$f":"IF(TJX2>=Inputs!$E$38,$D$26,0)","v":0},{"$f":"IF(TJY2>=Inputs!$E$38,$D$26,0)","v":0},{"$f":"IF(TJZ2>=Inputs!$E$38,$D$26,0)","v":0},{"$f":"IF(TKA2>=Inputs!$E$38,$D$26,0)","v":0},{"$f":"IF(TKB2>=Inputs!$E$38,$D$26,0)","v":0},{"$f":"IF(TKC2>=Inputs!$E$38,$D$26,0)","v":0},{"$f":"IF(TKD2>=Inputs!$E$38,$D$26,0)","v":0},{"$f":"IF(TKE2>=Inputs!$E$38,$D$26,0)","v":0},{"$f":"IF(TKF2>=Inputs!$E$38,$D$26,0)","v":0},{"$f":"IF(TKG2>=Inputs!$E$38,$D$26,0)","v":0},{"$f":"IF(TKH2>=Inputs!$E$38,$D$26,0)","v":0},{"$f":"IF(TKI2>=Inputs!$E$38,$D$26,0)","v":0},{"$f":"IF(TKJ2>=Inputs!$E$38,$D$26,0)","v":0},{"$f":"IF(TKK2>=Inputs!$E$38,$D$26,0)","v":0},{"$f":"IF(TKL2>=Inputs!$E$38,$D$26,0)","v":0},{"$f":"IF(TKM2>=Inputs!$E$38,$D$26,0)","v":0},{"$f":"IF(TKN2>=Inputs!$E$38,$D$26,0)","v":0},{"$f":"IF(TKO2>=Inputs!$E$38,$D$26,0)","v":0},{"$f":"IF(TKP2>=Inputs!$E$38,$D$26,0)","v":0},{"$f":"IF(TKQ2>=Inputs!$E$38,$D$26,0)","v":0},{"$f":"IF(TKR2>=Inputs!$E$38,$D$26,0)","v":0},{"$f":"IF(TKS2>=Inputs!$E$38,$D$26,0)","v":0},{"$f":"IF(TKT2>=Inputs!$E$38,$D$26,0)","v":0},{"$f":"IF(TKU2>=Inputs!$E$38,$D$26,0)","v":0},{"$f":"IF(TKV2>=Inputs!$E$38,$D$26,0)","v":0},{"$f":"IF(TKW2>=Inputs!$E$38,$D$26,0)","v":0},{"$f":"IF(TKX2>=Inputs!$E$38,$D$26,0)","v":0},{"$f":"IF(TKY2>=Inputs!$E$38,$D$26,0)","v":0},{"$f":"IF(TKZ2>=Inputs!$E$38,$D$26,0)","v":0},{"$f":"IF(TLA2>=Inputs!$E$38,$D$26,0)","v":0},{"$f":"IF(TLB2>=Inputs!$E$38,$D$26,0)","v":0},{"$f":"IF(TLC2>=Inputs!$E$38,$D$26,0)","v":0},{"$f":"IF(TLD2>=Inputs!$E$38,$D$26,0)","v":0},{"$f":"IF(TLE2>=Inputs!$E$38,$D$26,0)","v":0},{"$f":"IF(TLF2>=Inputs!$E$38,$D$26,0)","v":0},{"$f":"IF(TLG2>=Inputs!$E$38,$D$26,0)","v":0},{"$f":"IF(TLH2>=Inputs!$E$38,$D$26,0)","v":0},{"$f":"IF(TLI2>=Inputs!$E$38,$D$26,0)","v":0},{"$f":"IF(TLJ2>=Inputs!$E$38,$D$26,0)","v":0},{"$f":"IF(TLK2>=Inputs!$E$38,$D$26,0)","v":0},{"$f":"IF(TLL2>=Inputs!$E$38,$D$26,0)","v":0},{"$f":"IF(TLM2>=Inputs!$E$38,$D$26,0)","v":0},{"$f":"IF(TLN2>=Inputs!$E$38,$D$26,0)","v":0},{"$f":"IF(TLO2>=Inputs!$E$38,$D$26,0)","v":0},{"$f":"IF(TLP2>=Inputs!$E$38,$D$26,0)","v":0},{"$f":"IF(TLQ2>=Inputs!$E$38,$D$26,0)","v":0},{"$f":"IF(TLR2>=Inputs!$E$38,$D$26,0)","v":0},{"$f":"IF(TLS2>=Inputs!$E$38,$D$26,0)","v":0},{"$f":"IF(TLT2>=Inputs!$E$38,$D$26,0)","v":0},{"$f":"IF(TLU2>=Inputs!$E$38,$D$26,0)","v":0},{"$f":"IF(TLV2>=Inputs!$E$38,$D$26,0)","v":0},{"$f":"IF(TLW2>=Inputs!$E$38,$D$26,0)","v":0},{"$f":"IF(TLX2>=Inputs!$E$38,$D$26,0)","v":0},{"$f":"IF(TLY2>=Inputs!$E$38,$D$26,0)","v":0},{"$f":"IF(TLZ2>=Inputs!$E$38,$D$26,0)","v":0},{"$f":"IF(TMA2>=Inputs!$E$38,$D$26,0)","v":0},{"$f":"IF(TMB2>=Inputs!$E$38,$D$26,0)","v":0},{"$f":"IF(TMC2>=Inputs!$E$38,$D$26,0)","v":0},{"$f":"IF(TMD2>=Inputs!$E$38,$D$26,0)","v":0},{"$f":"IF(TME2>=Inputs!$E$38,$D$26,0)","v":0},{"$f":"IF(TMF2>=Inputs!$E$38,$D$26,0)","v":0},{"$f":"IF(TMG2>=Inputs!$E$38,$D$26,0)","v":0},{"$f":"IF(TMH2>=Inputs!$E$38,$D$26,0)","v":0},{"$f":"IF(TMI2>=Inputs!$E$38,$D$26,0)","v":0},{"$f":"IF(TMJ2>=Inputs!$E$38,$D$26,0)","v":0},{"$f":"IF(TMK2>=Inputs!$E$38,$D$26,0)","v":0},{"$f":"IF(TML2>=Inputs!$E$38,$D$26,0)","v":0},{"$f":"IF(TMM2>=Inputs!$E$38,$D$26,0)","v":0},{"$f":"IF(TMN2>=Inputs!$E$38,$D$26,0)","v":0},{"$f":"IF(TMO2>=Inputs!$E$38,$D$26,0)","v":0},{"$f":"IF(TMP2>=Inputs!$E$38,$D$26,0)","v":0},{"$f":"IF(TMQ2>=Inputs!$E$38,$D$26,0)","v":0},{"$f":"IF(TMR2>=Inputs!$E$38,$D$26,0)","v":0},{"$f":"IF(TMS2>=Inputs!$E$38,$D$26,0)","v":0},{"$f":"IF(TMT2>=Inputs!$E$38,$D$26,0)","v":0},{"$f":"IF(TMU2>=Inputs!$E$38,$D$26,0)","v":0},{"$f":"IF(TMV2>=Inputs!$E$38,$D$26,0)","v":0},{"$f":"IF(TMW2>=Inputs!$E$38,$D$26,0)","v":0},{"$f":"IF(TMX2>=Inputs!$E$38,$D$26,0)","v":0},{"$f":"IF(TMY2>=Inputs!$E$38,$D$26,0)","v":0},{"$f":"IF(TMZ2>=Inputs!$E$38,$D$26,0)","v":0},{"$f":"IF(TNA2>=Inputs!$E$38,$D$26,0)","v":0},{"$f":"IF(TNB2>=Inputs!$E$38,$D$26,0)","v":0},{"$f":"IF(TNC2>=Inputs!$E$38,$D$26,0)","v":0},{"$f":"IF(TND2>=Inputs!$E$38,$D$26,0)","v":0},{"$f":"IF(TNE2>=Inputs!$E$38,$D$26,0)","v":0},{"$f":"IF(TNF2>=Inputs!$E$38,$D$26,0)","v":0},{"$f":"IF(TNG2>=Inputs!$E$38,$D$26,0)","v":0},{"$f":"IF(TNH2>=Inputs!$E$38,$D$26,0)","v":0},{"$f":"IF(TNI2>=Inputs!$E$38,$D$26,0)","v":0},{"$f":"IF(TNJ2>=Inputs!$E$38,$D$26,0)","v":0},{"$f":"IF(TNK2>=Inputs!$E$38,$D$26,0)","v":0},{"$f":"IF(TNL2>=Inputs!$E$38,$D$26,0)","v":0},{"$f":"IF(TNM2>=Inputs!$E$38,$D$26,0)","v":0},{"$f":"IF(TNN2>=Inputs!$E$38,$D$26,0)","v":0},{"$f":"IF(TNO2>=Inputs!$E$38,$D$26,0)","v":0},{"$f":"IF(TNP2>=Inputs!$E$38,$D$26,0)","v":0},{"$f":"IF(TNQ2>=Inputs!$E$38,$D$26,0)","v":0},{"$f":"IF(TNR2>=Inputs!$E$38,$D$26,0)","v":0},{"$f":"IF(TNS2>=Inputs!$E$38,$D$26,0)","v":0},{"$f":"IF(TNT2>=Inputs!$E$38,$D$26,0)","v":0},{"$f":"IF(TNU2>=Inputs!$E$38,$D$26,0)","v":0},{"$f":"IF(TNV2>=Inputs!$E$38,$D$26,0)","v":0},{"$f":"IF(TNW2>=Inputs!$E$38,$D$26,0)","v":0},{"$f":"IF(TNX2>=Inputs!$E$38,$D$26,0)","v":0},{"$f":"IF(TNY2>=Inputs!$E$38,$D$26,0)","v":0},{"$f":"IF(TNZ2>=Inputs!$E$38,$D$26,0)","v":0},{"$f":"IF(TOA2>=Inputs!$E$38,$D$26,0)","v":0},{"$f":"IF(TOB2>=Inputs!$E$38,$D$26,0)","v":0},{"$f":"IF(TOC2>=Inputs!$E$38,$D$26,0)","v":0},{"$f":"IF(TOD2>=Inputs!$E$38,$D$26,0)","v":0},{"$f":"IF(TOE2>=Inputs!$E$38,$D$26,0)","v":0},{"$f":"IF(TOF2>=Inputs!$E$38,$D$26,0)","v":0},{"$f":"IF(TOG2>=Inputs!$E$38,$D$26,0)","v":0},{"$f":"IF(TOH2>=Inputs!$E$38,$D$26,0)","v":0},{"$f":"IF(TOI2>=Inputs!$E$38,$D$26,0)","v":0},{"$f":"IF(TOJ2>=Inputs!$E$38,$D$26,0)","v":0},{"$f":"IF(TOK2>=Inputs!$E$38,$D$26,0)","v":0},{"$f":"IF(TOL2>=Inputs!$E$38,$D$26,0)","v":0},{"$f":"IF(TOM2>=Inputs!$E$38,$D$26,0)","v":0},{"$f":"IF(TON2>=Inputs!$E$38,$D$26,0)","v":0},{"$f":"IF(TOO2>=Inputs!$E$38,$D$26,0)","v":0},{"$f":"IF(TOP2>=Inputs!$E$38,$D$26,0)","v":0},{"$f":"IF(TOQ2>=Inputs!$E$38,$D$26,0)","v":0},{"$f":"IF(TOR2>=Inputs!$E$38,$D$26,0)","v":0},{"$f":"IF(TOS2>=Inputs!$E$38,$D$26,0)","v":0},{"$f":"IF(TOT2>=Inputs!$E$38,$D$26,0)","v":0},{"$f":"IF(TOU2>=Inputs!$E$38,$D$26,0)","v":0},{"$f":"IF(TOV2>=Inputs!$E$38,$D$26,0)","v":0},{"$f":"IF(TOW2>=Inputs!$E$38,$D$26,0)","v":0},{"$f":"IF(TOX2>=Inputs!$E$38,$D$26,0)","v":0},{"$f":"IF(TOY2>=Inputs!$E$38,$D$26,0)","v":0},{"$f":"IF(TOZ2>=Inputs!$E$38,$D$26,0)","v":0},{"$f":"IF(TPA2>=Inputs!$E$38,$D$26,0)","v":0},{"$f":"IF(TPB2>=Inputs!$E$38,$D$26,0)","v":0},{"$f":"IF(TPC2>=Inputs!$E$38,$D$26,0)","v":0},{"$f":"IF(TPD2>=Inputs!$E$38,$D$26,0)","v":0},{"$f":"IF(TPE2>=Inputs!$E$38,$D$26,0)","v":0},{"$f":"IF(TPF2>=Inputs!$E$38,$D$26,0)","v":0},{"$f":"IF(TPG2>=Inputs!$E$38,$D$26,0)","v":0},{"$f":"IF(TPH2>=Inputs!$E$38,$D$26,0)","v":0},{"$f":"IF(TPI2>=Inputs!$E$38,$D$26,0)","v":0},{"$f":"IF(TPJ2>=Inputs!$E$38,$D$26,0)","v":0},{"$f":"IF(TPK2>=Inputs!$E$38,$D$26,0)","v":0},{"$f":"IF(TPL2>=Inputs!$E$38,$D$26,0)","v":0},{"$f":"IF(TPM2>=Inputs!$E$38,$D$26,0)","v":0},{"$f":"IF(TPN2>=Inputs!$E$38,$D$26,0)","v":0},{"$f":"IF(TPO2>=Inputs!$E$38,$D$26,0)","v":0},{"$f":"IF(TPP2>=Inputs!$E$38,$D$26,0)","v":0},{"$f":"IF(TPQ2>=Inputs!$E$38,$D$26,0)","v":0},{"$f":"IF(TPR2>=Inputs!$E$38,$D$26,0)","v":0},{"$f":"IF(TPS2>=Inputs!$E$38,$D$26,0)","v":0},{"$f":"IF(TPT2>=Inputs!$E$38,$D$26,0)","v":0},{"$f":"IF(TPU2>=Inputs!$E$38,$D$26,0)","v":0},{"$f":"IF(TPV2>=Inputs!$E$38,$D$26,0)","v":0},{"$f":"IF(TPW2>=Inputs!$E$38,$D$26,0)","v":0},{"$f":"IF(TPX2>=Inputs!$E$38,$D$26,0)","v":0},{"$f":"IF(TPY2>=Inputs!$E$38,$D$26,0)","v":0},{"$f":"IF(TPZ2>=Inputs!$E$38,$D$26,0)","v":0},{"$f":"IF(TQA2>=Inputs!$E$38,$D$26,0)","v":0},{"$f":"IF(TQB2>=Inputs!$E$38,$D$26,0)","v":0},{"$f":"IF(TQC2>=Inputs!$E$38,$D$26,0)","v":0},{"$f":"IF(TQD2>=Inputs!$E$38,$D$26,0)","v":0},{"$f":"IF(TQE2>=Inputs!$E$38,$D$26,0)","v":0},{"$f":"IF(TQF2>=Inputs!$E$38,$D$26,0)","v":0},{"$f":"IF(TQG2>=Inputs!$E$38,$D$26,0)","v":0},{"$f":"IF(TQH2>=Inputs!$E$38,$D$26,0)","v":0},{"$f":"IF(TQI2>=Inputs!$E$38,$D$26,0)","v":0},{"$f":"IF(TQJ2>=Inputs!$E$38,$D$26,0)","v":0},{"$f":"IF(TQK2>=Inputs!$E$38,$D$26,0)","v":0},{"$f":"IF(TQL2>=Inputs!$E$38,$D$26,0)","v":0},{"$f":"IF(TQM2>=Inputs!$E$38,$D$26,0)","v":0},{"$f":"IF(TQN2>=Inputs!$E$38,$D$26,0)","v":0},{"$f":"IF(TQO2>=Inputs!$E$38,$D$26,0)","v":0},{"$f":"IF(TQP2>=Inputs!$E$38,$D$26,0)","v":0},{"$f":"IF(TQQ2>=Inputs!$E$38,$D$26,0)","v":0},{"$f":"IF(TQR2>=Inputs!$E$38,$D$26,0)","v":0},{"$f":"IF(TQS2>=Inputs!$E$38,$D$26,0)","v":0},{"$f":"IF(TQT2>=Inputs!$E$38,$D$26,0)","v":0},{"$f":"IF(TQU2>=Inputs!$E$38,$D$26,0)","v":0},{"$f":"IF(TQV2>=Inputs!$E$38,$D$26,0)","v":0},{"$f":"IF(TQW2>=Inputs!$E$38,$D$26,0)","v":0},{"$f":"IF(TQX2>=Inputs!$E$38,$D$26,0)","v":0},{"$f":"IF(TQY2>=Inputs!$E$38,$D$26,0)","v":0},{"$f":"IF(TQZ2>=Inputs!$E$38,$D$26,0)","v":0},{"$f":"IF(TRA2>=Inputs!$E$38,$D$26,0)","v":0},{"$f":"IF(TRB2>=Inputs!$E$38,$D$26,0)","v":0},{"$f":"IF(TRC2>=Inputs!$E$38,$D$26,0)","v":0},{"$f":"IF(TRD2>=Inputs!$E$38,$D$26,0)","v":0},{"$f":"IF(TRE2>=Inputs!$E$38,$D$26,0)","v":0},{"$f":"IF(TRF2>=Inputs!$E$38,$D$26,0)","v":0},{"$f":"IF(TRG2>=Inputs!$E$38,$D$26,0)","v":0},{"$f":"IF(TRH2>=Inputs!$E$38,$D$26,0)","v":0},{"$f":"IF(TRI2>=Inputs!$E$38,$D$26,0)","v":0},{"$f":"IF(TRJ2>=Inputs!$E$38,$D$26,0)","v":0},{"$f":"IF(TRK2>=Inputs!$E$38,$D$26,0)","v":0},{"$f":"IF(TRL2>=Inputs!$E$38,$D$26,0)","v":0},{"$f":"IF(TRM2>=Inputs!$E$38,$D$26,0)","v":0},{"$f":"IF(TRN2>=Inputs!$E$38,$D$26,0)","v":0},{"$f":"IF(TRO2>=Inputs!$E$38,$D$26,0)","v":0},{"$f":"IF(TRP2>=Inputs!$E$38,$D$26,0)","v":0},{"$f":"IF(TRQ2>=Inputs!$E$38,$D$26,0)","v":0},{"$f":"IF(TRR2>=Inputs!$E$38,$D$26,0)","v":0},{"$f":"IF(TRS2>=Inputs!$E$38,$D$26,0)","v":0},{"$f":"IF(TRT2>=Inputs!$E$38,$D$26,0)","v":0},{"$f":"IF(TRU2>=Inputs!$E$38,$D$26,0)","v":0},{"$f":"IF(TRV2>=Inputs!$E$38,$D$26,0)","v":0},{"$f":"IF(TRW2>=Inputs!$E$38,$D$26,0)","v":0},{"$f":"IF(TRX2>=Inputs!$E$38,$D$26,0)","v":0},{"$f":"IF(TRY2>=Inputs!$E$38,$D$26,0)","v":0},{"$f":"IF(TRZ2>=Inputs!$E$38,$D$26,0)","v":0},{"$f":"IF(TSA2>=Inputs!$E$38,$D$26,0)","v":0},{"$f":"IF(TSB2>=Inputs!$E$38,$D$26,0)","v":0},{"$f":"IF(TSC2>=Inputs!$E$38,$D$26,0)","v":0},{"$f":"IF(TSD2>=Inputs!$E$38,$D$26,0)","v":0},{"$f":"IF(TSE2>=Inputs!$E$38,$D$26,0)","v":0},{"$f":"IF(TSF2>=Inputs!$E$38,$D$26,0)","v":0},{"$f":"IF(TSG2>=Inputs!$E$38,$D$26,0)","v":0},{"$f":"IF(TSH2>=Inputs!$E$38,$D$26,0)","v":0},{"$f":"IF(TSI2>=Inputs!$E$38,$D$26,0)","v":0},{"$f":"IF(TSJ2>=Inputs!$E$38,$D$26,0)","v":0},{"$f":"IF(TSK2>=Inputs!$E$38,$D$26,0)","v":0},{"$f":"IF(TSL2>=Inputs!$E$38,$D$26,0)","v":0},{"$f":"IF(TSM2>=Inputs!$E$38,$D$26,0)","v":0},{"$f":"IF(TSN2>=Inputs!$E$38,$D$26,0)","v":0},{"$f":"IF(TSO2>=Inputs!$E$38,$D$26,0)","v":0},{"$f":"IF(TSP2>=Inputs!$E$38,$D$26,0)","v":0},{"$f":"IF(TSQ2>=Inputs!$E$38,$D$26,0)","v":0},{"$f":"IF(TSR2>=Inputs!$E$38,$D$26,0)","v":0},{"$f":"IF(TSS2>=Inputs!$E$38,$D$26,0)","v":0},{"$f":"IF(TST2>=Inputs!$E$38,$D$26,0)","v":0},{"$f":"IF(TSU2>=Inputs!$E$38,$D$26,0)","v":0},{"$f":"IF(TSV2>=Inputs!$E$38,$D$26,0)","v":0},{"$f":"IF(TSW2>=Inputs!$E$38,$D$26,0)","v":0},{"$f":"IF(TSX2>=Inputs!$E$38,$D$26,0)","v":0},{"$f":"IF(TSY2>=Inputs!$E$38,$D$26,0)","v":0},{"$f":"IF(TSZ2>=Inputs!$E$38,$D$26,0)","v":0},{"$f":"IF(TTA2>=Inputs!$E$38,$D$26,0)","v":0},{"$f":"IF(TTB2>=Inputs!$E$38,$D$26,0)","v":0},{"$f":"IF(TTC2>=Inputs!$E$38,$D$26,0)","v":0},{"$f":"IF(TTD2>=Inputs!$E$38,$D$26,0)","v":0},{"$f":"IF(TTE2>=Inputs!$E$38,$D$26,0)","v":0},{"$f":"IF(TTF2>=Inputs!$E$38,$D$26,0)","v":0},{"$f":"IF(TTG2>=Inputs!$E$38,$D$26,0)","v":0},{"$f":"IF(TTH2>=Inputs!$E$38,$D$26,0)","v":0},{"$f":"IF(TTI2>=Inputs!$E$38,$D$26,0)","v":0},{"$f":"IF(TTJ2>=Inputs!$E$38,$D$26,0)","v":0},{"$f":"IF(TTK2>=Inputs!$E$38,$D$26,0)","v":0},{"$f":"IF(TTL2>=Inputs!$E$38,$D$26,0)","v":0},{"$f":"IF(TTM2>=Inputs!$E$38,$D$26,0)","v":0},{"$f":"IF(TTN2>=Inputs!$E$38,$D$26,0)","v":0},{"$f":"IF(TTO2>=Inputs!$E$38,$D$26,0)","v":0},{"$f":"IF(TTP2>=Inputs!$E$38,$D$26,0)","v":0},{"$f":"IF(TTQ2>=Inputs!$E$38,$D$26,0)","v":0},{"$f":"IF(TTR2>=Inputs!$E$38,$D$26,0)","v":0},{"$f":"IF(TTS2>=Inputs!$E$38,$D$26,0)","v":0},{"$f":"IF(TTT2>=Inputs!$E$38,$D$26,0)","v":0},{"$f":"IF(TTU2>=Inputs!$E$38,$D$26,0)","v":0},{"$f":"IF(TTV2>=Inputs!$E$38,$D$26,0)","v":0},{"$f":"IF(TTW2>=Inputs!$E$38,$D$26,0)","v":0},{"$f":"IF(TTX2>=Inputs!$E$38,$D$26,0)","v":0},{"$f":"IF(TTY2>=Inputs!$E$38,$D$26,0)","v":0},{"$f":"IF(TTZ2>=Inputs!$E$38,$D$26,0)","v":0},{"$f":"IF(TUA2>=Inputs!$E$38,$D$26,0)","v":0},{"$f":"IF(TUB2>=Inputs!$E$38,$D$26,0)","v":0},{"$f":"IF(TUC2>=Inputs!$E$38,$D$26,0)","v":0},{"$f":"IF(TUD2>=Inputs!$E$38,$D$26,0)","v":0},{"$f":"IF(TUE2>=Inputs!$E$38,$D$26,0)","v":0},{"$f":"IF(TUF2>=Inputs!$E$38,$D$26,0)","v":0},{"$f":"IF(TUG2>=Inputs!$E$38,$D$26,0)","v":0},{"$f":"IF(TUH2>=Inputs!$E$38,$D$26,0)","v":0},{"$f":"IF(TUI2>=Inputs!$E$38,$D$26,0)","v":0},{"$f":"IF(TUJ2>=Inputs!$E$38,$D$26,0)","v":0},{"$f":"IF(TUK2>=Inputs!$E$38,$D$26,0)","v":0},{"$f":"IF(TUL2>=Inputs!$E$38,$D$26,0)","v":0},{"$f":"IF(TUM2>=Inputs!$E$38,$D$26,0)","v":0},{"$f":"IF(TUN2>=Inputs!$E$38,$D$26,0)","v":0},{"$f":"IF(TUO2>=Inputs!$E$38,$D$26,0)","v":0},{"$f":"IF(TUP2>=Inputs!$E$38,$D$26,0)","v":0},{"$f":"IF(TUQ2>=Inputs!$E$38,$D$26,0)","v":0},{"$f":"IF(TUR2>=Inputs!$E$38,$D$26,0)","v":0},{"$f":"IF(TUS2>=Inputs!$E$38,$D$26,0)","v":0},{"$f":"IF(TUT2>=Inputs!$E$38,$D$26,0)","v":0},{"$f":"IF(TUU2>=Inputs!$E$38,$D$26,0)","v":0},{"$f":"IF(TUV2>=Inputs!$E$38,$D$26,0)","v":0},{"$f":"IF(TUW2>=Inputs!$E$38,$D$26,0)","v":0},{"$f":"IF(TUX2>=Inputs!$E$38,$D$26,0)","v":0},{"$f":"IF(TUY2>=Inputs!$E$38,$D$26,0)","v":0},{"$f":"IF(TUZ2>=Inputs!$E$38,$D$26,0)","v":0},{"$f":"IF(TVA2>=Inputs!$E$38,$D$26,0)","v":0},{"$f":"IF(TVB2>=Inputs!$E$38,$D$26,0)","v":0},{"$f":"IF(TVC2>=Inputs!$E$38,$D$26,0)","v":0},{"$f":"IF(TVD2>=Inputs!$E$38,$D$26,0)","v":0},{"$f":"IF(TVE2>=Inputs!$E$38,$D$26,0)","v":0},{"$f":"IF(TVF2>=Inputs!$E$38,$D$26,0)","v":0},{"$f":"IF(TVG2>=Inputs!$E$38,$D$26,0)","v":0},{"$f":"IF(TVH2>=Inputs!$E$38,$D$26,0)","v":0},{"$f":"IF(TVI2>=Inputs!$E$38,$D$26,0)","v":0},{"$f":"IF(TVJ2>=Inputs!$E$38,$D$26,0)","v":0},{"$f":"IF(TVK2>=Inputs!$E$38,$D$26,0)","v":0},{"$f":"IF(TVL2>=Inputs!$E$38,$D$26,0)","v":0},{"$f":"IF(TVM2>=Inputs!$E$38,$D$26,0)","v":0},{"$f":"IF(TVN2>=Inputs!$E$38,$D$26,0)","v":0},{"$f":"IF(TVO2>=Inputs!$E$38,$D$26,0)","v":0},{"$f":"IF(TVP2>=Inputs!$E$38,$D$26,0)","v":0},{"$f":"IF(TVQ2>=Inputs!$E$38,$D$26,0)","v":0},{"$f":"IF(TVR2>=Inputs!$E$38,$D$26,0)","v":0},{"$f":"IF(TVS2>=Inputs!$E$38,$D$26,0)","v":0},{"$f":"IF(TVT2>=Inputs!$E$38,$D$26,0)","v":0},{"$f":"IF(TVU2>=Inputs!$E$38,$D$26,0)","v":0},{"$f":"IF(TVV2>=Inputs!$E$38,$D$26,0)","v":0},{"$f":"IF(TVW2>=Inputs!$E$38,$D$26,0)","v":0},{"$f":"IF(TVX2>=Inputs!$E$38,$D$26,0)","v":0},{"$f":"IF(TVY2>=Inputs!$E$38,$D$26,0)","v":0},{"$f":"IF(TVZ2>=Inputs!$E$38,$D$26,0)","v":0},{"$f":"IF(TWA2>=Inputs!$E$38,$D$26,0)","v":0},{"$f":"IF(TWB2>=Inputs!$E$38,$D$26,0)","v":0},{"$f":"IF(TWC2>=Inputs!$E$38,$D$26,0)","v":0},{"$f":"IF(TWD2>=Inputs!$E$38,$D$26,0)","v":0},{"$f":"IF(TWE2>=Inputs!$E$38,$D$26,0)","v":0},{"$f":"IF(TWF2>=Inputs!$E$38,$D$26,0)","v":0},{"$f":"IF(TWG2>=Inputs!$E$38,$D$26,0)","v":0},{"$f":"IF(TWH2>=Inputs!$E$38,$D$26,0)","v":0},{"$f":"IF(TWI2>=Inputs!$E$38,$D$26,0)","v":0},{"$f":"IF(TWJ2>=Inputs!$E$38,$D$26,0)","v":0},{"$f":"IF(TWK2>=Inputs!$E$38,$D$26,0)","v":0},{"$f":"IF(TWL2>=Inputs!$E$38,$D$26,0)","v":0},{"$f":"IF(TWM2>=Inputs!$E$38,$D$26,0)","v":0},{"$f":"IF(TWN2>=Inputs!$E$38,$D$26,0)","v":0},{"$f":"IF(TWO2>=Inputs!$E$38,$D$26,0)","v":0},{"$f":"IF(TWP2>=Inputs!$E$38,$D$26,0)","v":0},{"$f":"IF(TWQ2>=Inputs!$E$38,$D$26,0)","v":0},{"$f":"IF(TWR2>=Inputs!$E$38,$D$26,0)","v":0},{"$f":"IF(TWS2>=Inputs!$E$38,$D$26,0)","v":0},{"$f":"IF(TWT2>=Inputs!$E$38,$D$26,0)","v":0},{"$f":"IF(TWU2>=Inputs!$E$38,$D$26,0)","v":0},{"$f":"IF(TWV2>=Inputs!$E$38,$D$26,0)","v":0},{"$f":"IF(TWW2>=Inputs!$E$38,$D$26,0)","v":0},{"$f":"IF(TWX2>=Inputs!$E$38,$D$26,0)","v":0},{"$f":"IF(TWY2>=Inputs!$E$38,$D$26,0)","v":0},{"$f":"IF(TWZ2>=Inputs!$E$38,$D$26,0)","v":0},{"$f":"IF(TXA2>=Inputs!$E$38,$D$26,0)","v":0},{"$f":"IF(TXB2>=Inputs!$E$38,$D$26,0)","v":0},{"$f":"IF(TXC2>=Inputs!$E$38,$D$26,0)","v":0},{"$f":"IF(TXD2>=Inputs!$E$38,$D$26,0)","v":0},{"$f":"IF(TXE2>=Inputs!$E$38,$D$26,0)","v":0},{"$f":"IF(TXF2>=Inputs!$E$38,$D$26,0)","v":0},{"$f":"IF(TXG2>=Inputs!$E$38,$D$26,0)","v":0},{"$f":"IF(TXH2>=Inputs!$E$38,$D$26,0)","v":0},{"$f":"IF(TXI2>=Inputs!$E$38,$D$26,0)","v":0},{"$f":"IF(TXJ2>=Inputs!$E$38,$D$26,0)","v":0},{"$f":"IF(TXK2>=Inputs!$E$38,$D$26,0)","v":0},{"$f":"IF(TXL2>=Inputs!$E$38,$D$26,0)","v":0},{"$f":"IF(TXM2>=Inputs!$E$38,$D$26,0)","v":0},{"$f":"IF(TXN2>=Inputs!$E$38,$D$26,0)","v":0},{"$f":"IF(TXO2>=Inputs!$E$38,$D$26,0)","v":0},{"$f":"IF(TXP2>=Inputs!$E$38,$D$26,0)","v":0},{"$f":"IF(TXQ2>=Inputs!$E$38,$D$26,0)","v":0},{"$f":"IF(TXR2>=Inputs!$E$38,$D$26,0)","v":0},{"$f":"IF(TXS2>=Inputs!$E$38,$D$26,0)","v":0},{"$f":"IF(TXT2>=Inputs!$E$38,$D$26,0)","v":0},{"$f":"IF(TXU2>=Inputs!$E$38,$D$26,0)","v":0},{"$f":"IF(TXV2>=Inputs!$E$38,$D$26,0)","v":0},{"$f":"IF(TXW2>=Inputs!$E$38,$D$26,0)","v":0},{"$f":"IF(TXX2>=Inputs!$E$38,$D$26,0)","v":0},{"$f":"IF(TXY2>=Inputs!$E$38,$D$26,0)","v":0},{"$f":"IF(TXZ2>=Inputs!$E$38,$D$26,0)","v":0},{"$f":"IF(TYA2>=Inputs!$E$38,$D$26,0)","v":0},{"$f":"IF(TYB2>=Inputs!$E$38,$D$26,0)","v":0},{"$f":"IF(TYC2>=Inputs!$E$38,$D$26,0)","v":0},{"$f":"IF(TYD2>=Inputs!$E$38,$D$26,0)","v":0},{"$f":"IF(TYE2>=Inputs!$E$38,$D$26,0)","v":0},{"$f":"IF(TYF2>=Inputs!$E$38,$D$26,0)","v":0},{"$f":"IF(TYG2>=Inputs!$E$38,$D$26,0)","v":0},{"$f":"IF(TYH2>=Inputs!$E$38,$D$26,0)","v":0},{"$f":"IF(TYI2>=Inputs!$E$38,$D$26,0)","v":0},{"$f":"IF(TYJ2>=Inputs!$E$38,$D$26,0)","v":0},{"$f":"IF(TYK2>=Inputs!$E$38,$D$26,0)","v":0},{"$f":"IF(TYL2>=Inputs!$E$38,$D$26,0)","v":0},{"$f":"IF(TYM2>=Inputs!$E$38,$D$26,0)","v":0},{"$f":"IF(TYN2>=Inputs!$E$38,$D$26,0)","v":0},{"$f":"IF(TYO2>=Inputs!$E$38,$D$26,0)","v":0},{"$f":"IF(TYP2>=Inputs!$E$38,$D$26,0)","v":0},{"$f":"IF(TYQ2>=Inputs!$E$38,$D$26,0)","v":0},{"$f":"IF(TYR2>=Inputs!$E$38,$D$26,0)","v":0},{"$f":"IF(TYS2>=Inputs!$E$38,$D$26,0)","v":0},{"$f":"IF(TYT2>=Inputs!$E$38,$D$26,0)","v":0},{"$f":"IF(TYU2>=Inputs!$E$38,$D$26,0)","v":0},{"$f":"IF(TYV2>=Inputs!$E$38,$D$26,0)","v":0},{"$f":"IF(TYW2>=Inputs!$E$38,$D$26,0)","v":0},{"$f":"IF(TYX2>=Inputs!$E$38,$D$26,0)","v":0},{"$f":"IF(TYY2>=Inputs!$E$38,$D$26,0)","v":0},{"$f":"IF(TYZ2>=Inputs!$E$38,$D$26,0)","v":0},{"$f":"IF(TZA2>=Inputs!$E$38,$D$26,0)","v":0},{"$f":"IF(TZB2>=Inputs!$E$38,$D$26,0)","v":0},{"$f":"IF(TZC2>=Inputs!$E$38,$D$26,0)","v":0},{"$f":"IF(TZD2>=Inputs!$E$38,$D$26,0)","v":0},{"$f":"IF(TZE2>=Inputs!$E$38,$D$26,0)","v":0},{"$f":"IF(TZF2>=Inputs!$E$38,$D$26,0)","v":0},{"$f":"IF(TZG2>=Inputs!$E$38,$D$26,0)","v":0},{"$f":"IF(TZH2>=Inputs!$E$38,$D$26,0)","v":0},{"$f":"IF(TZI2>=Inputs!$E$38,$D$26,0)","v":0},{"$f":"IF(TZJ2>=Inputs!$E$38,$D$26,0)","v":0},{"$f":"IF(TZK2>=Inputs!$E$38,$D$26,0)","v":0},{"$f":"IF(TZL2>=Inputs!$E$38,$D$26,0)","v":0},{"$f":"IF(TZM2>=Inputs!$E$38,$D$26,0)","v":0},{"$f":"IF(TZN2>=Inputs!$E$38,$D$26,0)","v":0},{"$f":"IF(TZO2>=Inputs!$E$38,$D$26,0)","v":0},{"$f":"IF(TZP2>=Inputs!$E$38,$D$26,0)","v":0},{"$f":"IF(TZQ2>=Inputs!$E$38,$D$26,0)","v":0},{"$f":"IF(TZR2>=Inputs!$E$38,$D$26,0)","v":0},{"$f":"IF(TZS2>=Inputs!$E$38,$D$26,0)","v":0},{"$f":"IF(TZT2>=Inputs!$E$38,$D$26,0)","v":0},{"$f":"IF(TZU2>=Inputs!$E$38,$D$26,0)","v":0},{"$f":"IF(TZV2>=Inputs!$E$38,$D$26,0)","v":0},{"$f":"IF(TZW2>=Inputs!$E$38,$D$26,0)","v":0},{"$f":"IF(TZX2>=Inputs!$E$38,$D$26,0)","v":0},{"$f":"IF(TZY2>=Inputs!$E$38,$D$26,0)","v":0},{"$f":"IF(TZZ2>=Inputs!$E$38,$D$26,0)","v":0},{"$f":"IF(UAA2>=Inputs!$E$38,$D$26,0)","v":0},{"$f":"IF(UAB2>=Inputs!$E$38,$D$26,0)","v":0},{"$f":"IF(UAC2>=Inputs!$E$38,$D$26,0)","v":0},{"$f":"IF(UAD2>=Inputs!$E$38,$D$26,0)","v":0},{"$f":"IF(UAE2>=Inputs!$E$38,$D$26,0)","v":0},{"$f":"IF(UAF2>=Inputs!$E$38,$D$26,0)","v":0},{"$f":"IF(UAG2>=Inputs!$E$38,$D$26,0)","v":0},{"$f":"IF(UAH2>=Inputs!$E$38,$D$26,0)","v":0},{"$f":"IF(UAI2>=Inputs!$E$38,$D$26,0)","v":0},{"$f":"IF(UAJ2>=Inputs!$E$38,$D$26,0)","v":0},{"$f":"IF(UAK2>=Inputs!$E$38,$D$26,0)","v":0},{"$f":"IF(UAL2>=Inputs!$E$38,$D$26,0)","v":0},{"$f":"IF(UAM2>=Inputs!$E$38,$D$26,0)","v":0},{"$f":"IF(UAN2>=Inputs!$E$38,$D$26,0)","v":0},{"$f":"IF(UAO2>=Inputs!$E$38,$D$26,0)","v":0},{"$f":"IF(UAP2>=Inputs!$E$38,$D$26,0)","v":0},{"$f":"IF(UAQ2>=Inputs!$E$38,$D$26,0)","v":0},{"$f":"IF(UAR2>=Inputs!$E$38,$D$26,0)","v":0},{"$f":"IF(UAS2>=Inputs!$E$38,$D$26,0)","v":0},{"$f":"IF(UAT2>=Inputs!$E$38,$D$26,0)","v":0},{"$f":"IF(UAU2>=Inputs!$E$38,$D$26,0)","v":0},{"$f":"IF(UAV2>=Inputs!$E$38,$D$26,0)","v":0},{"$f":"IF(UAW2>=Inputs!$E$38,$D$26,0)","v":0},{"$f":"IF(UAX2>=Inputs!$E$38,$D$26,0)","v":0},{"$f":"IF(UAY2>=Inputs!$E$38,$D$26,0)","v":0},{"$f":"IF(UAZ2>=Inputs!$E$38,$D$26,0)","v":0},{"$f":"IF(UBA2>=Inputs!$E$38,$D$26,0)","v":0},{"$f":"IF(UBB2>=Inputs!$E$38,$D$26,0)","v":0},{"$f":"IF(UBC2>=Inputs!$E$38,$D$26,0)","v":0},{"$f":"IF(UBD2>=Inputs!$E$38,$D$26,0)","v":0},{"$f":"IF(UBE2>=Inputs!$E$38,$D$26,0)","v":0},{"$f":"IF(UBF2>=Inputs!$E$38,$D$26,0)","v":0},{"$f":"IF(UBG2>=Inputs!$E$38,$D$26,0)","v":0},{"$f":"IF(UBH2>=Inputs!$E$38,$D$26,0)","v":0},{"$f":"IF(UBI2>=Inputs!$E$38,$D$26,0)","v":0},{"$f":"IF(UBJ2>=Inputs!$E$38,$D$26,0)","v":0},{"$f":"IF(UBK2>=Inputs!$E$38,$D$26,0)","v":0},{"$f":"IF(UBL2>=Inputs!$E$38,$D$26,0)","v":0},{"$f":"IF(UBM2>=Inputs!$E$38,$D$26,0)","v":0},{"$f":"IF(UBN2>=Inputs!$E$38,$D$26,0)","v":0},{"$f":"IF(UBO2>=Inputs!$E$38,$D$26,0)","v":0},{"$f":"IF(UBP2>=Inputs!$E$38,$D$26,0)","v":0},{"$f":"IF(UBQ2>=Inputs!$E$38,$D$26,0)","v":0},{"$f":"IF(UBR2>=Inputs!$E$38,$D$26,0)","v":0},{"$f":"IF(UBS2>=Inputs!$E$38,$D$26,0)","v":0},{"$f":"IF(UBT2>=Inputs!$E$38,$D$26,0)","v":0},{"$f":"IF(UBU2>=Inputs!$E$38,$D$26,0)","v":0},{"$f":"IF(UBV2>=Inputs!$E$38,$D$26,0)","v":0},{"$f":"IF(UBW2>=Inputs!$E$38,$D$26,0)","v":0},{"$f":"IF(UBX2>=Inputs!$E$38,$D$26,0)","v":0},{"$f":"IF(UBY2>=Inputs!$E$38,$D$26,0)","v":0},{"$f":"IF(UBZ2>=Inputs!$E$38,$D$26,0)","v":0},{"$f":"IF(UCA2>=Inputs!$E$38,$D$26,0)","v":0},{"$f":"IF(UCB2>=Inputs!$E$38,$D$26,0)","v":0},{"$f":"IF(UCC2>=Inputs!$E$38,$D$26,0)","v":0},{"$f":"IF(UCD2>=Inputs!$E$38,$D$26,0)","v":0},{"$f":"IF(UCE2>=Inputs!$E$38,$D$26,0)","v":0},{"$f":"IF(UCF2>=Inputs!$E$38,$D$26,0)","v":0},{"$f":"IF(UCG2>=Inputs!$E$38,$D$26,0)","v":0},{"$f":"IF(UCH2>=Inputs!$E$38,$D$26,0)","v":0},{"$f":"IF(UCI2>=Inputs!$E$38,$D$26,0)","v":0},{"$f":"IF(UCJ2>=Inputs!$E$38,$D$26,0)","v":0},{"$f":"IF(UCK2>=Inputs!$E$38,$D$26,0)","v":0},{"$f":"IF(UCL2>=Inputs!$E$38,$D$26,0)","v":0},{"$f":"IF(UCM2>=Inputs!$E$38,$D$26,0)","v":0},{"$f":"IF(UCN2>=Inputs!$E$38,$D$26,0)","v":0},{"$f":"IF(UCO2>=Inputs!$E$38,$D$26,0)","v":0},{"$f":"IF(UCP2>=Inputs!$E$38,$D$26,0)","v":0},{"$f":"IF(UCQ2>=Inputs!$E$38,$D$26,0)","v":0},{"$f":"IF(UCR2>=Inputs!$E$38,$D$26,0)","v":0},{"$f":"IF(UCS2>=Inputs!$E$38,$D$26,0)","v":0},{"$f":"IF(UCT2>=Inputs!$E$38,$D$26,0)","v":0},{"$f":"IF(UCU2>=Inputs!$E$38,$D$26,0)","v":0},{"$f":"IF(UCV2>=Inputs!$E$38,$D$26,0)","v":0},{"$f":"IF(UCW2>=Inputs!$E$38,$D$26,0)","v":0},{"$f":"IF(UCX2>=Inputs!$E$38,$D$26,0)","v":0},{"$f":"IF(UCY2>=Inputs!$E$38,$D$26,0)","v":0},{"$f":"IF(UCZ2>=Inputs!$E$38,$D$26,0)","v":0},{"$f":"IF(UDA2>=Inputs!$E$38,$D$26,0)","v":0},{"$f":"IF(UDB2>=Inputs!$E$38,$D$26,0)","v":0},{"$f":"IF(UDC2>=Inputs!$E$38,$D$26,0)","v":0},{"$f":"IF(UDD2>=Inputs!$E$38,$D$26,0)","v":0},{"$f":"IF(UDE2>=Inputs!$E$38,$D$26,0)","v":0},{"$f":"IF(UDF2>=Inputs!$E$38,$D$26,0)","v":0},{"$f":"IF(UDG2>=Inputs!$E$38,$D$26,0)","v":0},{"$f":"IF(UDH2>=Inputs!$E$38,$D$26,0)","v":0},{"$f":"IF(UDI2>=Inputs!$E$38,$D$26,0)","v":0},{"$f":"IF(UDJ2>=Inputs!$E$38,$D$26,0)","v":0},{"$f":"IF(UDK2>=Inputs!$E$38,$D$26,0)","v":0},{"$f":"IF(UDL2>=Inputs!$E$38,$D$26,0)","v":0},{"$f":"IF(UDM2>=Inputs!$E$38,$D$26,0)","v":0},{"$f":"IF(UDN2>=Inputs!$E$38,$D$26,0)","v":0},{"$f":"IF(UDO2>=Inputs!$E$38,$D$26,0)","v":0},{"$f":"IF(UDP2>=Inputs!$E$38,$D$26,0)","v":0},{"$f":"IF(UDQ2>=Inputs!$E$38,$D$26,0)","v":0},{"$f":"IF(UDR2>=Inputs!$E$38,$D$26,0)","v":0},{"$f":"IF(UDS2>=Inputs!$E$38,$D$26,0)","v":0},{"$f":"IF(UDT2>=Inputs!$E$38,$D$26,0)","v":0},{"$f":"IF(UDU2>=Inputs!$E$38,$D$26,0)","v":0},{"$f":"IF(UDV2>=Inputs!$E$38,$D$26,0)","v":0},{"$f":"IF(UDW2>=Inputs!$E$38,$D$26,0)","v":0},{"$f":"IF(UDX2>=Inputs!$E$38,$D$26,0)","v":0},{"$f":"IF(UDY2>=Inputs!$E$38,$D$26,0)","v":0},{"$f":"IF(UDZ2>=Inputs!$E$38,$D$26,0)","v":0},{"$f":"IF(UEA2>=Inputs!$E$38,$D$26,0)","v":0},{"$f":"IF(UEB2>=Inputs!$E$38,$D$26,0)","v":0},{"$f":"IF(UEC2>=Inputs!$E$38,$D$26,0)","v":0},{"$f":"IF(UED2>=Inputs!$E$38,$D$26,0)","v":0},{"$f":"IF(UEE2>=Inputs!$E$38,$D$26,0)","v":0},{"$f":"IF(UEF2>=Inputs!$E$38,$D$26,0)","v":0},{"$f":"IF(UEG2>=Inputs!$E$38,$D$26,0)","v":0},{"$f":"IF(UEH2>=Inputs!$E$38,$D$26,0)","v":0},{"$f":"IF(UEI2>=Inputs!$E$38,$D$26,0)","v":0},{"$f":"IF(UEJ2>=Inputs!$E$38,$D$26,0)","v":0},{"$f":"IF(UEK2>=Inputs!$E$38,$D$26,0)","v":0},{"$f":"IF(UEL2>=Inputs!$E$38,$D$26,0)","v":0},{"$f":"IF(UEM2>=Inputs!$E$38,$D$26,0)","v":0},{"$f":"IF(UEN2>=Inputs!$E$38,$D$26,0)","v":0},{"$f":"IF(UEO2>=Inputs!$E$38,$D$26,0)","v":0},{"$f":"IF(UEP2>=Inputs!$E$38,$D$26,0)","v":0},{"$f":"IF(UEQ2>=Inputs!$E$38,$D$26,0)","v":0},{"$f":"IF(UER2>=Inputs!$E$38,$D$26,0)","v":0},{"$f":"IF(UES2>=Inputs!$E$38,$D$26,0)","v":0},{"$f":"IF(UET2>=Inputs!$E$38,$D$26,0)","v":0},{"$f":"IF(UEU2>=Inputs!$E$38,$D$26,0)","v":0},{"$f":"IF(UEV2>=Inputs!$E$38,$D$26,0)","v":0},{"$f":"IF(UEW2>=Inputs!$E$38,$D$26,0)","v":0},{"$f":"IF(UEX2>=Inputs!$E$38,$D$26,0)","v":0},{"$f":"IF(UEY2>=Inputs!$E$38,$D$26,0)","v":0},{"$f":"IF(UEZ2>=Inputs!$E$38,$D$26,0)","v":0},{"$f":"IF(UFA2>=Inputs!$E$38,$D$26,0)","v":0},{"$f":"IF(UFB2>=Inputs!$E$38,$D$26,0)","v":0},{"$f":"IF(UFC2>=Inputs!$E$38,$D$26,0)","v":0},{"$f":"IF(UFD2>=Inputs!$E$38,$D$26,0)","v":0},{"$f":"IF(UFE2>=Inputs!$E$38,$D$26,0)","v":0},{"$f":"IF(UFF2>=Inputs!$E$38,$D$26,0)","v":0},{"$f":"IF(UFG2>=Inputs!$E$38,$D$26,0)","v":0},{"$f":"IF(UFH2>=Inputs!$E$38,$D$26,0)","v":0},{"$f":"IF(UFI2>=Inputs!$E$38,$D$26,0)","v":0},{"$f":"IF(UFJ2>=Inputs!$E$38,$D$26,0)","v":0},{"$f":"IF(UFK2>=Inputs!$E$38,$D$26,0)","v":0},{"$f":"IF(UFL2>=Inputs!$E$38,$D$26,0)","v":0},{"$f":"IF(UFM2>=Inputs!$E$38,$D$26,0)","v":0},{"$f":"IF(UFN2>=Inputs!$E$38,$D$26,0)","v":0},{"$f":"IF(UFO2>=Inputs!$E$38,$D$26,0)","v":0},{"$f":"IF(UFP2>=Inputs!$E$38,$D$26,0)","v":0},{"$f":"IF(UFQ2>=Inputs!$E$38,$D$26,0)","v":0},{"$f":"IF(UFR2>=Inputs!$E$38,$D$26,0)","v":0},{"$f":"IF(UFS2>=Inputs!$E$38,$D$26,0)","v":0},{"$f":"IF(UFT2>=Inputs!$E$38,$D$26,0)","v":0},{"$f":"IF(UFU2>=Inputs!$E$38,$D$26,0)","v":0},{"$f":"IF(UFV2>=Inputs!$E$38,$D$26,0)","v":0},{"$f":"IF(UFW2>=Inputs!$E$38,$D$26,0)","v":0},{"$f":"IF(UFX2>=Inputs!$E$38,$D$26,0)","v":0},{"$f":"IF(UFY2>=Inputs!$E$38,$D$26,0)","v":0},{"$f":"IF(UFZ2>=Inputs!$E$38,$D$26,0)","v":0},{"$f":"IF(UGA2>=Inputs!$E$38,$D$26,0)","v":0},{"$f":"IF(UGB2>=Inputs!$E$38,$D$26,0)","v":0},{"$f":"IF(UGC2>=Inputs!$E$38,$D$26,0)","v":0},{"$f":"IF(UGD2>=Inputs!$E$38,$D$26,0)","v":0},{"$f":"IF(UGE2>=Inputs!$E$38,$D$26,0)","v":0},{"$f":"IF(UGF2>=Inputs!$E$38,$D$26,0)","v":0},{"$f":"IF(UGG2>=Inputs!$E$38,$D$26,0)","v":0},{"$f":"IF(UGH2>=Inputs!$E$38,$D$26,0)","v":0},{"$f":"IF(UGI2>=Inputs!$E$38,$D$26,0)","v":0},{"$f":"IF(UGJ2>=Inputs!$E$38,$D$26,0)","v":0},{"$f":"IF(UGK2>=Inputs!$E$38,$D$26,0)","v":0},{"$f":"IF(UGL2>=Inputs!$E$38,$D$26,0)","v":0},{"$f":"IF(UGM2>=Inputs!$E$38,$D$26,0)","v":0},{"$f":"IF(UGN2>=Inputs!$E$38,$D$26,0)","v":0},{"$f":"IF(UGO2>=Inputs!$E$38,$D$26,0)","v":0},{"$f":"IF(UGP2>=Inputs!$E$38,$D$26,0)","v":0},{"$f":"IF(UGQ2>=Inputs!$E$38,$D$26,0)","v":0},{"$f":"IF(UGR2>=Inputs!$E$38,$D$26,0)","v":0},{"$f":"IF(UGS2>=Inputs!$E$38,$D$26,0)","v":0},{"$f":"IF(UGT2>=Inputs!$E$38,$D$26,0)","v":0},{"$f":"IF(UGU2>=Inputs!$E$38,$D$26,0)","v":0},{"$f":"IF(UGV2>=Inputs!$E$38,$D$26,0)","v":0},{"$f":"IF(UGW2>=Inputs!$E$38,$D$26,0)","v":0},{"$f":"IF(UGX2>=Inputs!$E$38,$D$26,0)","v":0},{"$f":"IF(UGY2>=Inputs!$E$38,$D$26,0)","v":0},{"$f":"IF(UGZ2>=Inputs!$E$38,$D$26,0)","v":0},{"$f":"IF(UHA2>=Inputs!$E$38,$D$26,0)","v":0},{"$f":"IF(UHB2>=Inputs!$E$38,$D$26,0)","v":0},{"$f":"IF(UHC2>=Inputs!$E$38,$D$26,0)","v":0},{"$f":"IF(UHD2>=Inputs!$E$38,$D$26,0)","v":0},{"$f":"IF(UHE2>=Inputs!$E$38,$D$26,0)","v":0},{"$f":"IF(UHF2>=Inputs!$E$38,$D$26,0)","v":0},{"$f":"IF(UHG2>=Inputs!$E$38,$D$26,0)","v":0},{"$f":"IF(UHH2>=Inputs!$E$38,$D$26,0)","v":0},{"$f":"IF(UHI2>=Inputs!$E$38,$D$26,0)","v":0},{"$f":"IF(UHJ2>=Inputs!$E$38,$D$26,0)","v":0},{"$f":"IF(UHK2>=Inputs!$E$38,$D$26,0)","v":0},{"$f":"IF(UHL2>=Inputs!$E$38,$D$26,0)","v":0},{"$f":"IF(UHM2>=Inputs!$E$38,$D$26,0)","v":0},{"$f":"IF(UHN2>=Inputs!$E$38,$D$26,0)","v":0},{"$f":"IF(UHO2>=Inputs!$E$38,$D$26,0)","v":0},{"$f":"IF(UHP2>=Inputs!$E$38,$D$26,0)","v":0},{"$f":"IF(UHQ2>=Inputs!$E$38,$D$26,0)","v":0},{"$f":"IF(UHR2>=Inputs!$E$38,$D$26,0)","v":0},{"$f":"IF(UHS2>=Inputs!$E$38,$D$26,0)","v":0},{"$f":"IF(UHT2>=Inputs!$E$38,$D$26,0)","v":0},{"$f":"IF(UHU2>=Inputs!$E$38,$D$26,0)","v":0},{"$f":"IF(UHV2>=Inputs!$E$38,$D$26,0)","v":0},{"$f":"IF(UHW2>=Inputs!$E$38,$D$26,0)","v":0},{"$f":"IF(UHX2>=Inputs!$E$38,$D$26,0)","v":0},{"$f":"IF(UHY2>=Inputs!$E$38,$D$26,0)","v":0},{"$f":"IF(UHZ2>=Inputs!$E$38,$D$26,0)","v":0},{"$f":"IF(UIA2>=Inputs!$E$38,$D$26,0)","v":0},{"$f":"IF(UIB2>=Inputs!$E$38,$D$26,0)","v":0},{"$f":"IF(UIC2>=Inputs!$E$38,$D$26,0)","v":0},{"$f":"IF(UID2>=Inputs!$E$38,$D$26,0)","v":0},{"$f":"IF(UIE2>=Inputs!$E$38,$D$26,0)","v":0},{"$f":"IF(UIF2>=Inputs!$E$38,$D$26,0)","v":0},{"$f":"IF(UIG2>=Inputs!$E$38,$D$26,0)","v":0},{"$f":"IF(UIH2>=Inputs!$E$38,$D$26,0)","v":0},{"$f":"IF(UII2>=Inputs!$E$38,$D$26,0)","v":0},{"$f":"IF(UIJ2>=Inputs!$E$38,$D$26,0)","v":0},{"$f":"IF(UIK2>=Inputs!$E$38,$D$26,0)","v":0},{"$f":"IF(UIL2>=Inputs!$E$38,$D$26,0)","v":0},{"$f":"IF(UIM2>=Inputs!$E$38,$D$26,0)","v":0},{"$f":"IF(UIN2>=Inputs!$E$38,$D$26,0)","v":0},{"$f":"IF(UIO2>=Inputs!$E$38,$D$26,0)","v":0},{"$f":"IF(UIP2>=Inputs!$E$38,$D$26,0)","v":0},{"$f":"IF(UIQ2>=Inputs!$E$38,$D$26,0)","v":0},{"$f":"IF(UIR2>=Inputs!$E$38,$D$26,0)","v":0},{"$f":"IF(UIS2>=Inputs!$E$38,$D$26,0)","v":0},{"$f":"IF(UIT2>=Inputs!$E$38,$D$26,0)","v":0},{"$f":"IF(UIU2>=Inputs!$E$38,$D$26,0)","v":0},{"$f":"IF(UIV2>=Inputs!$E$38,$D$26,0)","v":0},{"$f":"IF(UIW2>=Inputs!$E$38,$D$26,0)","v":0},{"$f":"IF(UIX2>=Inputs!$E$38,$D$26,0)","v":0},{"$f":"IF(UIY2>=Inputs!$E$38,$D$26,0)","v":0},{"$f":"IF(UIZ2>=Inputs!$E$38,$D$26,0)","v":0},{"$f":"IF(UJA2>=Inputs!$E$38,$D$26,0)","v":0},{"$f":"IF(UJB2>=Inputs!$E$38,$D$26,0)","v":0},{"$f":"IF(UJC2>=Inputs!$E$38,$D$26,0)","v":0},{"$f":"IF(UJD2>=Inputs!$E$38,$D$26,0)","v":0},{"$f":"IF(UJE2>=Inputs!$E$38,$D$26,0)","v":0},{"$f":"IF(UJF2>=Inputs!$E$38,$D$26,0)","v":0},{"$f":"IF(UJG2>=Inputs!$E$38,$D$26,0)","v":0},{"$f":"IF(UJH2>=Inputs!$E$38,$D$26,0)","v":0},{"$f":"IF(UJI2>=Inputs!$E$38,$D$26,0)","v":0},{"$f":"IF(UJJ2>=Inputs!$E$38,$D$26,0)","v":0},{"$f":"IF(UJK2>=Inputs!$E$38,$D$26,0)","v":0},{"$f":"IF(UJL2>=Inputs!$E$38,$D$26,0)","v":0},{"$f":"IF(UJM2>=Inputs!$E$38,$D$26,0)","v":0},{"$f":"IF(UJN2>=Inputs!$E$38,$D$26,0)","v":0},{"$f":"IF(UJO2>=Inputs!$E$38,$D$26,0)","v":0},{"$f":"IF(UJP2>=Inputs!$E$38,$D$26,0)","v":0},{"$f":"IF(UJQ2>=Inputs!$E$38,$D$26,0)","v":0},{"$f":"IF(UJR2>=Inputs!$E$38,$D$26,0)","v":0},{"$f":"IF(UJS2>=Inputs!$E$38,$D$26,0)","v":0},{"$f":"IF(UJT2>=Inputs!$E$38,$D$26,0)","v":0},{"$f":"IF(UJU2>=Inputs!$E$38,$D$26,0)","v":0},{"$f":"IF(UJV2>=Inputs!$E$38,$D$26,0)","v":0},{"$f":"IF(UJW2>=Inputs!$E$38,$D$26,0)","v":0},{"$f":"IF(UJX2>=Inputs!$E$38,$D$26,0)","v":0},{"$f":"IF(UJY2>=Inputs!$E$38,$D$26,0)","v":0},{"$f":"IF(UJZ2>=Inputs!$E$38,$D$26,0)","v":0},{"$f":"IF(UKA2>=Inputs!$E$38,$D$26,0)","v":0},{"$f":"IF(UKB2>=Inputs!$E$38,$D$26,0)","v":0},{"$f":"IF(UKC2>=Inputs!$E$38,$D$26,0)","v":0},{"$f":"IF(UKD2>=Inputs!$E$38,$D$26,0)","v":0},{"$f":"IF(UKE2>=Inputs!$E$38,$D$26,0)","v":0},{"$f":"IF(UKF2>=Inputs!$E$38,$D$26,0)","v":0},{"$f":"IF(UKG2>=Inputs!$E$38,$D$26,0)","v":0},{"$f":"IF(UKH2>=Inputs!$E$38,$D$26,0)","v":0},{"$f":"IF(UKI2>=Inputs!$E$38,$D$26,0)","v":0},{"$f":"IF(UKJ2>=Inputs!$E$38,$D$26,0)","v":0},{"$f":"IF(UKK2>=Inputs!$E$38,$D$26,0)","v":0},{"$f":"IF(UKL2>=Inputs!$E$38,$D$26,0)","v":0},{"$f":"IF(UKM2>=Inputs!$E$38,$D$26,0)","v":0},{"$f":"IF(UKN2>=Inputs!$E$38,$D$26,0)","v":0},{"$f":"IF(UKO2>=Inputs!$E$38,$D$26,0)","v":0},{"$f":"IF(UKP2>=Inputs!$E$38,$D$26,0)","v":0},{"$f":"IF(UKQ2>=Inputs!$E$38,$D$26,0)","v":0},{"$f":"IF(UKR2>=Inputs!$E$38,$D$26,0)","v":0},{"$f":"IF(UKS2>=Inputs!$E$38,$D$26,0)","v":0},{"$f":"IF(UKT2>=Inputs!$E$38,$D$26,0)","v":0},{"$f":"IF(UKU2>=Inputs!$E$38,$D$26,0)","v":0},{"$f":"IF(UKV2>=Inputs!$E$38,$D$26,0)","v":0},{"$f":"IF(UKW2>=Inputs!$E$38,$D$26,0)","v":0},{"$f":"IF(UKX2>=Inputs!$E$38,$D$26,0)","v":0},{"$f":"IF(UKY2>=Inputs!$E$38,$D$26,0)","v":0},{"$f":"IF(UKZ2>=Inputs!$E$38,$D$26,0)","v":0},{"$f":"IF(ULA2>=Inputs!$E$38,$D$26,0)","v":0},{"$f":"IF(ULB2>=Inputs!$E$38,$D$26,0)","v":0},{"$f":"IF(ULC2>=Inputs!$E$38,$D$26,0)","v":0},{"$f":"IF(ULD2>=Inputs!$E$38,$D$26,0)","v":0},{"$f":"IF(ULE2>=Inputs!$E$38,$D$26,0)","v":0},{"$f":"IF(ULF2>=Inputs!$E$38,$D$26,0)","v":0},{"$f":"IF(ULG2>=Inputs!$E$38,$D$26,0)","v":0},{"$f":"IF(ULH2>=Inputs!$E$38,$D$26,0)","v":0},{"$f":"IF(ULI2>=Inputs!$E$38,$D$26,0)","v":0},{"$f":"IF(ULJ2>=Inputs!$E$38,$D$26,0)","v":0},{"$f":"IF(ULK2>=Inputs!$E$38,$D$26,0)","v":0},{"$f":"IF(ULL2>=Inputs!$E$38,$D$26,0)","v":0},{"$f":"IF(ULM2>=Inputs!$E$38,$D$26,0)","v":0},{"$f":"IF(ULN2>=Inputs!$E$38,$D$26,0)","v":0},{"$f":"IF(ULO2>=Inputs!$E$38,$D$26,0)","v":0},{"$f":"IF(ULP2>=Inputs!$E$38,$D$26,0)","v":0},{"$f":"IF(ULQ2>=Inputs!$E$38,$D$26,0)","v":0},{"$f":"IF(ULR2>=Inputs!$E$38,$D$26,0)","v":0},{"$f":"IF(ULS2>=Inputs!$E$38,$D$26,0)","v":0},{"$f":"IF(ULT2>=Inputs!$E$38,$D$26,0)","v":0},{"$f":"IF(ULU2>=Inputs!$E$38,$D$26,0)","v":0},{"$f":"IF(ULV2>=Inputs!$E$38,$D$26,0)","v":0},{"$f":"IF(ULW2>=Inputs!$E$38,$D$26,0)","v":0},{"$f":"IF(ULX2>=Inputs!$E$38,$D$26,0)","v":0},{"$f":"IF(ULY2>=Inputs!$E$38,$D$26,0)","v":0},{"$f":"IF(ULZ2>=Inputs!$E$38,$D$26,0)","v":0},{"$f":"IF(UMA2>=Inputs!$E$38,$D$26,0)","v":0},{"$f":"IF(UMB2>=Inputs!$E$38,$D$26,0)","v":0},{"$f":"IF(UMC2>=Inputs!$E$38,$D$26,0)","v":0},{"$f":"IF(UMD2>=Inputs!$E$38,$D$26,0)","v":0},{"$f":"IF(UME2>=Inputs!$E$38,$D$26,0)","v":0},{"$f":"IF(UMF2>=Inputs!$E$38,$D$26,0)","v":0},{"$f":"IF(UMG2>=Inputs!$E$38,$D$26,0)","v":0},{"$f":"IF(UMH2>=Inputs!$E$38,$D$26,0)","v":0},{"$f":"IF(UMI2>=Inputs!$E$38,$D$26,0)","v":0},{"$f":"IF(UMJ2>=Inputs!$E$38,$D$26,0)","v":0},{"$f":"IF(UMK2>=Inputs!$E$38,$D$26,0)","v":0},{"$f":"IF(UML2>=Inputs!$E$38,$D$26,0)","v":0},{"$f":"IF(UMM2>=Inputs!$E$38,$D$26,0)","v":0},{"$f":"IF(UMN2>=Inputs!$E$38,$D$26,0)","v":0},{"$f":"IF(UMO2>=Inputs!$E$38,$D$26,0)","v":0},{"$f":"IF(UMP2>=Inputs!$E$38,$D$26,0)","v":0},{"$f":"IF(UMQ2>=Inputs!$E$38,$D$26,0)","v":0},{"$f":"IF(UMR2>=Inputs!$E$38,$D$26,0)","v":0},{"$f":"IF(UMS2>=Inputs!$E$38,$D$26,0)","v":0},{"$f":"IF(UMT2>=Inputs!$E$38,$D$26,0)","v":0},{"$f":"IF(UMU2>=Inputs!$E$38,$D$26,0)","v":0},{"$f":"IF(UMV2>=Inputs!$E$38,$D$26,0)","v":0},{"$f":"IF(UMW2>=Inputs!$E$38,$D$26,0)","v":0},{"$f":"IF(UMX2>=Inputs!$E$38,$D$26,0)","v":0},{"$f":"IF(UMY2>=Inputs!$E$38,$D$26,0)","v":0},{"$f":"IF(UMZ2>=Inputs!$E$38,$D$26,0)","v":0},{"$f":"IF(UNA2>=Inputs!$E$38,$D$26,0)","v":0},{"$f":"IF(UNB2>=Inputs!$E$38,$D$26,0)","v":0},{"$f":"IF(UNC2>=Inputs!$E$38,$D$26,0)","v":0},{"$f":"IF(UND2>=Inputs!$E$38,$D$26,0)","v":0},{"$f":"IF(UNE2>=Inputs!$E$38,$D$26,0)","v":0},{"$f":"IF(UNF2>=Inputs!$E$38,$D$26,0)","v":0},{"$f":"IF(UNG2>=Inputs!$E$38,$D$26,0)","v":0},{"$f":"IF(UNH2>=Inputs!$E$38,$D$26,0)","v":0},{"$f":"IF(UNI2>=Inputs!$E$38,$D$26,0)","v":0},{"$f":"IF(UNJ2>=Inputs!$E$38,$D$26,0)","v":0},{"$f":"IF(UNK2>=Inputs!$E$38,$D$26,0)","v":0},{"$f":"IF(UNL2>=Inputs!$E$38,$D$26,0)","v":0},{"$f":"IF(UNM2>=Inputs!$E$38,$D$26,0)","v":0},{"$f":"IF(UNN2>=Inputs!$E$38,$D$26,0)","v":0},{"$f":"IF(UNO2>=Inputs!$E$38,$D$26,0)","v":0},{"$f":"IF(UNP2>=Inputs!$E$38,$D$26,0)","v":0},{"$f":"IF(UNQ2>=Inputs!$E$38,$D$26,0)","v":0},{"$f":"IF(UNR2>=Inputs!$E$38,$D$26,0)","v":0},{"$f":"IF(UNS2>=Inputs!$E$38,$D$26,0)","v":0},{"$f":"IF(UNT2>=Inputs!$E$38,$D$26,0)","v":0},{"$f":"IF(UNU2>=Inputs!$E$38,$D$26,0)","v":0},{"$f":"IF(UNV2>=Inputs!$E$38,$D$26,0)","v":0},{"$f":"IF(UNW2>=Inputs!$E$38,$D$26,0)","v":0},{"$f":"IF(UNX2>=Inputs!$E$38,$D$26,0)","v":0},{"$f":"IF(UNY2>=Inputs!$E$38,$D$26,0)","v":0},{"$f":"IF(UNZ2>=Inputs!$E$38,$D$26,0)","v":0},{"$f":"IF(UOA2>=Inputs!$E$38,$D$26,0)","v":0},{"$f":"IF(UOB2>=Inputs!$E$38,$D$26,0)","v":0},{"$f":"IF(UOC2>=Inputs!$E$38,$D$26,0)","v":0},{"$f":"IF(UOD2>=Inputs!$E$38,$D$26,0)","v":0},{"$f":"IF(UOE2>=Inputs!$E$38,$D$26,0)","v":0},{"$f":"IF(UOF2>=Inputs!$E$38,$D$26,0)","v":0},{"$f":"IF(UOG2>=Inputs!$E$38,$D$26,0)","v":0},{"$f":"IF(UOH2>=Inputs!$E$38,$D$26,0)","v":0},{"$f":"IF(UOI2>=Inputs!$E$38,$D$26,0)","v":0},{"$f":"IF(UOJ2>=Inputs!$E$38,$D$26,0)","v":0},{"$f":"IF(UOK2>=Inputs!$E$38,$D$26,0)","v":0},{"$f":"IF(UOL2>=Inputs!$E$38,$D$26,0)","v":0},{"$f":"IF(UOM2>=Inputs!$E$38,$D$26,0)","v":0},{"$f":"IF(UON2>=Inputs!$E$38,$D$26,0)","v":0},{"$f":"IF(UOO2>=Inputs!$E$38,$D$26,0)","v":0},{"$f":"IF(UOP2>=Inputs!$E$38,$D$26,0)","v":0},{"$f":"IF(UOQ2>=Inputs!$E$38,$D$26,0)","v":0},{"$f":"IF(UOR2>=Inputs!$E$38,$D$26,0)","v":0},{"$f":"IF(UOS2>=Inputs!$E$38,$D$26,0)","v":0},{"$f":"IF(UOT2>=Inputs!$E$38,$D$26,0)","v":0},{"$f":"IF(UOU2>=Inputs!$E$38,$D$26,0)","v":0},{"$f":"IF(UOV2>=Inputs!$E$38,$D$26,0)","v":0},{"$f":"IF(UOW2>=Inputs!$E$38,$D$26,0)","v":0},{"$f":"IF(UOX2>=Inputs!$E$38,$D$26,0)","v":0},{"$f":"IF(UOY2>=Inputs!$E$38,$D$26,0)","v":0},{"$f":"IF(UOZ2>=Inputs!$E$38,$D$26,0)","v":0},{"$f":"IF(UPA2>=Inputs!$E$38,$D$26,0)","v":0},{"$f":"IF(UPB2>=Inputs!$E$38,$D$26,0)","v":0},{"$f":"IF(UPC2>=Inputs!$E$38,$D$26,0)","v":0},{"$f":"IF(UPD2>=Inputs!$E$38,$D$26,0)","v":0},{"$f":"IF(UPE2>=Inputs!$E$38,$D$26,0)","v":0},{"$f":"IF(UPF2>=Inputs!$E$38,$D$26,0)","v":0},{"$f":"IF(UPG2>=Inputs!$E$38,$D$26,0)","v":0},{"$f":"IF(UPH2>=Inputs!$E$38,$D$26,0)","v":0},{"$f":"IF(UPI2>=Inputs!$E$38,$D$26,0)","v":0},{"$f":"IF(UPJ2>=Inputs!$E$38,$D$26,0)","v":0},{"$f":"IF(UPK2>=Inputs!$E$38,$D$26,0)","v":0},{"$f":"IF(UPL2>=Inputs!$E$38,$D$26,0)","v":0},{"$f":"IF(UPM2>=Inputs!$E$38,$D$26,0)","v":0},{"$f":"IF(UPN2>=Inputs!$E$38,$D$26,0)","v":0},{"$f":"IF(UPO2>=Inputs!$E$38,$D$26,0)","v":0},{"$f":"IF(UPP2>=Inputs!$E$38,$D$26,0)","v":0},{"$f":"IF(UPQ2>=Inputs!$E$38,$D$26,0)","v":0},{"$f":"IF(UPR2>=Inputs!$E$38,$D$26,0)","v":0},{"$f":"IF(UPS2>=Inputs!$E$38,$D$26,0)","v":0},{"$f":"IF(UPT2>=Inputs!$E$38,$D$26,0)","v":0},{"$f":"IF(UPU2>=Inputs!$E$38,$D$26,0)","v":0},{"$f":"IF(UPV2>=Inputs!$E$38,$D$26,0)","v":0},{"$f":"IF(UPW2>=Inputs!$E$38,$D$26,0)","v":0},{"$f":"IF(UPX2>=Inputs!$E$38,$D$26,0)","v":0},{"$f":"IF(UPY2>=Inputs!$E$38,$D$26,0)","v":0},{"$f":"IF(UPZ2>=Inputs!$E$38,$D$26,0)","v":0},{"$f":"IF(UQA2>=Inputs!$E$38,$D$26,0)","v":0},{"$f":"IF(UQB2>=Inputs!$E$38,$D$26,0)","v":0},{"$f":"IF(UQC2>=Inputs!$E$38,$D$26,0)","v":0},{"$f":"IF(UQD2>=Inputs!$E$38,$D$26,0)","v":0},{"$f":"IF(UQE2>=Inputs!$E$38,$D$26,0)","v":0},{"$f":"IF(UQF2>=Inputs!$E$38,$D$26,0)","v":0},{"$f":"IF(UQG2>=Inputs!$E$38,$D$26,0)","v":0},{"$f":"IF(UQH2>=Inputs!$E$38,$D$26,0)","v":0},{"$f":"IF(UQI2>=Inputs!$E$38,$D$26,0)","v":0},{"$f":"IF(UQJ2>=Inputs!$E$38,$D$26,0)","v":0},{"$f":"IF(UQK2>=Inputs!$E$38,$D$26,0)","v":0},{"$f":"IF(UQL2>=Inputs!$E$38,$D$26,0)","v":0},{"$f":"IF(UQM2>=Inputs!$E$38,$D$26,0)","v":0},{"$f":"IF(UQN2>=Inputs!$E$38,$D$26,0)","v":0},{"$f":"IF(UQO2>=Inputs!$E$38,$D$26,0)","v":0},{"$f":"IF(UQP2>=Inputs!$E$38,$D$26,0)","v":0},{"$f":"IF(UQQ2>=Inputs!$E$38,$D$26,0)","v":0},{"$f":"IF(UQR2>=Inputs!$E$38,$D$26,0)","v":0},{"$f":"IF(UQS2>=Inputs!$E$38,$D$26,0)","v":0},{"$f":"IF(UQT2>=Inputs!$E$38,$D$26,0)","v":0},{"$f":"IF(UQU2>=Inputs!$E$38,$D$26,0)","v":0},{"$f":"IF(UQV2>=Inputs!$E$38,$D$26,0)","v":0},{"$f":"IF(UQW2>=Inputs!$E$38,$D$26,0)","v":0},{"$f":"IF(UQX2>=Inputs!$E$38,$D$26,0)","v":0},{"$f":"IF(UQY2>=Inputs!$E$38,$D$26,0)","v":0},{"$f":"IF(UQZ2>=Inputs!$E$38,$D$26,0)","v":0},{"$f":"IF(URA2>=Inputs!$E$38,$D$26,0)","v":0},{"$f":"IF(URB2>=Inputs!$E$38,$D$26,0)","v":0},{"$f":"IF(URC2>=Inputs!$E$38,$D$26,0)","v":0},{"$f":"IF(URD2>=Inputs!$E$38,$D$26,0)","v":0},{"$f":"IF(URE2>=Inputs!$E$38,$D$26,0)","v":0},{"$f":"IF(URF2>=Inputs!$E$38,$D$26,0)","v":0},{"$f":"IF(URG2>=Inputs!$E$38,$D$26,0)","v":0},{"$f":"IF(URH2>=Inputs!$E$38,$D$26,0)","v":0},{"$f":"IF(URI2>=Inputs!$E$38,$D$26,0)","v":0},{"$f":"IF(URJ2>=Inputs!$E$38,$D$26,0)","v":0},{"$f":"IF(URK2>=Inputs!$E$38,$D$26,0)","v":0},{"$f":"IF(URL2>=Inputs!$E$38,$D$26,0)","v":0},{"$f":"IF(URM2>=Inputs!$E$38,$D$26,0)","v":0},{"$f":"IF(URN2>=Inputs!$E$38,$D$26,0)","v":0},{"$f":"IF(URO2>=Inputs!$E$38,$D$26,0)","v":0},{"$f":"IF(URP2>=Inputs!$E$38,$D$26,0)","v":0},{"$f":"IF(URQ2>=Inputs!$E$38,$D$26,0)","v":0},{"$f":"IF(URR2>=Inputs!$E$38,$D$26,0)","v":0},{"$f":"IF(URS2>=Inputs!$E$38,$D$26,0)","v":0},{"$f":"IF(URT2>=Inputs!$E$38,$D$26,0)","v":0},{"$f":"IF(URU2>=Inputs!$E$38,$D$26,0)","v":0},{"$f":"IF(URV2>=Inputs!$E$38,$D$26,0)","v":0},{"$f":"IF(URW2>=Inputs!$E$38,$D$26,0)","v":0},{"$f":"IF(URX2>=Inputs!$E$38,$D$26,0)","v":0},{"$f":"IF(URY2>=Inputs!$E$38,$D$26,0)","v":0},{"$f":"IF(URZ2>=Inputs!$E$38,$D$26,0)","v":0},{"$f":"IF(USA2>=Inputs!$E$38,$D$26,0)","v":0},{"$f":"IF(USB2>=Inputs!$E$38,$D$26,0)","v":0},{"$f":"IF(USC2>=Inputs!$E$38,$D$26,0)","v":0},{"$f":"IF(USD2>=Inputs!$E$38,$D$26,0)","v":0},{"$f":"IF(USE2>=Inputs!$E$38,$D$26,0)","v":0},{"$f":"IF(USF2>=Inputs!$E$38,$D$26,0)","v":0},{"$f":"IF(USG2>=Inputs!$E$38,$D$26,0)","v":0},{"$f":"IF(USH2>=Inputs!$E$38,$D$26,0)","v":0},{"$f":"IF(USI2>=Inputs!$E$38,$D$26,0)","v":0},{"$f":"IF(USJ2>=Inputs!$E$38,$D$26,0)","v":0},{"$f":"IF(USK2>=Inputs!$E$38,$D$26,0)","v":0},{"$f":"IF(USL2>=Inputs!$E$38,$D$26,0)","v":0},{"$f":"IF(USM2>=Inputs!$E$38,$D$26,0)","v":0},{"$f":"IF(USN2>=Inputs!$E$38,$D$26,0)","v":0},{"$f":"IF(USO2>=Inputs!$E$38,$D$26,0)","v":0},{"$f":"IF(USP2>=Inputs!$E$38,$D$26,0)","v":0},{"$f":"IF(USQ2>=Inputs!$E$38,$D$26,0)","v":0},{"$f":"IF(USR2>=Inputs!$E$38,$D$26,0)","v":0},{"$f":"IF(USS2>=Inputs!$E$38,$D$26,0)","v":0},{"$f":"IF(UST2>=Inputs!$E$38,$D$26,0)","v":0},{"$f":"IF(USU2>=Inputs!$E$38,$D$26,0)","v":0},{"$f":"IF(USV2>=Inputs!$E$38,$D$26,0)","v":0},{"$f":"IF(USW2>=Inputs!$E$38,$D$26,0)","v":0},{"$f":"IF(USX2>=Inputs!$E$38,$D$26,0)","v":0},{"$f":"IF(USY2>=Inputs!$E$38,$D$26,0)","v":0},{"$f":"IF(USZ2>=Inputs!$E$38,$D$26,0)","v":0},{"$f":"IF(UTA2>=Inputs!$E$38,$D$26,0)","v":0},{"$f":"IF(UTB2>=Inputs!$E$38,$D$26,0)","v":0},{"$f":"IF(UTC2>=Inputs!$E$38,$D$26,0)","v":0},{"$f":"IF(UTD2>=Inputs!$E$38,$D$26,0)","v":0},{"$f":"IF(UTE2>=Inputs!$E$38,$D$26,0)","v":0},{"$f":"IF(UTF2>=Inputs!$E$38,$D$26,0)","v":0},{"$f":"IF(UTG2>=Inputs!$E$38,$D$26,0)","v":0},{"$f":"IF(UTH2>=Inputs!$E$38,$D$26,0)","v":0},{"$f":"IF(UTI2>=Inputs!$E$38,$D$26,0)","v":0},{"$f":"IF(UTJ2>=Inputs!$E$38,$D$26,0)","v":0},{"$f":"IF(UTK2>=Inputs!$E$38,$D$26,0)","v":0},{"$f":"IF(UTL2>=Inputs!$E$38,$D$26,0)","v":0},{"$f":"IF(UTM2>=Inputs!$E$38,$D$26,0)","v":0},{"$f":"IF(UTN2>=Inputs!$E$38,$D$26,0)","v":0},{"$f":"IF(UTO2>=Inputs!$E$38,$D$26,0)","v":0},{"$f":"IF(UTP2>=Inputs!$E$38,$D$26,0)","v":0},{"$f":"IF(UTQ2>=Inputs!$E$38,$D$26,0)","v":0},{"$f":"IF(UTR2>=Inputs!$E$38,$D$26,0)","v":0},{"$f":"IF(UTS2>=Inputs!$E$38,$D$26,0)","v":0},{"$f":"IF(UTT2>=Inputs!$E$38,$D$26,0)","v":0},{"$f":"IF(UTU2>=Inputs!$E$38,$D$26,0)","v":0},{"$f":"IF(UTV2>=Inputs!$E$38,$D$26,0)","v":0},{"$f":"IF(UTW2>=Inputs!$E$38,$D$26,0)","v":0},{"$f":"IF(UTX2>=Inputs!$E$38,$D$26,0)","v":0},{"$f":"IF(UTY2>=Inputs!$E$38,$D$26,0)","v":0},{"$f":"IF(UTZ2>=Inputs!$E$38,$D$26,0)","v":0},{"$f":"IF(UUA2>=Inputs!$E$38,$D$26,0)","v":0},{"$f":"IF(UUB2>=Inputs!$E$38,$D$26,0)","v":0},{"$f":"IF(UUC2>=Inputs!$E$38,$D$26,0)","v":0},{"$f":"IF(UUD2>=Inputs!$E$38,$D$26,0)","v":0},{"$f":"IF(UUE2>=Inputs!$E$38,$D$26,0)","v":0},{"$f":"IF(UUF2>=Inputs!$E$38,$D$26,0)","v":0},{"$f":"IF(UUG2>=Inputs!$E$38,$D$26,0)","v":0},{"$f":"IF(UUH2>=Inputs!$E$38,$D$26,0)","v":0},{"$f":"IF(UUI2>=Inputs!$E$38,$D$26,0)","v":0},{"$f":"IF(UUJ2>=Inputs!$E$38,$D$26,0)","v":0},{"$f":"IF(UUK2>=Inputs!$E$38,$D$26,0)","v":0},{"$f":"IF(UUL2>=Inputs!$E$38,$D$26,0)","v":0},{"$f":"IF(UUM2>=Inputs!$E$38,$D$26,0)","v":0},{"$f":"IF(UUN2>=Inputs!$E$38,$D$26,0)","v":0},{"$f":"IF(UUO2>=Inputs!$E$38,$D$26,0)","v":0},{"$f":"IF(UUP2>=Inputs!$E$38,$D$26,0)","v":0},{"$f":"IF(UUQ2>=Inputs!$E$38,$D$26,0)","v":0},{"$f":"IF(UUR2>=Inputs!$E$38,$D$26,0)","v":0},{"$f":"IF(UUS2>=Inputs!$E$38,$D$26,0)","v":0},{"$f":"IF(UUT2>=Inputs!$E$38,$D$26,0)","v":0},{"$f":"IF(UUU2>=Inputs!$E$38,$D$26,0)","v":0},{"$f":"IF(UUV2>=Inputs!$E$38,$D$26,0)","v":0},{"$f":"IF(UUW2>=Inputs!$E$38,$D$26,0)","v":0},{"$f":"IF(UUX2>=Inputs!$E$38,$D$26,0)","v":0},{"$f":"IF(UUY2>=Inputs!$E$38,$D$26,0)","v":0},{"$f":"IF(UUZ2>=Inputs!$E$38,$D$26,0)","v":0},{"$f":"IF(UVA2>=Inputs!$E$38,$D$26,0)","v":0},{"$f":"IF(UVB2>=Inputs!$E$38,$D$26,0)","v":0},{"$f":"IF(UVC2>=Inputs!$E$38,$D$26,0)","v":0},{"$f":"IF(UVD2>=Inputs!$E$38,$D$26,0)","v":0},{"$f":"IF(UVE2>=Inputs!$E$38,$D$26,0)","v":0},{"$f":"IF(UVF2>=Inputs!$E$38,$D$26,0)","v":0},{"$f":"IF(UVG2>=Inputs!$E$38,$D$26,0)","v":0},{"$f":"IF(UVH2>=Inputs!$E$38,$D$26,0)","v":0},{"$f":"IF(UVI2>=Inputs!$E$38,$D$26,0)","v":0},{"$f":"IF(UVJ2>=Inputs!$E$38,$D$26,0)","v":0},{"$f":"IF(UVK2>=Inputs!$E$38,$D$26,0)","v":0},{"$f":"IF(UVL2>=Inputs!$E$38,$D$26,0)","v":0},{"$f":"IF(UVM2>=Inputs!$E$38,$D$26,0)","v":0},{"$f":"IF(UVN2>=Inputs!$E$38,$D$26,0)","v":0},{"$f":"IF(UVO2>=Inputs!$E$38,$D$26,0)","v":0},{"$f":"IF(UVP2>=Inputs!$E$38,$D$26,0)","v":0},{"$f":"IF(UVQ2>=Inputs!$E$38,$D$26,0)","v":0},{"$f":"IF(UVR2>=Inputs!$E$38,$D$26,0)","v":0},{"$f":"IF(UVS2>=Inputs!$E$38,$D$26,0)","v":0},{"$f":"IF(UVT2>=Inputs!$E$38,$D$26,0)","v":0},{"$f":"IF(UVU2>=Inputs!$E$38,$D$26,0)","v":0},{"$f":"IF(UVV2>=Inputs!$E$38,$D$26,0)","v":0},{"$f":"IF(UVW2>=Inputs!$E$38,$D$26,0)","v":0},{"$f":"IF(UVX2>=Inputs!$E$38,$D$26,0)","v":0},{"$f":"IF(UVY2>=Inputs!$E$38,$D$26,0)","v":0},{"$f":"IF(UVZ2>=Inputs!$E$38,$D$26,0)","v":0},{"$f":"IF(UWA2>=Inputs!$E$38,$D$26,0)","v":0},{"$f":"IF(UWB2>=Inputs!$E$38,$D$26,0)","v":0},{"$f":"IF(UWC2>=Inputs!$E$38,$D$26,0)","v":0},{"$f":"IF(UWD2>=Inputs!$E$38,$D$26,0)","v":0},{"$f":"IF(UWE2>=Inputs!$E$38,$D$26,0)","v":0},{"$f":"IF(UWF2>=Inputs!$E$38,$D$26,0)","v":0},{"$f":"IF(UWG2>=Inputs!$E$38,$D$26,0)","v":0},{"$f":"IF(UWH2>=Inputs!$E$38,$D$26,0)","v":0},{"$f":"IF(UWI2>=Inputs!$E$38,$D$26,0)","v":0},{"$f":"IF(UWJ2>=Inputs!$E$38,$D$26,0)","v":0},{"$f":"IF(UWK2>=Inputs!$E$38,$D$26,0)","v":0},{"$f":"IF(UWL2>=Inputs!$E$38,$D$26,0)","v":0},{"$f":"IF(UWM2>=Inputs!$E$38,$D$26,0)","v":0},{"$f":"IF(UWN2>=Inputs!$E$38,$D$26,0)","v":0},{"$f":"IF(UWO2>=Inputs!$E$38,$D$26,0)","v":0},{"$f":"IF(UWP2>=Inputs!$E$38,$D$26,0)","v":0},{"$f":"IF(UWQ2>=Inputs!$E$38,$D$26,0)","v":0},{"$f":"IF(UWR2>=Inputs!$E$38,$D$26,0)","v":0},{"$f":"IF(UWS2>=Inputs!$E$38,$D$26,0)","v":0},{"$f":"IF(UWT2>=Inputs!$E$38,$D$26,0)","v":0},{"$f":"IF(UWU2>=Inputs!$E$38,$D$26,0)","v":0},{"$f":"IF(UWV2>=Inputs!$E$38,$D$26,0)","v":0},{"$f":"IF(UWW2>=Inputs!$E$38,$D$26,0)","v":0},{"$f":"IF(UWX2>=Inputs!$E$38,$D$26,0)","v":0},{"$f":"IF(UWY2>=Inputs!$E$38,$D$26,0)","v":0},{"$f":"IF(UWZ2>=Inputs!$E$38,$D$26,0)","v":0},{"$f":"IF(UXA2>=Inputs!$E$38,$D$26,0)","v":0},{"$f":"IF(UXB2>=Inputs!$E$38,$D$26,0)","v":0},{"$f":"IF(UXC2>=Inputs!$E$38,$D$26,0)","v":0},{"$f":"IF(UXD2>=Inputs!$E$38,$D$26,0)","v":0},{"$f":"IF(UXE2>=Inputs!$E$38,$D$26,0)","v":0},{"$f":"IF(UXF2>=Inputs!$E$38,$D$26,0)","v":0},{"$f":"IF(UXG2>=Inputs!$E$38,$D$26,0)","v":0},{"$f":"IF(UXH2>=Inputs!$E$38,$D$26,0)","v":0},{"$f":"IF(UXI2>=Inputs!$E$38,$D$26,0)","v":0},{"$f":"IF(UXJ2>=Inputs!$E$38,$D$26,0)","v":0},{"$f":"IF(UXK2>=Inputs!$E$38,$D$26,0)","v":0},{"$f":"IF(UXL2>=Inputs!$E$38,$D$26,0)","v":0},{"$f":"IF(UXM2>=Inputs!$E$38,$D$26,0)","v":0},{"$f":"IF(UXN2>=Inputs!$E$38,$D$26,0)","v":0},{"$f":"IF(UXO2>=Inputs!$E$38,$D$26,0)","v":0},{"$f":"IF(UXP2>=Inputs!$E$38,$D$26,0)","v":0},{"$f":"IF(UXQ2>=Inputs!$E$38,$D$26,0)","v":0},{"$f":"IF(UXR2>=Inputs!$E$38,$D$26,0)","v":0},{"$f":"IF(UXS2>=Inputs!$E$38,$D$26,0)","v":0},{"$f":"IF(UXT2>=Inputs!$E$38,$D$26,0)","v":0},{"$f":"IF(UXU2>=Inputs!$E$38,$D$26,0)","v":0},{"$f":"IF(UXV2>=Inputs!$E$38,$D$26,0)","v":0},{"$f":"IF(UXW2>=Inputs!$E$38,$D$26,0)","v":0},{"$f":"IF(UXX2>=Inputs!$E$38,$D$26,0)","v":0},{"$f":"IF(UXY2>=Inputs!$E$38,$D$26,0)","v":0},{"$f":"IF(UXZ2>=Inputs!$E$38,$D$26,0)","v":0},{"$f":"IF(UYA2>=Inputs!$E$38,$D$26,0)","v":0},{"$f":"IF(UYB2>=Inputs!$E$38,$D$26,0)","v":0},{"$f":"IF(UYC2>=Inputs!$E$38,$D$26,0)","v":0},{"$f":"IF(UYD2>=Inputs!$E$38,$D$26,0)","v":0},{"$f":"IF(UYE2>=Inputs!$E$38,$D$26,0)","v":0},{"$f":"IF(UYF2>=Inputs!$E$38,$D$26,0)","v":0},{"$f":"IF(UYG2>=Inputs!$E$38,$D$26,0)","v":0},{"$f":"IF(UYH2>=Inputs!$E$38,$D$26,0)","v":0},{"$f":"IF(UYI2>=Inputs!$E$38,$D$26,0)","v":0},{"$f":"IF(UYJ2>=Inputs!$E$38,$D$26,0)","v":0},{"$f":"IF(UYK2>=Inputs!$E$38,$D$26,0)","v":0},{"$f":"IF(UYL2>=Inputs!$E$38,$D$26,0)","v":0},{"$f":"IF(UYM2>=Inputs!$E$38,$D$26,0)","v":0},{"$f":"IF(UYN2>=Inputs!$E$38,$D$26,0)","v":0},{"$f":"IF(UYO2>=Inputs!$E$38,$D$26,0)","v":0},{"$f":"IF(UYP2>=Inputs!$E$38,$D$26,0)","v":0},{"$f":"IF(UYQ2>=Inputs!$E$38,$D$26,0)","v":0},{"$f":"IF(UYR2>=Inputs!$E$38,$D$26,0)","v":0},{"$f":"IF(UYS2>=Inputs!$E$38,$D$26,0)","v":0},{"$f":"IF(UYT2>=Inputs!$E$38,$D$26,0)","v":0},{"$f":"IF(UYU2>=Inputs!$E$38,$D$26,0)","v":0},{"$f":"IF(UYV2>=Inputs!$E$38,$D$26,0)","v":0},{"$f":"IF(UYW2>=Inputs!$E$38,$D$26,0)","v":0},{"$f":"IF(UYX2>=Inputs!$E$38,$D$26,0)","v":0},{"$f":"IF(UYY2>=Inputs!$E$38,$D$26,0)","v":0},{"$f":"IF(UYZ2>=Inputs!$E$38,$D$26,0)","v":0},{"$f":"IF(UZA2>=Inputs!$E$38,$D$26,0)","v":0},{"$f":"IF(UZB2>=Inputs!$E$38,$D$26,0)","v":0},{"$f":"IF(UZC2>=Inputs!$E$38,$D$26,0)","v":0},{"$f":"IF(UZD2>=Inputs!$E$38,$D$26,0)","v":0},{"$f":"IF(UZE2>=Inputs!$E$38,$D$26,0)","v":0},{"$f":"IF(UZF2>=Inputs!$E$38,$D$26,0)","v":0},{"$f":"IF(UZG2>=Inputs!$E$38,$D$26,0)","v":0},{"$f":"IF(UZH2>=Inputs!$E$38,$D$26,0)","v":0},{"$f":"IF(UZI2>=Inputs!$E$38,$D$26,0)","v":0},{"$f":"IF(UZJ2>=Inputs!$E$38,$D$26,0)","v":0},{"$f":"IF(UZK2>=Inputs!$E$38,$D$26,0)","v":0},{"$f":"IF(UZL2>=Inputs!$E$38,$D$26,0)","v":0},{"$f":"IF(UZM2>=Inputs!$E$38,$D$26,0)","v":0},{"$f":"IF(UZN2>=Inputs!$E$38,$D$26,0)","v":0},{"$f":"IF(UZO2>=Inputs!$E$38,$D$26,0)","v":0},{"$f":"IF(UZP2>=Inputs!$E$38,$D$26,0)","v":0},{"$f":"IF(UZQ2>=Inputs!$E$38,$D$26,0)","v":0},{"$f":"IF(UZR2>=Inputs!$E$38,$D$26,0)","v":0},{"$f":"IF(UZS2>=Inputs!$E$38,$D$26,0)","v":0},{"$f":"IF(UZT2>=Inputs!$E$38,$D$26,0)","v":0},{"$f":"IF(UZU2>=Inputs!$E$38,$D$26,0)","v":0},{"$f":"IF(UZV2>=Inputs!$E$38,$D$26,0)","v":0},{"$f":"IF(UZW2>=Inputs!$E$38,$D$26,0)","v":0},{"$f":"IF(UZX2>=Inputs!$E$38,$D$26,0)","v":0},{"$f":"IF(UZY2>=Inputs!$E$38,$D$26,0)","v":0},{"$f":"IF(UZZ2>=Inputs!$E$38,$D$26,0)","v":0},{"$f":"IF(VAA2>=Inputs!$E$38,$D$26,0)","v":0},{"$f":"IF(VAB2>=Inputs!$E$38,$D$26,0)","v":0},{"$f":"IF(VAC2>=Inputs!$E$38,$D$26,0)","v":0},{"$f":"IF(VAD2>=Inputs!$E$38,$D$26,0)","v":0},{"$f":"IF(VAE2>=Inputs!$E$38,$D$26,0)","v":0},{"$f":"IF(VAF2>=Inputs!$E$38,$D$26,0)","v":0},{"$f":"IF(VAG2>=Inputs!$E$38,$D$26,0)","v":0},{"$f":"IF(VAH2>=Inputs!$E$38,$D$26,0)","v":0},{"$f":"IF(VAI2>=Inputs!$E$38,$D$26,0)","v":0},{"$f":"IF(VAJ2>=Inputs!$E$38,$D$26,0)","v":0},{"$f":"IF(VAK2>=Inputs!$E$38,$D$26,0)","v":0},{"$f":"IF(VAL2>=Inputs!$E$38,$D$26,0)","v":0},{"$f":"IF(VAM2>=Inputs!$E$38,$D$26,0)","v":0},{"$f":"IF(VAN2>=Inputs!$E$38,$D$26,0)","v":0},{"$f":"IF(VAO2>=Inputs!$E$38,$D$26,0)","v":0},{"$f":"IF(VAP2>=Inputs!$E$38,$D$26,0)","v":0},{"$f":"IF(VAQ2>=Inputs!$E$38,$D$26,0)","v":0},{"$f":"IF(VAR2>=Inputs!$E$38,$D$26,0)","v":0},{"$f":"IF(VAS2>=Inputs!$E$38,$D$26,0)","v":0},{"$f":"IF(VAT2>=Inputs!$E$38,$D$26,0)","v":0},{"$f":"IF(VAU2>=Inputs!$E$38,$D$26,0)","v":0},{"$f":"IF(VAV2>=Inputs!$E$38,$D$26,0)","v":0},{"$f":"IF(VAW2>=Inputs!$E$38,$D$26,0)","v":0},{"$f":"IF(VAX2>=Inputs!$E$38,$D$26,0)","v":0},{"$f":"IF(VAY2>=Inputs!$E$38,$D$26,0)","v":0},{"$f":"IF(VAZ2>=Inputs!$E$38,$D$26,0)","v":0},{"$f":"IF(VBA2>=Inputs!$E$38,$D$26,0)","v":0},{"$f":"IF(VBB2>=Inputs!$E$38,$D$26,0)","v":0},{"$f":"IF(VBC2>=Inputs!$E$38,$D$26,0)","v":0},{"$f":"IF(VBD2>=Inputs!$E$38,$D$26,0)","v":0},{"$f":"IF(VBE2>=Inputs!$E$38,$D$26,0)","v":0},{"$f":"IF(VBF2>=Inputs!$E$38,$D$26,0)","v":0},{"$f":"IF(VBG2>=Inputs!$E$38,$D$26,0)","v":0},{"$f":"IF(VBH2>=Inputs!$E$38,$D$26,0)","v":0},{"$f":"IF(VBI2>=Inputs!$E$38,$D$26,0)","v":0},{"$f":"IF(VBJ2>=Inputs!$E$38,$D$26,0)","v":0},{"$f":"IF(VBK2>=Inputs!$E$38,$D$26,0)","v":0},{"$f":"IF(VBL2>=Inputs!$E$38,$D$26,0)","v":0},{"$f":"IF(VBM2>=Inputs!$E$38,$D$26,0)","v":0},{"$f":"IF(VBN2>=Inputs!$E$38,$D$26,0)","v":0},{"$f":"IF(VBO2>=Inputs!$E$38,$D$26,0)","v":0},{"$f":"IF(VBP2>=Inputs!$E$38,$D$26,0)","v":0},{"$f":"IF(VBQ2>=Inputs!$E$38,$D$26,0)","v":0},{"$f":"IF(VBR2>=Inputs!$E$38,$D$26,0)","v":0},{"$f":"IF(VBS2>=Inputs!$E$38,$D$26,0)","v":0},{"$f":"IF(VBT2>=Inputs!$E$38,$D$26,0)","v":0},{"$f":"IF(VBU2>=Inputs!$E$38,$D$26,0)","v":0},{"$f":"IF(VBV2>=Inputs!$E$38,$D$26,0)","v":0},{"$f":"IF(VBW2>=Inputs!$E$38,$D$26,0)","v":0},{"$f":"IF(VBX2>=Inputs!$E$38,$D$26,0)","v":0},{"$f":"IF(VBY2>=Inputs!$E$38,$D$26,0)","v":0},{"$f":"IF(VBZ2>=Inputs!$E$38,$D$26,0)","v":0},{"$f":"IF(VCA2>=Inputs!$E$38,$D$26,0)","v":0},{"$f":"IF(VCB2>=Inputs!$E$38,$D$26,0)","v":0},{"$f":"IF(VCC2>=Inputs!$E$38,$D$26,0)","v":0},{"$f":"IF(VCD2>=Inputs!$E$38,$D$26,0)","v":0},{"$f":"IF(VCE2>=Inputs!$E$38,$D$26,0)","v":0},{"$f":"IF(VCF2>=Inputs!$E$38,$D$26,0)","v":0},{"$f":"IF(VCG2>=Inputs!$E$38,$D$26,0)","v":0},{"$f":"IF(VCH2>=Inputs!$E$38,$D$26,0)","v":0},{"$f":"IF(VCI2>=Inputs!$E$38,$D$26,0)","v":0},{"$f":"IF(VCJ2>=Inputs!$E$38,$D$26,0)","v":0},{"$f":"IF(VCK2>=Inputs!$E$38,$D$26,0)","v":0},{"$f":"IF(VCL2>=Inputs!$E$38,$D$26,0)","v":0},{"$f":"IF(VCM2>=Inputs!$E$38,$D$26,0)","v":0},{"$f":"IF(VCN2>=Inputs!$E$38,$D$26,0)","v":0},{"$f":"IF(VCO2>=Inputs!$E$38,$D$26,0)","v":0},{"$f":"IF(VCP2>=Inputs!$E$38,$D$26,0)","v":0},{"$f":"IF(VCQ2>=Inputs!$E$38,$D$26,0)","v":0},{"$f":"IF(VCR2>=Inputs!$E$38,$D$26,0)","v":0},{"$f":"IF(VCS2>=Inputs!$E$38,$D$26,0)","v":0},{"$f":"IF(VCT2>=Inputs!$E$38,$D$26,0)","v":0},{"$f":"IF(VCU2>=Inputs!$E$38,$D$26,0)","v":0},{"$f":"IF(VCV2>=Inputs!$E$38,$D$26,0)","v":0},{"$f":"IF(VCW2>=Inputs!$E$38,$D$26,0)","v":0},{"$f":"IF(VCX2>=Inputs!$E$38,$D$26,0)","v":0},{"$f":"IF(VCY2>=Inputs!$E$38,$D$26,0)","v":0},{"$f":"IF(VCZ2>=Inputs!$E$38,$D$26,0)","v":0},{"$f":"IF(VDA2>=Inputs!$E$38,$D$26,0)","v":0},{"$f":"IF(VDB2>=Inputs!$E$38,$D$26,0)","v":0},{"$f":"IF(VDC2>=Inputs!$E$38,$D$26,0)","v":0},{"$f":"IF(VDD2>=Inputs!$E$38,$D$26,0)","v":0},{"$f":"IF(VDE2>=Inputs!$E$38,$D$26,0)","v":0},{"$f":"IF(VDF2>=Inputs!$E$38,$D$26,0)","v":0},{"$f":"IF(VDG2>=Inputs!$E$38,$D$26,0)","v":0},{"$f":"IF(VDH2>=Inputs!$E$38,$D$26,0)","v":0},{"$f":"IF(VDI2>=Inputs!$E$38,$D$26,0)","v":0},{"$f":"IF(VDJ2>=Inputs!$E$38,$D$26,0)","v":0},{"$f":"IF(VDK2>=Inputs!$E$38,$D$26,0)","v":0},{"$f":"IF(VDL2>=Inputs!$E$38,$D$26,0)","v":0},{"$f":"IF(VDM2>=Inputs!$E$38,$D$26,0)","v":0},{"$f":"IF(VDN2>=Inputs!$E$38,$D$26,0)","v":0},{"$f":"IF(VDO2>=Inputs!$E$38,$D$26,0)","v":0},{"$f":"IF(VDP2>=Inputs!$E$38,$D$26,0)","v":0},{"$f":"IF(VDQ2>=Inputs!$E$38,$D$26,0)","v":0},{"$f":"IF(VDR2>=Inputs!$E$38,$D$26,0)","v":0},{"$f":"IF(VDS2>=Inputs!$E$38,$D$26,0)","v":0},{"$f":"IF(VDT2>=Inputs!$E$38,$D$26,0)","v":0},{"$f":"IF(VDU2>=Inputs!$E$38,$D$26,0)","v":0},{"$f":"IF(VDV2>=Inputs!$E$38,$D$26,0)","v":0},{"$f":"IF(VDW2>=Inputs!$E$38,$D$26,0)","v":0},{"$f":"IF(VDX2>=Inputs!$E$38,$D$26,0)","v":0},{"$f":"IF(VDY2>=Inputs!$E$38,$D$26,0)","v":0},{"$f":"IF(VDZ2>=Inputs!$E$38,$D$26,0)","v":0},{"$f":"IF(VEA2>=Inputs!$E$38,$D$26,0)","v":0},{"$f":"IF(VEB2>=Inputs!$E$38,$D$26,0)","v":0},{"$f":"IF(VEC2>=Inputs!$E$38,$D$26,0)","v":0},{"$f":"IF(VED2>=Inputs!$E$38,$D$26,0)","v":0},{"$f":"IF(VEE2>=Inputs!$E$38,$D$26,0)","v":0},{"$f":"IF(VEF2>=Inputs!$E$38,$D$26,0)","v":0},{"$f":"IF(VEG2>=Inputs!$E$38,$D$26,0)","v":0},{"$f":"IF(VEH2>=Inputs!$E$38,$D$26,0)","v":0},{"$f":"IF(VEI2>=Inputs!$E$38,$D$26,0)","v":0},{"$f":"IF(VEJ2>=Inputs!$E$38,$D$26,0)","v":0},{"$f":"IF(VEK2>=Inputs!$E$38,$D$26,0)","v":0},{"$f":"IF(VEL2>=Inputs!$E$38,$D$26,0)","v":0},{"$f":"IF(VEM2>=Inputs!$E$38,$D$26,0)","v":0},{"$f":"IF(VEN2>=Inputs!$E$38,$D$26,0)","v":0},{"$f":"IF(VEO2>=Inputs!$E$38,$D$26,0)","v":0},{"$f":"IF(VEP2>=Inputs!$E$38,$D$26,0)","v":0},{"$f":"IF(VEQ2>=Inputs!$E$38,$D$26,0)","v":0},{"$f":"IF(VER2>=Inputs!$E$38,$D$26,0)","v":0},{"$f":"IF(VES2>=Inputs!$E$38,$D$26,0)","v":0},{"$f":"IF(VET2>=Inputs!$E$38,$D$26,0)","v":0},{"$f":"IF(VEU2>=Inputs!$E$38,$D$26,0)","v":0},{"$f":"IF(VEV2>=Inputs!$E$38,$D$26,0)","v":0},{"$f":"IF(VEW2>=Inputs!$E$38,$D$26,0)","v":0},{"$f":"IF(VEX2>=Inputs!$E$38,$D$26,0)","v":0},{"$f":"IF(VEY2>=Inputs!$E$38,$D$26,0)","v":0},{"$f":"IF(VEZ2>=Inputs!$E$38,$D$26,0)","v":0},{"$f":"IF(VFA2>=Inputs!$E$38,$D$26,0)","v":0},{"$f":"IF(VFB2>=Inputs!$E$38,$D$26,0)","v":0},{"$f":"IF(VFC2>=Inputs!$E$38,$D$26,0)","v":0},{"$f":"IF(VFD2>=Inputs!$E$38,$D$26,0)","v":0},{"$f":"IF(VFE2>=Inputs!$E$38,$D$26,0)","v":0},{"$f":"IF(VFF2>=Inputs!$E$38,$D$26,0)","v":0},{"$f":"IF(VFG2>=Inputs!$E$38,$D$26,0)","v":0},{"$f":"IF(VFH2>=Inputs!$E$38,$D$26,0)","v":0},{"$f":"IF(VFI2>=Inputs!$E$38,$D$26,0)","v":0},{"$f":"IF(VFJ2>=Inputs!$E$38,$D$26,0)","v":0},{"$f":"IF(VFK2>=Inputs!$E$38,$D$26,0)","v":0},{"$f":"IF(VFL2>=Inputs!$E$38,$D$26,0)","v":0},{"$f":"IF(VFM2>=Inputs!$E$38,$D$26,0)","v":0},{"$f":"IF(VFN2>=Inputs!$E$38,$D$26,0)","v":0},{"$f":"IF(VFO2>=Inputs!$E$38,$D$26,0)","v":0},{"$f":"IF(VFP2>=Inputs!$E$38,$D$26,0)","v":0},{"$f":"IF(VFQ2>=Inputs!$E$38,$D$26,0)","v":0},{"$f":"IF(VFR2>=Inputs!$E$38,$D$26,0)","v":0},{"$f":"IF(VFS2>=Inputs!$E$38,$D$26,0)","v":0},{"$f":"IF(VFT2>=Inputs!$E$38,$D$26,0)","v":0},{"$f":"IF(VFU2>=Inputs!$E$38,$D$26,0)","v":0},{"$f":"IF(VFV2>=Inputs!$E$38,$D$26,0)","v":0},{"$f":"IF(VFW2>=Inputs!$E$38,$D$26,0)","v":0},{"$f":"IF(VFX2>=Inputs!$E$38,$D$26,0)","v":0},{"$f":"IF(VFY2>=Inputs!$E$38,$D$26,0)","v":0},{"$f":"IF(VFZ2>=Inputs!$E$38,$D$26,0)","v":0},{"$f":"IF(VGA2>=Inputs!$E$38,$D$26,0)","v":0},{"$f":"IF(VGB2>=Inputs!$E$38,$D$26,0)","v":0},{"$f":"IF(VGC2>=Inputs!$E$38,$D$26,0)","v":0},{"$f":"IF(VGD2>=Inputs!$E$38,$D$26,0)","v":0},{"$f":"IF(VGE2>=Inputs!$E$38,$D$26,0)","v":0},{"$f":"IF(VGF2>=Inputs!$E$38,$D$26,0)","v":0},{"$f":"IF(VGG2>=Inputs!$E$38,$D$26,0)","v":0},{"$f":"IF(VGH2>=Inputs!$E$38,$D$26,0)","v":0},{"$f":"IF(VGI2>=Inputs!$E$38,$D$26,0)","v":0},{"$f":"IF(VGJ2>=Inputs!$E$38,$D$26,0)","v":0},{"$f":"IF(VGK2>=Inputs!$E$38,$D$26,0)","v":0},{"$f":"IF(VGL2>=Inputs!$E$38,$D$26,0)","v":0},{"$f":"IF(VGM2>=Inputs!$E$38,$D$26,0)","v":0},{"$f":"IF(VGN2>=Inputs!$E$38,$D$26,0)","v":0},{"$f":"IF(VGO2>=Inputs!$E$38,$D$26,0)","v":0},{"$f":"IF(VGP2>=Inputs!$E$38,$D$26,0)","v":0},{"$f":"IF(VGQ2>=Inputs!$E$38,$D$26,0)","v":0},{"$f":"IF(VGR2>=Inputs!$E$38,$D$26,0)","v":0},{"$f":"IF(VGS2>=Inputs!$E$38,$D$26,0)","v":0},{"$f":"IF(VGT2>=Inputs!$E$38,$D$26,0)","v":0},{"$f":"IF(VGU2>=Inputs!$E$38,$D$26,0)","v":0},{"$f":"IF(VGV2>=Inputs!$E$38,$D$26,0)","v":0},{"$f":"IF(VGW2>=Inputs!$E$38,$D$26,0)","v":0},{"$f":"IF(VGX2>=Inputs!$E$38,$D$26,0)","v":0},{"$f":"IF(VGY2>=Inputs!$E$38,$D$26,0)","v":0},{"$f":"IF(VGZ2>=Inputs!$E$38,$D$26,0)","v":0},{"$f":"IF(VHA2>=Inputs!$E$38,$D$26,0)","v":0},{"$f":"IF(VHB2>=Inputs!$E$38,$D$26,0)","v":0},{"$f":"IF(VHC2>=Inputs!$E$38,$D$26,0)","v":0},{"$f":"IF(VHD2>=Inputs!$E$38,$D$26,0)","v":0},{"$f":"IF(VHE2>=Inputs!$E$38,$D$26,0)","v":0},{"$f":"IF(VHF2>=Inputs!$E$38,$D$26,0)","v":0},{"$f":"IF(VHG2>=Inputs!$E$38,$D$26,0)","v":0},{"$f":"IF(VHH2>=Inputs!$E$38,$D$26,0)","v":0},{"$f":"IF(VHI2>=Inputs!$E$38,$D$26,0)","v":0},{"$f":"IF(VHJ2>=Inputs!$E$38,$D$26,0)","v":0},{"$f":"IF(VHK2>=Inputs!$E$38,$D$26,0)","v":0},{"$f":"IF(VHL2>=Inputs!$E$38,$D$26,0)","v":0},{"$f":"IF(VHM2>=Inputs!$E$38,$D$26,0)","v":0},{"$f":"IF(VHN2>=Inputs!$E$38,$D$26,0)","v":0},{"$f":"IF(VHO2>=Inputs!$E$38,$D$26,0)","v":0},{"$f":"IF(VHP2>=Inputs!$E$38,$D$26,0)","v":0},{"$f":"IF(VHQ2>=Inputs!$E$38,$D$26,0)","v":0},{"$f":"IF(VHR2>=Inputs!$E$38,$D$26,0)","v":0},{"$f":"IF(VHS2>=Inputs!$E$38,$D$26,0)","v":0},{"$f":"IF(VHT2>=Inputs!$E$38,$D$26,0)","v":0},{"$f":"IF(VHU2>=Inputs!$E$38,$D$26,0)","v":0},{"$f":"IF(VHV2>=Inputs!$E$38,$D$26,0)","v":0},{"$f":"IF(VHW2>=Inputs!$E$38,$D$26,0)","v":0},{"$f":"IF(VHX2>=Inputs!$E$38,$D$26,0)","v":0},{"$f":"IF(VHY2>=Inputs!$E$38,$D$26,0)","v":0},{"$f":"IF(VHZ2>=Inputs!$E$38,$D$26,0)","v":0},{"$f":"IF(VIA2>=Inputs!$E$38,$D$26,0)","v":0},{"$f":"IF(VIB2>=Inputs!$E$38,$D$26,0)","v":0},{"$f":"IF(VIC2>=Inputs!$E$38,$D$26,0)","v":0},{"$f":"IF(VID2>=Inputs!$E$38,$D$26,0)","v":0},{"$f":"IF(VIE2>=Inputs!$E$38,$D$26,0)","v":0},{"$f":"IF(VIF2>=Inputs!$E$38,$D$26,0)","v":0},{"$f":"IF(VIG2>=Inputs!$E$38,$D$26,0)","v":0},{"$f":"IF(VIH2>=Inputs!$E$38,$D$26,0)","v":0},{"$f":"IF(VII2>=Inputs!$E$38,$D$26,0)","v":0},{"$f":"IF(VIJ2>=Inputs!$E$38,$D$26,0)","v":0},{"$f":"IF(VIK2>=Inputs!$E$38,$D$26,0)","v":0},{"$f":"IF(VIL2>=Inputs!$E$38,$D$26,0)","v":0},{"$f":"IF(VIM2>=Inputs!$E$38,$D$26,0)","v":0},{"$f":"IF(VIN2>=Inputs!$E$38,$D$26,0)","v":0},{"$f":"IF(VIO2>=Inputs!$E$38,$D$26,0)","v":0},{"$f":"IF(VIP2>=Inputs!$E$38,$D$26,0)","v":0},{"$f":"IF(VIQ2>=Inputs!$E$38,$D$26,0)","v":0},{"$f":"IF(VIR2>=Inputs!$E$38,$D$26,0)","v":0},{"$f":"IF(VIS2>=Inputs!$E$38,$D$26,0)","v":0},{"$f":"IF(VIT2>=Inputs!$E$38,$D$26,0)","v":0},{"$f":"IF(VIU2>=Inputs!$E$38,$D$26,0)","v":0},{"$f":"IF(VIV2>=Inputs!$E$38,$D$26,0)","v":0},{"$f":"IF(VIW2>=Inputs!$E$38,$D$26,0)","v":0},{"$f":"IF(VIX2>=Inputs!$E$38,$D$26,0)","v":0},{"$f":"IF(VIY2>=Inputs!$E$38,$D$26,0)","v":0},{"$f":"IF(VIZ2>=Inputs!$E$38,$D$26,0)","v":0},{"$f":"IF(VJA2>=Inputs!$E$38,$D$26,0)","v":0},{"$f":"IF(VJB2>=Inputs!$E$38,$D$26,0)","v":0},{"$f":"IF(VJC2>=Inputs!$E$38,$D$26,0)","v":0},{"$f":"IF(VJD2>=Inputs!$E$38,$D$26,0)","v":0},{"$f":"IF(VJE2>=Inputs!$E$38,$D$26,0)","v":0},{"$f":"IF(VJF2>=Inputs!$E$38,$D$26,0)","v":0},{"$f":"IF(VJG2>=Inputs!$E$38,$D$26,0)","v":0},{"$f":"IF(VJH2>=Inputs!$E$38,$D$26,0)","v":0},{"$f":"IF(VJI2>=Inputs!$E$38,$D$26,0)","v":0},{"$f":"IF(VJJ2>=Inputs!$E$38,$D$26,0)","v":0},{"$f":"IF(VJK2>=Inputs!$E$38,$D$26,0)","v":0},{"$f":"IF(VJL2>=Inputs!$E$38,$D$26,0)","v":0},{"$f":"IF(VJM2>=Inputs!$E$38,$D$26,0)","v":0},{"$f":"IF(VJN2>=Inputs!$E$38,$D$26,0)","v":0},{"$f":"IF(VJO2>=Inputs!$E$38,$D$26,0)","v":0},{"$f":"IF(VJP2>=Inputs!$E$38,$D$26,0)","v":0},{"$f":"IF(VJQ2>=Inputs!$E$38,$D$26,0)","v":0},{"$f":"IF(VJR2>=Inputs!$E$38,$D$26,0)","v":0},{"$f":"IF(VJS2>=Inputs!$E$38,$D$26,0)","v":0},{"$f":"IF(VJT2>=Inputs!$E$38,$D$26,0)","v":0},{"$f":"IF(VJU2>=Inputs!$E$38,$D$26,0)","v":0},{"$f":"IF(VJV2>=Inputs!$E$38,$D$26,0)","v":0},{"$f":"IF(VJW2>=Inputs!$E$38,$D$26,0)","v":0},{"$f":"IF(VJX2>=Inputs!$E$38,$D$26,0)","v":0},{"$f":"IF(VJY2>=Inputs!$E$38,$D$26,0)","v":0},{"$f":"IF(VJZ2>=Inputs!$E$38,$D$26,0)","v":0},{"$f":"IF(VKA2>=Inputs!$E$38,$D$26,0)","v":0},{"$f":"IF(VKB2>=Inputs!$E$38,$D$26,0)","v":0},{"$f":"IF(VKC2>=Inputs!$E$38,$D$26,0)","v":0},{"$f":"IF(VKD2>=Inputs!$E$38,$D$26,0)","v":0},{"$f":"IF(VKE2>=Inputs!$E$38,$D$26,0)","v":0},{"$f":"IF(VKF2>=Inputs!$E$38,$D$26,0)","v":0},{"$f":"IF(VKG2>=Inputs!$E$38,$D$26,0)","v":0},{"$f":"IF(VKH2>=Inputs!$E$38,$D$26,0)","v":0},{"$f":"IF(VKI2>=Inputs!$E$38,$D$26,0)","v":0},{"$f":"IF(VKJ2>=Inputs!$E$38,$D$26,0)","v":0},{"$f":"IF(VKK2>=Inputs!$E$38,$D$26,0)","v":0},{"$f":"IF(VKL2>=Inputs!$E$38,$D$26,0)","v":0},{"$f":"IF(VKM2>=Inputs!$E$38,$D$26,0)","v":0},{"$f":"IF(VKN2>=Inputs!$E$38,$D$26,0)","v":0},{"$f":"IF(VKO2>=Inputs!$E$38,$D$26,0)","v":0},{"$f":"IF(VKP2>=Inputs!$E$38,$D$26,0)","v":0},{"$f":"IF(VKQ2>=Inputs!$E$38,$D$26,0)","v":0},{"$f":"IF(VKR2>=Inputs!$E$38,$D$26,0)","v":0},{"$f":"IF(VKS2>=Inputs!$E$38,$D$26,0)","v":0},{"$f":"IF(VKT2>=Inputs!$E$38,$D$26,0)","v":0},{"$f":"IF(VKU2>=Inputs!$E$38,$D$26,0)","v":0},{"$f":"IF(VKV2>=Inputs!$E$38,$D$26,0)","v":0},{"$f":"IF(VKW2>=Inputs!$E$38,$D$26,0)","v":0},{"$f":"IF(VKX2>=Inputs!$E$38,$D$26,0)","v":0},{"$f":"IF(VKY2>=Inputs!$E$38,$D$26,0)","v":0},{"$f":"IF(VKZ2>=Inputs!$E$38,$D$26,0)","v":0},{"$f":"IF(VLA2>=Inputs!$E$38,$D$26,0)","v":0},{"$f":"IF(VLB2>=Inputs!$E$38,$D$26,0)","v":0},{"$f":"IF(VLC2>=Inputs!$E$38,$D$26,0)","v":0},{"$f":"IF(VLD2>=Inputs!$E$38,$D$26,0)","v":0},{"$f":"IF(VLE2>=Inputs!$E$38,$D$26,0)","v":0},{"$f":"IF(VLF2>=Inputs!$E$38,$D$26,0)","v":0},{"$f":"IF(VLG2>=Inputs!$E$38,$D$26,0)","v":0},{"$f":"IF(VLH2>=Inputs!$E$38,$D$26,0)","v":0},{"$f":"IF(VLI2>=Inputs!$E$38,$D$26,0)","v":0},{"$f":"IF(VLJ2>=Inputs!$E$38,$D$26,0)","v":0},{"$f":"IF(VLK2>=Inputs!$E$38,$D$26,0)","v":0},{"$f":"IF(VLL2>=Inputs!$E$38,$D$26,0)","v":0},{"$f":"IF(VLM2>=Inputs!$E$38,$D$26,0)","v":0},{"$f":"IF(VLN2>=Inputs!$E$38,$D$26,0)","v":0},{"$f":"IF(VLO2>=Inputs!$E$38,$D$26,0)","v":0},{"$f":"IF(VLP2>=Inputs!$E$38,$D$26,0)","v":0},{"$f":"IF(VLQ2>=Inputs!$E$38,$D$26,0)","v":0},{"$f":"IF(VLR2>=Inputs!$E$38,$D$26,0)","v":0},{"$f":"IF(VLS2>=Inputs!$E$38,$D$26,0)","v":0},{"$f":"IF(VLT2>=Inputs!$E$38,$D$26,0)","v":0},{"$f":"IF(VLU2>=Inputs!$E$38,$D$26,0)","v":0},{"$f":"IF(VLV2>=Inputs!$E$38,$D$26,0)","v":0},{"$f":"IF(VLW2>=Inputs!$E$38,$D$26,0)","v":0},{"$f":"IF(VLX2>=Inputs!$E$38,$D$26,0)","v":0},{"$f":"IF(VLY2>=Inputs!$E$38,$D$26,0)","v":0},{"$f":"IF(VLZ2>=Inputs!$E$38,$D$26,0)","v":0},{"$f":"IF(VMA2>=Inputs!$E$38,$D$26,0)","v":0},{"$f":"IF(VMB2>=Inputs!$E$38,$D$26,0)","v":0},{"$f":"IF(VMC2>=Inputs!$E$38,$D$26,0)","v":0},{"$f":"IF(VMD2>=Inputs!$E$38,$D$26,0)","v":0},{"$f":"IF(VME2>=Inputs!$E$38,$D$26,0)","v":0},{"$f":"IF(VMF2>=Inputs!$E$38,$D$26,0)","v":0},{"$f":"IF(VMG2>=Inputs!$E$38,$D$26,0)","v":0},{"$f":"IF(VMH2>=Inputs!$E$38,$D$26,0)","v":0},{"$f":"IF(VMI2>=Inputs!$E$38,$D$26,0)","v":0},{"$f":"IF(VMJ2>=Inputs!$E$38,$D$26,0)","v":0},{"$f":"IF(VMK2>=Inputs!$E$38,$D$26,0)","v":0},{"$f":"IF(VML2>=Inputs!$E$38,$D$26,0)","v":0},{"$f":"IF(VMM2>=Inputs!$E$38,$D$26,0)","v":0},{"$f":"IF(VMN2>=Inputs!$E$38,$D$26,0)","v":0},{"$f":"IF(VMO2>=Inputs!$E$38,$D$26,0)","v":0},{"$f":"IF(VMP2>=Inputs!$E$38,$D$26,0)","v":0},{"$f":"IF(VMQ2>=Inputs!$E$38,$D$26,0)","v":0},{"$f":"IF(VMR2>=Inputs!$E$38,$D$26,0)","v":0},{"$f":"IF(VMS2>=Inputs!$E$38,$D$26,0)","v":0},{"$f":"IF(VMT2>=Inputs!$E$38,$D$26,0)","v":0},{"$f":"IF(VMU2>=Inputs!$E$38,$D$26,0)","v":0},{"$f":"IF(VMV2>=Inputs!$E$38,$D$26,0)","v":0},{"$f":"IF(VMW2>=Inputs!$E$38,$D$26,0)","v":0},{"$f":"IF(VMX2>=Inputs!$E$38,$D$26,0)","v":0},{"$f":"IF(VMY2>=Inputs!$E$38,$D$26,0)","v":0},{"$f":"IF(VMZ2>=Inputs!$E$38,$D$26,0)","v":0},{"$f":"IF(VNA2>=Inputs!$E$38,$D$26,0)","v":0},{"$f":"IF(VNB2>=Inputs!$E$38,$D$26,0)","v":0},{"$f":"IF(VNC2>=Inputs!$E$38,$D$26,0)","v":0},{"$f":"IF(VND2>=Inputs!$E$38,$D$26,0)","v":0},{"$f":"IF(VNE2>=Inputs!$E$38,$D$26,0)","v":0},{"$f":"IF(VNF2>=Inputs!$E$38,$D$26,0)","v":0},{"$f":"IF(VNG2>=Inputs!$E$38,$D$26,0)","v":0},{"$f":"IF(VNH2>=Inputs!$E$38,$D$26,0)","v":0},{"$f":"IF(VNI2>=Inputs!$E$38,$D$26,0)","v":0},{"$f":"IF(VNJ2>=Inputs!$E$38,$D$26,0)","v":0},{"$f":"IF(VNK2>=Inputs!$E$38,$D$26,0)","v":0},{"$f":"IF(VNL2>=Inputs!$E$38,$D$26,0)","v":0},{"$f":"IF(VNM2>=Inputs!$E$38,$D$26,0)","v":0},{"$f":"IF(VNN2>=Inputs!$E$38,$D$26,0)","v":0},{"$f":"IF(VNO2>=Inputs!$E$38,$D$26,0)","v":0},{"$f":"IF(VNP2>=Inputs!$E$38,$D$26,0)","v":0},{"$f":"IF(VNQ2>=Inputs!$E$38,$D$26,0)","v":0},{"$f":"IF(VNR2>=Inputs!$E$38,$D$26,0)","v":0},{"$f":"IF(VNS2>=Inputs!$E$38,$D$26,0)","v":0},{"$f":"IF(VNT2>=Inputs!$E$38,$D$26,0)","v":0},{"$f":"IF(VNU2>=Inputs!$E$38,$D$26,0)","v":0},{"$f":"IF(VNV2>=Inputs!$E$38,$D$26,0)","v":0},{"$f":"IF(VNW2>=Inputs!$E$38,$D$26,0)","v":0},{"$f":"IF(VNX2>=Inputs!$E$38,$D$26,0)","v":0},{"$f":"IF(VNY2>=Inputs!$E$38,$D$26,0)","v":0},{"$f":"IF(VNZ2>=Inputs!$E$38,$D$26,0)","v":0},{"$f":"IF(VOA2>=Inputs!$E$38,$D$26,0)","v":0},{"$f":"IF(VOB2>=Inputs!$E$38,$D$26,0)","v":0},{"$f":"IF(VOC2>=Inputs!$E$38,$D$26,0)","v":0},{"$f":"IF(VOD2>=Inputs!$E$38,$D$26,0)","v":0},{"$f":"IF(VOE2>=Inputs!$E$38,$D$26,0)","v":0},{"$f":"IF(VOF2>=Inputs!$E$38,$D$26,0)","v":0},{"$f":"IF(VOG2>=Inputs!$E$38,$D$26,0)","v":0},{"$f":"IF(VOH2>=Inputs!$E$38,$D$26,0)","v":0},{"$f":"IF(VOI2>=Inputs!$E$38,$D$26,0)","v":0},{"$f":"IF(VOJ2>=Inputs!$E$38,$D$26,0)","v":0},{"$f":"IF(VOK2>=Inputs!$E$38,$D$26,0)","v":0},{"$f":"IF(VOL2>=Inputs!$E$38,$D$26,0)","v":0},{"$f":"IF(VOM2>=Inputs!$E$38,$D$26,0)","v":0},{"$f":"IF(VON2>=Inputs!$E$38,$D$26,0)","v":0},{"$f":"IF(VOO2>=Inputs!$E$38,$D$26,0)","v":0},{"$f":"IF(VOP2>=Inputs!$E$38,$D$26,0)","v":0},{"$f":"IF(VOQ2>=Inputs!$E$38,$D$26,0)","v":0},{"$f":"IF(VOR2>=Inputs!$E$38,$D$26,0)","v":0},{"$f":"IF(VOS2>=Inputs!$E$38,$D$26,0)","v":0},{"$f":"IF(VOT2>=Inputs!$E$38,$D$26,0)","v":0},{"$f":"IF(VOU2>=Inputs!$E$38,$D$26,0)","v":0},{"$f":"IF(VOV2>=Inputs!$E$38,$D$26,0)","v":0},{"$f":"IF(VOW2>=Inputs!$E$38,$D$26,0)","v":0},{"$f":"IF(VOX2>=Inputs!$E$38,$D$26,0)","v":0},{"$f":"IF(VOY2>=Inputs!$E$38,$D$26,0)","v":0},{"$f":"IF(VOZ2>=Inputs!$E$38,$D$26,0)","v":0},{"$f":"IF(VPA2>=Inputs!$E$38,$D$26,0)","v":0},{"$f":"IF(VPB2>=Inputs!$E$38,$D$26,0)","v":0},{"$f":"IF(VPC2>=Inputs!$E$38,$D$26,0)","v":0},{"$f":"IF(VPD2>=Inputs!$E$38,$D$26,0)","v":0},{"$f":"IF(VPE2>=Inputs!$E$38,$D$26,0)","v":0},{"$f":"IF(VPF2>=Inputs!$E$38,$D$26,0)","v":0},{"$f":"IF(VPG2>=Inputs!$E$38,$D$26,0)","v":0},{"$f":"IF(VPH2>=Inputs!$E$38,$D$26,0)","v":0},{"$f":"IF(VPI2>=Inputs!$E$38,$D$26,0)","v":0},{"$f":"IF(VPJ2>=Inputs!$E$38,$D$26,0)","v":0},{"$f":"IF(VPK2>=Inputs!$E$38,$D$26,0)","v":0},{"$f":"IF(VPL2>=Inputs!$E$38,$D$26,0)","v":0},{"$f":"IF(VPM2>=Inputs!$E$38,$D$26,0)","v":0},{"$f":"IF(VPN2>=Inputs!$E$38,$D$26,0)","v":0},{"$f":"IF(VPO2>=Inputs!$E$38,$D$26,0)","v":0},{"$f":"IF(VPP2>=Inputs!$E$38,$D$26,0)","v":0},{"$f":"IF(VPQ2>=Inputs!$E$38,$D$26,0)","v":0},{"$f":"IF(VPR2>=Inputs!$E$38,$D$26,0)","v":0},{"$f":"IF(VPS2>=Inputs!$E$38,$D$26,0)","v":0},{"$f":"IF(VPT2>=Inputs!$E$38,$D$26,0)","v":0},{"$f":"IF(VPU2>=Inputs!$E$38,$D$26,0)","v":0},{"$f":"IF(VPV2>=Inputs!$E$38,$D$26,0)","v":0},{"$f":"IF(VPW2>=Inputs!$E$38,$D$26,0)","v":0},{"$f":"IF(VPX2>=Inputs!$E$38,$D$26,0)","v":0},{"$f":"IF(VPY2>=Inputs!$E$38,$D$26,0)","v":0},{"$f":"IF(VPZ2>=Inputs!$E$38,$D$26,0)","v":0},{"$f":"IF(VQA2>=Inputs!$E$38,$D$26,0)","v":0},{"$f":"IF(VQB2>=Inputs!$E$38,$D$26,0)","v":0},{"$f":"IF(VQC2>=Inputs!$E$38,$D$26,0)","v":0},{"$f":"IF(VQD2>=Inputs!$E$38,$D$26,0)","v":0},{"$f":"IF(VQE2>=Inputs!$E$38,$D$26,0)","v":0},{"$f":"IF(VQF2>=Inputs!$E$38,$D$26,0)","v":0},{"$f":"IF(VQG2>=Inputs!$E$38,$D$26,0)","v":0},{"$f":"IF(VQH2>=Inputs!$E$38,$D$26,0)","v":0},{"$f":"IF(VQI2>=Inputs!$E$38,$D$26,0)","v":0},{"$f":"IF(VQJ2>=Inputs!$E$38,$D$26,0)","v":0},{"$f":"IF(VQK2>=Inputs!$E$38,$D$26,0)","v":0},{"$f":"IF(VQL2>=Inputs!$E$38,$D$26,0)","v":0},{"$f":"IF(VQM2>=Inputs!$E$38,$D$26,0)","v":0},{"$f":"IF(VQN2>=Inputs!$E$38,$D$26,0)","v":0},{"$f":"IF(VQO2>=Inputs!$E$38,$D$26,0)","v":0},{"$f":"IF(VQP2>=Inputs!$E$38,$D$26,0)","v":0},{"$f":"IF(VQQ2>=Inputs!$E$38,$D$26,0)","v":0},{"$f":"IF(VQR2>=Inputs!$E$38,$D$26,0)","v":0},{"$f":"IF(VQS2>=Inputs!$E$38,$D$26,0)","v":0},{"$f":"IF(VQT2>=Inputs!$E$38,$D$26,0)","v":0},{"$f":"IF(VQU2>=Inputs!$E$38,$D$26,0)","v":0},{"$f":"IF(VQV2>=Inputs!$E$38,$D$26,0)","v":0},{"$f":"IF(VQW2>=Inputs!$E$38,$D$26,0)","v":0},{"$f":"IF(VQX2>=Inputs!$E$38,$D$26,0)","v":0},{"$f":"IF(VQY2>=Inputs!$E$38,$D$26,0)","v":0},{"$f":"IF(VQZ2>=Inputs!$E$38,$D$26,0)","v":0},{"$f":"IF(VRA2>=Inputs!$E$38,$D$26,0)","v":0},{"$f":"IF(VRB2>=Inputs!$E$38,$D$26,0)","v":0},{"$f":"IF(VRC2>=Inputs!$E$38,$D$26,0)","v":0},{"$f":"IF(VRD2>=Inputs!$E$38,$D$26,0)","v":0},{"$f":"IF(VRE2>=Inputs!$E$38,$D$26,0)","v":0},{"$f":"IF(VRF2>=Inputs!$E$38,$D$26,0)","v":0},{"$f":"IF(VRG2>=Inputs!$E$38,$D$26,0)","v":0},{"$f":"IF(VRH2>=Inputs!$E$38,$D$26,0)","v":0},{"$f":"IF(VRI2>=Inputs!$E$38,$D$26,0)","v":0},{"$f":"IF(VRJ2>=Inputs!$E$38,$D$26,0)","v":0},{"$f":"IF(VRK2>=Inputs!$E$38,$D$26,0)","v":0},{"$f":"IF(VRL2>=Inputs!$E$38,$D$26,0)","v":0},{"$f":"IF(VRM2>=Inputs!$E$38,$D$26,0)","v":0},{"$f":"IF(VRN2>=Inputs!$E$38,$D$26,0)","v":0},{"$f":"IF(VRO2>=Inputs!$E$38,$D$26,0)","v":0},{"$f":"IF(VRP2>=Inputs!$E$38,$D$26,0)","v":0},{"$f":"IF(VRQ2>=Inputs!$E$38,$D$26,0)","v":0},{"$f":"IF(VRR2>=Inputs!$E$38,$D$26,0)","v":0},{"$f":"IF(VRS2>=Inputs!$E$38,$D$26,0)","v":0},{"$f":"IF(VRT2>=Inputs!$E$38,$D$26,0)","v":0},{"$f":"IF(VRU2>=Inputs!$E$38,$D$26,0)","v":0},{"$f":"IF(VRV2>=Inputs!$E$38,$D$26,0)","v":0},{"$f":"IF(VRW2>=Inputs!$E$38,$D$26,0)","v":0},{"$f":"IF(VRX2>=Inputs!$E$38,$D$26,0)","v":0},{"$f":"IF(VRY2>=Inputs!$E$38,$D$26,0)","v":0},{"$f":"IF(VRZ2>=Inputs!$E$38,$D$26,0)","v":0},{"$f":"IF(VSA2>=Inputs!$E$38,$D$26,0)","v":0},{"$f":"IF(VSB2>=Inputs!$E$38,$D$26,0)","v":0},{"$f":"IF(VSC2>=Inputs!$E$38,$D$26,0)","v":0},{"$f":"IF(VSD2>=Inputs!$E$38,$D$26,0)","v":0},{"$f":"IF(VSE2>=Inputs!$E$38,$D$26,0)","v":0},{"$f":"IF(VSF2>=Inputs!$E$38,$D$26,0)","v":0},{"$f":"IF(VSG2>=Inputs!$E$38,$D$26,0)","v":0},{"$f":"IF(VSH2>=Inputs!$E$38,$D$26,0)","v":0},{"$f":"IF(VSI2>=Inputs!$E$38,$D$26,0)","v":0},{"$f":"IF(VSJ2>=Inputs!$E$38,$D$26,0)","v":0},{"$f":"IF(VSK2>=Inputs!$E$38,$D$26,0)","v":0},{"$f":"IF(VSL2>=Inputs!$E$38,$D$26,0)","v":0},{"$f":"IF(VSM2>=Inputs!$E$38,$D$26,0)","v":0},{"$f":"IF(VSN2>=Inputs!$E$38,$D$26,0)","v":0},{"$f":"IF(VSO2>=Inputs!$E$38,$D$26,0)","v":0},{"$f":"IF(VSP2>=Inputs!$E$38,$D$26,0)","v":0},{"$f":"IF(VSQ2>=Inputs!$E$38,$D$26,0)","v":0},{"$f":"IF(VSR2>=Inputs!$E$38,$D$26,0)","v":0},{"$f":"IF(VSS2>=Inputs!$E$38,$D$26,0)","v":0},{"$f":"IF(VST2>=Inputs!$E$38,$D$26,0)","v":0},{"$f":"IF(VSU2>=Inputs!$E$38,$D$26,0)","v":0},{"$f":"IF(VSV2>=Inputs!$E$38,$D$26,0)","v":0},{"$f":"IF(VSW2>=Inputs!$E$38,$D$26,0)","v":0},{"$f":"IF(VSX2>=Inputs!$E$38,$D$26,0)","v":0},{"$f":"IF(VSY2>=Inputs!$E$38,$D$26,0)","v":0},{"$f":"IF(VSZ2>=Inputs!$E$38,$D$26,0)","v":0},{"$f":"IF(VTA2>=Inputs!$E$38,$D$26,0)","v":0},{"$f":"IF(VTB2>=Inputs!$E$38,$D$26,0)","v":0},{"$f":"IF(VTC2>=Inputs!$E$38,$D$26,0)","v":0},{"$f":"IF(VTD2>=Inputs!$E$38,$D$26,0)","v":0},{"$f":"IF(VTE2>=Inputs!$E$38,$D$26,0)","v":0},{"$f":"IF(VTF2>=Inputs!$E$38,$D$26,0)","v":0},{"$f":"IF(VTG2>=Inputs!$E$38,$D$26,0)","v":0},{"$f":"IF(VTH2>=Inputs!$E$38,$D$26,0)","v":0},{"$f":"IF(VTI2>=Inputs!$E$38,$D$26,0)","v":0},{"$f":"IF(VTJ2>=Inputs!$E$38,$D$26,0)","v":0},{"$f":"IF(VTK2>=Inputs!$E$38,$D$26,0)","v":0},{"$f":"IF(VTL2>=Inputs!$E$38,$D$26,0)","v":0},{"$f":"IF(VTM2>=Inputs!$E$38,$D$26,0)","v":0},{"$f":"IF(VTN2>=Inputs!$E$38,$D$26,0)","v":0},{"$f":"IF(VTO2>=Inputs!$E$38,$D$26,0)","v":0},{"$f":"IF(VTP2>=Inputs!$E$38,$D$26,0)","v":0},{"$f":"IF(VTQ2>=Inputs!$E$38,$D$26,0)","v":0},{"$f":"IF(VTR2>=Inputs!$E$38,$D$26,0)","v":0},{"$f":"IF(VTS2>=Inputs!$E$38,$D$26,0)","v":0},{"$f":"IF(VTT2>=Inputs!$E$38,$D$26,0)","v":0},{"$f":"IF(VTU2>=Inputs!$E$38,$D$26,0)","v":0},{"$f":"IF(VTV2>=Inputs!$E$38,$D$26,0)","v":0},{"$f":"IF(VTW2>=Inputs!$E$38,$D$26,0)","v":0},{"$f":"IF(VTX2>=Inputs!$E$38,$D$26,0)","v":0},{"$f":"IF(VTY2>=Inputs!$E$38,$D$26,0)","v":0},{"$f":"IF(VTZ2>=Inputs!$E$38,$D$26,0)","v":0},{"$f":"IF(VUA2>=Inputs!$E$38,$D$26,0)","v":0},{"$f":"IF(VUB2>=Inputs!$E$38,$D$26,0)","v":0},{"$f":"IF(VUC2>=Inputs!$E$38,$D$26,0)","v":0},{"$f":"IF(VUD2>=Inputs!$E$38,$D$26,0)","v":0},{"$f":"IF(VUE2>=Inputs!$E$38,$D$26,0)","v":0},{"$f":"IF(VUF2>=Inputs!$E$38,$D$26,0)","v":0},{"$f":"IF(VUG2>=Inputs!$E$38,$D$26,0)","v":0},{"$f":"IF(VUH2>=Inputs!$E$38,$D$26,0)","v":0},{"$f":"IF(VUI2>=Inputs!$E$38,$D$26,0)","v":0},{"$f":"IF(VUJ2>=Inputs!$E$38,$D$26,0)","v":0},{"$f":"IF(VUK2>=Inputs!$E$38,$D$26,0)","v":0},{"$f":"IF(VUL2>=Inputs!$E$38,$D$26,0)","v":0},{"$f":"IF(VUM2>=Inputs!$E$38,$D$26,0)","v":0},{"$f":"IF(VUN2>=Inputs!$E$38,$D$26,0)","v":0},{"$f":"IF(VUO2>=Inputs!$E$38,$D$26,0)","v":0},{"$f":"IF(VUP2>=Inputs!$E$38,$D$26,0)","v":0},{"$f":"IF(VUQ2>=Inputs!$E$38,$D$26,0)","v":0},{"$f":"IF(VUR2>=Inputs!$E$38,$D$26,0)","v":0},{"$f":"IF(VUS2>=Inputs!$E$38,$D$26,0)","v":0},{"$f":"IF(VUT2>=Inputs!$E$38,$D$26,0)","v":0},{"$f":"IF(VUU2>=Inputs!$E$38,$D$26,0)","v":0},{"$f":"IF(VUV2>=Inputs!$E$38,$D$26,0)","v":0},{"$f":"IF(VUW2>=Inputs!$E$38,$D$26,0)","v":0},{"$f":"IF(VUX2>=Inputs!$E$38,$D$26,0)","v":0},{"$f":"IF(VUY2>=Inputs!$E$38,$D$26,0)","v":0},{"$f":"IF(VUZ2>=Inputs!$E$38,$D$26,0)","v":0},{"$f":"IF(VVA2>=Inputs!$E$38,$D$26,0)","v":0},{"$f":"IF(VVB2>=Inputs!$E$38,$D$26,0)","v":0},{"$f":"IF(VVC2>=Inputs!$E$38,$D$26,0)","v":0},{"$f":"IF(VVD2>=Inputs!$E$38,$D$26,0)","v":0},{"$f":"IF(VVE2>=Inputs!$E$38,$D$26,0)","v":0},{"$f":"IF(VVF2>=Inputs!$E$38,$D$26,0)","v":0},{"$f":"IF(VVG2>=Inputs!$E$38,$D$26,0)","v":0},{"$f":"IF(VVH2>=Inputs!$E$38,$D$26,0)","v":0},{"$f":"IF(VVI2>=Inputs!$E$38,$D$26,0)","v":0},{"$f":"IF(VVJ2>=Inputs!$E$38,$D$26,0)","v":0},{"$f":"IF(VVK2>=Inputs!$E$38,$D$26,0)","v":0},{"$f":"IF(VVL2>=Inputs!$E$38,$D$26,0)","v":0},{"$f":"IF(VVM2>=Inputs!$E$38,$D$26,0)","v":0},{"$f":"IF(VVN2>=Inputs!$E$38,$D$26,0)","v":0},{"$f":"IF(VVO2>=Inputs!$E$38,$D$26,0)","v":0},{"$f":"IF(VVP2>=Inputs!$E$38,$D$26,0)","v":0},{"$f":"IF(VVQ2>=Inputs!$E$38,$D$26,0)","v":0},{"$f":"IF(VVR2>=Inputs!$E$38,$D$26,0)","v":0},{"$f":"IF(VVS2>=Inputs!$E$38,$D$26,0)","v":0},{"$f":"IF(VVT2>=Inputs!$E$38,$D$26,0)","v":0},{"$f":"IF(VVU2>=Inputs!$E$38,$D$26,0)","v":0},{"$f":"IF(VVV2>=Inputs!$E$38,$D$26,0)","v":0},{"$f":"IF(VVW2>=Inputs!$E$38,$D$26,0)","v":0},{"$f":"IF(VVX2>=Inputs!$E$38,$D$26,0)","v":0},{"$f":"IF(VVY2>=Inputs!$E$38,$D$26,0)","v":0},{"$f":"IF(VVZ2>=Inputs!$E$38,$D$26,0)","v":0},{"$f":"IF(VWA2>=Inputs!$E$38,$D$26,0)","v":0},{"$f":"IF(VWB2>=Inputs!$E$38,$D$26,0)","v":0},{"$f":"IF(VWC2>=Inputs!$E$38,$D$26,0)","v":0},{"$f":"IF(VWD2>=Inputs!$E$38,$D$26,0)","v":0},{"$f":"IF(VWE2>=Inputs!$E$38,$D$26,0)","v":0},{"$f":"IF(VWF2>=Inputs!$E$38,$D$26,0)","v":0},{"$f":"IF(VWG2>=Inputs!$E$38,$D$26,0)","v":0},{"$f":"IF(VWH2>=Inputs!$E$38,$D$26,0)","v":0},{"$f":"IF(VWI2>=Inputs!$E$38,$D$26,0)","v":0},{"$f":"IF(VWJ2>=Inputs!$E$38,$D$26,0)","v":0},{"$f":"IF(VWK2>=Inputs!$E$38,$D$26,0)","v":0},{"$f":"IF(VWL2>=Inputs!$E$38,$D$26,0)","v":0},{"$f":"IF(VWM2>=Inputs!$E$38,$D$26,0)","v":0},{"$f":"IF(VWN2>=Inputs!$E$38,$D$26,0)","v":0},{"$f":"IF(VWO2>=Inputs!$E$38,$D$26,0)","v":0},{"$f":"IF(VWP2>=Inputs!$E$38,$D$26,0)","v":0},{"$f":"IF(VWQ2>=Inputs!$E$38,$D$26,0)","v":0},{"$f":"IF(VWR2>=Inputs!$E$38,$D$26,0)","v":0},{"$f":"IF(VWS2>=Inputs!$E$38,$D$26,0)","v":0},{"$f":"IF(VWT2>=Inputs!$E$38,$D$26,0)","v":0},{"$f":"IF(VWU2>=Inputs!$E$38,$D$26,0)","v":0},{"$f":"IF(VWV2>=Inputs!$E$38,$D$26,0)","v":0},{"$f":"IF(VWW2>=Inputs!$E$38,$D$26,0)","v":0},{"$f":"IF(VWX2>=Inputs!$E$38,$D$26,0)","v":0},{"$f":"IF(VWY2>=Inputs!$E$38,$D$26,0)","v":0},{"$f":"IF(VWZ2>=Inputs!$E$38,$D$26,0)","v":0},{"$f":"IF(VXA2>=Inputs!$E$38,$D$26,0)","v":0},{"$f":"IF(VXB2>=Inputs!$E$38,$D$26,0)","v":0},{"$f":"IF(VXC2>=Inputs!$E$38,$D$26,0)","v":0},{"$f":"IF(VXD2>=Inputs!$E$38,$D$26,0)","v":0},{"$f":"IF(VXE2>=Inputs!$E$38,$D$26,0)","v":0},{"$f":"IF(VXF2>=Inputs!$E$38,$D$26,0)","v":0},{"$f":"IF(VXG2>=Inputs!$E$38,$D$26,0)","v":0},{"$f":"IF(VXH2>=Inputs!$E$38,$D$26,0)","v":0},{"$f":"IF(VXI2>=Inputs!$E$38,$D$26,0)","v":0},{"$f":"IF(VXJ2>=Inputs!$E$38,$D$26,0)","v":0},{"$f":"IF(VXK2>=Inputs!$E$38,$D$26,0)","v":0},{"$f":"IF(VXL2>=Inputs!$E$38,$D$26,0)","v":0},{"$f":"IF(VXM2>=Inputs!$E$38,$D$26,0)","v":0},{"$f":"IF(VXN2>=Inputs!$E$38,$D$26,0)","v":0},{"$f":"IF(VXO2>=Inputs!$E$38,$D$26,0)","v":0},{"$f":"IF(VXP2>=Inputs!$E$38,$D$26,0)","v":0},{"$f":"IF(VXQ2>=Inputs!$E$38,$D$26,0)","v":0},{"$f":"IF(VXR2>=Inputs!$E$38,$D$26,0)","v":0},{"$f":"IF(VXS2>=Inputs!$E$38,$D$26,0)","v":0},{"$f":"IF(VXT2>=Inputs!$E$38,$D$26,0)","v":0},{"$f":"IF(VXU2>=Inputs!$E$38,$D$26,0)","v":0},{"$f":"IF(VXV2>=Inputs!$E$38,$D$26,0)","v":0},{"$f":"IF(VXW2>=Inputs!$E$38,$D$26,0)","v":0},{"$f":"IF(VXX2>=Inputs!$E$38,$D$26,0)","v":0},{"$f":"IF(VXY2>=Inputs!$E$38,$D$26,0)","v":0},{"$f":"IF(VXZ2>=Inputs!$E$38,$D$26,0)","v":0},{"$f":"IF(VYA2>=Inputs!$E$38,$D$26,0)","v":0},{"$f":"IF(VYB2>=Inputs!$E$38,$D$26,0)","v":0},{"$f":"IF(VYC2>=Inputs!$E$38,$D$26,0)","v":0},{"$f":"IF(VYD2>=Inputs!$E$38,$D$26,0)","v":0},{"$f":"IF(VYE2>=Inputs!$E$38,$D$26,0)","v":0},{"$f":"IF(VYF2>=Inputs!$E$38,$D$26,0)","v":0},{"$f":"IF(VYG2>=Inputs!$E$38,$D$26,0)","v":0},{"$f":"IF(VYH2>=Inputs!$E$38,$D$26,0)","v":0},{"$f":"IF(VYI2>=Inputs!$E$38,$D$26,0)","v":0},{"$f":"IF(VYJ2>=Inputs!$E$38,$D$26,0)","v":0},{"$f":"IF(VYK2>=Inputs!$E$38,$D$26,0)","v":0},{"$f":"IF(VYL2>=Inputs!$E$38,$D$26,0)","v":0},{"$f":"IF(VYM2>=Inputs!$E$38,$D$26,0)","v":0},{"$f":"IF(VYN2>=Inputs!$E$38,$D$26,0)","v":0},{"$f":"IF(VYO2>=Inputs!$E$38,$D$26,0)","v":0},{"$f":"IF(VYP2>=Inputs!$E$38,$D$26,0)","v":0},{"$f":"IF(VYQ2>=Inputs!$E$38,$D$26,0)","v":0},{"$f":"IF(VYR2>=Inputs!$E$38,$D$26,0)","v":0},{"$f":"IF(VYS2>=Inputs!$E$38,$D$26,0)","v":0},{"$f":"IF(VYT2>=Inputs!$E$38,$D$26,0)","v":0},{"$f":"IF(VYU2>=Inputs!$E$38,$D$26,0)","v":0},{"$f":"IF(VYV2>=Inputs!$E$38,$D$26,0)","v":0},{"$f":"IF(VYW2>=Inputs!$E$38,$D$26,0)","v":0},{"$f":"IF(VYX2>=Inputs!$E$38,$D$26,0)","v":0},{"$f":"IF(VYY2>=Inputs!$E$38,$D$26,0)","v":0},{"$f":"IF(VYZ2>=Inputs!$E$38,$D$26,0)","v":0},{"$f":"IF(VZA2>=Inputs!$E$38,$D$26,0)","v":0},{"$f":"IF(VZB2>=Inputs!$E$38,$D$26,0)","v":0},{"$f":"IF(VZC2>=Inputs!$E$38,$D$26,0)","v":0},{"$f":"IF(VZD2>=Inputs!$E$38,$D$26,0)","v":0},{"$f":"IF(VZE2>=Inputs!$E$38,$D$26,0)","v":0},{"$f":"IF(VZF2>=Inputs!$E$38,$D$26,0)","v":0},{"$f":"IF(VZG2>=Inputs!$E$38,$D$26,0)","v":0},{"$f":"IF(VZH2>=Inputs!$E$38,$D$26,0)","v":0},{"$f":"IF(VZI2>=Inputs!$E$38,$D$26,0)","v":0},{"$f":"IF(VZJ2>=Inputs!$E$38,$D$26,0)","v":0},{"$f":"IF(VZK2>=Inputs!$E$38,$D$26,0)","v":0},{"$f":"IF(VZL2>=Inputs!$E$38,$D$26,0)","v":0},{"$f":"IF(VZM2>=Inputs!$E$38,$D$26,0)","v":0},{"$f":"IF(VZN2>=Inputs!$E$38,$D$26,0)","v":0},{"$f":"IF(VZO2>=Inputs!$E$38,$D$26,0)","v":0},{"$f":"IF(VZP2>=Inputs!$E$38,$D$26,0)","v":0},{"$f":"IF(VZQ2>=Inputs!$E$38,$D$26,0)","v":0},{"$f":"IF(VZR2>=Inputs!$E$38,$D$26,0)","v":0},{"$f":"IF(VZS2>=Inputs!$E$38,$D$26,0)","v":0},{"$f":"IF(VZT2>=Inputs!$E$38,$D$26,0)","v":0},{"$f":"IF(VZU2>=Inputs!$E$38,$D$26,0)","v":0},{"$f":"IF(VZV2>=Inputs!$E$38,$D$26,0)","v":0},{"$f":"IF(VZW2>=Inputs!$E$38,$D$26,0)","v":0},{"$f":"IF(VZX2>=Inputs!$E$38,$D$26,0)","v":0},{"$f":"IF(VZY2>=Inputs!$E$38,$D$26,0)","v":0},{"$f":"IF(VZZ2>=Inputs!$E$38,$D$26,0)","v":0},{"$f":"IF(WAA2>=Inputs!$E$38,$D$26,0)","v":0},{"$f":"IF(WAB2>=Inputs!$E$38,$D$26,0)","v":0},{"$f":"IF(WAC2>=Inputs!$E$38,$D$26,0)","v":0},{"$f":"IF(WAD2>=Inputs!$E$38,$D$26,0)","v":0},{"$f":"IF(WAE2>=Inputs!$E$38,$D$26,0)","v":0},{"$f":"IF(WAF2>=Inputs!$E$38,$D$26,0)","v":0},{"$f":"IF(WAG2>=Inputs!$E$38,$D$26,0)","v":0},{"$f":"IF(WAH2>=Inputs!$E$38,$D$26,0)","v":0},{"$f":"IF(WAI2>=Inputs!$E$38,$D$26,0)","v":0},{"$f":"IF(WAJ2>=Inputs!$E$38,$D$26,0)","v":0},{"$f":"IF(WAK2>=Inputs!$E$38,$D$26,0)","v":0},{"$f":"IF(WAL2>=Inputs!$E$38,$D$26,0)","v":0},{"$f":"IF(WAM2>=Inputs!$E$38,$D$26,0)","v":0},{"$f":"IF(WAN2>=Inputs!$E$38,$D$26,0)","v":0},{"$f":"IF(WAO2>=Inputs!$E$38,$D$26,0)","v":0},{"$f":"IF(WAP2>=Inputs!$E$38,$D$26,0)","v":0},{"$f":"IF(WAQ2>=Inputs!$E$38,$D$26,0)","v":0},{"$f":"IF(WAR2>=Inputs!$E$38,$D$26,0)","v":0},{"$f":"IF(WAS2>=Inputs!$E$38,$D$26,0)","v":0},{"$f":"IF(WAT2>=Inputs!$E$38,$D$26,0)","v":0},{"$f":"IF(WAU2>=Inputs!$E$38,$D$26,0)","v":0},{"$f":"IF(WAV2>=Inputs!$E$38,$D$26,0)","v":0},{"$f":"IF(WAW2>=Inputs!$E$38,$D$26,0)","v":0},{"$f":"IF(WAX2>=Inputs!$E$38,$D$26,0)","v":0},{"$f":"IF(WAY2>=Inputs!$E$38,$D$26,0)","v":0},{"$f":"IF(WAZ2>=Inputs!$E$38,$D$26,0)","v":0},{"$f":"IF(WBA2>=Inputs!$E$38,$D$26,0)","v":0},{"$f":"IF(WBB2>=Inputs!$E$38,$D$26,0)","v":0},{"$f":"IF(WBC2>=Inputs!$E$38,$D$26,0)","v":0},{"$f":"IF(WBD2>=Inputs!$E$38,$D$26,0)","v":0},{"$f":"IF(WBE2>=Inputs!$E$38,$D$26,0)","v":0},{"$f":"IF(WBF2>=Inputs!$E$38,$D$26,0)","v":0},{"$f":"IF(WBG2>=Inputs!$E$38,$D$26,0)","v":0},{"$f":"IF(WBH2>=Inputs!$E$38,$D$26,0)","v":0},{"$f":"IF(WBI2>=Inputs!$E$38,$D$26,0)","v":0},{"$f":"IF(WBJ2>=Inputs!$E$38,$D$26,0)","v":0},{"$f":"IF(WBK2>=Inputs!$E$38,$D$26,0)","v":0},{"$f":"IF(WBL2>=Inputs!$E$38,$D$26,0)","v":0},{"$f":"IF(WBM2>=Inputs!$E$38,$D$26,0)","v":0},{"$f":"IF(WBN2>=Inputs!$E$38,$D$26,0)","v":0},{"$f":"IF(WBO2>=Inputs!$E$38,$D$26,0)","v":0},{"$f":"IF(WBP2>=Inputs!$E$38,$D$26,0)","v":0},{"$f":"IF(WBQ2>=Inputs!$E$38,$D$26,0)","v":0},{"$f":"IF(WBR2>=Inputs!$E$38,$D$26,0)","v":0},{"$f":"IF(WBS2>=Inputs!$E$38,$D$26,0)","v":0},{"$f":"IF(WBT2>=Inputs!$E$38,$D$26,0)","v":0},{"$f":"IF(WBU2>=Inputs!$E$38,$D$26,0)","v":0},{"$f":"IF(WBV2>=Inputs!$E$38,$D$26,0)","v":0},{"$f":"IF(WBW2>=Inputs!$E$38,$D$26,0)","v":0},{"$f":"IF(WBX2>=Inputs!$E$38,$D$26,0)","v":0},{"$f":"IF(WBY2>=Inputs!$E$38,$D$26,0)","v":0},{"$f":"IF(WBZ2>=Inputs!$E$38,$D$26,0)","v":0},{"$f":"IF(WCA2>=Inputs!$E$38,$D$26,0)","v":0},{"$f":"IF(WCB2>=Inputs!$E$38,$D$26,0)","v":0},{"$f":"IF(WCC2>=Inputs!$E$38,$D$26,0)","v":0},{"$f":"IF(WCD2>=Inputs!$E$38,$D$26,0)","v":0},{"$f":"IF(WCE2>=Inputs!$E$38,$D$26,0)","v":0},{"$f":"IF(WCF2>=Inputs!$E$38,$D$26,0)","v":0},{"$f":"IF(WCG2>=Inputs!$E$38,$D$26,0)","v":0},{"$f":"IF(WCH2>=Inputs!$E$38,$D$26,0)","v":0},{"$f":"IF(WCI2>=Inputs!$E$38,$D$26,0)","v":0},{"$f":"IF(WCJ2>=Inputs!$E$38,$D$26,0)","v":0},{"$f":"IF(WCK2>=Inputs!$E$38,$D$26,0)","v":0},{"$f":"IF(WCL2>=Inputs!$E$38,$D$26,0)","v":0},{"$f":"IF(WCM2>=Inputs!$E$38,$D$26,0)","v":0},{"$f":"IF(WCN2>=Inputs!$E$38,$D$26,0)","v":0},{"$f":"IF(WCO2>=Inputs!$E$38,$D$26,0)","v":0},{"$f":"IF(WCP2>=Inputs!$E$38,$D$26,0)","v":0},{"$f":"IF(WCQ2>=Inputs!$E$38,$D$26,0)","v":0},{"$f":"IF(WCR2>=Inputs!$E$38,$D$26,0)","v":0},{"$f":"IF(WCS2>=Inputs!$E$38,$D$26,0)","v":0},{"$f":"IF(WCT2>=Inputs!$E$38,$D$26,0)","v":0},{"$f":"IF(WCU2>=Inputs!$E$38,$D$26,0)","v":0},{"$f":"IF(WCV2>=Inputs!$E$38,$D$26,0)","v":0},{"$f":"IF(WCW2>=Inputs!$E$38,$D$26,0)","v":0},{"$f":"IF(WCX2>=Inputs!$E$38,$D$26,0)","v":0},{"$f":"IF(WCY2>=Inputs!$E$38,$D$26,0)","v":0},{"$f":"IF(WCZ2>=Inputs!$E$38,$D$26,0)","v":0},{"$f":"IF(WDA2>=Inputs!$E$38,$D$26,0)","v":0},{"$f":"IF(WDB2>=Inputs!$E$38,$D$26,0)","v":0},{"$f":"IF(WDC2>=Inputs!$E$38,$D$26,0)","v":0},{"$f":"IF(WDD2>=Inputs!$E$38,$D$26,0)","v":0},{"$f":"IF(WDE2>=Inputs!$E$38,$D$26,0)","v":0},{"$f":"IF(WDF2>=Inputs!$E$38,$D$26,0)","v":0},{"$f":"IF(WDG2>=Inputs!$E$38,$D$26,0)","v":0},{"$f":"IF(WDH2>=Inputs!$E$38,$D$26,0)","v":0},{"$f":"IF(WDI2>=Inputs!$E$38,$D$26,0)","v":0},{"$f":"IF(WDJ2>=Inputs!$E$38,$D$26,0)","v":0},{"$f":"IF(WDK2>=Inputs!$E$38,$D$26,0)","v":0},{"$f":"IF(WDL2>=Inputs!$E$38,$D$26,0)","v":0},{"$f":"IF(WDM2>=Inputs!$E$38,$D$26,0)","v":0},{"$f":"IF(WDN2>=Inputs!$E$38,$D$26,0)","v":0},{"$f":"IF(WDO2>=Inputs!$E$38,$D$26,0)","v":0},{"$f":"IF(WDP2>=Inputs!$E$38,$D$26,0)","v":0},{"$f":"IF(WDQ2>=Inputs!$E$38,$D$26,0)","v":0},{"$f":"IF(WDR2>=Inputs!$E$38,$D$26,0)","v":0},{"$f":"IF(WDS2>=Inputs!$E$38,$D$26,0)","v":0},{"$f":"IF(WDT2>=Inputs!$E$38,$D$26,0)","v":0},{"$f":"IF(WDU2>=Inputs!$E$38,$D$26,0)","v":0},{"$f":"IF(WDV2>=Inputs!$E$38,$D$26,0)","v":0},{"$f":"IF(WDW2>=Inputs!$E$38,$D$26,0)","v":0},{"$f":"IF(WDX2>=Inputs!$E$38,$D$26,0)","v":0},{"$f":"IF(WDY2>=Inputs!$E$38,$D$26,0)","v":0},{"$f":"IF(WDZ2>=Inputs!$E$38,$D$26,0)","v":0},{"$f":"IF(WEA2>=Inputs!$E$38,$D$26,0)","v":0},{"$f":"IF(WEB2>=Inputs!$E$38,$D$26,0)","v":0},{"$f":"IF(WEC2>=Inputs!$E$38,$D$26,0)","v":0},{"$f":"IF(WED2>=Inputs!$E$38,$D$26,0)","v":0},{"$f":"IF(WEE2>=Inputs!$E$38,$D$26,0)","v":0},{"$f":"IF(WEF2>=Inputs!$E$38,$D$26,0)","v":0},{"$f":"IF(WEG2>=Inputs!$E$38,$D$26,0)","v":0},{"$f":"IF(WEH2>=Inputs!$E$38,$D$26,0)","v":0},{"$f":"IF(WEI2>=Inputs!$E$38,$D$26,0)","v":0},{"$f":"IF(WEJ2>=Inputs!$E$38,$D$26,0)","v":0},{"$f":"IF(WEK2>=Inputs!$E$38,$D$26,0)","v":0},{"$f":"IF(WEL2>=Inputs!$E$38,$D$26,0)","v":0},{"$f":"IF(WEM2>=Inputs!$E$38,$D$26,0)","v":0},{"$f":"IF(WEN2>=Inputs!$E$38,$D$26,0)","v":0},{"$f":"IF(WEO2>=Inputs!$E$38,$D$26,0)","v":0},{"$f":"IF(WEP2>=Inputs!$E$38,$D$26,0)","v":0},{"$f":"IF(WEQ2>=Inputs!$E$38,$D$26,0)","v":0},{"$f":"IF(WER2>=Inputs!$E$38,$D$26,0)","v":0},{"$f":"IF(WES2>=Inputs!$E$38,$D$26,0)","v":0},{"$f":"IF(WET2>=Inputs!$E$38,$D$26,0)","v":0},{"$f":"IF(WEU2>=Inputs!$E$38,$D$26,0)","v":0},{"$f":"IF(WEV2>=Inputs!$E$38,$D$26,0)","v":0},{"$f":"IF(WEW2>=Inputs!$E$38,$D$26,0)","v":0},{"$f":"IF(WEX2>=Inputs!$E$38,$D$26,0)","v":0},{"$f":"IF(WEY2>=Inputs!$E$38,$D$26,0)","v":0},{"$f":"IF(WEZ2>=Inputs!$E$38,$D$26,0)","v":0},{"$f":"IF(WFA2>=Inputs!$E$38,$D$26,0)","v":0},{"$f":"IF(WFB2>=Inputs!$E$38,$D$26,0)","v":0},{"$f":"IF(WFC2>=Inputs!$E$38,$D$26,0)","v":0},{"$f":"IF(WFD2>=Inputs!$E$38,$D$26,0)","v":0},{"$f":"IF(WFE2>=Inputs!$E$38,$D$26,0)","v":0},{"$f":"IF(WFF2>=Inputs!$E$38,$D$26,0)","v":0},{"$f":"IF(WFG2>=Inputs!$E$38,$D$26,0)","v":0},{"$f":"IF(WFH2>=Inputs!$E$38,$D$26,0)","v":0},{"$f":"IF(WFI2>=Inputs!$E$38,$D$26,0)","v":0},{"$f":"IF(WFJ2>=Inputs!$E$38,$D$26,0)","v":0},{"$f":"IF(WFK2>=Inputs!$E$38,$D$26,0)","v":0},{"$f":"IF(WFL2>=Inputs!$E$38,$D$26,0)","v":0},{"$f":"IF(WFM2>=Inputs!$E$38,$D$26,0)","v":0},{"$f":"IF(WFN2>=Inputs!$E$38,$D$26,0)","v":0},{"$f":"IF(WFO2>=Inputs!$E$38,$D$26,0)","v":0},{"$f":"IF(WFP2>=Inputs!$E$38,$D$26,0)","v":0},{"$f":"IF(WFQ2>=Inputs!$E$38,$D$26,0)","v":0},{"$f":"IF(WFR2>=Inputs!$E$38,$D$26,0)","v":0},{"$f":"IF(WFS2>=Inputs!$E$38,$D$26,0)","v":0},{"$f":"IF(WFT2>=Inputs!$E$38,$D$26,0)","v":0},{"$f":"IF(WFU2>=Inputs!$E$38,$D$26,0)","v":0},{"$f":"IF(WFV2>=Inputs!$E$38,$D$26,0)","v":0},{"$f":"IF(WFW2>=Inputs!$E$38,$D$26,0)","v":0},{"$f":"IF(WFX2>=Inputs!$E$38,$D$26,0)","v":0},{"$f":"IF(WFY2>=Inputs!$E$38,$D$26,0)","v":0},{"$f":"IF(WFZ2>=Inputs!$E$38,$D$26,0)","v":0},{"$f":"IF(WGA2>=Inputs!$E$38,$D$26,0)","v":0},{"$f":"IF(WGB2>=Inputs!$E$38,$D$26,0)","v":0},{"$f":"IF(WGC2>=Inputs!$E$38,$D$26,0)","v":0},{"$f":"IF(WGD2>=Inputs!$E$38,$D$26,0)","v":0},{"$f":"IF(WGE2>=Inputs!$E$38,$D$26,0)","v":0},{"$f":"IF(WGF2>=Inputs!$E$38,$D$26,0)","v":0},{"$f":"IF(WGG2>=Inputs!$E$38,$D$26,0)","v":0},{"$f":"IF(WGH2>=Inputs!$E$38,$D$26,0)","v":0},{"$f":"IF(WGI2>=Inputs!$E$38,$D$26,0)","v":0},{"$f":"IF(WGJ2>=Inputs!$E$38,$D$26,0)","v":0},{"$f":"IF(WGK2>=Inputs!$E$38,$D$26,0)","v":0},{"$f":"IF(WGL2>=Inputs!$E$38,$D$26,0)","v":0},{"$f":"IF(WGM2>=Inputs!$E$38,$D$26,0)","v":0},{"$f":"IF(WGN2>=Inputs!$E$38,$D$26,0)","v":0},{"$f":"IF(WGO2>=Inputs!$E$38,$D$26,0)","v":0},{"$f":"IF(WGP2>=Inputs!$E$38,$D$26,0)","v":0},{"$f":"IF(WGQ2>=Inputs!$E$38,$D$26,0)","v":0},{"$f":"IF(WGR2>=Inputs!$E$38,$D$26,0)","v":0},{"$f":"IF(WGS2>=Inputs!$E$38,$D$26,0)","v":0},{"$f":"IF(WGT2>=Inputs!$E$38,$D$26,0)","v":0},{"$f":"IF(WGU2>=Inputs!$E$38,$D$26,0)","v":0},{"$f":"IF(WGV2>=Inputs!$E$38,$D$26,0)","v":0},{"$f":"IF(WGW2>=Inputs!$E$38,$D$26,0)","v":0},{"$f":"IF(WGX2>=Inputs!$E$38,$D$26,0)","v":0},{"$f":"IF(WGY2>=Inputs!$E$38,$D$26,0)","v":0},{"$f":"IF(WGZ2>=Inputs!$E$38,$D$26,0)","v":0},{"$f":"IF(WHA2>=Inputs!$E$38,$D$26,0)","v":0},{"$f":"IF(WHB2>=Inputs!$E$38,$D$26,0)","v":0},{"$f":"IF(WHC2>=Inputs!$E$38,$D$26,0)","v":0},{"$f":"IF(WHD2>=Inputs!$E$38,$D$26,0)","v":0},{"$f":"IF(WHE2>=Inputs!$E$38,$D$26,0)","v":0},{"$f":"IF(WHF2>=Inputs!$E$38,$D$26,0)","v":0},{"$f":"IF(WHG2>=Inputs!$E$38,$D$26,0)","v":0},{"$f":"IF(WHH2>=Inputs!$E$38,$D$26,0)","v":0},{"$f":"IF(WHI2>=Inputs!$E$38,$D$26,0)","v":0},{"$f":"IF(WHJ2>=Inputs!$E$38,$D$26,0)","v":0},{"$f":"IF(WHK2>=Inputs!$E$38,$D$26,0)","v":0},{"$f":"IF(WHL2>=Inputs!$E$38,$D$26,0)","v":0},{"$f":"IF(WHM2>=Inputs!$E$38,$D$26,0)","v":0},{"$f":"IF(WHN2>=Inputs!$E$38,$D$26,0)","v":0},{"$f":"IF(WHO2>=Inputs!$E$38,$D$26,0)","v":0},{"$f":"IF(WHP2>=Inputs!$E$38,$D$26,0)","v":0},{"$f":"IF(WHQ2>=Inputs!$E$38,$D$26,0)","v":0},{"$f":"IF(WHR2>=Inputs!$E$38,$D$26,0)","v":0},{"$f":"IF(WHS2>=Inputs!$E$38,$D$26,0)","v":0},{"$f":"IF(WHT2>=Inputs!$E$38,$D$26,0)","v":0},{"$f":"IF(WHU2>=Inputs!$E$38,$D$26,0)","v":0},{"$f":"IF(WHV2>=Inputs!$E$38,$D$26,0)","v":0},{"$f":"IF(WHW2>=Inputs!$E$38,$D$26,0)","v":0},{"$f":"IF(WHX2>=Inputs!$E$38,$D$26,0)","v":0},{"$f":"IF(WHY2>=Inputs!$E$38,$D$26,0)","v":0},{"$f":"IF(WHZ2>=Inputs!$E$38,$D$26,0)","v":0},{"$f":"IF(WIA2>=Inputs!$E$38,$D$26,0)","v":0},{"$f":"IF(WIB2>=Inputs!$E$38,$D$26,0)","v":0},{"$f":"IF(WIC2>=Inputs!$E$38,$D$26,0)","v":0},{"$f":"IF(WID2>=Inputs!$E$38,$D$26,0)","v":0},{"$f":"IF(WIE2>=Inputs!$E$38,$D$26,0)","v":0},{"$f":"IF(WIF2>=Inputs!$E$38,$D$26,0)","v":0},{"$f":"IF(WIG2>=Inputs!$E$38,$D$26,0)","v":0},{"$f":"IF(WIH2>=Inputs!$E$38,$D$26,0)","v":0},{"$f":"IF(WII2>=Inputs!$E$38,$D$26,0)","v":0},{"$f":"IF(WIJ2>=Inputs!$E$38,$D$26,0)","v":0},{"$f":"IF(WIK2>=Inputs!$E$38,$D$26,0)","v":0},{"$f":"IF(WIL2>=Inputs!$E$38,$D$26,0)","v":0},{"$f":"IF(WIM2>=Inputs!$E$38,$D$26,0)","v":0},{"$f":"IF(WIN2>=Inputs!$E$38,$D$26,0)","v":0},{"$f":"IF(WIO2>=Inputs!$E$38,$D$26,0)","v":0},{"$f":"IF(WIP2>=Inputs!$E$38,$D$26,0)","v":0},{"$f":"IF(WIQ2>=Inputs!$E$38,$D$26,0)","v":0},{"$f":"IF(WIR2>=Inputs!$E$38,$D$26,0)","v":0},{"$f":"IF(WIS2>=Inputs!$E$38,$D$26,0)","v":0},{"$f":"IF(WIT2>=Inputs!$E$38,$D$26,0)","v":0},{"$f":"IF(WIU2>=Inputs!$E$38,$D$26,0)","v":0},{"$f":"IF(WIV2>=Inputs!$E$38,$D$26,0)","v":0},{"$f":"IF(WIW2>=Inputs!$E$38,$D$26,0)","v":0},{"$f":"IF(WIX2>=Inputs!$E$38,$D$26,0)","v":0},{"$f":"IF(WIY2>=Inputs!$E$38,$D$26,0)","v":0},{"$f":"IF(WIZ2>=Inputs!$E$38,$D$26,0)","v":0},{"$f":"IF(WJA2>=Inputs!$E$38,$D$26,0)","v":0},{"$f":"IF(WJB2>=Inputs!$E$38,$D$26,0)","v":0},{"$f":"IF(WJC2>=Inputs!$E$38,$D$26,0)","v":0},{"$f":"IF(WJD2>=Inputs!$E$38,$D$26,0)","v":0},{"$f":"IF(WJE2>=Inputs!$E$38,$D$26,0)","v":0},{"$f":"IF(WJF2>=Inputs!$E$38,$D$26,0)","v":0},{"$f":"IF(WJG2>=Inputs!$E$38,$D$26,0)","v":0},{"$f":"IF(WJH2>=Inputs!$E$38,$D$26,0)","v":0},{"$f":"IF(WJI2>=Inputs!$E$38,$D$26,0)","v":0},{"$f":"IF(WJJ2>=Inputs!$E$38,$D$26,0)","v":0},{"$f":"IF(WJK2>=Inputs!$E$38,$D$26,0)","v":0},{"$f":"IF(WJL2>=Inputs!$E$38,$D$26,0)","v":0},{"$f":"IF(WJM2>=Inputs!$E$38,$D$26,0)","v":0},{"$f":"IF(WJN2>=Inputs!$E$38,$D$26,0)","v":0},{"$f":"IF(WJO2>=Inputs!$E$38,$D$26,0)","v":0},{"$f":"IF(WJP2>=Inputs!$E$38,$D$26,0)","v":0},{"$f":"IF(WJQ2>=Inputs!$E$38,$D$26,0)","v":0},{"$f":"IF(WJR2>=Inputs!$E$38,$D$26,0)","v":0},{"$f":"IF(WJS2>=Inputs!$E$38,$D$26,0)","v":0},{"$f":"IF(WJT2>=Inputs!$E$38,$D$26,0)","v":0},{"$f":"IF(WJU2>=Inputs!$E$38,$D$26,0)","v":0},{"$f":"IF(WJV2>=Inputs!$E$38,$D$26,0)","v":0},{"$f":"IF(WJW2>=Inputs!$E$38,$D$26,0)","v":0},{"$f":"IF(WJX2>=Inputs!$E$38,$D$26,0)","v":0},{"$f":"IF(WJY2>=Inputs!$E$38,$D$26,0)","v":0},{"$f":"IF(WJZ2>=Inputs!$E$38,$D$26,0)","v":0},{"$f":"IF(WKA2>=Inputs!$E$38,$D$26,0)","v":0},{"$f":"IF(WKB2>=Inputs!$E$38,$D$26,0)","v":0},{"$f":"IF(WKC2>=Inputs!$E$38,$D$26,0)","v":0},{"$f":"IF(WKD2>=Inputs!$E$38,$D$26,0)","v":0},{"$f":"IF(WKE2>=Inputs!$E$38,$D$26,0)","v":0},{"$f":"IF(WKF2>=Inputs!$E$38,$D$26,0)","v":0},{"$f":"IF(WKG2>=Inputs!$E$38,$D$26,0)","v":0},{"$f":"IF(WKH2>=Inputs!$E$38,$D$26,0)","v":0},{"$f":"IF(WKI2>=Inputs!$E$38,$D$26,0)","v":0},{"$f":"IF(WKJ2>=Inputs!$E$38,$D$26,0)","v":0},{"$f":"IF(WKK2>=Inputs!$E$38,$D$26,0)","v":0},{"$f":"IF(WKL2>=Inputs!$E$38,$D$26,0)","v":0},{"$f":"IF(WKM2>=Inputs!$E$38,$D$26,0)","v":0},{"$f":"IF(WKN2>=Inputs!$E$38,$D$26,0)","v":0},{"$f":"IF(WKO2>=Inputs!$E$38,$D$26,0)","v":0},{"$f":"IF(WKP2>=Inputs!$E$38,$D$26,0)","v":0},{"$f":"IF(WKQ2>=Inputs!$E$38,$D$26,0)","v":0},{"$f":"IF(WKR2>=Inputs!$E$38,$D$26,0)","v":0},{"$f":"IF(WKS2>=Inputs!$E$38,$D$26,0)","v":0},{"$f":"IF(WKT2>=Inputs!$E$38,$D$26,0)","v":0},{"$f":"IF(WKU2>=Inputs!$E$38,$D$26,0)","v":0},{"$f":"IF(WKV2>=Inputs!$E$38,$D$26,0)","v":0},{"$f":"IF(WKW2>=Inputs!$E$38,$D$26,0)","v":0},{"$f":"IF(WKX2>=Inputs!$E$38,$D$26,0)","v":0},{"$f":"IF(WKY2>=Inputs!$E$38,$D$26,0)","v":0},{"$f":"IF(WKZ2>=Inputs!$E$38,$D$26,0)","v":0},{"$f":"IF(WLA2>=Inputs!$E$38,$D$26,0)","v":0},{"$f":"IF(WLB2>=Inputs!$E$38,$D$26,0)","v":0},{"$f":"IF(WLC2>=Inputs!$E$38,$D$26,0)","v":0},{"$f":"IF(WLD2>=Inputs!$E$38,$D$26,0)","v":0},{"$f":"IF(WLE2>=Inputs!$E$38,$D$26,0)","v":0},{"$f":"IF(WLF2>=Inputs!$E$38,$D$26,0)","v":0},{"$f":"IF(WLG2>=Inputs!$E$38,$D$26,0)","v":0},{"$f":"IF(WLH2>=Inputs!$E$38,$D$26,0)","v":0},{"$f":"IF(WLI2>=Inputs!$E$38,$D$26,0)","v":0},{"$f":"IF(WLJ2>=Inputs!$E$38,$D$26,0)","v":0},{"$f":"IF(WLK2>=Inputs!$E$38,$D$26,0)","v":0},{"$f":"IF(WLL2>=Inputs!$E$38,$D$26,0)","v":0},{"$f":"IF(WLM2>=Inputs!$E$38,$D$26,0)","v":0},{"$f":"IF(WLN2>=Inputs!$E$38,$D$26,0)","v":0},{"$f":"IF(WLO2>=Inputs!$E$38,$D$26,0)","v":0},{"$f":"IF(WLP2>=Inputs!$E$38,$D$26,0)","v":0},{"$f":"IF(WLQ2>=Inputs!$E$38,$D$26,0)","v":0},{"$f":"IF(WLR2>=Inputs!$E$38,$D$26,0)","v":0},{"$f":"IF(WLS2>=Inputs!$E$38,$D$26,0)","v":0},{"$f":"IF(WLT2>=Inputs!$E$38,$D$26,0)","v":0},{"$f":"IF(WLU2>=Inputs!$E$38,$D$26,0)","v":0},{"$f":"IF(WLV2>=Inputs!$E$38,$D$26,0)","v":0},{"$f":"IF(WLW2>=Inputs!$E$38,$D$26,0)","v":0},{"$f":"IF(WLX2>=Inputs!$E$38,$D$26,0)","v":0},{"$f":"IF(WLY2>=Inputs!$E$38,$D$26,0)","v":0},{"$f":"IF(WLZ2>=Inputs!$E$38,$D$26,0)","v":0},{"$f":"IF(WMA2>=Inputs!$E$38,$D$26,0)","v":0},{"$f":"IF(WMB2>=Inputs!$E$38,$D$26,0)","v":0},{"$f":"IF(WMC2>=Inputs!$E$38,$D$26,0)","v":0},{"$f":"IF(WMD2>=Inputs!$E$38,$D$26,0)","v":0},{"$f":"IF(WME2>=Inputs!$E$38,$D$26,0)","v":0},{"$f":"IF(WMF2>=Inputs!$E$38,$D$26,0)","v":0},{"$f":"IF(WMG2>=Inputs!$E$38,$D$26,0)","v":0},{"$f":"IF(WMH2>=Inputs!$E$38,$D$26,0)","v":0},{"$f":"IF(WMI2>=Inputs!$E$38,$D$26,0)","v":0},{"$f":"IF(WMJ2>=Inputs!$E$38,$D$26,0)","v":0},{"$f":"IF(WMK2>=Inputs!$E$38,$D$26,0)","v":0},{"$f":"IF(WML2>=Inputs!$E$38,$D$26,0)","v":0},{"$f":"IF(WMM2>=Inputs!$E$38,$D$26,0)","v":0},{"$f":"IF(WMN2>=Inputs!$E$38,$D$26,0)","v":0},{"$f":"IF(WMO2>=Inputs!$E$38,$D$26,0)","v":0},{"$f":"IF(WMP2>=Inputs!$E$38,$D$26,0)","v":0},{"$f":"IF(WMQ2>=Inputs!$E$38,$D$26,0)","v":0},{"$f":"IF(WMR2>=Inputs!$E$38,$D$26,0)","v":0},{"$f":"IF(WMS2>=Inputs!$E$38,$D$26,0)","v":0},{"$f":"IF(WMT2>=Inputs!$E$38,$D$26,0)","v":0},{"$f":"IF(WMU2>=Inputs!$E$38,$D$26,0)","v":0},{"$f":"IF(WMV2>=Inputs!$E$38,$D$26,0)","v":0},{"$f":"IF(WMW2>=Inputs!$E$38,$D$26,0)","v":0},{"$f":"IF(WMX2>=Inputs!$E$38,$D$26,0)","v":0},{"$f":"IF(WMY2>=Inputs!$E$38,$D$26,0)","v":0},{"$f":"IF(WMZ2>=Inputs!$E$38,$D$26,0)","v":0},{"$f":"IF(WNA2>=Inputs!$E$38,$D$26,0)","v":0},{"$f":"IF(WNB2>=Inputs!$E$38,$D$26,0)","v":0},{"$f":"IF(WNC2>=Inputs!$E$38,$D$26,0)","v":0},{"$f":"IF(WND2>=Inputs!$E$38,$D$26,0)","v":0},{"$f":"IF(WNE2>=Inputs!$E$38,$D$26,0)","v":0},{"$f":"IF(WNF2>=Inputs!$E$38,$D$26,0)","v":0},{"$f":"IF(WNG2>=Inputs!$E$38,$D$26,0)","v":0},{"$f":"IF(WNH2>=Inputs!$E$38,$D$26,0)","v":0},{"$f":"IF(WNI2>=Inputs!$E$38,$D$26,0)","v":0},{"$f":"IF(WNJ2>=Inputs!$E$38,$D$26,0)","v":0},{"$f":"IF(WNK2>=Inputs!$E$38,$D$26,0)","v":0},{"$f":"IF(WNL2>=Inputs!$E$38,$D$26,0)","v":0},{"$f":"IF(WNM2>=Inputs!$E$38,$D$26,0)","v":0},{"$f":"IF(WNN2>=Inputs!$E$38,$D$26,0)","v":0},{"$f":"IF(WNO2>=Inputs!$E$38,$D$26,0)","v":0},{"$f":"IF(WNP2>=Inputs!$E$38,$D$26,0)","v":0},{"$f":"IF(WNQ2>=Inputs!$E$38,$D$26,0)","v":0},{"$f":"IF(WNR2>=Inputs!$E$38,$D$26,0)","v":0},{"$f":"IF(WNS2>=Inputs!$E$38,$D$26,0)","v":0},{"$f":"IF(WNT2>=Inputs!$E$38,$D$26,0)","v":0},{"$f":"IF(WNU2>=Inputs!$E$38,$D$26,0)","v":0},{"$f":"IF(WNV2>=Inputs!$E$38,$D$26,0)","v":0},{"$f":"IF(WNW2>=Inputs!$E$38,$D$26,0)","v":0},{"$f":"IF(WNX2>=Inputs!$E$38,$D$26,0)","v":0},{"$f":"IF(WNY2>=Inputs!$E$38,$D$26,0)","v":0},{"$f":"IF(WNZ2>=Inputs!$E$38,$D$26,0)","v":0},{"$f":"IF(WOA2>=Inputs!$E$38,$D$26,0)","v":0},{"$f":"IF(WOB2>=Inputs!$E$38,$D$26,0)","v":0},{"$f":"IF(WOC2>=Inputs!$E$38,$D$26,0)","v":0},{"$f":"IF(WOD2>=Inputs!$E$38,$D$26,0)","v":0},{"$f":"IF(WOE2>=Inputs!$E$38,$D$26,0)","v":0},{"$f":"IF(WOF2>=Inputs!$E$38,$D$26,0)","v":0},{"$f":"IF(WOG2>=Inputs!$E$38,$D$26,0)","v":0},{"$f":"IF(WOH2>=Inputs!$E$38,$D$26,0)","v":0},{"$f":"IF(WOI2>=Inputs!$E$38,$D$26,0)","v":0},{"$f":"IF(WOJ2>=Inputs!$E$38,$D$26,0)","v":0},{"$f":"IF(WOK2>=Inputs!$E$38,$D$26,0)","v":0},{"$f":"IF(WOL2>=Inputs!$E$38,$D$26,0)","v":0},{"$f":"IF(WOM2>=Inputs!$E$38,$D$26,0)","v":0},{"$f":"IF(WON2>=Inputs!$E$38,$D$26,0)","v":0},{"$f":"IF(WOO2>=Inputs!$E$38,$D$26,0)","v":0},{"$f":"IF(WOP2>=Inputs!$E$38,$D$26,0)","v":0},{"$f":"IF(WOQ2>=Inputs!$E$38,$D$26,0)","v":0},{"$f":"IF(WOR2>=Inputs!$E$38,$D$26,0)","v":0},{"$f":"IF(WOS2>=Inputs!$E$38,$D$26,0)","v":0},{"$f":"IF(WOT2>=Inputs!$E$38,$D$26,0)","v":0},{"$f":"IF(WOU2>=Inputs!$E$38,$D$26,0)","v":0},{"$f":"IF(WOV2>=Inputs!$E$38,$D$26,0)","v":0},{"$f":"IF(WOW2>=Inputs!$E$38,$D$26,0)","v":0},{"$f":"IF(WOX2>=Inputs!$E$38,$D$26,0)","v":0},{"$f":"IF(WOY2>=Inputs!$E$38,$D$26,0)","v":0},{"$f":"IF(WOZ2>=Inputs!$E$38,$D$26,0)","v":0},{"$f":"IF(WPA2>=Inputs!$E$38,$D$26,0)","v":0},{"$f":"IF(WPB2>=Inputs!$E$38,$D$26,0)","v":0},{"$f":"IF(WPC2>=Inputs!$E$38,$D$26,0)","v":0},{"$f":"IF(WPD2>=Inputs!$E$38,$D$26,0)","v":0},{"$f":"IF(WPE2>=Inputs!$E$38,$D$26,0)","v":0},{"$f":"IF(WPF2>=Inputs!$E$38,$D$26,0)","v":0},{"$f":"IF(WPG2>=Inputs!$E$38,$D$26,0)","v":0},{"$f":"IF(WPH2>=Inputs!$E$38,$D$26,0)","v":0},{"$f":"IF(WPI2>=Inputs!$E$38,$D$26,0)","v":0},{"$f":"IF(WPJ2>=Inputs!$E$38,$D$26,0)","v":0},{"$f":"IF(WPK2>=Inputs!$E$38,$D$26,0)","v":0},{"$f":"IF(WPL2>=Inputs!$E$38,$D$26,0)","v":0},{"$f":"IF(WPM2>=Inputs!$E$38,$D$26,0)","v":0},{"$f":"IF(WPN2>=Inputs!$E$38,$D$26,0)","v":0},{"$f":"IF(WPO2>=Inputs!$E$38,$D$26,0)","v":0},{"$f":"IF(WPP2>=Inputs!$E$38,$D$26,0)","v":0},{"$f":"IF(WPQ2>=Inputs!$E$38,$D$26,0)","v":0},{"$f":"IF(WPR2>=Inputs!$E$38,$D$26,0)","v":0},{"$f":"IF(WPS2>=Inputs!$E$38,$D$26,0)","v":0},{"$f":"IF(WPT2>=Inputs!$E$38,$D$26,0)","v":0},{"$f":"IF(WPU2>=Inputs!$E$38,$D$26,0)","v":0},{"$f":"IF(WPV2>=Inputs!$E$38,$D$26,0)","v":0},{"$f":"IF(WPW2>=Inputs!$E$38,$D$26,0)","v":0},{"$f":"IF(WPX2>=Inputs!$E$38,$D$26,0)","v":0},{"$f":"IF(WPY2>=Inputs!$E$38,$D$26,0)","v":0},{"$f":"IF(WPZ2>=Inputs!$E$38,$D$26,0)","v":0},{"$f":"IF(WQA2>=Inputs!$E$38,$D$26,0)","v":0},{"$f":"IF(WQB2>=Inputs!$E$38,$D$26,0)","v":0},{"$f":"IF(WQC2>=Inputs!$E$38,$D$26,0)","v":0},{"$f":"IF(WQD2>=Inputs!$E$38,$D$26,0)","v":0},{"$f":"IF(WQE2>=Inputs!$E$38,$D$26,0)","v":0},{"$f":"IF(WQF2>=Inputs!$E$38,$D$26,0)","v":0},{"$f":"IF(WQG2>=Inputs!$E$38,$D$26,0)","v":0},{"$f":"IF(WQH2>=Inputs!$E$38,$D$26,0)","v":0},{"$f":"IF(WQI2>=Inputs!$E$38,$D$26,0)","v":0},{"$f":"IF(WQJ2>=Inputs!$E$38,$D$26,0)","v":0},{"$f":"IF(WQK2>=Inputs!$E$38,$D$26,0)","v":0},{"$f":"IF(WQL2>=Inputs!$E$38,$D$26,0)","v":0},{"$f":"IF(WQM2>=Inputs!$E$38,$D$26,0)","v":0},{"$f":"IF(WQN2>=Inputs!$E$38,$D$26,0)","v":0},{"$f":"IF(WQO2>=Inputs!$E$38,$D$26,0)","v":0},{"$f":"IF(WQP2>=Inputs!$E$38,$D$26,0)","v":0},{"$f":"IF(WQQ2>=Inputs!$E$38,$D$26,0)","v":0},{"$f":"IF(WQR2>=Inputs!$E$38,$D$26,0)","v":0},{"$f":"IF(WQS2>=Inputs!$E$38,$D$26,0)","v":0},{"$f":"IF(WQT2>=Inputs!$E$38,$D$26,0)","v":0},{"$f":"IF(WQU2>=Inputs!$E$38,$D$26,0)","v":0},{"$f":"IF(WQV2>=Inputs!$E$38,$D$26,0)","v":0},{"$f":"IF(WQW2>=Inputs!$E$38,$D$26,0)","v":0},{"$f":"IF(WQX2>=Inputs!$E$38,$D$26,0)","v":0},{"$f":"IF(WQY2>=Inputs!$E$38,$D$26,0)","v":0},{"$f":"IF(WQZ2>=Inputs!$E$38,$D$26,0)","v":0},{"$f":"IF(WRA2>=Inputs!$E$38,$D$26,0)","v":0},{"$f":"IF(WRB2>=Inputs!$E$38,$D$26,0)","v":0},{"$f":"IF(WRC2>=Inputs!$E$38,$D$26,0)","v":0},{"$f":"IF(WRD2>=Inputs!$E$38,$D$26,0)","v":0},{"$f":"IF(WRE2>=Inputs!$E$38,$D$26,0)","v":0},{"$f":"IF(WRF2>=Inputs!$E$38,$D$26,0)","v":0},{"$f":"IF(WRG2>=Inputs!$E$38,$D$26,0)","v":0},{"$f":"IF(WRH2>=Inputs!$E$38,$D$26,0)","v":0},{"$f":"IF(WRI2>=Inputs!$E$38,$D$26,0)","v":0},{"$f":"IF(WRJ2>=Inputs!$E$38,$D$26,0)","v":0},{"$f":"IF(WRK2>=Inputs!$E$38,$D$26,0)","v":0},{"$f":"IF(WRL2>=Inputs!$E$38,$D$26,0)","v":0},{"$f":"IF(WRM2>=Inputs!$E$38,$D$26,0)","v":0},{"$f":"IF(WRN2>=Inputs!$E$38,$D$26,0)","v":0},{"$f":"IF(WRO2>=Inputs!$E$38,$D$26,0)","v":0},{"$f":"IF(WRP2>=Inputs!$E$38,$D$26,0)","v":0},{"$f":"IF(WRQ2>=Inputs!$E$38,$D$26,0)","v":0},{"$f":"IF(WRR2>=Inputs!$E$38,$D$26,0)","v":0},{"$f":"IF(WRS2>=Inputs!$E$38,$D$26,0)","v":0},{"$f":"IF(WRT2>=Inputs!$E$38,$D$26,0)","v":0},{"$f":"IF(WRU2>=Inputs!$E$38,$D$26,0)","v":0},{"$f":"IF(WRV2>=Inputs!$E$38,$D$26,0)","v":0},{"$f":"IF(WRW2>=Inputs!$E$38,$D$26,0)","v":0},{"$f":"IF(WRX2>=Inputs!$E$38,$D$26,0)","v":0},{"$f":"IF(WRY2>=Inputs!$E$38,$D$26,0)","v":0},{"$f":"IF(WRZ2>=Inputs!$E$38,$D$26,0)","v":0},{"$f":"IF(WSA2>=Inputs!$E$38,$D$26,0)","v":0},{"$f":"IF(WSB2>=Inputs!$E$38,$D$26,0)","v":0},{"$f":"IF(WSC2>=Inputs!$E$38,$D$26,0)","v":0},{"$f":"IF(WSD2>=Inputs!$E$38,$D$26,0)","v":0},{"$f":"IF(WSE2>=Inputs!$E$38,$D$26,0)","v":0},{"$f":"IF(WSF2>=Inputs!$E$38,$D$26,0)","v":0},{"$f":"IF(WSG2>=Inputs!$E$38,$D$26,0)","v":0},{"$f":"IF(WSH2>=Inputs!$E$38,$D$26,0)","v":0},{"$f":"IF(WSI2>=Inputs!$E$38,$D$26,0)","v":0},{"$f":"IF(WSJ2>=Inputs!$E$38,$D$26,0)","v":0},{"$f":"IF(WSK2>=Inputs!$E$38,$D$26,0)","v":0},{"$f":"IF(WSL2>=Inputs!$E$38,$D$26,0)","v":0},{"$f":"IF(WSM2>=Inputs!$E$38,$D$26,0)","v":0},{"$f":"IF(WSN2>=Inputs!$E$38,$D$26,0)","v":0},{"$f":"IF(WSO2>=Inputs!$E$38,$D$26,0)","v":0},{"$f":"IF(WSP2>=Inputs!$E$38,$D$26,0)","v":0},{"$f":"IF(WSQ2>=Inputs!$E$38,$D$26,0)","v":0},{"$f":"IF(WSR2>=Inputs!$E$38,$D$26,0)","v":0},{"$f":"IF(WSS2>=Inputs!$E$38,$D$26,0)","v":0},{"$f":"IF(WST2>=Inputs!$E$38,$D$26,0)","v":0},{"$f":"IF(WSU2>=Inputs!$E$38,$D$26,0)","v":0},{"$f":"IF(WSV2>=Inputs!$E$38,$D$26,0)","v":0},{"$f":"IF(WSW2>=Inputs!$E$38,$D$26,0)","v":0},{"$f":"IF(WSX2>=Inputs!$E$38,$D$26,0)","v":0},{"$f":"IF(WSY2>=Inputs!$E$38,$D$26,0)","v":0},{"$f":"IF(WSZ2>=Inputs!$E$38,$D$26,0)","v":0},{"$f":"IF(WTA2>=Inputs!$E$38,$D$26,0)","v":0},{"$f":"IF(WTB2>=Inputs!$E$38,$D$26,0)","v":0},{"$f":"IF(WTC2>=Inputs!$E$38,$D$26,0)","v":0},{"$f":"IF(WTD2>=Inputs!$E$38,$D$26,0)","v":0},{"$f":"IF(WTE2>=Inputs!$E$38,$D$26,0)","v":0},{"$f":"IF(WTF2>=Inputs!$E$38,$D$26,0)","v":0},{"$f":"IF(WTG2>=Inputs!$E$38,$D$26,0)","v":0},{"$f":"IF(WTH2>=Inputs!$E$38,$D$26,0)","v":0},{"$f":"IF(WTI2>=Inputs!$E$38,$D$26,0)","v":0},{"$f":"IF(WTJ2>=Inputs!$E$38,$D$26,0)","v":0},{"$f":"IF(WTK2>=Inputs!$E$38,$D$26,0)","v":0},{"$f":"IF(WTL2>=Inputs!$E$38,$D$26,0)","v":0},{"$f":"IF(WTM2>=Inputs!$E$38,$D$26,0)","v":0},{"$f":"IF(WTN2>=Inputs!$E$38,$D$26,0)","v":0},{"$f":"IF(WTO2>=Inputs!$E$38,$D$26,0)","v":0},{"$f":"IF(WTP2>=Inputs!$E$38,$D$26,0)","v":0},{"$f":"IF(WTQ2>=Inputs!$E$38,$D$26,0)","v":0},{"$f":"IF(WTR2>=Inputs!$E$38,$D$26,0)","v":0},{"$f":"IF(WTS2>=Inputs!$E$38,$D$26,0)","v":0},{"$f":"IF(WTT2>=Inputs!$E$38,$D$26,0)","v":0},{"$f":"IF(WTU2>=Inputs!$E$38,$D$26,0)","v":0},{"$f":"IF(WTV2>=Inputs!$E$38,$D$26,0)","v":0},{"$f":"IF(WTW2>=Inputs!$E$38,$D$26,0)","v":0},{"$f":"IF(WTX2>=Inputs!$E$38,$D$26,0)","v":0},{"$f":"IF(WTY2>=Inputs!$E$38,$D$26,0)","v":0},{"$f":"IF(WTZ2>=Inputs!$E$38,$D$26,0)","v":0},{"$f":"IF(WUA2>=Inputs!$E$38,$D$26,0)","v":0},{"$f":"IF(WUB2>=Inputs!$E$38,$D$26,0)","v":0},{"$f":"IF(WUC2>=Inputs!$E$38,$D$26,0)","v":0},{"$f":"IF(WUD2>=Inputs!$E$38,$D$26,0)","v":0},{"$f":"IF(WUE2>=Inputs!$E$38,$D$26,0)","v":0},{"$f":"IF(WUF2>=Inputs!$E$38,$D$26,0)","v":0},{"$f":"IF(WUG2>=Inputs!$E$38,$D$26,0)","v":0},{"$f":"IF(WUH2>=Inputs!$E$38,$D$26,0)","v":0},{"$f":"IF(WUI2>=Inputs!$E$38,$D$26,0)","v":0},{"$f":"IF(WUJ2>=Inputs!$E$38,$D$26,0)","v":0},{"$f":"IF(WUK2>=Inputs!$E$38,$D$26,0)","v":0},{"$f":"IF(WUL2>=Inputs!$E$38,$D$26,0)","v":0},{"$f":"IF(WUM2>=Inputs!$E$38,$D$26,0)","v":0},{"$f":"IF(WUN2>=Inputs!$E$38,$D$26,0)","v":0},{"$f":"IF(WUO2>=Inputs!$E$38,$D$26,0)","v":0},{"$f":"IF(WUP2>=Inputs!$E$38,$D$26,0)","v":0},{"$f":"IF(WUQ2>=Inputs!$E$38,$D$26,0)","v":0},{"$f":"IF(WUR2>=Inputs!$E$38,$D$26,0)","v":0},{"$f":"IF(WUS2>=Inputs!$E$38,$D$26,0)","v":0},{"$f":"IF(WUT2>=Inputs!$E$38,$D$26,0)","v":0},{"$f":"IF(WUU2>=Inputs!$E$38,$D$26,0)","v":0},{"$f":"IF(WUV2>=Inputs!$E$38,$D$26,0)","v":0},{"$f":"IF(WUW2>=Inputs!$E$38,$D$26,0)","v":0},{"$f":"IF(WUX2>=Inputs!$E$38,$D$26,0)","v":0},{"$f":"IF(WUY2>=Inputs!$E$38,$D$26,0)","v":0},{"$f":"IF(WUZ2>=Inputs!$E$38,$D$26,0)","v":0},{"$f":"IF(WVA2>=Inputs!$E$38,$D$26,0)","v":0},{"$f":"IF(WVB2>=Inputs!$E$38,$D$26,0)","v":0},{"$f":"IF(WVC2>=Inputs!$E$38,$D$26,0)","v":0},{"$f":"IF(WVD2>=Inputs!$E$38,$D$26,0)","v":0},{"$f":"IF(WVE2>=Inputs!$E$38,$D$26,0)","v":0},{"$f":"IF(WVF2>=Inputs!$E$38,$D$26,0)","v":0},{"$f":"IF(WVG2>=Inputs!$E$38,$D$26,0)","v":0},{"$f":"IF(WVH2>=Inputs!$E$38,$D$26,0)","v":0},{"$f":"IF(WVI2>=Inputs!$E$38,$D$26,0)","v":0},{"$f":"IF(WVJ2>=Inputs!$E$38,$D$26,0)","v":0},{"$f":"IF(WVK2>=Inputs!$E$38,$D$26,0)","v":0},{"$f":"IF(WVL2>=Inputs!$E$38,$D$26,0)","v":0},{"$f":"IF(WVM2>=Inputs!$E$38,$D$26,0)","v":0},{"$f":"IF(WVN2>=Inputs!$E$38,$D$26,0)","v":0},{"$f":"IF(WVO2>=Inputs!$E$38,$D$26,0)","v":0},{"$f":"IF(WVP2>=Inputs!$E$38,$D$26,0)","v":0},{"$f":"IF(WVQ2>=Inputs!$E$38,$D$26,0)","v":0},{"$f":"IF(WVR2>=Inputs!$E$38,$D$26,0)","v":0},{"$f":"IF(WVS2>=Inputs!$E$38,$D$26,0)","v":0},{"$f":"IF(WVT2>=Inputs!$E$38,$D$26,0)","v":0},{"$f":"IF(WVU2>=Inputs!$E$38,$D$26,0)","v":0},{"$f":"IF(WVV2>=Inputs!$E$38,$D$26,0)","v":0},{"$f":"IF(WVW2>=Inputs!$E$38,$D$26,0)","v":0},{"$f":"IF(WVX2>=Inputs!$E$38,$D$26,0)","v":0},{"$f":"IF(WVY2>=Inputs!$E$38,$D$26,0)","v":0},{"$f":"IF(WVZ2>=Inputs!$E$38,$D$26,0)","v":0},{"$f":"IF(WWA2>=Inputs!$E$38,$D$26,0)","v":0},{"$f":"IF(WWB2>=Inputs!$E$38,$D$26,0)","v":0},{"$f":"IF(WWC2>=Inputs!$E$38,$D$26,0)","v":0},{"$f":"IF(WWD2>=Inputs!$E$38,$D$26,0)","v":0},{"$f":"IF(WWE2>=Inputs!$E$38,$D$26,0)","v":0},{"$f":"IF(WWF2>=Inputs!$E$38,$D$26,0)","v":0},{"$f":"IF(WWG2>=Inputs!$E$38,$D$26,0)","v":0},{"$f":"IF(WWH2>=Inputs!$E$38,$D$26,0)","v":0},{"$f":"IF(WWI2>=Inputs!$E$38,$D$26,0)","v":0},{"$f":"IF(WWJ2>=Inputs!$E$38,$D$26,0)","v":0},{"$f":"IF(WWK2>=Inputs!$E$38,$D$26,0)","v":0},{"$f":"IF(WWL2>=Inputs!$E$38,$D$26,0)","v":0},{"$f":"IF(WWM2>=Inputs!$E$38,$D$26,0)","v":0},{"$f":"IF(WWN2>=Inputs!$E$38,$D$26,0)","v":0},{"$f":"IF(WWO2>=Inputs!$E$38,$D$26,0)","v":0},{"$f":"IF(WWP2>=Inputs!$E$38,$D$26,0)","v":0},{"$f":"IF(WWQ2>=Inputs!$E$38,$D$26,0)","v":0},{"$f":"IF(WWR2>=Inputs!$E$38,$D$26,0)","v":0},{"$f":"IF(WWS2>=Inputs!$E$38,$D$26,0)","v":0},{"$f":"IF(WWT2>=Inputs!$E$38,$D$26,0)","v":0},{"$f":"IF(WWU2>=Inputs!$E$38,$D$26,0)","v":0},{"$f":"IF(WWV2>=Inputs!$E$38,$D$26,0)","v":0},{"$f":"IF(WWW2>=Inputs!$E$38,$D$26,0)","v":0},{"$f":"IF(WWX2>=Inputs!$E$38,$D$26,0)","v":0},{"$f":"IF(WWY2>=Inputs!$E$38,$D$26,0)","v":0},{"$f":"IF(WWZ2>=Inputs!$E$38,$D$26,0)","v":0},{"$f":"IF(WXA2>=Inputs!$E$38,$D$26,0)","v":0},{"$f":"IF(WXB2>=Inputs!$E$38,$D$26,0)","v":0},{"$f":"IF(WXC2>=Inputs!$E$38,$D$26,0)","v":0},{"$f":"IF(WXD2>=Inputs!$E$38,$D$26,0)","v":0},{"$f":"IF(WXE2>=Inputs!$E$38,$D$26,0)","v":0},{"$f":"IF(WXF2>=Inputs!$E$38,$D$26,0)","v":0},{"$f":"IF(WXG2>=Inputs!$E$38,$D$26,0)","v":0},{"$f":"IF(WXH2>=Inputs!$E$38,$D$26,0)","v":0},{"$f":"IF(WXI2>=Inputs!$E$38,$D$26,0)","v":0},{"$f":"IF(WXJ2>=Inputs!$E$38,$D$26,0)","v":0},{"$f":"IF(WXK2>=Inputs!$E$38,$D$26,0)","v":0},{"$f":"IF(WXL2>=Inputs!$E$38,$D$26,0)","v":0},{"$f":"IF(WXM2>=Inputs!$E$38,$D$26,0)","v":0},{"$f":"IF(WXN2>=Inputs!$E$38,$D$26,0)","v":0},{"$f":"IF(WXO2>=Inputs!$E$38,$D$26,0)","v":0},{"$f":"IF(WXP2>=Inputs!$E$38,$D$26,0)","v":0},{"$f":"IF(WXQ2>=Inputs!$E$38,$D$26,0)","v":0},{"$f":"IF(WXR2>=Inputs!$E$38,$D$26,0)","v":0},{"$f":"IF(WXS2>=Inputs!$E$38,$D$26,0)","v":0},{"$f":"IF(WXT2>=Inputs!$E$38,$D$26,0)","v":0},{"$f":"IF(WXU2>=Inputs!$E$38,$D$26,0)","v":0},{"$f":"IF(WXV2>=Inputs!$E$38,$D$26,0)","v":0},{"$f":"IF(WXW2>=Inputs!$E$38,$D$26,0)","v":0},{"$f":"IF(WXX2>=Inputs!$E$38,$D$26,0)","v":0},{"$f":"IF(WXY2>=Inputs!$E$38,$D$26,0)","v":0},{"$f":"IF(WXZ2>=Inputs!$E$38,$D$26,0)","v":0},{"$f":"IF(WYA2>=Inputs!$E$38,$D$26,0)","v":0},{"$f":"IF(WYB2>=Inputs!$E$38,$D$26,0)","v":0},{"$f":"IF(WYC2>=Inputs!$E$38,$D$26,0)","v":0},{"$f":"IF(WYD2>=Inputs!$E$38,$D$26,0)","v":0},{"$f":"IF(WYE2>=Inputs!$E$38,$D$26,0)","v":0},{"$f":"IF(WYF2>=Inputs!$E$38,$D$26,0)","v":0},{"$f":"IF(WYG2>=Inputs!$E$38,$D$26,0)","v":0},{"$f":"IF(WYH2>=Inputs!$E$38,$D$26,0)","v":0},{"$f":"IF(WYI2>=Inputs!$E$38,$D$26,0)","v":0},{"$f":"IF(WYJ2>=Inputs!$E$38,$D$26,0)","v":0},{"$f":"IF(WYK2>=Inputs!$E$38,$D$26,0)","v":0},{"$f":"IF(WYL2>=Inputs!$E$38,$D$26,0)","v":0},{"$f":"IF(WYM2>=Inputs!$E$38,$D$26,0)","v":0},{"$f":"IF(WYN2>=Inputs!$E$38,$D$26,0)","v":0},{"$f":"IF(WYO2>=Inputs!$E$38,$D$26,0)","v":0},{"$f":"IF(WYP2>=Inputs!$E$38,$D$26,0)","v":0},{"$f":"IF(WYQ2>=Inputs!$E$38,$D$26,0)","v":0},{"$f":"IF(WYR2>=Inputs!$E$38,$D$26,0)","v":0},{"$f":"IF(WYS2>=Inputs!$E$38,$D$26,0)","v":0},{"$f":"IF(WYT2>=Inputs!$E$38,$D$26,0)","v":0},{"$f":"IF(WYU2>=Inputs!$E$38,$D$26,0)","v":0},{"$f":"IF(WYV2>=Inputs!$E$38,$D$26,0)","v":0},{"$f":"IF(WYW2>=Inputs!$E$38,$D$26,0)","v":0},{"$f":"IF(WYX2>=Inputs!$E$38,$D$26,0)","v":0},{"$f":"IF(WYY2>=Inputs!$E$38,$D$26,0)","v":0},{"$f":"IF(WYZ2>=Inputs!$E$38,$D$26,0)","v":0},{"$f":"IF(WZA2>=Inputs!$E$38,$D$26,0)","v":0},{"$f":"IF(WZB2>=Inputs!$E$38,$D$26,0)","v":0},{"$f":"IF(WZC2>=Inputs!$E$38,$D$26,0)","v":0},{"$f":"IF(WZD2>=Inputs!$E$38,$D$26,0)","v":0},{"$f":"IF(WZE2>=Inputs!$E$38,$D$26,0)","v":0},{"$f":"IF(WZF2>=Inputs!$E$38,$D$26,0)","v":0},{"$f":"IF(WZG2>=Inputs!$E$38,$D$26,0)","v":0},{"$f":"IF(WZH2>=Inputs!$E$38,$D$26,0)","v":0},{"$f":"IF(WZI2>=Inputs!$E$38,$D$26,0)","v":0},{"$f":"IF(WZJ2>=Inputs!$E$38,$D$26,0)","v":0},{"$f":"IF(WZK2>=Inputs!$E$38,$D$26,0)","v":0},{"$f":"IF(WZL2>=Inputs!$E$38,$D$26,0)","v":0},{"$f":"IF(WZM2>=Inputs!$E$38,$D$26,0)","v":0},{"$f":"IF(WZN2>=Inputs!$E$38,$D$26,0)","v":0},{"$f":"IF(WZO2>=Inputs!$E$38,$D$26,0)","v":0},{"$f":"IF(WZP2>=Inputs!$E$38,$D$26,0)","v":0},{"$f":"IF(WZQ2>=Inputs!$E$38,$D$26,0)","v":0},{"$f":"IF(WZR2>=Inputs!$E$38,$D$26,0)","v":0},{"$f":"IF(WZS2>=Inputs!$E$38,$D$26,0)","v":0},{"$f":"IF(WZT2>=Inputs!$E$38,$D$26,0)","v":0},{"$f":"IF(WZU2>=Inputs!$E$38,$D$26,0)","v":0},{"$f":"IF(WZV2>=Inputs!$E$38,$D$26,0)","v":0},{"$f":"IF(WZW2>=Inputs!$E$38,$D$26,0)","v":0},{"$f":"IF(WZX2>=Inputs!$E$38,$D$26,0)","v":0},{"$f":"IF(WZY2>=Inputs!$E$38,$D$26,0)","v":0},{"$f":"IF(WZZ2>=Inputs!$E$38,$D$26,0)","v":0},{"$f":"IF(XAA2>=Inputs!$E$38,$D$26,0)","v":0},{"$f":"IF(XAB2>=Inputs!$E$38,$D$26,0)","v":0},{"$f":"IF(XAC2>=Inputs!$E$38,$D$26,0)","v":0},{"$f":"IF(XAD2>=Inputs!$E$38,$D$26,0)","v":0},{"$f":"IF(XAE2>=Inputs!$E$38,$D$26,0)","v":0},{"$f":"IF(XAF2>=Inputs!$E$38,$D$26,0)","v":0},{"$f":"IF(XAG2>=Inputs!$E$38,$D$26,0)","v":0},{"$f":"IF(XAH2>=Inputs!$E$38,$D$26,0)","v":0},{"$f":"IF(XAI2>=Inputs!$E$38,$D$26,0)","v":0},{"$f":"IF(XAJ2>=Inputs!$E$38,$D$26,0)","v":0},{"$f":"IF(XAK2>=Inputs!$E$38,$D$26,0)","v":0},{"$f":"IF(XAL2>=Inputs!$E$38,$D$26,0)","v":0},{"$f":"IF(XAM2>=Inputs!$E$38,$D$26,0)","v":0},{"$f":"IF(XAN2>=Inputs!$E$38,$D$26,0)","v":0},{"$f":"IF(XAO2>=Inputs!$E$38,$D$26,0)","v":0},{"$f":"IF(XAP2>=Inputs!$E$38,$D$26,0)","v":0},{"$f":"IF(XAQ2>=Inputs!$E$38,$D$26,0)","v":0},{"$f":"IF(XAR2>=Inputs!$E$38,$D$26,0)","v":0},{"$f":"IF(XAS2>=Inputs!$E$38,$D$26,0)","v":0},{"$f":"IF(XAT2>=Inputs!$E$38,$D$26,0)","v":0},{"$f":"IF(XAU2>=Inputs!$E$38,$D$26,0)","v":0},{"$f":"IF(XAV2>=Inputs!$E$38,$D$26,0)","v":0},{"$f":"IF(XAW2>=Inputs!$E$38,$D$26,0)","v":0},{"$f":"IF(XAX2>=Inputs!$E$38,$D$26,0)","v":0},{"$f":"IF(XAY2>=Inputs!$E$38,$D$26,0)","v":0},{"$f":"IF(XAZ2>=Inputs!$E$38,$D$26,0)","v":0},{"$f":"IF(XBA2>=Inputs!$E$38,$D$26,0)","v":0},{"$f":"IF(XBB2>=Inputs!$E$38,$D$26,0)","v":0},{"$f":"IF(XBC2>=Inputs!$E$38,$D$26,0)","v":0},{"$f":"IF(XBD2>=Inputs!$E$38,$D$26,0)","v":0},{"$f":"IF(XBE2>=Inputs!$E$38,$D$26,0)","v":0},{"$f":"IF(XBF2>=Inputs!$E$38,$D$26,0)","v":0},{"$f":"IF(XBG2>=Inputs!$E$38,$D$26,0)","v":0},{"$f":"IF(XBH2>=Inputs!$E$38,$D$26,0)","v":0},{"$f":"IF(XBI2>=Inputs!$E$38,$D$26,0)","v":0},{"$f":"IF(XBJ2>=Inputs!$E$38,$D$26,0)","v":0},{"$f":"IF(XBK2>=Inputs!$E$38,$D$26,0)","v":0},{"$f":"IF(XBL2>=Inputs!$E$38,$D$26,0)","v":0},{"$f":"IF(XBM2>=Inputs!$E$38,$D$26,0)","v":0},{"$f":"IF(XBN2>=Inputs!$E$38,$D$26,0)","v":0},{"$f":"IF(XBO2>=Inputs!$E$38,$D$26,0)","v":0},{"$f":"IF(XBP2>=Inputs!$E$38,$D$26,0)","v":0},{"$f":"IF(XBQ2>=Inputs!$E$38,$D$26,0)","v":0},{"$f":"IF(XBR2>=Inputs!$E$38,$D$26,0)","v":0},{"$f":"IF(XBS2>=Inputs!$E$38,$D$26,0)","v":0},{"$f":"IF(XBT2>=Inputs!$E$38,$D$26,0)","v":0},{"$f":"IF(XBU2>=Inputs!$E$38,$D$26,0)","v":0},{"$f":"IF(XBV2>=Inputs!$E$38,$D$26,0)","v":0},{"$f":"IF(XBW2>=Inputs!$E$38,$D$26,0)","v":0},{"$f":"IF(XBX2>=Inputs!$E$38,$D$26,0)","v":0},{"$f":"IF(XBY2>=Inputs!$E$38,$D$26,0)","v":0},{"$f":"IF(XBZ2>=Inputs!$E$38,$D$26,0)","v":0},{"$f":"IF(XCA2>=Inputs!$E$38,$D$26,0)","v":0},{"$f":"IF(XCB2>=Inputs!$E$38,$D$26,0)","v":0},{"$f":"IF(XCC2>=Inputs!$E$38,$D$26,0)","v":0},{"$f":"IF(XCD2>=Inputs!$E$38,$D$26,0)","v":0},{"$f":"IF(XCE2>=Inputs!$E$38,$D$26,0)","v":0},{"$f":"IF(XCF2>=Inputs!$E$38,$D$26,0)","v":0},{"$f":"IF(XCG2>=Inputs!$E$38,$D$26,0)","v":0},{"$f":"IF(XCH2>=Inputs!$E$38,$D$26,0)","v":0},{"$f":"IF(XCI2>=Inputs!$E$38,$D$26,0)","v":0},{"$f":"IF(XCJ2>=Inputs!$E$38,$D$26,0)","v":0},{"$f":"IF(XCK2>=Inputs!$E$38,$D$26,0)","v":0},{"$f":"IF(XCL2>=Inputs!$E$38,$D$26,0)","v":0},{"$f":"IF(XCM2>=Inputs!$E$38,$D$26,0)","v":0},{"$f":"IF(XCN2>=Inputs!$E$38,$D$26,0)","v":0},{"$f":"IF(XCO2>=Inputs!$E$38,$D$26,0)","v":0},{"$f":"IF(XCP2>=Inputs!$E$38,$D$26,0)","v":0},{"$f":"IF(XCQ2>=Inputs!$E$38,$D$26,0)","v":0},{"$f":"IF(XCR2>=Inputs!$E$38,$D$26,0)","v":0},{"$f":"IF(XCS2>=Inputs!$E$38,$D$26,0)","v":0},{"$f":"IF(XCT2>=Inputs!$E$38,$D$26,0)","v":0},{"$f":"IF(XCU2>=Inputs!$E$38,$D$26,0)","v":0},{"$f":"IF(XCV2>=Inputs!$E$38,$D$26,0)","v":0},{"$f":"IF(XCW2>=Inputs!$E$38,$D$26,0)","v":0},{"$f":"IF(XCX2>=Inputs!$E$38,$D$26,0)","v":0},{"$f":"IF(XCY2>=Inputs!$E$38,$D$26,0)","v":0},{"$f":"IF(XCZ2>=Inputs!$E$38,$D$26,0)","v":0},{"$f":"IF(XDA2>=Inputs!$E$38,$D$26,0)","v":0},{"$f":"IF(XDB2>=Inputs!$E$38,$D$26,0)","v":0},{"$f":"IF(XDC2>=Inputs!$E$38,$D$26,0)","v":0},{"$f":"IF(XDD2>=Inputs!$E$38,$D$26,0)","v":0},{"$f":"IF(XDE2>=Inputs!$E$38,$D$26,0)","v":0},{"$f":"IF(XDF2>=Inputs!$E$38,$D$26,0)","v":0},{"$f":"IF(XDG2>=Inputs!$E$38,$D$26,0)","v":0},{"$f":"IF(XDH2>=Inputs!$E$38,$D$26,0)","v":0},{"$f":"IF(XDI2>=Inputs!$E$38,$D$26,0)","v":0},{"$f":"IF(XDJ2>=Inputs!$E$38,$D$26,0)","v":0},{"$f":"IF(XDK2>=Inputs!$E$38,$D$26,0)","v":0},{"$f":"IF(XDL2>=Inputs!$E$38,$D$26,0)","v":0},{"$f":"IF(XDM2>=Inputs!$E$38,$D$26,0)","v":0},{"$f":"IF(XDN2>=Inputs!$E$38,$D$26,0)","v":0},{"$f":"IF(XDO2>=Inputs!$E$38,$D$26,0)","v":0},{"$f":"IF(XDP2>=Inputs!$E$38,$D$26,0)","v":0},{"$f":"IF(XDQ2>=Inputs!$E$38,$D$26,0)","v":0},{"$f":"IF(XDR2>=Inputs!$E$38,$D$26,0)","v":0},{"$f":"IF(XDS2>=Inputs!$E$38,$D$26,0)","v":0},{"$f":"IF(XDT2>=Inputs!$E$38,$D$26,0)","v":0},{"$f":"IF(XDU2>=Inputs!$E$38,$D$26,0)","v":0},{"$f":"IF(XDV2>=Inputs!$E$38,$D$26,0)","v":0},{"$f":"IF(XDW2>=Inputs!$E$38,$D$26,0)","v":0},{"$f":"IF(XDX2>=Inputs!$E$38,$D$26,0)","v":0},{"$f":"IF(XDY2>=Inputs!$E$38,$D$26,0)","v":0},{"$f":"IF(XDZ2>=Inputs!$E$38,$D$26,0)","v":0},{"$f":"IF(XEA2>=Inputs!$E$38,$D$26,0)","v":0},{"$f":"IF(XEB2>=Inputs!$E$38,$D$26,0)","v":0},{"$f":"IF(XEC2>=Inputs!$E$38,$D$26,0)","v":0},{"$f":"IF(XED2>=Inputs!$E$38,$D$26,0)","v":0},{"$f":"IF(XEE2>=Inputs!$E$38,$D$26,0)","v":0},{"$f":"IF(XEF2>=Inputs!$E$38,$D$26,0)","v":0},{"$f":"IF(XEG2>=Inputs!$E$38,$D$26,0)","v":0},{"$f":"IF(XEH2>=Inputs!$E$38,$D$26,0)","v":0},{"$f":"IF(XEI2>=Inputs!$E$38,$D$26,0)","v":0},{"$f":"IF(XEJ2>=Inputs!$E$38,$D$26,0)","v":0},{"$f":"IF(XEK2>=Inputs!$E$38,$D$26,0)","v":0},{"$f":"IF(XEL2>=Inputs!$E$38,$D$26,0)","v":0},{"$f":"IF(XEM2>=Inputs!$E$38,$D$26,0)","v":0},{"$f":"IF(XEN2>=Inputs!$E$38,$D$26,0)","v":0},{"$f":"IF(XEO2>=Inputs!$E$38,$D$26,0)","v":0},{"$f":"IF(XEP2>=Inputs!$E$38,$D$26,0)","v":0},{"$f":"IF(XEQ2>=Inputs!$E$38,$D$26,0)","v":0},{"$f":"IF(XER2>=Inputs!$E$38,$D$26,0)","v":0},{"$f":"IF(XES2>=Inputs!$E$38,$D$26,0)","v":0},{"$f":"IF(XET2>=Inputs!$E$38,$D$26,0)","v":0},{"$f":"IF(XEU2>=Inputs!$E$38,$D$26,0)","v":0},{"$f":"IF(XEV2>=Inputs!$E$38,$D$26,0)","v":0},{"$f":"IF(XEW2>=Inputs!$E$38,$D$26,0)","v":0},{"$f":"IF(XEX2>=Inputs!$E$38,$D$26,0)","v":0},{"$f":"IF(XEY2>=Inputs!$E$38,$D$26,0)","v":0},{"$f":"IF(XEZ2>=Inputs!$E$38,$D$26,0)","v":0},{"$f":"IF(XFA2>=Inputs!$E$38,$D$26,0)","v":0},{"$f":"IF(XFB2>=Inputs!$E$38,$D$26,0)","v":0},{"$f":"IF(XFC2>=Inputs!$E$38,$D$26,0)","v":0},{"$f":"IF(XFD2>=Inputs!$E$38,$D$26,0)","v":0}]
[null,null,"Depreciation",null,null,{"$f":"SUM(J32:AM32)","v":-0.43672},"USD Mn",null,null,{"$f":"IF(J3=Inputs!$E$40,-Depreciation!I36,-J31*SUM(I36,J30))","v":0},{"$f":"IF(K3=Inputs!$E$40,-Depreciation!J36,-K31*SUM(J36,K30))","v":-8.1884999999999999E-2},{"$f":"IF(L3=Inputs!$E$40,-Depreciation!K36,-L31*SUM(K36,L30))","v":-5.3225250000000002E-2},{"$f":"IF(M3=Inputs!$E$40,-Depreciation!L36,-M31*SUM(L36,M30))","v":-4.5241462500000003E-2},{"$f":"IF(N3=Inputs!$E$40,-Depreciation!M36,-N31*SUM(M36,N30))","v":-3.8455243125000003E-2},{"$f":"IF(O3=Inputs!$E$40,-Depreciation!N36,-O31*SUM(N36,O30))","v":-3.2686956656250002E-2},{"$f":"IF(P3=Inputs!$E$40,-Depreciation!O36,-P31*SUM(O36,P30))","v":-2.7783913157812496E-2},{"$f":"IF(Q3=Inputs!$E$40,-Depreciation!P36,-Q31*SUM(P36,Q30))","v":-2.3616326184140623E-2},{"$f":"IF(R3=Inputs!$E$40,-Depreciation!Q36,-R31*SUM(Q36,R30))","v":-2.0073877256519528E-2},{"$f":"IF(S3=Inputs!$E$40,-Depreciation!R36,-S31*SUM(R36,S30))","v":-1.70627956680416E-2},{"$f":"IF(T3=Inputs!$E$40,-Depreciation!S36,-T31*SUM(S36,T30))","v":-1.4503376317835361E-2},{"$f":"IF(U3=Inputs!$E$40,-Depreciation!T36,-U31*SUM(T36,U30))","v":-1.2327869870160057E-2},{"$f":"IF(V3=Inputs!$E$40,-Depreciation!U36,-V31*SUM(U36,V30))","v":-6.9857929264240323E-2},{"$f":"IF(W3=Inputs!$E$40,-Depreciation!V36,-W31*SUM(V36,W30))","v":0},{"$f":"IF(X3=Inputs!$E$40,-Depreciation!W36,-X31*SUM(W36,X30))","v":0},{"$f":"IF(Y3=Inputs!$E$40,-Depreciation!X36,-Y31*SUM(X36,Y30))","v":0},{"$f":"IF(Z3=Inputs!$E$40,-Depreciation!Y36,-Z31*SUM(Y36,Z30))","v":0},{"$f":"IF(AA3=Inputs!$E$40,-Depreciation!Z36,-AA31*SUM(Z36,AA30))","v":0},{"$f":"IF(AB3=Inputs!$E$40,-Depreciation!AA36,-AB31*SUM(AA36,AB30))","v":0},{"$f":"IF(AC3=Inputs!$E$40,-Depreciation!AB36,-AC31*SUM(AB36,AC30))","v":0},{"$f":"IF(AD3=Inputs!$E$40,-Depreciation!AC36,-AD31*SUM(AC36,AD30))","v":0},{"$f":"IF(AE3=Inputs!$E$40,-Depreciation!AD36,-AE31*SUM(AD36,AE30))","v":0},{"$f":"IF(AF3=Inputs!$E$40,-Depreciation!AE36,-AF31*SUM(AE36,AF30))","v":0},{"$f":"IF(AG3=Inputs!$E$40,-Depreciation!AF36,-AG31*SUM(AF36,AG30))","v":0},{"$f":"IF(AH3=Inputs!$E$40,-Depreciation!AG36,-AH31*SUM(AG36,AH30))","v":0},{"$f":"IF(AI3=Inputs!$E$40,-Depreciation!AH36,-AI31*SUM(AH36,AI30))","v":0},{"$f":"IF(AJ3=Inputs!$E$40,-Depreciation!AI36,-AJ31*SUM(AI36,AJ30))","v":0},{"$f":"IF(AK3=Inputs!$E$40,-Depreciation!AJ36,-AK31*SUM(AJ36,AK30))","v":0},{"$f":"IF(AL3=Inputs!$E$40,-Depreciation!AK36,-AL31*SUM(AK36,AL30))","v":0},{"$f":"IF(AM3=Inputs!$E$40,-Depreciation!AL36,-AM31*SUM(AL36,AM30))","v":0}]
[null,null,"Additional depreciation %",null,null,null,"%",null,null,{"$f":"IF(J2=Inputs!$E$38,$D$27,0)","v":0},{"$f":"IF(K2=Inputs!$E$38,$D$27,0)","v":0.2},{"$f":"IF(L2=Inputs!$E$38,$D$27,0)","v":0},{"$f":"IF(M2=Inputs!$E$38,$D$27,0)","v":0},{"$f":"IF(N2=Inputs!$E$38,$D$27,0)","v":0},{"$f":"IF(O2=Inputs!$E$38,$D$27,0)","v":0},{"$f":"IF(P2=Inputs!$E$38,$D$27,0)","v":0},{"$f":"IF(Q2=Inputs!$E$38,$D$27,0)","v":0},{"$f":"IF(R2=Inputs!$E$38,$D$27,0)","v":0},{"$f":"IF(S2=Inputs!$E$38,$D$27,0)","v":0},{"$f":"IF(T2=Inputs!$E$38,$D$27,0)","v":0},{"$f":"IF(U2=Inputs!$E$38,$D$27,0)","v":0},{"$f":"IF(V2=Inputs!$E$38,$D$27,0)","v":0},{"$f":"IF(W2=Inputs!$E$38,$D$27,0)","v":0},{"$f":"IF(X2=Inputs!$E$38,$D$27,0)","v":0},{"$f":"IF(Y2=Inputs!$E$38,$D$27,0)","v":0},{"$f":"IF(Z2=Inputs!$E$38,$D$27,0)","v":0},{"$f":"IF(AA2=Inputs!$E$38,$D$27,0)","v":0},{"$f":"IF(AB2=Inputs!$E$38,$D$27,0)","v":0},{"$f":"IF(AC2=Inputs!$E$38,$D$27,0)","v":0},{"$f":"IF(AD2=Inputs!$E$38,$D$27,0)","v":0},{"$f":"IF(AE2=Inputs!$E$38,$D$27,0)","v":0},{"$f":"IF(AF2=Inputs!$E$38,$D$27,0)","v":0},{"$f":"IF(AG2=Inputs!$E$38,$D$27,0)","v":0},{"$f":"IF(AH2=Inputs!$E$38,$D$27,0)","v":0},{"$f":"IF(AI2=Inputs!$E$38,$D$27,0)","v":0},{"$f":"IF(AJ2=Inputs!$E$38,$D$27,0)","v":0},{"$f":"IF(AK2=Inputs!$E$38,$D$27,0)","v":0},{"$f":"IF(AL2=Inputs!$E$38,$D$27,0)","v":0},{"$f":"IF(AM2=Inputs!$E$38,$D$27,0)","v":0}]
[null,null,"Additional depreciation",null,null,{"$f":"SUM(J34:AM34)","v":-0.10918000000000001},"USD Mn",null,null,{"$f":"-J33*SUM(I36,J30)","v":0},-0.10918000000000001,0,0,0,0,0,0,0,0,0,0,0,0,0,0,0,0,0,0,0,0,0,0,0,0,0,0,0,0]
[null,null,"Total Depreciation",null,null,{"$f":"SUM(J35:AM35)","v":-0.54589999999999994},"USD Mn",null,null,{"$f":"SUM(J34,J32)*IF(OR(J7=1,J8=1),1,0)","v":0},-0.19106500000000001,-5.3225250000000002E-2,-4.5241462500000003E-2,-3.8455243125000003E-2,-3.2686956656250002E-2,-2.7783913157812496E-2,-2.3616326184140623E-2,-2.0073877256519528E-2,-1.70627956680416E-2,-1.4503376317835361E-2,-1.2327869870160057E-2,-6.9857929264240323E-2,0,0,0,0,0,0,0,0,0,0,0,0,0,0,0,0,0]
[null,null,"Closing Balance",null,null,null,"USD Mn",null,{"$f":"I29+I30+I35","v":0},0.26500000000000001,0.35483500000000001,0.30160975000000001,0.25636828750000001,0.217913044375,0.18522608771874999,0.15744217456093748,0.13382584837679687,0.11375197112027734,9.6689175452235737E-2,8.2185799134400384E-2,6.9857929264240323E-2,0,0,0,0,0,0,0,0,0,0,0,0,0,0,0,0,0,0]
[]
[]
[null,null,"Evacuation infrastructure (Pipeline etc.) depreciation"]
[]
[null,null,"Regular Depreciation",{"$f":"Inputs!E129","v":0.6}]
[null,null,"Additional Depreciation",{"$f":"Inputs!F129","v":0.2}]
[]
[null,null,"Opening balance",null,null,null,"USD Mn",null,null,{"$f":"I51","v":0},0,0,0,0,0,0,0,0,0,0,0,0,0,0,0,0,0,0,0,0,0,0,0,0,0,0,0,0,0]
[null,null,"Addition",null,null,{"$f":"SUM(J45:AM45)","v":0},"USD Mn",null,null,{"$f":"Capex!J14","v":0},{"$f":"Capex!K14","v":0},{"$f":"Capex!L14","v":0},{"$f":"Capex!M14","v":0},{"$f":"Capex!N14","v":0},{"$f":"Capex!O14","v":0},{"$f":"Capex!P14","v":0},{"$f":"Capex!Q14","v":0},{"$f":"Capex!R14","v":0},{"$f":"Capex!S14","v":0},{"$f":"Capex!T14","v":0},{"$f":"Capex!U14","v":0},{"$f":"Capex!V14","v":0},{"$f":"Capex!W14","v":0},{"$f":"Capex!X14","v":0},{"$f":"Capex!Y14","v":0},{"$f":"Capex!Z14","v":0},{"$f":"Capex!AA14","v":0},{"$f":"Capex!AB14","v":0},{"$f":"Capex!AC14","v":0},{"$f":"Capex!AD14","v":0},{"$f":"Capex!AE14","v":0},{"$f":"Capex!AF14","v":0},{"$f":"Capex!AG14","v":0},{"$f":"Capex!AH14","v":0},{"$f":"Capex!AI14","v":0},{"$f":"Capex!AJ14","v":0},{"$f":"Capex!AK14","v":0},{"$f":"Capex!AL14","v":0},{"$f":"Capex!AM14","v":0}]
[null,null,"Depreciation %",null,null,null,"%",null,null,{"$f":"IF(J3>=Inputs!$E$35,$D$41,0)","v":0},{"$f":"IF(K3>=Inputs!$E$35,$D$41,0)","v":0.6},{"$f":"IF(L3>=Inputs!$E$35,$D$41,0)","v":0.6},{"$f":"IF(M3>=Inputs!$E$35,$D$41,0)","v":0.6},{"$f":"IF(N3>=Inputs!$E$35,$D$41,0)","v":0.6},{"$f":"IF(O3>=Inputs!$E$35,$D$41,0)","v":0.6},{"$f":"IF(P3>=Inputs!$E$35,$D$41,0)","v":0.6},{"$f":"IF(Q3>=Inputs!$E$35,$D$41,0)","v":0.6},{"$f":"IF(R3>=Inputs!$E$35,$D$41,0)","v":0.6},{"$f":"IF(S3>=Inputs!$E$35,$D$41,0)","v":0.6},{"$f":"IF(T3>=Inputs!$E$35,$D$41,0)","v":0.6},{"$f":"IF(U3>=Inputs!$E$35,$D$41,0)","v":0.6},{"$f":"IF(V3>=Inputs!$E$35,$D$41,0)","v":0.6},{"$f":"IF(W3>=Inputs!$E$35,$D$41,0)","v":0.6},{"$f":"IF(X3>=Inputs!$E$35,$D$41,0)","v":0.6},{"$f":"IF(Y3>=Inputs!$E$35,$D$41,0)","v":0.6},{"$f":"IF(Z3>=Inputs!$E$35,$D$41,0)","v":0.6},{"$f":"IF(AA3>=Inputs!$E$35,$D$41,0)","v":0.6},{"$f":"IF(AB3>=Inputs!$E$35,$D$41,0)","v":0.6},{"$f":"IF(AC3>=Inputs!$E$35,$D$41,0)","v":0.6},{"$f":"IF(AD3>=Inputs!$E$35,$D$41,0)","v":0.6},{"$f":"IF(AE3>=Inputs!$E$35,$D$41,0)","v":0.6},{"$f":"IF(AF3>=Inputs!$E$35,$D$41,0)","v":0.6},{"$f":"IF(AG3>=Inputs!$E$35,$D$41,0)","v":0.6},{"$f":"IF(AH3>=Inputs!$E$35,$D$41,0)","v":0.6},{"$f":"IF(AI3>=Inputs!$E$35,$D$41,0)","v":0.6},{"$f":"IF(AJ3>=Inputs!$E$35,$D$41,0)","v":0.6},{"$f":"IF(AK3>=Inputs!$E$35,$D$41,0)","v":0.6},{"$f":"IF(AL3>=Inputs!$E$35,$D$41,0)","v":0.6},{"$f":"IF(AM3>=Inputs!$E$35,$D$41,0)","v":0.6}]
[null,null,"Depreciation",null,null,{"$f":"SUM(J47:AM47)","v":0},"USD Mn",null,null,{"$f":"-J46*SUM(I51,J45)","v":0},0,0,0,0,0,0,0,0,0,0,0,0,0,0,0,0,0,0,0,0,0,0,0,0,0,0,0,0,0]
[null,null,"Additional depreciation %",null,null,null,"%",null,null,{"$f":"IF(J18=Inputs!$E$35,$D$42,0)","v":0},{"$f":"IF(K18=Inputs!$E$35,$D$42,0)","v":0},{"$f":"IF(L18=Inputs!$E$35,$D$42,0)","v":0},{"$f":"IF(M18=Inputs!$E$35,$D$42,0)","v":0},{"$f":"IF(N18=Inputs!$E$35,$D$42,0)","v":0},{"$f":"IF(O18=Inputs!$E$35,$D$42,0)","v":0},{"$f":"IF(P18=Inputs!$E$35,$D$42,0)","v":0},{"$f":"IF(Q18=Inputs!$E$35,$D$42,0)","v":0},{"$f":"IF(R18=Inputs!$E$35,$D$42,0)","v":0},{"$f":"IF(S18=Inputs!$E$35,$D$42,0)","v":0},{"$f":"IF(T18=Inputs!$E$35,$D$42,0)","v":0},{"$f":"IF(U18=Inputs!$E$35,$D$42,0)","v":0},{"$f":"IF(V18=Inputs!$E$35,$D$42,0)","v":0},{"$f":"IF(W18=Inputs!$E$35,$D$42,0)","v":0},{"$f":"IF(X18=Inputs!$E$35,$D$42,0)","v":0},{"$f":"IF(Y18=Inputs!$E$35,$D$42,0)","v":0},{"$f":"IF(Z18=Inputs!$E$35,$D$42,0)","v":0},{"$f":"IF(AA18=Inputs!$E$35,$D$42,0)","v":0},{"$f":"IF(AB18=Inputs!$E$35,$D$42,0)","v":0},{"$f":"IF(AC18=Inputs!$E$35,$D$42,0)","v":0},{"$f":"IF(AD18=Inputs!$E$35,$D$42,0)","v":0},{"$f":"IF(AE18=Inputs!$E$35,$D$42,0)","v":0},{"$f":"IF(AF18=Inputs!$E$35,$D$42,0)","v":0},{"$f":"IF(AG18=Inputs!$E$35,$D$42,0)","v":0},{"$f":"IF(AH18=Inputs!$E$35,$D$42,0)","v":0},{"$f":"IF(AI18=Inputs!$E$35,$D$42,0)","v":0},{"$f":"IF(AJ18=Inputs!$E$35,$D$42,0)","v":0},{"$f":"IF(AK18=Inputs!$E$35,$D$42,0)","v":0},{"$f":"IF(AL18=Inputs!$E$35,$D$42,0)","v":0},{"$f":"IF(AM18=Inputs!$E$35,$D$42,0)","v":0}]
[null,null,"Additional depreciation",null,null,{"$f":"SUM(J49:AM49)","v":0},"USD Mn",null,null,{"$f":"-J48*SUM(I51,J45)","v":0},0,0,0,0,0,0,0,0,0,0,0,0,0,0,0,0,0,0,0,0,0,0,0,0,0,0,0,0,0]
[null,null,"Total Depreciation",null,null,{"$f":"SUM(J50:AM50)","v":0},"USD Mn",null,null,{"$f":"SUM(J49,J47)*IF(OR(J7=1,J8=1),1,0)","v":0},0,0,0,0,0,0,0,0,0,0,0,0,0,0,0,0,0,0,0,0,0,0,0,0,0,0,0,0,0]
[null,null,"Closing Balance",null,null,null,"USD Mn",null,{"$f":"I44+I45+I50","v":0},0,0,0,0,0,0,0,0,0,0,0,0,0,0,0,0,0,0,0,0,0,0,0,0,0,0,0,0,0,0]

{"sheet":"FS","index":8,"n_rows":65,"n_cols":39,"rows_kept":65,"cut":false,"hidden":true,"merged":[]}
[null,null,null,null,null,null,null,null,"Period No.",{"$f":"Timings!J1","v":1},{"$f":"Timings!K1","v":2},{"$f":"Timings!L1","v":3},{"$f":"Timings!M1","v":4},{"$f":"Timings!N1","v":5},{"$f":"Timings!O1","v":6},{"$f":"Timings!P1","v":7},{"$f":"Timings!Q1","v":8},{"$f":"Timings!R1","v":9},{"$f":"Timings!S1","v":10},{"$f":"Timings!T1","v":11},{"$f":"Timings!U1","v":12},{"$f":"Timings!V1","v":13},{"$f":"Timings!W1","v":14},{"$f":"Timings!X1","v":15},{"$f":"Timings!Y1","v":16},{"$f":"Timings!Z1","v":17},{"$f":"Timings!AA1","v":0},{"$f":"Timings!AB1","v":0},{"$f":"Timings!AC1","v":0},{"$f":"Timings!AD1","v":0},{"$f":"Timings!AE1","v":0},{"$f":"Timings!AF1","v":0},{"$f":"Timings!AG1","v":0},{"$f":"Timings!AH1","v":0},{"$f":"Timings!AI1","v":0},{"$f":"Timings!AJ1","v":0},{"$f":"Timings!AK1","v":0},{"$f":"Timings!AL1","v":0},{"$f":"Timings!AM1","v":0}]
[null,null,"Financial Position",null,null,null,null,null,"Start Date",{"$f":"Timings!J2","v":43556},{"$f":"Timings!K2","v":43922},{"$f":"Timings!L2","v":44287},{"$f":"Timings!M2","v":44652},{"$f":"Timings!N2","v":45017},{"$f":"Timings!O2","v":45383},{"$f":"Timings!P2","v":45748},{"$f":"Timings!Q2","v":46113},{"$f":"Timings!R2","v":46478},{"$f":"Timings!S2","v":46844},{"$f":"Timings!T2","v":47209},{"$f":"Timings!U2","v":47574},{"$f":"Timings!V2","v":47939},{"$f":"Timings!W2","v":48305},{"$f":"Timings!X2","v":48670},{"$f":"Timings!Y2","v":49035},{"$f":"Timings!Z2","v":49400},{"$f":"Timings!AA2","v":49766},{"$f":"Timings!AB2","v":50131},{"$f":"Timings!AC2","v":50496},{"$f":"Timings!AD2","v":50861},{"$f":"Timings!AE2","v":51227},{"$f":"Timings!AF2","v":51592},{"$f":"Timings!AG2","v":51957},{"$f":"Timings!AH2","v":52322},{"$f":"Timings!AI2","v":52688},{"$f":"Timings!AJ2","v":53053},{"$f":"Timings!AK2","v":53418},{"$f":"Timings!AL2","v":53783},{"$f":"Timings!AM2","v":54149}]
[null,null,null,null,null,null,null,null,"End Date",{"$f":"Timings!J3","v":43921},{"$f":"Timings!K3","v":44286},{"$f":"Timings!L3","v":44651},{"$f":"Timings!M3","v":45016},{"$f":"Timings!N3","v":45382},{"$f":"Timings!O3","v":45747},{"$f":"Timings!P3","v":46112},{"$f":"Timings!Q3","v":46477},{"$f":"Timings!R3","v":46843},{"$f":"Timings!S3","v":47208},{"$f":"Timings!T3","v":47573},{"$f":"Timings!U3","v":47938},{"$f":"Timings!V3","v":48304},{"$f":"Timings!W3","v":48669},{"$f":"Timings!X3","v":49034},{"$f":"Timings!Y3","v":49399},{"$f":"Timings!Z3","v":49765},{"$f":"Timings!AA3","v":50130},{"$f":"Timings!AB3","v":50495},{"$f":"Timings!AC3","v":50860},{"$f":"Timings!AD3","v":51226},{"$f":"Timings!AE3","v":51591},{"$f":"Timings!AF3","v":51956},{"$f":"Timings!AG3","v":52321},{"$f":"Timings!AH3","v":52687},{"$f":"Timings!AI3","v":53052},{"$f":"Timings!AJ3","v":53417},{"$f":"Timings!AK3","v":53782},{"$f":"Timings!AL3","v":54148},{"$f":"Timings!AM3","v":54513}]
[null,null,null,null,null,null,null,null,"Year",{"$f":"Timings!J4","v":2020},{"$f":"Timings!K4","v":2021},{"$f":"Timings!L4","v":2022},{"$f":"Timings!M4","v":2023},{"$f":"Timings!N4","v":2024},{"$f":"Timings!O4","v":2025},{"$f":"Timings!P4","v":2026},{"$f":"Timings!Q4","v":2027},{"$f":"Timings!R4","v":2028},{"$f":"Timings!S4","v":2029},{"$f":"Timings!T4","v":2030},{"$f":"Timings!U4","v":2031},{"$f":"Timings!V4","v":2032},{"$f":"Timings!W4","v":2033},{"$f":"Timings!X4","v":2034},{"$f":"Timings!Y4","v":2035},{"$f":"Timings!Z4","v":2036},{"$f":"Timings!AA4","v":2037},{"$f":"Timings!AB4","v":2038},{"$f":"Timings!AC4","v":2039},{"$f":"Timings!AD4","v":2040},{"$f":"Timings!AE4","v":2041},{"$f":"Timings!AF4","v":2042},{"$f":"Timings!AG4","v":2043},{"$f":"Timings!AH4","v":2044},{"$f":"Timings!AI4","v":2045},{"$f":"Timings!AJ4","v":2046},{"$f":"Timings!AK4","v":2047},{"$f":"Timings!AL4","v":2048},{"$f":"Timings!AM4","v":2049}]
[null,null,null,null,null,null,null,null,"Appraisal",{"$f":"Timings!J5","v":1},{"$f":"Timings!K5","v":0},{"$f":"Timings!L5","v":0},{"$f":"Timings!M5","v":0},{"$f":"Timings!N5","v":0},{"$f":"Timings!O5","v":0},{"$f":"Timings!P5","v":0},{"$f":"Timings!Q5","v":0},{"$f":"Timings!R5","v":0},{"$f":"Timings!S5","v":0},{"$f":"Timings!T5","v":0},{"$f":"Timings!U5","v":0},{"$f":"Timings!V5","v":0},{"$f":"Timings!W5","v":0},{"$f":"Timings!X5","v":0},{"$f":"Timings!Y5","v":0},{"$f":"Timings!Z5","v":0},{"$f":"Timings!AA5","v":0},{"$f":"Timings!AB5","v":0},{"$f":"Timings!AC5","v":0},{"$f":"Timings!AD5","v":0},{"$f":"Timings!AE5","v":0},{"$f":"Timings!AF5","v":0},{"$f":"Timings!AG5","v":0},{"$f":"Timings!AH5","v":0},{"$f":"Timings!AI5","v":0},{"$f":"Timings!AJ5","v":0},{"$f":"Timings!AK5","v":0},{"$f":"Timings!AL5","v":0},{"$f":"Timings!AM5","v":0}]
[null,null,null,null,null,null,null,null,"Well Development ",{"$f":"Timings!J6","v":1},{"$f":"Timings!K6","v":1},{"$f":"Timings!L6","v":0},{"$f":"Timings!M6","v":0},{"$f":"Timings!N6","v":0},{"$f":"Timings!O6","v":0},{"$f":"Timings!P6","v":0},{"$f":"Timings!Q6","v":0},{"$f":"Timings!R6","v":0},{"$f":"Timings!S6","v":0},{"$f":"Timings!T6","v":0},{"$f":"Timings!U6","v":0},{"$f":"Timings!V6","v":0},{"$f":"Timings!W6","v":0},{"$f":"Timings!X6","v":0},{"$f":"Timings!Y6","v":0},{"$f":"Timings!Z6","v":0},{"$f":"Timings!AA6","v":0},{"$f":"Timings!AB6","v":0},{"$f":"Timings!AC6","v":0},{"$f":"Timings!AD6","v":0},{"$f":"Timings!AE6","v":0},{"$f":"Timings!AF6","v":0},{"$f":"Timings!AG6","v":0},{"$f":"Timings!AH6","v":0},{"$f":"Timings!AI6","v":0},{"$f":"Timings!AJ6","v":0},{"$f":"Timings!AK6","v":0},{"$f":"Timings!AL6","v":0},{"$f":"Timings!AM6","v":0}]
[null,null,null,null,null,null,null,null,"Facilities",{"$f":"Timings!J7","v":1},{"$f":"Timings!K7","v":1},{"$f":"Timings!L7","v":0},{"$f":"Timings!M7","v":0},{"$f":"Timings!N7","v":0},{"$f":"Timings!O7","v":0},{"$f":"Timings!P7","v":0},{"$f":"Timings!Q7","v":0},{"$f":"Timings!R7","v":0},{"$f":"Timings!S7","v":0},{"$f":"Timings!T7","v":0},{"$f":"Timings!U7","v":0},{"$f":"Timings!V7","v":0},{"$f":"Timings!W7","v":0},{"$f":"Timings!X7","v":0},{"$f":"Timings!Y7","v":0},{"$f":"Timings!Z7","v":0},{"$f":"Timings!AA7","v":0},{"$f":"Timings!AB7","v":0},{"$f":"Timings!AC7","v":0},{"$f":"Timings!AD7","v":0},{"$f":"Timings!AE7","v":0},{"$f":"Timings!AF7","v":0},{"$f":"Timings!AG7","v":0},{"$f":"Timings!AH7","v":0},{"$f":"Timings!AI7","v":0},{"$f":"Timings!AJ7","v":0},{"$f":"Timings!AK7","v":0},{"$f":"Timings!AL7","v":0},{"$f":"Timings!AM7","v":0}]
[null,null,null,null,null,null,null,null,"Operations",{"$f":"Timings!J8","v":0},{"$f":"Timings!K8","v":1},{"$f":"Timings!L8","v":1},{"$f":"Timings!M8","v":1},{"$f":"Timings!N8","v":1},{"$f":"Timings!O8","v":1},{"$f":"Timings!P8","v":1},{"$f":"Timings!Q8","v":1},{"$f":"Timings!R8","v":1},{"$f":"Timings!S8","v":1},{"$f":"Timings!T8","v":1},{"$f":"Timings!U8","v":1},{"$f":"Timings!V8","v":1},{"$f":"Timings!W8","v":0},{"$f":"Timings!X8","v":0},{"$f":"Timings!Y8","v":0},{"$f":"Timings!Z8","v":0},{"$f":"Timings!AA8","v":0},{"$f":"Timings!AB8","v":0},{"$f":"Timings!AC8","v":0},{"$f":"Timings!AD8","v":0},{"$f":"Timings!AE8","v":0},{"$f":"Timings!AF8","v":0},{"$f":"Timings!AG8","v":0},{"$f":"Timings!AH8","v":0},{"$f":"Timings!AI8","v":0},{"$f":"Timings!AJ8","v":0},{"$f":"Timings!AK8","v":0},{"$f":"Timings!AL8","v":0},{"$f":"Timings!AM8","v":0}]
[]
[null,null,"Income Statement"]
[]
[null,null,"Revenue (Net of Royalty)",null,null,{"$f":"SUM(J12:AM12)","v":1070.3445142888688},"USD Mn",null,null,{"$f":"Revenue!J64","v":0},{"$f":"Revenue!K64","v":0},{"$f":"Revenue!L64","v":181.10613215872914},{"$f":"Revenue!M64","v":62.436121497577091},{"$f":"Revenue!N64","v":73.498423464579133},{"$f":"Revenue!O64","v":84.030337674478972},{"$f":"Revenue!P64","v":94.103110243902293},{"$f":"Revenue!Q64","v":129.56529706141134},{"$f":"Revenue!R64","v":103.74642705477643},{"$f":"Revenue!S64","v":112.79998434469366},{"$f":"Revenue!T64","v":94.103110243902293},{"$f":"Revenue!U64","v":84.030337674478972},{"$f":"Revenue!V64","v":50.925232870339343},{"$f":"Revenue!W64","v":0},{"$f":"Revenue!X64","v":0},{"$f":"Revenue!Y64","v":0},{"$f":"Revenue!Z64","v":0},{"$f":"Revenue!AA64","v":0},{"$f":"Revenue!AB64","v":0},{"$f":"Revenue!AC64","v":0},{"$f":"Revenue!AD64","v":0},{"$f":"Revenue!AE64","v":0},{"$f":"Revenue!AF64","v":0},{"$f":"Revenue!AG64","v":0},{"$f":"Revenue!AH64","v":0},{"$f":"Revenue!AI64","v":0},{"$f":"Revenue!AJ64","v":0},{"$f":"Revenue!AK64","v":0},{"$f":"Revenue!AL64","v":0},{"$f":"Revenue!AM64","v":0}]
[null,null,"Opex",null,null,{"$f":"SUM(J13:AM13)","v":-219.13734063536589},"USD Mn",null,null,{"$f":"-Opex!J13","v":0},{"$f":"-Opex!K13","v":0},{"$f":"-Opex!L13","v":-31.394298718356165},{"$f":"-Opex!M13","v":-8.0728196704344448},{"$f":"-Opex!N13","v":-10.462374292883039},{"$f":"-Opex!O13","v":-13.182591609032633},{"$f":"-Opex!P13","v":-16.271084500291703},{"$f":"-Opex!Q13","v":-26.359156890472562},{"$f":"-Opex!R13","v":-21.350917081282773},{"$f":"-Opex!S13","v":-25.621100497539334},{"$f":"-Opex!T13","v":-22.136630829873983},{"$f":"-Opex!U13","v":-20.919116134230919},{"$f":"-Opex!V13","v":-12.910083099982508},{"$f":"-Opex!W13","v":-10.457167310985835},{"$f":"-Opex!X13","v":0},{"$f":"-Opex!Y13","v":0},{"$f":"-Opex!Z13","v":0},{"$f":"-Opex!AA13","v":0},{"$f":"-Opex!AB13","v":0},{"$f":"-Opex!AC13","v":0},{"$f":"-Opex!AD13","v":0},{"$f":"-Opex!AE13","v":0},{"$f":"-Opex!AF13","v":0},{"$f":"-Opex!AG13","v":0},{"$f":"-Opex!AH13","v":0},{"$f":"-Opex!AI13","v":0},{"$f":"-Opex!AJ13","v":0},{"$f":"-Opex!AK13","v":0},{"$f":"-Opex!AL13","v":0},{"$f":"-Opex!AM13","v":0}]
[null,null,"Abandonment Cost",null,null,{"$f":"SUM(J14:AM14)","v":0},"USD Mn",null,null,{"$f":"-Capex!J19","v":0},{"$f":"-Capex!K19","v":0},{"$f":"-Capex!L19","v":0},{"$f":"-Capex!M19","v":0},{"$f":"-Capex!N19","v":0},{"$f":"-Capex!O19","v":0},{"$f":"-Capex!P19","v":0},{"$f":"-Capex!Q19","v":0},{"$f":"-Capex!R19","v":0},{"$f":"-Capex!S19","v":0},{"$f":"-Capex!T19","v":0},{"$f":"-Capex!U19","v":0},{"$f":"-Capex!V19","v":0},{"$f":"-Capex!W19","v":0},{"$f":"-Capex!X19","v":0},{"$f":"-Capex!Y19","v":0},{"$f":"-Capex!Z19","v":0},{"$f":"-Capex!AA19","v":0},{"$f":"-Capex!AB19","v":0},{"$f":"-Capex!AC19","v":0},{"$f":"-Capex!AD19","v":0},{"$f":"-Capex!AE19","v":0},{"$f":"-Capex!AF19","v":0},{"$f":"-Capex!AG19","v":0},{"$f":"-Capex!AH19","v":0},{"$f":"-Capex!AI19","v":0},{"$f":"-Capex!AJ19","v":0},{"$f":"-Capex!AK19","v":0},{"$f":"-Capex!AL19","v":0},{"$f":"-Capex!AM19","v":0}]
[null,null,"EBITDA",null,null,{"$f":"SUM(J15:AM15)","v":851.20717365350276},"USD Mn",null,null,{"$f":"SUM(J12:J14)","v":0},{"$f":"SUM(K12:K14)","v":0},149.71183344037297,54.363301827142649,63.036049171696092,70.847746065446344,77.832025743610586,103.20614017093878,82.39550997349366,87.178883847154324,71.966479414028313,63.111221540248053,38.015149770356835,-10.457167310985835,0,0,0,0,0,0,0,0,0,0,0,0,0,0,0,0]
[]
[null,null,"Depreciation",null,null,{"$f":"SUM(J17:AM17)","v":-6.2699000000000007},"USD Mn",null,null,{"$f":"Depreciation!J14+Depreciation!J21+Depreciation!J35+Depreciation!J50","v":-2.9150000000000005},{"$f":"Depreciation!K14+Depreciation!K21+Depreciation!K35+Depreciation!K50","v":-3.0000650000000002},{"$f":"Depreciation!L14+Depreciation!L21+Depreciation!L35+Depreciation!L50","v":-5.3225250000000002E-2},{"$f":"Depreciation!M14+Depreciation!M21+Depreciation!M35+Depreciation!M50","v":-4.5241462500000003E-2},{"$f":"Depreciation!N14+Depreciation!N21+Depreciation!N35+Depreciation!N50","v":-3.8455243125000003E-2},{"$f":"Depreciation!O14+Depreciation!O21+Depreciation!O35+Depreciation!O50","v":-3.2686956656250002E-2},{"$f":"Depreciation!P14+Depreciation!P21+Depreciation!P35+Depreciation!P50","v":-2.7783913157812496E-2},{"$f":"Depreciation!Q14+Depreciation!Q21+Depreciation!Q35+Depreciation!Q50","v":-2.3616326184140623E-2},{"$f":"Depreciation!R14+Depreciation!R21+Depreciation!R35+Depreciation!R50","v":-2.0073877256519528E-2},{"$f":"Depreciation!S14+Depreciation!S21+Depreciation!S35+Depreciation!S50","v":-1.70627956680416E-2},{"$f":"Depreciation!T14+Depreciation!T21+Depreciation!T35+Depreciation!T50","v":-1.4503376317835361E-2},{"$f":"Depreciation!U14+Depreciation!U21+Depreciation!U35+Depreciation!U50","v":-1.2327869870160057E-2},{"$f":"Depreciation!V14+Depreciation!V21+Depreciation!V35+Depreciation!V50","v":-6.9857929264240323E-2},{"$f":"Depreciation!W14+Depreciation!W21+Depreciation!W35+Depreciation!W50","v":0},{"$f":"Depreciation!X14+Depreciation!X21+Depreciation!X35+Depreciation!X50","v":0},{"$f":"Depreciation!Y14+Depreciation!Y21+Depreciation!Y35+Depreciation!Y50","v":0},{"$f":"Depreciation!Z14+Depreciation!Z21+Depreciation!Z35+Depreciation!Z50","v":0},{"$f":"Depreciation!AA14+Depreciation!AA21+Depreciation!AA35+Depreciation!AA50","v":0},{"$f":"Depreciation!AB14+Depreciation!AB21+Depreciation!AB35+Depreciation!AB50","v":0},{"$f":"Depreciation!AC14+Depreciation!AC21+Depreciation!AC35+Depreciation!AC50","v":0},{"$f":"Depreciation!AD14+Depreciation!AD21+Depreciation!AD35+Depreciation!AD50","v":0},{"$f":"Depreciation!AE14+Depreciation!AE21+Depreciation!AE35+Depreciation!AE50","v":0},{"$f":"Depreciation!AF14+Depreciation!AF21+Depreciation!AF35+Depreciation!AF50","v":0},{"$f":"Depreciation!AG14+Depreciation!AG21+Depreciation!AG35+Depreciation!AG50","v":0},{"$f":"Depreciation!AH14+Depreciation!AH21+Depreciation!AH35+Depreciation!AH50","v":0},{"$f":"Depreciation!AI14+Depreciation!AI21+Depreciation!AI35+Depreciation!AI50","v":0},{"$f":"Depreciation!AJ14+Depreciation!AJ21+Depreciation!AJ35+Depreciation!AJ50","v":0},{"$f":"Depreciation!AK14+Depreciation!AK21+Depreciation!AK35+Depreciation!AK50","v":0},{"$f":"Depreciation!AL14+Depreciation!AL21+Depreciation!AL35+Depreciation!AL50","v":0},{"$f":"Depreciation!AM14+Depreciation!AM21+Depreciation!AM35+Depreciation!AM50","v":0}]
[null,null,"EBIT",null,null,{"$f":"SUM(J18:AM18)","v":844.93727365350276},"USD Mn",null,null,{"$f":"J15+J17","v":-2.9150000000000005},{"$f":"K15+K17","v":-3.0000650000000002},149.65860819037297,54.318060364642648,62.997593928571092,70.815059108790095,77.804241830452767,103.18252384475464,82.375436096237138,87.161821051486285,71.95197603771048,63.09889367037789,37.945291841092597,-10.457167310985835,0,0,0,0,0,0,0,0,0,0,0,0,0,0,0,0]
[]
[null,null,"Debt Interest",null,null,-0.60857296694376251,"USD Mn",null,null,{"$f":"-Debt!J45","v":0},{"$f":"-Debt!K45","v":-8.9795618231282237E-2},{"$f":"-Debt!L45","v":-0.10887919664336008},{"$f":"-Debt!M45","v":-9.6069879391200083E-2},{"$f":"-Debt!N45","v":-8.3260562139040067E-2},{"$f":"-Debt!O45","v":-7.0451244886880052E-2},{"$f":"-Debt!P45","v":-5.7641927634720036E-2},{"$f":"-Debt!Q45","v":-4.4832610382560027E-2},{"$f":"-Debt!R45","v":-3.2023293130400012E-2},{"$f":"-Debt!S45","v":-1.9213975878239999E-2},{"$f":"-Debt!T45","v":-6.4046586260799974E-3},{"$f":"-Debt!U45","v":0},{"$f":"-Debt!V45","v":0},{"$f":"-Debt!W45","v":0},{"$f":"-Debt!X45","v":0},{"$f":"-Debt!Y45","v":0},{"$f":"-Debt!Z45","v":0},{"$f":"-Debt!AA45","v":0},{"$f":"-Debt!AB45","v":0},{"$f":"-Debt!AC45","v":0},{"$f":"-Debt!AD45","v":0},{"$f":"-Debt!AE45","v":0},{"$f":"-Debt!AF45","v":0},{"$f":"-Debt!AG45","v":0},{"$f":"-Debt!AH45","v":0},{"$f":"-Debt!AI45","v":0},{"$f":"-Debt!AJ45","v":0},{"$f":"-Debt!AK45","v":0},{"$f":"-Debt!AL45","v":0},{"$f":"-Debt!AM45","v":0}]
[null,null,"PBT",null,null,844.32870068655905,"USD Mn",null,null,{"$f":"J18+J20","v":-2.9150000000000005},{"$f":"K18+K20","v":-3.0898606182312824},149.54972899372962,54.221990485251446,62.914333366432054,70.744607863903212,77.746599902818048,103.13769123437208,82.343412803106744,87.142607075608041,71.945571379084399,63.09889367037789,37.945291841092597,-10.457167310985835,0,0,0,0,0,0,0,0,0,0,0,0,0,0,0,0]
[]
[null,null,"Corporation Tax",null,null,0,"USD Mn",null,null,{"$f":"-J21*Inputs!$E$117","v":0},{"$f":"-K21*Inputs!$E$117","v":0},{"$f":"-L21*Inputs!$E$117","v":0},{"$f":"-M21*Inputs!$E$117","v":0},{"$f":"-N21*Inputs!$E$117","v":0},{"$f":"-O21*Inputs!$E$117","v":0},{"$f":"-P21*Inputs!$E$117","v":0},{"$f":"-Q21*Inputs!$E$117","v":0},{"$f":"-R21*Inputs!$E$117","v":0},{"$f":"-S21*Inputs!$E$117","v":0},{"$f":"-T21*Inputs!$E$117","v":0},{"$f":"-U21*Inputs!$E$117","v":0},{"$f":"-V21*Inputs!$E$117","v":0},{"$f":"-W21*Inputs!$E$117","v":0},{"$f":"-X21*Inputs!$E$117","v":0},{"$f":"-Y21*Inputs!$E$117","v":0},{"$f":"-Z21*Inputs!$E$117","v":0},{"$f":"-AA21*Inputs!$E$117","v":0},{"$f":"-AB21*Inputs!$E$117","v":0},{"$f":"-AC21*Inputs!$E$117","v":0},{"$f":"-AD21*Inputs!$E$117","v":0},{"$f":"-AE21*Inputs!$E$117","v":0},{"$f":"-AF21*Inputs!$E$117","v":0},{"$f":"-AG21*Inputs!$E$117","v":0},{"$f":"-AH21*Inputs!$E$117","v":0},{"$f":"-AI21*Inputs!$E$117","v":0},{"$f":"-AJ21*Inputs!$E$117","v":0},{"$f":"-AK21*Inputs!$E$117","v":0},{"$f":"-AL21*Inputs!$E$117","v":0},{"$f":"-AM21*Inputs!$E$117","v":0}]
[null,null,"PAT",null,null,844.32870068655905,"USD Mn",null,null,{"$f":"J21+J23","v":-2.9150000000000005},{"$f":"K21+K23","v":-3.0898606182312824},{"$f":"L21+L23","v":149.54972899372962},{"$f":"M21+M23","v":54.221990485251446},{"$f":"N21+N23","v":62.914333366432054},{"$f":"O21+O23","v":70.744607863903212},{"$f":"P21+P23","v":77.746599902818048},{"$f":"Q21+Q23","v":103.13769123437208},{"$f":"R21+R23","v":82.343412803106744},{"$f":"S21+S23","v":87.142607075608041},{"$f":"T21+T23","v":71.945571379084399},{"$f":"U21+U23","v":63.09889367037789},{"$f":"V21+V23","v":37.945291841092597},{"$f":"W21+W23","v":-10.457167310985835},{"$f":"X21+X23","v":0},{"$f":"Y21+Y23","v":0},{"$f":"Z21+Z23","v":0},{"$f":"AA21+AA23","v":0},{"$f":"AB21+AB23","v":0},{"$f":"AC21+AC23","v":0},{"$f":"AD21+AD23","v":0},{"$f":"AE21+AE23","v":0},{"$f":"AF21+AF23","v":0},{"$f":"AG21+AG23","v":0},{"$f":"AH21+AH23","v":0},{"$f":"AI21+AI23","v":0},{"$f":"AJ21+AJ23","v":0},{"$f":"AK21+AK23","v":0},{"$f":"AL21+AL23","v":0},{"$f":"AM21+AM23","v":0}]
[]
[null,null,"Project Cash Flows"]
[]
[null,null,"PAT",null,null,{"$f":"SUM(J28:AM28)","v":844.32870068655905},"USD Mn",null,null,{"$f":"J24","v":-2.9150000000000005},{"$f":"K24","v":-3.0898606182312824},149.54972899372962,54.221990485251446,62.914333366432054,70.744607863903212,77.746599902818048,103.13769123437208,82.343412803106744,87.142607075608041,71.945571379084399,63.09889367037789,37.945291841092597,-10.457167310985835,0,0,0,0,0,0,0,0,0,0,0,0,0,0,0,0]
[null,null,"Add: Depreciation",null,null,{"$f":"SUM(J29:AM29)","v":6.2699000000000007},"USD Mn",null,null,{"$f":"-J17","v":2.9150000000000005},{"$f":"-K17","v":3.0000650000000002},5.3225250000000002E-2,4.5241462500000003E-2,3.8455243125000003E-2,3.2686956656250002E-2,2.7783913157812496E-2,2.3616326184140623E-2,2.0073877256519528E-2,1.70627956680416E-2,1.4503376317835361E-2,1.2327869870160057E-2,6.9857929264240323E-2,0,0,0,0,0,0,0,0,0,0,0,0,0,0,0,0,0]
[null,null,"Add: Interest",null,null,0.60857296694376251,"USD Mn",null,null,{"$f":"-J20","v":0},{"$f":"-K20","v":8.9795618231282237E-2},0.10887919664336008,9.6069879391200083E-2,8.3260562139040067E-2,7.0451244886880052E-2,5.7641927634720036E-2,4.4832610382560027E-2,3.2023293130400012E-2,1.9213975878239999E-2,6.4046586260799974E-3,0,0,0,0,0,0,0,0,0,0,0,0,0,0,0,0,0,0,0]
[null,null,"Less: Capex",null,null,-6.2699000000000007,"USD Mn",null,null,{"$f":"-Debt!J19","v":-3.1800000000000006},{"$f":"-Debt!K19","v":-3.0899000000000001},{"$f":"-Debt!L19","v":0},{"$f":"-Debt!M19","v":0},{"$f":"-Debt!N19","v":0},{"$f":"-Debt!O19","v":0},{"$f":"-Debt!P19","v":0},{"$f":"-Debt!Q19","v":0},{"$f":"-Debt!R19","v":0},{"$f":"-Debt!S19","v":0},{"$f":"-Debt!T19","v":0},{"$f":"-Debt!U19","v":0},{"$f":"-Debt!V19","v":0},{"$f":"-Debt!W19","v":0},{"$f":"-Debt!X19","v":0},{"$f":"-Debt!Y19","v":0},{"$f":"-Debt!Z19","v":0},{"$f":"-Debt!AA19","v":0},{"$f":"-Debt!AB19","v":0},{"$f":"-Debt!AC19","v":0},{"$f":"-Debt!AD19","v":0},{"$f":"-Debt!AE19","v":0},{"$f":"-Debt!AF19","v":0},{"$f":"-Debt!AG19","v":0},{"$f":"-Debt!AH19","v":0},{"$f":"-Debt!AI19","v":0},{"$f":"-Debt!AJ19","v":0},{"$f":"-Debt!AK19","v":0},{"$f":"-Debt!AL19","v":0},{"$f":"-Debt!AM19","v":0}]
[null,null,"Less: Tax shield",null,null,0,"USD Mn",null,null,{"$f":"J56","v":0},{"$f":"K56","v":0},0,0,0,0,0,0,0,0,0,0,0,0,0,0,0,0,0,0,0,0,0,0,0,0,0,0,0,0]
[null,null,"Cash flows",null,null,844.93727365350276,"USD Mn",null,null,{"$f":"SUM(J28:J32)","v":-3.1800000000000006},{"$f":"SUM(K28:K32)","v":-3.0899000000000001},149.71183344037297,54.363301827142649,63.036049171696092,70.847746065446344,77.832025743610586,103.20614017093878,82.39550997349366,87.178883847154324,71.966479414028313,63.111221540248053,38.015149770356835,-10.457167310985835,0,0,0,0,0,0,0,0,0,0,0,0,0,0,0,0]
[]
[null,null,"Project NPV",{"$f":"NPV(Inputs!$E$146,FS!$K$33:$AM$33)+FS!J33","v":476.88479659653996},"USD Mn"]
[null,null,"Project IRR",{"$f":"IFERROR(IRR(J33:AM33),\"-\")","v":5.6165844071161528}]
[]
[]
[null,null,"Equity Cash Flows"]
[]
[null,null,"PAT",null,null,{"$f":"SUM(J41:AM41)","v":844.32870068655905},"USD Mn",null,null,{"$f":"J28","v":-2.9150000000000005},{"$f":"K28","v":-3.0898606182312824},149.54972899372962,54.221990485251446,62.914333366432054,70.744607863903212,77.746599902818048,103.13769123437208,82.343412803106744,87.142607075608041,71.945571379084399,63.09889367037789,37.945291841092597,-10.457167310985835,0,0,0,0,0,0,0,0,0,0,0,0,0,0,0,0]
[null,null,"Add: Depreciation",null,null,{"$f":"SUM(J42:AM42)","v":6.2699000000000007},"USD Mn",null,null,{"$f":"J29","v":2.9150000000000005},{"$f":"K29","v":3.0000650000000002},5.3225250000000002E-2,4.5241462500000003E-2,3.8455243125000003E-2,3.2686956656250002E-2,2.7783913157812496E-2,2.3616326184140623E-2,2.0073877256519528E-2,1.70627956680416E-2,1.4503376317835361E-2,1.2327869870160057E-2,6.9857929264240323E-2,0,0,0,0,0,0,0,0,0,0,0,0,0,0,0,0,0]
[null,null,"Less: Equity capex",null,null,{"$f":"SUM(J43:AM43)","v":-5.1237269008640043},"USD Mn",null,null,{"$f":"-Debt!J35","v":-2.5722952477249752},{"$f":"-Debt!K35","v":-2.5514316531390291},{"$f":"-Debt!L35","v":0},{"$f":"-Debt!M35","v":0},{"$f":"-Debt!N35","v":0},{"$f":"-Debt!O35","v":0},{"$f":"-Debt!P35","v":0},{"$f":"-Debt!Q35","v":0},{"$f":"-Debt!R35","v":0},{"$f":"-Debt!S35","v":0},{"$f":"-Debt!T35","v":0},{"$f":"-Debt!U35","v":0},{"$f":"-Debt!V35","v":0},{"$f":"-Debt!W35","v":0},{"$f":"-Debt!X35","v":0},{"$f":"-Debt!Y35","v":0},{"$f":"-Debt!Z35","v":0},{"$f":"-Debt!AA35","v":0},{"$f":"-Debt!AB35","v":0},{"$f":"-Debt!AC35","v":0},{"$f":"-Debt!AD35","v":0},{"$f":"-Debt!AE35","v":0},{"$f":"-Debt!AF35","v":0},{"$f":"-Debt!AG35","v":0},{"$f":"-Debt!AH35","v":0},{"$f":"-Debt!AI35","v":0},{"$f":"-Debt!AJ35","v":0},{"$f":"-Debt!AK35","v":0},{"$f":"-Debt!AL35","v":0},{"$f":"-Debt!AM35","v":0}]
[null,null,"Less: Repayments",null,null,-1.2809317252160011,"USD Mn",null,null,{"$f":"-Debt!J42","v":0},{"$f":"-Debt!K42","v":-0.1280931725216001},{"$f":"-Debt!L42","v":-0.1280931725216001},{"$f":"-Debt!M42","v":-0.1280931725216001},{"$f":"-Debt!N42","v":-0.1280931725216001},{"$f":"-Debt!O42","v":-0.1280931725216001},{"$f":"-Debt!P42","v":-0.1280931725216001},{"$f":"-Debt!Q42","v":-0.1280931725216001},{"$f":"-Debt!R42","v":-0.1280931725216001},{"$f":"-Debt!S42","v":-0.1280931725216001},{"$f":"-Debt!T42","v":-0.1280931725216001},{"$f":"-Debt!U42","v":0},{"$f":"-Debt!V42","v":0},{"$f":"-Debt!W42","v":0},{"$f":"-Debt!X42","v":0},{"$f":"-Debt!Y42","v":0},{"$f":"-Debt!Z42","v":0},{"$f":"-Debt!AA42","v":0},{"$f":"-Debt!AB42","v":0},{"$f":"-Debt!AC42","v":0},{"$f":"-Debt!AD42","v":0},{"$f":"-Debt!AE42","v":0},{"$f":"-Debt!AF42","v":0},{"$f":"-Debt!AG42","v":0},{"$f":"-Debt!AH42","v":0},{"$f":"-Debt!AI42","v":0},{"$f":"-Debt!AJ42","v":0},{"$f":"-Debt!AK42","v":0},{"$f":"-Debt!AL42","v":0},{"$f":"-Debt!AM42","v":0}]
[null,null,"Net Cash Flows",null,null,844.19394206047912,"USD Mn",null,null,{"$f":"SUM(J41:J44)","v":-2.5722952477249752},{"$f":"SUM(K41:K44)","v":-2.7693204438919112},149.47486107120801,54.139138775229846,62.824695437035452,70.64920164803786,77.646290643454265,103.03321438803462,82.235393507841664,87.031576698754478,71.83198158288063,63.111221540248053,38.015149770356835,-10.457167310985835,0,0,0,0,0,0,0,0,0,0,0,0,0,0,0,0]
[]
[null,null,"Equity NPV",{"$f":"NPV(Inputs!$E$147,FS!$K$45:$AM$45)+FS!J45","v":431.84014413437683},"USD Mn"]
[null,null,"Equity IRR",{"$f":"IRR(J45:AM45)","v":6.323700963150924}]
[]
[]
[]
[]
[null,null,"Tax shield"]
[null,null,"Due to Interest",null,null,{"$f":"SUM(J54:AM54)","v":0},"USD Mn",null,null,{"$f":"J20*Inputs!$E$117","v":0},{"$f":"K20*Inputs!$E$117","v":0},{"$f":"L20*Inputs!$E$117","v":0},{"$f":"M20*Inputs!$E$117","v":0},{"$f":"N20*Inputs!$E$117","v":0},{"$f":"O20*Inputs!$E$117","v":0},{"$f":"P20*Inputs!$E$117","v":0},{"$f":"Q20*Inputs!$E$117","v":0},{"$f":"R20*Inputs!$E$117","v":0},{"$f":"S20*Inputs!$E$117","v":0},{"$f":"T20*Inputs!$E$117","v":0},{"$f":"U20*Inputs!$E$117","v":0},{"$f":"V20*Inputs!$E$117","v":0},{"$f":"W20*Inputs!$E$117","v":0},{"$f":"X20*Inputs!$E$117","v":0},{"$f":"Y20*Inputs!$E$117","v":0},{"$f":"Z20*Inputs!$E$117","v":0},{"$f":"AA20*Inputs!$E$117","v":0},{"$f":"AB20*Inputs!$E$117","v":0},{"$f":"AC20*Inputs!$E$117","v":0},{"$f":"AD20*Inputs!$E$117","v":0},{"$f":"AE20*Inputs!$E$117","v":0},{"$f":"AF20*Inputs!$E$117","v":0},{"$f":"AG20*Inputs!$E$117","v":0},{"$f":"AH20*Inputs!$E$117","v":0},{"$f":"AI20*Inputs!$E$117","v":0},{"$f":"AJ20*Inputs!$E$117","v":0},{"$f":"AK20*Inputs!$E$117","v":0},{"$f":"AL20*Inputs!$E$117","v":0},{"$f":"AM20*Inputs!$E$117","v":0}]
[null,null,"Due to depreciation (on IDC)",null,null,0,"USD Mn",null,null,{"$f":"Debt!J88*Inputs!$E$117","v":0},{"$f":"Debt!K88*Inputs!$E$117","v":0},{"$f":"Debt!L88*Inputs!$E$117","v":0},{"$f":"Debt!M88*Inputs!$E$117","v":0},{"$f":"Debt!N88*Inputs!$E$117","v":0},{"$f":"Debt!O88*Inputs!$E$117","v":0},{"$f":"Debt!P88*Inputs!$E$117","v":0},{"$f":"Debt!Q88*Inputs!$E$117","v":0},{"$f":"Debt!R88*Inputs!$E$117","v":0},{"$f":"Debt!S88*Inputs!$E$117","v":0},{"$f":"Debt!T88*Inputs!$E$117","v":0},{"$f":"Debt!U88*Inputs!$E$117","v":0},{"$f":"Debt!V88*Inputs!$E$117","v":0},{"$f":"Debt!W88*Inputs!$E$117","v":0},{"$f":"Debt!X88*Inputs!$E$117","v":0},{"$f":"Debt!Y88*Inputs!$E$117","v":0},{"$f":"Debt!Z88*Inputs!$E$117","v":0},{"$f":"Debt!AA88*Inputs!$E$117","v":0},{"$f":"Debt!AB88*Inputs!$E$117","v":0},{"$f":"Debt!AC88*Inputs!$E$117","v":0},{"$f":"Debt!AD88*Inputs!$E$117","v":0},{"$f":"Debt!AE88*Inputs!$E$117","v":0},{"$f":"Debt!AF88*Inputs!$E$117","v":0},{"$f":"Debt!AG88*Inputs!$E$117","v":0},{"$f":"Debt!AH88*Inputs!$E$117","v":0},{"$f":"Debt!AI88*Inputs!$E$117","v":0},{"$f":"Debt!AJ88*Inputs!$E$117","v":0},{"$f":"Debt!AK88*Inputs!$E$117","v":0},{"$f":"Debt!AL88*Inputs!$E$117","v":0},{"$f":"Debt!AM88*Inputs!$E$117","v":0}]
[null,null,"Total Tax shield",null,null,0,"USD Mn",null,null,{"$f":"SUM(J54:J55)","v":0},{"$f":"SUM(K54:K55)","v":0},0,0,0,0,0,0,0,0,0,0,0,0,0,0,0,0,0,0,0,0,0,0,0,0,0,0,0,0]
[]
[]
[]
[null,null,"Government Cash Flow"]
[]
[null,null,"Net Cash Flows",null,null,{"$f":"SUM(J62:AM62)","v":583.84171124929196},"USD Mn",null,null,{"$f":"Revenue!J62","v":0},{"$f":"Revenue!K62","v":0},{"$f":"Revenue!L62","v":177.01665893716128},{"$f":"Revenue!M62","v":22.831209715730171},{"$f":"Revenue!N62","v":28.822373991389572},{"$f":"Revenue!O62","v":35.34392602415118},{"$f":"Revenue!P62","v":42.324619697389309},{"$f":"Revenue!Q62","v":75.076297850526046},{"$f":"Revenue!R62","v":49.73476912917662},{"$f":"Revenue!S62","v":57.734678081920855},{"$f":"Revenue!T62","v":42.324619697389309},{"$f":"Revenue!U62","v":35.34392602415118},{"$f":"Revenue!V62","v":17.288632100306454},{"$f":"Revenue!W62","v":0},{"$f":"Revenue!X62","v":0},{"$f":"Revenue!Y62","v":0},{"$f":"Revenue!Z62","v":0},{"$f":"Revenue!AA62","v":0},{"$f":"Revenue!AB62","v":0},{"$f":"Revenue!AC62","v":0},{"$f":"Revenue!AD62","v":0},{"$f":"Revenue!AE62","v":0},{"$f":"Revenue!AF62","v":0},{"$f":"Revenue!AG62","v":0},{"$f":"Revenue!AH62","v":0},{"$f":"Revenue!AI62","v":0},{"$f":"Revenue!AJ62","v":0},{"$f":"Revenue!AK62","v":0},{"$f":"Revenue!AL62","v":0},{"$f":"Revenue!AM62","v":0}]
[]
[null,null,"Equity NPV",{"$f":"NPV(Inputs!$E$146,FS!$K$62:$AM$62)+FS!J62","v":349.39847880635938},"USD Mn"]
[null,null,"Equity IRR",{"$f":"IFERROR(IRR(J62:AM62),\"-\")","v":"-"}]

{"sheet":"Debt","index":9,"n_rows":88,"n_cols":39,"rows_kept":88,"cut":false,"hidden":true,"merged":[]}
[null,null,null,null,null,null,null,null,"Period No.",{"$f":"Timings!J1","v":1},{"$f":"Timings!K1","v":2},{"$f":"Timings!L1","v":3},{"$f":"Timings!M1","v":4},{"$f":"Timings!N1","v":5},{"$f":"Timings!O1","v":6},{"$f":"Timings!P1","v":7},{"$f":"Timings!Q1","v":8},{"$f":"Timings!R1","v":9},{"$f":"Timings!S1","v":10},{"$f":"Timings!T1","v":11},{"$f":"Timings!U1","v":12},{"$f":"Timings!V1","v":13},{"$f":"Timings!W1","v":14},{"$f":"Timings!X1","v":15},{"$f":"Timings!Y1","v":16},{"$f":"Timings!Z1","v":17},{"$f":"Timings!AA1","v":0},{"$f":"Timings!AB1","v":0},{"$f":"Timings!AC1","v":0},{"$f":"Timings!AD1","v":0},{"$f":"Timings!AE1","v":0},{"$f":"Timings!AF1","v":0},{"$f":"Timings!AG1","v":0},{"$f":"Timings!AH1","v":0},{"$f":"Timings!AI1","v":0},{"$f":"Timings!AJ1","v":0},{"$f":"Timings!AK1","v":0},{"$f":"Timings!AL1","v":0},{"$f":"Timings!AM1","v":0}]
[null,null,null,null,null,null,null,null,"Start Date",{"$f":"Timings!J2","v":"2019-04-01"},{"$f":"Timings!K2","v":"2020-04-01"},{"$f":"Timings!L2","v":"2021-04-01"},{"$f":"Timings!M2","v":"2022-04-01"},{"$f":"Timings!N2","v":"2023-04-01"},{"$f":"Timings!O2","v":"2024-04-01"},{"$f":"Timings!P2","v":"2025-04-01"},{"$f":"Timings!Q2","v":"2026-04-01"},{"$f":"Timings!R2","v":"2027-04-01"},{"$f":"Timings!S2","v":"2028-04-01"},{"$f":"Timings!T2","v":"2029-04-01"},{"$f":"Timings!U2","v":"2030-04-01"},{"$f":"Timings!V2","v":"2031-04-01"},{"$f":"Timings!W2","v":"2032-04-01"},{"$f":"Timings!X2","v":"2033-04-01"},{"$f":"Timings!Y2","v":"2034-04-01"},{"$f":"Timings!Z2","v":"2035-04-01"},{"$f":"Timings!AA2","v":"2036-04-01"},{"$f":"Timings!AB2","v":"2037-04-01"},{"$f":"Timings!AC2","v":"2038-04-01"},{"$f":"Timings!AD2","v":"2039-04-01"},{"$f":"Timings!AE2","v":"2040-04-01"},{"$f":"Timings!AF2","v":"2041-04-01"},{"$f":"Timings!AG2","v":"2042-04-01"},{"$f":"Timings!AH2","v":"2043-04-01"},{"$f":"Timings!AI2","v":"2044-04-01"},{"$f":"Timings!AJ2","v":"2045-04-01"},{"$f":"Timings!AK2","v":"2046-04-01"},{"$f":"Timings!AL2","v":"2047-04-01"},{"$f":"Timings!AM2","v":"2048-04-01"}]
[null,null,null,null,null,null,null,null,"End Date",{"$f":"Timings!J3","v":"2020-03-31"},{"$f":"Timings!K3","v":"2021-03-31"},{"$f":"Timings!L3","v":"2022-03-31"},{"$f":"Timings!M3","v":"2023-03-31"},{"$f":"Timings!N3","v":"2024-03-31"},{"$f":"Timings!O3","v":"2025-03-31"},{"$f":"Timings!P3","v":"2026-03-31"},{"$f":"Timings!Q3","v":"2027-03-31"},{"$f":"Timings!R3","v":"2028-03-31"},{"$f":"Timings!S3","v":"2029-03-31"},{"$f":"Timings!T3","v":"2030-03-31"},{"$f":"Timings!U3","v":"2031-03-31"},{"$f":"Timings!V3","v":"2032-03-31"},{"$f":"Timings!W3","v":"2033-03-31"},{"$f":"Timings!X3","v":"2034-03-31"},{"$f":"Timings!Y3","v":"2035-03-31"},{"$f":"Timings!Z3","v":"2036-03-31"},{"$f":"Timings!AA3","v":"2037-03-31"},{"$f":"Timings!AB3","v":"2038-03-31"},{"$f":"Timings!AC3","v":"2039-03-31"},{"$f":"Timings!AD3","v":"2040-03-31"},{"$f":"Timings!AE3","v":"2041-03-31"},{"$f":"Timings!AF3","v":"2042-03-31"},{"$f":"Timings!AG3","v":"2043-03-31"},{"$f":"Timings!AH3","v":"2044-03-31"},{"$f":"Timings!AI3","v":"2045-03-31"},{"$f":"Timings!AJ3","v":"2046-03-31"},{"$f":"Timings!AK3","v":"2047-03-31"},{"$f":"Timings!AL3","v":"2048-03-31"},{"$f":"Timings!AM3","v":"2049-03-31"}]
[null,null,null,null,null,null,null,null,"Year",{"$f":"Timings!J4","v":2020},{"$f":"Timings!K4","v":2021},{"$f":"Timings!L4","v":2022},{"$f":"Timings!M4","v":2023},{"$f":"Timings!N4","v":2024},{"$f":"Timings!O4","v":2025},{"$f":"Timings!P4","v":2026},{"$f":"Timings!Q4","v":2027},{"$f":"Timings!R4","v":2028},{"$f":"Timings!S4","v":2029},{"$f":"Timings!T4","v":2030},{"$f":"Timings!U4","v":2031},{"$f":"Timings!V4","v":2032},{"$f":"Timings!W4","v":2033},{"$f":"Timings!X4","v":2034},{"$f":"Timings!Y4","v":2035},{"$f":"Timings!Z4","v":2036},{"$f":"Timings!AA4","v":2037},{"$f":"Timings!AB4","v":2038},{"$f":"Timings!AC4","v":2039},{"$f":"Timings!AD4","v":2040},{"$f":"Timings!AE4","v":2041},{"$f":"Timings!AF4","v":2042},{"$f":"Timings!AG4","v":2043},{"$f":"Timings!AH4","v":2044},{"$f":"Timings!AI4","v":2045},{"$f":"Timings!AJ4","v":2046},{"$f":"Timings!AK4","v":2047},{"$f":"Timings!AL4","v":2048},{"$f":"Timings!AM4","v":2049}]
[null,null,null,null,null,null,null,null,"Appraisal",{"$f":"Timings!J5","v":1},{"$f":"Timings!K5","v":0},{"$f":"Timings!L5","v":0},{"$f":"Timings!M5","v":0},{"$f":"Timings!N5","v":0},{"$f":"Timings!O5","v":0},{"$f":"Timings!P5","v":0},{"$f":"Timings!Q5","v":0},{"$f":"Timings!R5","v":0},{"$f":"Timings!S5","v":0},{"$f":"Timings!T5","v":0},{"$f":"Timings!U5","v":0},{"$f":"Timings!V5","v":0},{"$f":"Timings!W5","v":0},{"$f":"Timings!X5","v":0},{"$f":"Timings!Y5","v":0},{"$f":"Timings!Z5","v":0},{"$f":"Timings!AA5","v":0},{"$f":"Timings!AB5","v":0},{"$f":"Timings!AC5","v":0},{"$f":"Timings!AD5","v":0},{"$f":"Timings!AE5","v":0},{"$f":"Timings!AF5","v":0},{"$f":"Timings!AG5","v":0},{"$f":"Timings!AH5","v":0},{"$f":"Timings!AI5","v":0},{"$f":"Timings!AJ5","v":0},{"$f":"Timings!AK5","v":0},{"$f":"Timings!AL5","v":0},{"$f":"Timings!AM5","v":0}]
[null,null,null,null,null,null,null,null,"Well Development ",{"$f":"Timings!J6","v":1},{"$f":"Timings!K6","v":1},{"$f":"Timings!L6","v":0},{"$f":"Timings!M6","v":0},{"$f":"Timings!N6","v":0},{"$f":"Timings!O6","v":0},{"$f":"Timings!P6","v":0},{"$f":"Timings!Q6","v":0},{"$f":"Timings!R6","v":0},{"$f":"Timings!S6","v":0},{"$f":"Timings!T6","v":0},{"$f":"Timings!U6","v":0},{"$f":"Timings!V6","v":0},{"$f":"Timings!W6","v":0},{"$f":"Timings!X6","v":0},{"$f":"Timings!Y6","v":0},{"$f":"Timings!Z6","v":0},{"$f":"Timings!AA6","v":0},{"$f":"Timings!AB6","v":0},{"$f":"Timings!AC6","v":0},{"$f":"Timings!AD6","v":0},{"$f":"Timings!AE6","v":0},{"$f":"Timings!AF6","v":0},{"$f":"Timings!AG6","v":0},{"$f":"Timings!AH6","v":0},{"$f":"Timings!AI6","v":0},{"$f":"Timings!AJ6","v":0},{"$f":"Timings!AK6","v":0},{"$f":"Timings!AL6","v":0},{"$f":"Timings!AM6","v":0}]
[null,null,null,null,null,null,null,null,"Facilities",{"$f":"Timings!J7","v":1},{"$f":"Timings!K7","v":1},{"$f":"Timings!L7","v":0},{"$f":"Timings!M7","v":0},{"$f":"Timings!N7","v":0},{"$f":"Timings!O7","v":0},{"$f":"Timings!P7","v":0},{"$f":"Timings!Q7","v":0},{"$f":"Timings!R7","v":0},{"$f":"Timings!S7","v":0},{"$f":"Timings!T7","v":0},{"$f":"Timings!U7","v":0},{"$f":"Timings!V7","v":0},{"$f":"Timings!W7","v":0},{"$f":"Timings!X7","v":0},{"$f":"Timings!Y7","v":0},{"$f":"Timings!Z7","v":0},{"$f":"Timings!AA7","v":0},{"$f":"Timings!AB7","v":0},{"$f":"Timings!AC7","v":0},{"$f":"Timings!AD7","v":0},{"$f":"Timings!AE7","v":0},{"$f":"Timings!AF7","v":0},{"$f":"Timings!AG7","v":0},{"$f":"Timings!AH7","v":0},{"$f":"Timings!AI7","v":0},{"$f":"Timings!AJ7","v":0},{"$f":"Timings!AK7","v":0},{"$f":"Timings!AL7","v":0},{"$f":"Timings!AM7","v":0}]
[null,null,null,null,null,null,null,null,"Operations",{"$f":"Timings!J8","v":0},{"$f":"Timings!K8","v":1},{"$f":"Timings!L8","v":1},{"$f":"Timings!M8","v":1},{"$f":"Timings!N8","v":1},{"$f":"Timings!O8","v":1},{"$f":"Timings!P8","v":1},{"$f":"Timings!Q8","v":1},{"$f":"Timings!R8","v":1},{"$f":"Timings!S8","v":1},{"$f":"Timings!T8","v":1},{"$f":"Timings!U8","v":1},{"$f":"Timings!V8","v":1},{"$f":"Timings!W8","v":0},{"$f":"Timings!X8","v":0},{"$f":"Timings!Y8","v":0},{"$f":"Timings!Z8","v":0},{"$f":"Timings!AA8","v":0},{"$f":"Timings!AB8","v":0},{"$f":"Timings!AC8","v":0},{"$f":"Timings!AD8","v":0},{"$f":"Timings!AE8","v":0},{"$f":"Timings!AF8","v":0},{"$f":"Timings!AG8","v":0},{"$f":"Timings!AH8","v":0},{"$f":"Timings!AI8","v":0},{"$f":"Timings!AJ8","v":0},{"$f":"Timings!AK8","v":0},{"$f":"Timings!AL8","v":0},{"$f":"Timings!AM8","v":0}]
[]
[null,null,{"$f":"Inputs!C103","v":"Debt financing "},{"$f":"IFERROR(Inputs!E103,)","v":0.2}]
[null,null,{"$f":"Inputs!C104","v":"Interest Rate"},{"$f":"IFERROR(Inputs!E104,)","v":0.1}]
[]
[null,null,{"$f":"Inputs!C106","v":"Repayment period"},{"$f":"IFERROR(Inputs!E106,)","v":10},{"$f":"Inputs!F106","v":"after construction period"}]
[null,null,{"$f":"Inputs!C107","v":"Financing fee"},{"$f":"IFERROR(Inputs!E107,)","v":5.0000000000000001E-3}]
[]
[]
[null,null,"Project Cost"]
[]
[null,null,"Capex",null,null,null,{"$f":"SUM(J19:AM19)","v":6.2699000000000007},"USD Mn",null,{"$f":"Capex!J16+Capex!J19+Capex!J22","v":3.1800000000000006},{"$f":"Capex!K16+Capex!K19+Capex!K22","v":3.0899000000000001},{"$f":"Capex!L16+Capex!L19+Capex!L22","v":0},{"$f":"Capex!M16+Capex!M19+Capex!M22","v":0},{"$f":"Capex!N16+Capex!N19+Capex!N22","v":0},{"$f":"Capex!O16+Capex!O19+Capex!O22","v":0},{"$f":"Capex!P16+Capex!P19+Capex!P22","v":0},{"$f":"Capex!Q16+Capex!Q19+Capex!Q22","v":0},{"$f":"Capex!R16+Capex!R19+Capex!R22","v":0},{"$f":"Capex!S16+Capex!S19+Capex!S22","v":0},{"$f":"Capex!T16+Capex!T19+Capex!T22","v":0},{"$f":"Capex!U16+Capex!U19+Capex!U22","v":0},{"$f":"Capex!V16+Capex!V19+Capex!V22","v":0},{"$f":"Capex!W16+Capex!W19+Capex!W22","v":0},{"$f":"Capex!X16+Capex!X19+Capex!X22","v":0},{"$f":"Capex!Y16+Capex!Y19+Capex!Y22","v":0},{"$f":"Capex!Z16+Capex!Z19+Capex!Z22","v":0},{"$f":"Capex!AA16+Capex!AA19+Capex!AA22","v":0},{"$f":"Capex!AB16+Capex!AB19+Capex!AB22","v":0},{"$f":"Capex!AC16+Capex!AC19+Capex!AC22","v":0},{"$f":"Capex!AD16+Capex!AD19+Capex!AD22","v":0},{"$f":"Capex!AE16+Capex!AE19+Capex!AE22","v":0},{"$f":"Capex!AF16+Capex!AF19+Capex!AF22","v":0},{"$f":"Capex!AG16+Capex!AG19+Capex!AG22","v":0},{"$f":"Capex!AH16+Capex!AH19+Capex!AH22","v":0},{"$f":"Capex!AI16+Capex!AI19+Capex!AI22","v":0},{"$f":"Capex!AJ16+Capex!AJ19+Capex!AJ22","v":0},{"$f":"Capex!AK16+Capex!AK19+Capex!AK22","v":0},{"$f":"Capex!AL16+Capex!AL19+Capex!AL22","v":0},{"$f":"Capex!AM16+Capex!AM19+Capex!AM22","v":0}]
[null,null,"Interest during construction (IDC)",null,null,null,{"$f":"SUM(J20:AM20)","v":0.12835396745392444},"USD Mn",null,{"$f":"J31","v":3.2153690596562194E-2},{"$f":"K31","v":9.6200276857362252E-2},0,0,0,0,0,0,0,0,0,0,0,0,0,0,0,0,0,0,0,0,0,0,0,0,0,0,0,0]
[null,null,"Financing charges",null,null,null,{"$f":"SUM(J21:AM21)","v":6.4046586260800061E-3},"USD Mn",null,{"$f":"J23*$D$14","v":3.2153690596562192E-3},{"$f":"K23*$D$14","v":3.1892895664237864E-3},0,0,0,0,0,0,0,0,0,0,0,0,0,0,0,0,0,0,0,0,0,0,0,0,0,0,0,0]
[null,null,"Total Project cost",null,null,null,{"$f":"SUM(J22:AM22)","v":6.4046586260800051},"USD Mn",null,{"$f":"SUM(J19:J21)","v":3.215369059656219},{"$f":"SUM(K19:K21)","v":3.1892895664237861},0,0,0,0,0,0,0,0,0,0,0,0,0,0,0,0,0,0,0,0,0,0,0,0,0,0,0,0]
[null,null,"Total debt funding",null,null,null,{"$f":"SUM(J23:AM23)","v":1.2809317252160011},"USD Mn",null,{"$f":"J22*$D$10","v":0.6430738119312438},{"$f":"K22*$D$10","v":0.63785791328475727},0,0,0,0,0,0,0,0,0,0,0,0,0,0,0,0,0,0,0,0,0,0,0,0,0,0,0,0]
[]
[null,null,"Interest during construction (IDC)"]
[]
[null,null,"Opening balance",null,null,null,null,"USD Mn",null,{"$f":"I29","v":0},{"$f":"J29","v":0.6430738119312438},1.2809317252160011,1.2809317252160011,1.2809317252160011,1.2809317252160011,1.2809317252160011,1.2809317252160011,1.2809317252160011,1.2809317252160011,1.2809317252160011,1.2809317252160011,1.2809317252160011,1.2809317252160011,1.2809317252160011,1.2809317252160011,1.2809317252160011,1.2809317252160011,1.2809317252160011,1.2809317252160011,1.2809317252160011,1.2809317252160011,1.2809317252160011,1.2809317252160011,1.2809317252160011,1.2809317252160011,1.2809317252160011,1.2809317252160011,1.2809317252160011,1.2809317252160011]
[null,null,"Debt additions",null,null,null,{"$f":"SUM(J28:AM28)","v":1.2809317252160011},"USD Mn",null,{"$f":"J23","v":0.6430738119312438},{"$f":"K23","v":0.63785791328475727},0,0,0,0,0,0,0,0,0,0,0,0,0,0,0,0,0,0,0,0,0,0,0,0,0,0,0,0]
[null,null,"Closing balance",null,null,null,null,"USD Mn",null,{"$f":"SUM(J27:J28)","v":0.6430738119312438},{"$f":"SUM(K27:K28)","v":1.2809317252160011},1.2809317252160011,1.2809317252160011,1.2809317252160011,1.2809317252160011,1.2809317252160011,1.2809317252160011,1.2809317252160011,1.2809317252160011,1.2809317252160011,1.2809317252160011,1.2809317252160011,1.2809317252160011,1.2809317252160011,1.2809317252160011,1.2809317252160011,1.2809317252160011,1.2809317252160011,1.2809317252160011,1.2809317252160011,1.2809317252160011,1.2809317252160011,1.2809317252160011,1.2809317252160011,1.2809317252160011,1.2809317252160011,1.2809317252160011,1.2809317252160011,1.2809317252160011]
[]
[null,null,"IDC",null,null,null,{"$f":"SUM(J31:AM31)","v":0.12835396745392444},"USD Mn",null,{"$f":"IF(OR(J5=1,J6=1,J7=1),AVERAGE(J29,J27)*$D$11,0)","v":3.2153690596562194E-2},{"$f":"IF(OR(K5=1,K6=1,K7=1),AVERAGE(K29,K27)*$D$11,0)","v":9.6200276857362252E-2},0,0,0,0,0,0,0,0,0,0,0,0,0,0,0,0,0,0,0,0,0,0,0,0,0,0,0,0]
[]
[null,null,"Gearing Ratio"]
[null,null,"Debt",null,null,{"$f":"Dashboard!H28","v":0.2},{"$f":"SUM(J34:AM34)","v":1.2809317252160011},"USD Mn",null,{"$f":"$F$34*J22","v":0.6430738119312438},{"$f":"$F$34*K22","v":0.63785791328475727},0,0,0,0,0,0,0,0,0,0,0,0,0,0,0,0,0,0,0,0,0,0,0,0,0,0,0,0]
[null,null,"Equity",null,null,{"$f":"1-F34","v":0.8},{"$f":"SUM(J35:AM35)","v":5.1237269008640043},"USD Mn",null,{"$f":"J22*$F$35","v":2.5722952477249752},{"$f":"K22*$F$35","v":2.5514316531390291},0,0,0,0,0,0,0,0,0,0,0,0,0,0,0,0,0,0,0,0,0,0,0,0,0,0,0,0]
[null,null,"Total",null,null,{"$f":"SUM(F34:F35)","v":1},{"$f":"SUM(G34:G35)","v":6.4046586260800051},"USD Mn",null,{"$f":"SUM(J34:J35)","v":3.215369059656219},{"$f":"SUM(K34:K35)","v":3.1892895664237866},0,0,0,0,0,0,0,0,0,0,0,0,0,0,0,0,0,0,0,0,0,0,0,0,0,0,0,0]
[]
[null,null,"Repayment"]
[]
[null,null,"Opening balance",null,null,null,null,"USD Mn",null,{"$f":"I43","v":0},{"$f":"J43","v":0.6430738119312438},1.1528385526944009,1.0247453801728008,0.89665220765120068,0.76855903512960055,0.64046586260800042,0.5123726900864003,0.38427951756480017,0.25618634504320004,0.12809317252159994,0,0,0,0,0,0,0,0,0,0,0,0,0,0,0,0,0,0,0]
[null,null,"Debt additions",null,null,null,{"$f":"SUM(J41:AM41)","v":1.2809317252160011},"USD Mn",null,{"$f":"J28","v":0.6430738119312438},0.63785791328475727,0,0,0,0,0,0,0,0,0,0,0,0,0,0,0,0,0,0,0,0,0,0,0,0,0,0,0,0]
[null,null,"Repayment",null,null,null,{"$f":"SUM(J42:AM42)","v":1.2809317252160011},"USD Mn",null,{"$f":"IF(AND((J2-Inputs!$E$38)>=0,(J2-Inputs!$E$38)/365<($D$13)),($G$23/$D$13)*J8,0)","v":0},{"$f":"IF(AND((K2-Inputs!$E$38)>=0,(K2-Inputs!$E$38)/365<($D$13)),($G$23/$D$13)*K8,0)","v":0.1280931725216001},{"$f":"IF(AND((L2-Inputs!$E$38)>=0,(L2-Inputs!$E$38)/365<($D$13)),($G$23/$D$13)*L8,0)","v":0.1280931725216001},{"$f":"IF(AND((M2-Inputs!$E$38)>=0,(M2-Inputs!$E$38)/365<($D$13)),($G$23/$D$13)*M8,0)","v":0.1280931725216001},{"$f":"IF(AND((N2-Inputs!$E$38)>=0,(N2-Inputs!$E$38)/365<($D$13)),($G$23/$D$13)*N8,0)","v":0.1280931725216001},{"$f":"IF(AND((O2-Inputs!$E$38)>=0,(O2-Inputs!$E$38)/365<($D$13)),($G$23/$D$13)*O8,0)","v":0.1280931725216001},{"$f":"IF(AND((P2-Inputs!$E$38)>=0,(P2-Inputs!$E$38)/365<($D$13)),($G$23/$D$13)*P8,0)","v":0.1280931725216001},{"$f":"IF(AND((Q2-Inputs!$E$38)>=0,(Q2-Inputs!$E$38)/365<($D$13)),($G$23/$D$13)*Q8,0)","v":0.1280931725216001},{"$f":"IF(AND((R2-Inputs!$E$38)>=0,(R2-Inputs!$E$38)/365<($D$13)),($G$23/$D$13)*R8,0)","v":0.1280931725216001},{"$f":"IF(AND((S2-Inputs!$E$38)>=0,(S2-Inputs!$E$38)/365<($D$13)),($G$23/$D$13)*S8,0)","v":0.1280931725216001},{"$f":"IF(AND((T2-Inputs!$E$38)>=0,(T2-Inputs!$E$38)/365<($D$13)),($G$23/$D$13)*T8,0)","v":0.1280931725216001},{"$f":"IF(AND((U2-Inputs!$E$38)>=0,(U2-Inputs!$E$38)/365<($D$13)),($G$23/$D$13)*U8,0)","v":0},{"$f":"IF(AND((V2-Inputs!$E$38)>=0,(V2-Inputs!$E$38)/365<($D$13)),($G$23/$D$13)*V8,0)","v":0},{"$f":"IF(AND((W2-Inputs!$E$38)>=0,(W2-Inputs!$E$38)/365<($D$13)),($G$23/$D$13)*W8,0)","v":0},{"$f":"IF(AND((X2-Inputs!$E$38)>=0,(X2-Inputs!$E$38)/365<($D$13)),($G$23/$D$13)*X8,0)","v":0},{"$f":"IF(AND((Y2-Inputs!$E$38)>=0,(Y2-Inputs!$E$38)/365<($D$13)),($G$23/$D$13)*Y8,0)","v":0},{"$f":"IF(AND((Z2-Inputs!$E$38)>=0,(Z2-Inputs!$E$38)/365<($D$13)),($G$23/$D$13)*Z8,0)","v":0},{"$f":"IF(AND((AA2-Inputs!$E$38)>=0,(AA2-Inputs!$E$38)/365<($D$13)),($G$23/$D$13)*AA8,0)","v":0},{"$f":"IF(AND((AB2-Inputs!$E$38)>=0,(AB2-Inputs!$E$38)/365<($D$13)),($G$23/$D$13)*AB8,0)","v":0},{"$f":"IF(AND((AC2-Inputs!$E$38)>=0,(AC2-Inputs!$E$38)/365<($D$13)),($G$23/$D$13)*AC8,0)","v":0},{"$f":"IF(AND((AD2-Inputs!$E$38)>=0,(AD2-Inputs!$E$38)/365<($D$13)),($G$23/$D$13)*AD8,0)","v":0},{"$f":"IF(AND((AE2-Inputs!$E$38)>=0,(AE2-Inputs!$E$38)/365<($D$13)),($G$23/$D$13)*AE8,0)","v":0},{"$f":"IF(AND((AF2-Inputs!$E$38)>=0,(AF2-Inputs!$E$38)/365<($D$13)),($G$23/$D$13)*AF8,0)","v":0},{"$f":"IF(AND((AG2-Inputs!$E$38)>=0,(AG2-Inputs!$E$38)/365<($D$13)),($G$23/$D$13)*AG8,0)","v":0},{"$f":"IF(AND((AH2-Inputs!$E$38)>=0,(AH2-Inputs!$E$38)/365<($D$13)),($G$23/$D$13)*AH8,0)","v":0},{"$f":"IF(AND((AI2-Inputs!$E$38)>=0,(AI2-Inputs!$E$38)/365<($D$13)),($G$23/$D$13)*AI8,0)","v":0},{"$f":"IF(AND((AJ2-Inputs!$E$38)>=0,(AJ2-Inputs!$E$38)/365<($D$13)),($G$23/$D$13)*AJ8,0)","v":0},{"$f":"IF(AND((AK2-Inputs!$E$38)>=0,(AK2-Inputs!$E$38)/365<($D$13)),($G$23/$D$13)*AK8,0)","v":0},{"$f":"IF(AND((AL2-Inputs!$E$38)>=0,(AL2-Inputs!$E$38)/365<($D$13)),($G$23/$D$13)*AL8,0)","v":0},{"$f":"IF(AND((AM2-Inputs!$E$38)>=0,(AM2-Inputs!$E$38)/365<($D$13)),($G$23/$D$13)*AM8,0)","v":0}]
[null,null,"Closing balance",null,null,null,null,"USD Mn",null,{"$f":"J40+J41-J42","v":0.6430738119312438},{"$f":"K40+K41-K42","v":1.1528385526944009},1.0247453801728008,0.89665220765120068,0.76855903512960055,0.64046586260800042,0.5123726900864003,0.38427951756480017,0.25618634504320004,0.12809317252159994,0,0,0,0,0,0,0,0,0,0,0,0,0,0,0,0,0,0,0,0]
[]
[null,null,"Interest Payment",null,null,null,{"$f":"SUM(J45:AM45)","v":0.60857296694376251},"USD Mn",null,{"$f":"AVERAGE(J43,J40)*$D$11*J8","v":0},8.9795618231282237E-2,0.10887919664336008,9.6069879391200083E-2,8.3260562139040067E-2,7.0451244886880052E-2,5.7641927634720036E-2,4.4832610382560027E-2,3.2023293130400012E-2,1.9213975878239999E-2,6.4046586260799974E-3,0,0,0,0,0,0,0,0,0,0,0,0,0,0,0,0,0,0,0]
[]
[null,null,"Distribution of IDC"]
[null,null,{"$f":"C31","v":"IDC"},null,null,null,{"$f":"SUM(J48:AM48)","v":0.12835396745392444},{"$f":"H31","v":"USD Mn"},null,{"$f":"J31","v":3.2153690596562194E-2},9.6200276857362252E-2,0,0,0,0,0,0,0,0,0,0,0,0,0,0,0,0,0,0,0,0,0,0,0,0,0,0,0,0]
[null,null,"IDC for Exploration",null,{"$f":"IFERROR(Capex!G11/Capex!$G$16,)","v":4.2265426880811502E-2},null,{"$f":"SUM(J49:AM49)","v":5.4249352262859029E-3},"USD Mn",null,{"$f":"J$48*$E49","v":1.3589894588572357E-3},{"$f":"K$48*$E49","v":4.0659457674286671E-3},0,0,0,0,0,0,0,0,0,0,0,0,0,0,0,0,0,0,0,0,0,0,0,0,0,0,0,0]
[null,null,"IDC for Well Development",null,{"$f":"IFERROR(Capex!G12/Capex!$G$16,)","v":0.87066779374471692},null,{"$f":"SUM(J50:AM50)","v":0.1117536656614896},"USD Mn",null,{"$f":"J$48*$E50","v":2.7995182852459055E-2},8.3758482809030546E-2,0,0,0,0,0,0,0,0,0,0,0,0,0,0,0,0,0,0,0,0,0,0,0,0,0,0,0,0]
[null,null,"IDC for facilities and other infrastructure",null,{"$f":"IFERROR(Capex!G13/Capex!$G$16,)","v":8.7066779374471687E-2},null,1.117536656614896E-2,"USD Mn",null,2.7995182852459054E-3,8.3758482809030543E-3,0,0,0,0,0,0,0,0,0,0,0,0,0,0,0,0,0,0,0,0,0,0,0,0,0,0,0,0]
[null,null,"IDC for Evacuation infrastructure (Pipeline etc.)",null,{"$f":"IFERROR(Capex!G14/Capex!$G$16,)","v":0},null,0,"USD Mn",null,0,0,0,0,0,0,0,0,0,0,0,0,0,0,0,0,0,0,0,0,0,0,0,0,0,0,0,0,0,0]
[null,null,"Total IDC",null,null,null,{"$f":"SUM(G49:G52)","v":0.12835396745392447},"USD Mn",null,{"$f":"SUM(J49:J52)","v":3.2153690596562194E-2},{"$f":"SUM(K49:K52)","v":9.6200276857362266E-2},0,0,0,0,0,0,0,0,0,0,0,0,0,0,0,0,0,0,0,0,0,0,0,0,0,0,0,0]
[]
[null,null,"Depreciation tax shield due to IDC"]
[null,null,"IDC for Exploration",null,null,null,{"$f":"SUM(J56:AM56)","v":5.4249352262859029E-3},"USD Mn",null,{"$f":"J49","v":1.3589894588572357E-3},{"$f":"K49","v":4.0659457674286671E-3},0,0,0,0,0,0,0,0,0,0,0,0,0,0,0,0,0,0,0,0,0,0,0,0,0,0,0,0]
[null,null,"Depreciation",null,null,null,{"$f":"SUM(J57:AM57)","v":-5.4249352262859029E-3},"USD Mn",null,{"$f":"-J56","v":-1.3589894588572357E-3},{"$f":"-K56","v":-4.0659457674286671E-3},0,0,0,0,0,0,0,0,0,0,0,0,0,0,0,0,0,0,0,0,0,0,0,0,0,0,0,0]
[]
[null,null,"IDC for Well development",null,null,null,{"$f":"SUM(J59:AM59)","v":0.1117536656614896},"USD Mn",null,{"$f":"J50","v":2.7995182852459055E-2},{"$f":"K50","v":8.3758482809030546E-2},0,0,0,0,0,0,0,0,0,0,0,0,0,0,0,0,0,0,0,0,0,0,0,0,0,0,0,0]
[null,null,"Depreciation",null,null,null,{"$f":"SUM(J60:AM60)","v":-0.1117536656614896},"USD Mn",null,{"$f":"-J59","v":-2.7995182852459055E-2},{"$f":"-K59","v":-8.3758482809030546E-2},0,0,0,0,0,0,0,0,0,0,0,0,0,0,0,0,0,0,0,0,0,0,0,0,0,0,0,0]
[]
[null,null,"IDC for facilities and other infrastructure"]
[null,null,"Regular Depreciation",0.15]
[null,null,"Additional Depreciation",0.2]
[]
[null,null,"Opening balance",null,null,null,null,"USD Mn",null,{"$f":"I73","v":0},2.7995182852459054E-3,7.2639882679968243E-3,6.174390027797301E-3,5.2482315236277062E-3,4.4609967950835503E-3,3.7918472758210176E-3,3.2230701844478647E-3,2.739609656780685E-3,2.3286682082635825E-3,1.9793679770240451E-3,1.6824627804704383E-3,1.4300933633998726E-3,1.2155793588898918E-3,1.2155793588898918E-3,1.2155793588898918E-3,1.2155793588898918E-3,1.2155793588898918E-3,1.2155793588898918E-3,1.2155793588898918E-3,1.2155793588898918E-3,1.2155793588898918E-3,1.2155793588898918E-3,1.2155793588898918E-3,1.2155793588898918E-3,1.2155793588898918E-3,1.2155793588898918E-3,1.2155793588898918E-3,1.2155793588898918E-3,1.2155793588898918E-3]
[null,null,"Addition",null,null,null,{"$f":"SUM(J67:AM67)","v":1.117536656614896E-2},"USD Mn",null,{"$f":"J51","v":2.7995182852459054E-3},{"$f":"K51","v":8.3758482809030543E-3},0,0,0,0,0,0,0,0,0,0,0,0,0,0,0,0,0,0,0,0,0,0,0,0,0,0,0,0]
[null,null,"Depreciation %",null,null,null,null,"%",null,{"$f":"IF(J3>=Inputs!$E$35,$D$63,0)","v":0},{"$f":"IF(K3>=Inputs!$E$35,$D$63,0)","v":0.15},{"$f":"IF(L3>=Inputs!$E$35,$D$63,0)","v":0.15},{"$f":"IF(M3>=Inputs!$E$35,$D$63,0)","v":0.15},{"$f":"IF(N3>=Inputs!$E$35,$D$63,0)","v":0.15},{"$f":"IF(O3>=Inputs!$E$35,$D$63,0)","v":0.15},{"$f":"IF(P3>=Inputs!$E$35,$D$63,0)","v":0.15},{"$f":"IF(Q3>=Inputs!$E$35,$D$63,0)","v":0.15},{"$f":"IF(R3>=Inputs!$E$35,$D$63,0)","v":0.15},{"$f":"IF(S3>=Inputs!$E$35,$D$63,0)","v":0.15},{"$f":"IF(T3>=Inputs!$E$35,$D$63,0)","v":0.15},{"$f":"IF(U3>=Inputs!$E$35,$D$63,0)","v":0.15},{"$f":"IF(V3>=Inputs!$E$35,$D$63,0)","v":0.15},{"$f":"IF(W3>=Inputs!$E$35,$D$63,0)","v":0.15},{"$f":"IF(X3>=Inputs!$E$35,$D$63,0)","v":0.15},{"$f":"IF(Y3>=Inputs!$E$35,$D$63,0)","v":0.15},{"$f":"IF(Z3>=Inputs!$E$35,$D$63,0)","v":0.15},{"$f":"IF(AA3>=Inputs!$E$35,$D$63,0)","v":0.15},{"$f":"IF(AB3>=Inputs!$E$35,$D$63,0)","v":0.15},{"$f":"IF(AC3>=Inputs!$E$35,$D$63,0)","v":0.15},{"$f":"IF(AD3>=Inputs!$E$35,$D$63,0)","v":0.15},{"$f":"IF(AE3>=Inputs!$E$35,$D$63,0)","v":0.15},{"$f":"IF(AF3>=Inputs!$E$35,$D$63,0)","v":0.15},{"$f":"IF(AG3>=Inputs!$E$35,$D$63,0)","v":0.15},{"$f":"IF(AH3>=Inputs!$E$35,$D$63,0)","v":0.15},{"$f":"IF(AI3>=Inputs!$E$35,$D$63,0)","v":0.15},{"$f":"IF(AJ3>=Inputs!$E$35,$D$63,0)","v":0.15},{"$f":"IF(AK3>=Inputs!$E$35,$D$63,0)","v":0.15},{"$f":"IF(AL3>=Inputs!$E$35,$D$63,0)","v":0.15},{"$f":"IF(AM3>=Inputs!$E$35,$D$63,0)","v":0.15}]
[null,null,"Depreciation",null,null,null,{"$f":"SUM(J69:AM69)","v":-1.08244412591985E-2},"USD Mn",null,{"$f":"-J68*SUM(I73,J67)","v":0},-1.676304984922344E-3,-1.0895982401995237E-3,-9.2615850416959513E-4,-7.8723472854415593E-4,-6.6914951926253256E-4,-5.6877709137315266E-4,-4.8346052766717971E-4,-4.1094144851710275E-4,-3.4930023123953737E-4,-2.9690519655360676E-4,-2.5236941707056576E-4,-2.1451400450998089E-4,-1.8233690383348376E-4,-1.8233690383348376E-4,-1.8233690383348376E-4,-1.8233690383348376E-4,-1.8233690383348376E-4,-1.8233690383348376E-4,-1.8233690383348376E-4,-1.8233690383348376E-4,-1.8233690383348376E-4,-1.8233690383348376E-4,-1.8233690383348376E-4,-1.8233690383348376E-4,-1.8233690383348376E-4,-1.8233690383348376E-4,-1.8233690383348376E-4,-1.8233690383348376E-4,-1.8233690383348376E-4]
[null,null,"Additional depreciation %",null,null,null,null,"%",null,{"$f":"IF(J3=Inputs!$E$35,$D$64,0)","v":0},{"$f":"IF(K3=Inputs!$E$35,$D$64,0)","v":0.2},{"$f":"IF(L3=Inputs!$E$35,$D$64,0)","v":0},{"$f":"IF(M3=Inputs!$E$35,$D$64,0)","v":0},{"$f":"IF(N3=Inputs!$E$35,$D$64,0)","v":0},{"$f":"IF(O3=Inputs!$E$35,$D$64,0)","v":0},{"$f":"IF(P3=Inputs!$E$35,$D$64,0)","v":0},{"$f":"IF(Q3=Inputs!$E$35,$D$64,0)","v":0},{"$f":"IF(R3=Inputs!$E$35,$D$64,0)","v":0},{"$f":"IF(S3=Inputs!$E$35,$D$64,0)","v":0},{"$f":"IF(T3=Inputs!$E$35,$D$64,0)","v":0},{"$f":"IF(U3=Inputs!$E$35,$D$64,0)","v":0},{"$f":"IF(V3=Inputs!$E$35,$D$64,0)","v":0},{"$f":"IF(W3=Inputs!$E$35,$D$64,0)","v":0},{"$f":"IF(X3=Inputs!$E$35,$D$64,0)","v":0},{"$f":"IF(Y3=Inputs!$E$35,$D$64,0)","v":0},{"$f":"IF(Z3=Inputs!$E$35,$D$64,0)","v":0},{"$f":"IF(AA3=Inputs!$E$35,$D$64,0)","v":0},{"$f":"IF(AB3=Inputs!$E$35,$D$64,0)","v":0},{"$f":"IF(AC3=Inputs!$E$35,$D$64,0)","v":0},{"$f":"IF(AD3=Inputs!$E$35,$D$64,0)","v":0},{"$f":"IF(AE3=Inputs!$E$35,$D$64,0)","v":0},{"$f":"IF(AF3=Inputs!$E$35,$D$64,0)","v":0},{"$f":"IF(AG3=Inputs!$E$35,$D$64,0)","v":0},{"$f":"IF(AH3=Inputs!$E$35,$D$64,0)","v":0},{"$f":"IF(AI3=Inputs!$E$35,$D$64,0)","v":0},{"$f":"IF(AJ3=Inputs!$E$35,$D$64,0)","v":0},{"$f":"IF(AK3=Inputs!$E$35,$D$64,0)","v":0},{"$f":"IF(AL3=Inputs!$E$35,$D$64,0)","v":0},{"$f":"IF(AM3=Inputs!$E$35,$D$64,0)","v":0}]
[null,null,"Additional depreciation",null,null,null,{"$f":"SUM(J71:AM71)","v":-2.2350733132297921E-3},"USD Mn",null,{"$f":"-J70*SUM(I73,J67)","v":0},-2.2350733132297921E-3,0,0,0,0,0,0,0,0,0,0,0,0,0,0,0,0,0,0,0,0,0,0,0,0,0,0,0,0]
[null,null,"Total Depreciation",null,null,null,{"$f":"SUM(J72:AM72)","v":-9.9597872072590705E-3},"USD Mn",null,{"$f":"SUM(J71,J69)*IF(OR(J7=1,J8=1),1,0)","v":0},-3.9113782981521359E-3,-1.0895982401995237E-3,-9.2615850416959513E-4,-7.8723472854415593E-4,-6.6914951926253256E-4,-5.6877709137315266E-4,-4.8346052766717971E-4,-4.1094144851710275E-4,-3.4930023123953737E-4,-2.9690519655360676E-4,-2.5236941707056576E-4,-2.1451400450998089E-4,0,0,0,0,0,0,0,0,0,0,0,0,0,0,0,0,0]
[null,null,"Closing Balance",null,null,null,null,"USD Mn",{"$f":"I66+I67+I72","v":0},2.7995182852459054E-3,7.2639882679968243E-3,6.174390027797301E-3,5.2482315236277062E-3,4.4609967950835503E-3,3.7918472758210176E-3,3.2230701844478647E-3,2.739609656780685E-3,2.3286682082635825E-3,1.9793679770240451E-3,1.6824627804704383E-3,1.4300933633998726E-3,1.2155793588898918E-3,1.2155793588898918E-3,1.2155793588898918E-3,1.2155793588898918E-3,1.2155793588898918E-3,1.2155793588898918E-3,1.2155793588898918E-3,1.2155793588898918E-3,1.2155793588898918E-3,1.2155793588898918E-3,1.2155793588898918E-3,1.2155793588898918E-3,1.2155793588898918E-3,1.2155793588898918E-3,1.2155793588898918E-3,1.2155793588898918E-3,1.2155793588898918E-3,1.2155793588898918E-3]
[]
[null,null,"IDC for evacuation infrastructure (pipeline etc.)"]
[null,null,"Regular Depreciation",0.6]
[null,null,"Additional Depreciation",0.2]
[]
[null,null,"Opening balance",null,null,null,null,"USD Mn",null,{"$f":"I86","v":0},{"$f":"J86","v":0},0,0,0,0,0,0,0,0,0,0,0,0,0,0,0,0,0,0,0,0,0,0,0,0,0,0,0,0]
[null,null,"Addition",null,null,null,{"$f":"SUM(J80:AM80)","v":0},"USD Mn",null,{"$f":"J52","v":0},{"$f":"K52","v":0},0,0,0,0,0,0,0,0,0,0,0,0,0,0,0,0,0,0,0,0,0,0,0,0,0,0,0,0]
[null,null,"Depreciation %",null,null,null,null,"%",null,{"$f":"IF(J3>=Inputs!$E$35,$D$76,0)","v":0},{"$f":"IF(K3>=Inputs!$E$35,$D$76,0)","v":0.6},{"$f":"IF(L3>=Inputs!$E$35,$D$76,0)","v":0.6},{"$f":"IF(M3>=Inputs!$E$35,$D$76,0)","v":0.6},{"$f":"IF(N3>=Inputs!$E$35,$D$76,0)","v":0.6},{"$f":"IF(O3>=Inputs!$E$35,$D$76,0)","v":0.6},{"$f":"IF(P3>=Inputs!$E$35,$D$76,0)","v":0.6},{"$f":"IF(Q3>=Inputs!$E$35,$D$76,0)","v":0.6},{"$f":"IF(R3>=Inputs!$E$35,$D$76,0)","v":0.6},{"$f":"IF(S3>=Inputs!$E$35,$D$76,0)","v":0.6},{"$f":"IF(T3>=Inputs!$E$35,$D$76,0)","v":0.6},{"$f":"IF(U3>=Inputs!$E$35,$D$76,0)","v":0.6},{"$f":"IF(V3>=Inputs!$E$35,$D$76,0)","v":0.6},{"$f":"IF(W3>=Inputs!$E$35,$D$76,0)","v":0.6},{"$f":"IF(X3>=Inputs!$E$35,$D$76,0)","v":0.6},{"$f":"IF(Y3>=Inputs!$E$35,$D$76,0)","v":0.6},{"$f":"IF(Z3>=Inputs!$E$35,$D$76,0)","v":0.6},{"$f":"IF(AA3>=Inputs!$E$35,$D$76,0)","v":0.6},{"$f":"IF(AB3>=Inputs!$E$35,$D$76,0)","v":0.6},{"$f":"IF(AC3>=Inputs!$E$35,$D$76,0)","v":0.6},{"$f":"IF(AD3>=Inputs!$E$35,$D$76,0)","v":0.6},{"$f":"IF(AE3>=Inputs!$E$35,$D$76,0)","v":0.6},{"$f":"IF(AF3>=Inputs!$E$35,$D$76,0)","v":0.6},{"$f":"IF(AG3>=Inputs!$E$35,$D$76,0)","v":0.6},{"$f":"IF(AH3>=Inputs!$E$35,$D$76,0)","v":0.6},{"$f":"IF(AI3>=Inputs!$E$35,$D$76,0)","v":0.6},{"$f":"IF(AJ3>=Inputs!$E$35,$D$76,0)","v":0.6},{"$f":"IF(AK3>=Inputs!$E$35,$D$76,0)","v":0.6},{"$f":"IF(AL3>=Inputs!$E$35,$D$76,0)","v":0.6},{"$f":"IF(AM3>=Inputs!$E$35,$D$76,0)","v":0.6}]
[null,null,"Depreciation",null,null,null,{"$f":"SUM(J82:AM82)","v":0},"USD Mn",null,{"$f":"-J81*SUM(I86,J80)","v":0},{"$f":"-K81*SUM(J86,K80)","v":0},0,0,0,0,0,0,0,0,0,0,0,0,0,0,0,0,0,0,0,0,0,0,0,0,0,0,0,0]
[null,null,"Additional depreciation %",null,null,null,null,"%",null,{"$f":"IF(J3=Inputs!$E$35,$D$77,0)","v":0},{"$f":"IF(K3=Inputs!$E$35,$D$77,0)","v":0.2},{"$f":"IF(L3=Inputs!$E$35,$D$77,0)","v":0},{"$f":"IF(M3=Inputs!$E$35,$D$77,0)","v":0},{"$f":"IF(N3=Inputs!$E$35,$D$77,0)","v":0},{"$f":"IF(O3=Inputs!$E$35,$D$77,0)","v":0},{"$f":"IF(P3=Inputs!$E$35,$D$77,0)","v":0},{"$f":"IF(Q3=Inputs!$E$35,$D$77,0)","v":0},{"$f":"IF(R3=Inputs!$E$35,$D$77,0)","v":0},{"$f":"IF(S3=Inputs!$E$35,$D$77,0)","v":0},{"$f":"IF(T3=Inputs!$E$35,$D$77,0)","v":0},{"$f":"IF(U3=Inputs!$E$35,$D$77,0)","v":0},{"$f":"IF(V3=Inputs!$E$35,$D$77,0)","v":0},{"$f":"IF(W3=Inputs!$E$35,$D$77,0)","v":0},{"$f":"IF(X3=Inputs!$E$35,$D$77,0)","v":0},{"$f":"IF(Y3=Inputs!$E$35,$D$77,0)","v":0},{"$f":"IF(Z3=Inputs!$E$35,$D$77,0)","v":0},{"$f":"IF(AA3=Inputs!$E$35,$D$77,0)","v":0},{"$f":"IF(AB3=Inputs!$E$35,$D$77,0)","v":0},{"$f":"IF(AC3=Inputs!$E$35,$D$77,0)","v":0},{"$f":"IF(AD3=Inputs!$E$35,$D$77,0)","v":0},{"$f":"IF(AE3=Inputs!$E$35,$D$77,0)","v":0},{"$f":"IF(AF3=Inputs!$E$35,$D$77,0)","v":0},{"$f":"IF(AG3=Inputs!$E$35,$D$77,0)","v":0},{"$f":"IF(AH3=Inputs!$E$35,$D$77,0)","v":0},{"$f":"IF(AI3=Inputs!$E$35,$D$77,0)","v":0},{"$f":"IF(AJ3=Inputs!$E$35,$D$77,0)","v":0},{"$f":"IF(AK3=Inputs!$E$35,$D$77,0)","v":0},{"$f":"IF(AL3=Inputs!$E$35,$D$77,0)","v":0},{"$f":"IF(AM3=Inputs!$E$35,$D$77,0)","v":0}]
[null,null,"Additional depreciation",null,null,null,{"$f":"SUM(J84:AM84)","v":0},"USD Mn",null,{"$f":"-J83*SUM(I86,J80)","v":0},{"$f":"-K83*SUM(J86,K80)","v":0},0,0,0,0,0,0,0,0,0,0,0,0,0,0,0,0,0,0,0,0,0,0,0,0,0,0,0,0]
[null,null,"Total Depreciation",null,null,null,{"$f":"SUM(J85:AM85)","v":0},"USD Mn",null,{"$f":"SUM(J84,J82)*IF(OR(J8=1,J9=1),1,0)","v":0},0,0,0,0,0,0,0,0,0,0,0,0,0,0,0,0,0,0,0,0,0,0,0,0,0,0,0,0,0]
[null,null,"Closing Balance",null,null,null,null,"USD Mn",{"$f":"I79+I80+I85","v":0},{"$f":"J79+J80+J85","v":0},{"$f":"K79+K80+K85","v":0},0,0,0,0,0,0,0,0,0,0,0,0,0,0,0,0,0,0,0,0,0,0,0,0,0,0,0,0]
[]
[null,null,"Depreciation effect",null,null,null,{"$f":"SUM(J88:AM88)","v":-0.12713838809503455},"USD Mn",null,{"$f":"J85+J72+J60+J57","v":-2.935417231131629E-2},{"$f":"K85+K72+K60+K57","v":-9.1735806874611345E-2},-1.0895982401995237E-3,-9.2615850416959513E-4,-7.8723472854415593E-4,-6.6914951926253256E-4,-5.6877709137315266E-4,-4.8346052766717971E-4,-4.1094144851710275E-4,-3.4930023123953737E-4,-2.9690519655360676E-4,-2.5236941707056576E-4,-2.1451400450998089E-4,0,0,0,0,0,0,0,0,0,0,0,0,0,0,0,0,0]

{"sheet":"Timings","index":10,"n_rows":27,"n_cols":39,"rows_kept":27,"cut":false,"hidden":true,"merged":[]}
[null,null,null,null,null,null,null,null,"Period No.",{"$f":"J17","v":1},{"$f":"K17","v":2},3,4,5,6,7,8,9,10,11,12,13,14,15,16,17,0,0,0,0,0,0,0,0,0,0,0,0,0]
[null,null,"Timings",null,null,null,null,null,"Start Date",{"$f":"J18","v":"2019-04-01"},"2020-04-01","2021-04-01","2022-04-01","2023-04-01","2024-04-01","2025-04-01","2026-04-01","2027-04-01","2028-04-01","2029-04-01","2030-04-01","2031-04-01","2032-04-01","2033-04-01","2034-04-01","2035-04-01","2036-04-01","2037-04-01","2038-04-01","2039-04-01","2040-04-01","2041-04-01","2042-04-01","2043-04-01","2044-04-01","2045-04-01","2046-04-01","2047-04-01","2048-04-01"]
[null,null,null,null,null,null,null,null,"End Date","2020-03-31","2021-03-31","2022-03-31","2023-03-31","2024-03-31","2025-03-31","2026-03-31","2027-03-31","2028-03-31","2029-03-31","2030-03-31","2031-03-31","2032-03-31","2033-03-31","2034-03-31","2035-03-31","2036-03-31","2037-03-31","2038-03-31","2039-03-31","2040-03-31","2041-03-31","2042-03-31","2043-03-31","2044-03-31","2045-03-31","2046-03-31","2047-03-31","2048-03-31","2049-03-31"]
[null,null,null,null,null,null,null,null,"Year",{"$f":"YEAR(J3)","v":2020},{"$f":"YEAR(K3)","v":2021},2022,2023,2024,2025,2026,2027,2028,2029,2030,2031,2032,2033,2034,2035,2036,2037,2038,2039,2040,2041,2042,2043,2044,2045,2046,2047,2048,2049]
[null,null,null,null,null,null,null,null,"Appraisal",{"$f":"J24","v":1},{"$f":"K24","v":0},0,0,0,0,0,0,0,0,0,0,0,0,0,0,0,0,0,0,0,0,0,0,0,0,0,0,0,0]
[null,null,null,null,null,null,null,null,"Well Development ",{"$f":"J25","v":1},1,0,0,0,0,0,0,0,0,0,0,0,0,0,0,0,0,0,0,0,0,0,0,0,0,0,0,0,0]
[null,null,null,null,null,null,null,null,"Facilities",1,1,0,0,0,0,0,0,0,0,0,0,0,0,0,0,0,0,0,0,0,0,0,0,0,0,0,0,0,0]
[null,null,null,null,null,null,null,null,"Operations",0,1,1,1,1,1,1,1,1,1,1,1,1,0,0,0,0,0,0,0,0,0,0,0,0,0,0,0,0,0]
[]
[null,{"$f":"MAX($B$1:B9)+1","v":1},{"$f":"Inputs!C14","v":"Model period"}]
[]
[null,null,{"$f":"Inputs!C16","v":"First model period"},null,{"$f":"Inputs!E16","v":"2019-04-01"}]
[null,null,{"$f":"Inputs!C17","v":"No. of years of model"},{"$f":"Inputs!D17","v":"years"},{"$f":"Inputs!E17","v":17}]
[null,null,{"$f":"Inputs!C18","v":"Final Model period"},null,{"$f":"Inputs!E18","v":"2036-03-31"}]
[]
[null,{"$f":"MAX($B$1:B15)+1","v":2},"Timelines"]
[null,null,"Period no",null,null,null,null,null,null,{"$f":"IF(MAX($I$17:I17)<$E$13, I$17+1,0)","v":1},{"$f":"IF(MAX($I$17:J17)<$E$13, J$17+1,0)","v":2},{"$f":"IF(MAX($I$17:K17)<$E$13, K$17+1,0)","v":3},{"$f":"IF(MAX($I$17:L17)<$E$13, L$17+1,0)","v":4},{"$f":"IF(MAX($I$17:M17)<$E$13, M$17+1,0)","v":5},{"$f":"IF(MAX($I$17:N17)<$E$13, N$17+1,0)","v":6},{"$f":"IF(MAX($I$17:O17)<$E$13, O$17+1,0)","v":7},{"$f":"IF(MAX($I$17:P17)<$E$13, P$17+1,0)","v":8},{"$f":"IF(MAX($I$17:Q17)<$E$13, Q$17+1,0)","v":9},{"$f":"IF(MAX($I$17:R17)<$E$13, R$17+1,0)","v":10},{"$f":"IF(MAX($I$17:S17)<$E$13, S$17+1,0)","v":11},{"$f":"IF(MAX($I$17:T17)<$E$13, T$17+1,0)","v":12},{"$f":"IF(MAX($I$17:U17)<$E$13, U$17+1,0)","v":13},{"$f":"IF(MAX($I$17:V17)<$E$13, V$17+1,0)","v":14},{"$f":"IF(MAX($I$17:W17)<$E$13, W$17+1,0)","v":15},{"$f":"IF(MAX($I$17:X17)<$E$13, X$17+1,0)","v":16},{"$f":"IF(MAX($I$17:Y17)<$E$13, Y$17+1,0)","v":17},{"$f":"IF(MAX($I$17:Z17)<$E$13, Z$17+1,0)","v":0},{"$f":"IF(MAX($I$17:AA17)<$E$13, AA$17+1,0)","v":0},{"$f":"IF(MAX($I$17:AB17)<$E$13, AB$17+1,0)","v":0},{"$f":"IF(MAX($I$17:AC17)<$E$13, AC$17+1,0)","v":0},{"$f":"IF(MAX($I$17:AD17)<$E$13, AD$17+1,0)","v":0},{"$f":"IF(MAX($I$17:AE17)<$E$13, AE$17+1,0)","v":0},{"$f":"IF(MAX($I$17:AF17)<$E$13, AF$17+1,0)","v":0},{"$f":"IF(MAX($I$17:AG17)<$E$13, AG$17+1,0)","v":0},{"$f":"IF(MAX($I$17:AH17)<$E$13, AH$17+1,0)","v":0},{"$f":"IF(MAX($I$17:AI17)<$E$13, AI$17+1,0)","v":0},{"$f":"IF(MAX($I$17:AJ17)<$E$13, AJ$17+1,0)","v":0},{"$f":"IF(MAX($I$17:AK17)<$E$13, AK$17+1,0)","v":0},{"$f":"IF(MAX($I$17:AL17)<$E$13, AL$17+1,0)","v":0}]
[null,null,"Start date",null,null,null,null,null,null,{"$f":"IF(J17=1,E12,I19+1)","v":"2019-04-01"},{"$f":"IF(K17=1,F12,J19+1)","v":"2020-04-01"},"2021-04-01","2022-04-01","2023-04-01","2024-04-01","2025-04-01","2026-04-01","2027-04-01","2028-04-01","2029-04-01","2030-04-01","2031-04-01","2032-04-01","2033-04-01","2034-04-01","2035-04-01","2036-04-01","2037-04-01","2038-04-01","2039-04-01","2040-04-01","2041-04-01","2042-04-01","2043-04-01","2044-04-01","2045-04-01","2046-04-01","2047-04-01","2048-04-01"]
[null,null,"End date",null,null,null,null,null,null,{"$f":"DATE(YEAR(J18)+1,3,31)","v":"2020-03-31"},{"$f":"DATE(YEAR(K18)+1,3,31)","v":"2021-03-31"},"2022-03-31","2023-03-31","2024-03-31","2025-03-31","2026-03-31","2027-03-31","2028-03-31","2029-03-31","2030-03-31","2031-03-31","2032-03-31","2033-03-31","2034-03-31","2035-03-31","2036-03-31","2037-03-31","2038-03-31","2039-03-31","2040-03-31","2041-03-31","2042-03-31","2043-03-31","2044-03-31","2045-03-31","2046-03-31","2047-03-31","2048-03-31","2049-03-31"]
[null,null,"Days in period",null,null,null,null,null,null,{"$f":"J19-J18+1","v":366},{"$f":"K19-K18+1","v":365},365,365,366,365,365,365,366,365,365,365,366,365,365,365,366,365,365,365,366,365,365,365,366,365,365,365,366,365]
[]
[null,3,"Project timelines"]
[null,null,null,null,"Start Date","End Date"]
[null,null,{"$f":"Inputs!C22","v":"Appraisal"},null,{"$f":"Inputs!E23","v":"2019-04-01"},{"$f":"Inputs!E25","v":"2020-03-31"},null,null,null,{"$f":"($E24<=J$3)*($F24>=J$2)*1","v":1},{"$f":"($E24<=K$3)*($F24>=K$2)*1","v":0},0,0,0,0,0,0,0,0,0,0,0,0,0,0,0,0,0,0,0,0,0,0,0,0,0,0,0,0]
[null,null,{"$f":"Inputs!C27","v":"Well Development"},null,{"$f":"Inputs!E28","v":"2019-04-01"},{"$f":"Inputs!E30","v":"2021-03-31"},null,null,null,{"$f":"($E25<=J$3)*($F25>=J$2)*1","v":1},1,0,0,0,0,0,0,0,0,0,0,0,0,0,0,0,0,0,0,0,0,0,0,0,0,0,0,0,0]
[null,null,{"$f":"Inputs!C32","v":"Facilities Development"},null,{"$f":"Inputs!E33","v":"2019-04-01"},{"$f":"Inputs!E35","v":"2021-03-31"},null,null,null,1,1,0,0,0,0,0,0,0,0,0,0,0,0,0,0,0,0,0,0,0,0,0,0,0,0,0,0,0,0]
[null,null,{"$f":"Inputs!C37","v":"Operations"},null,{"$f":"Inputs!E38","v":"2020-04-01"},{"$f":"Inputs!E40","v":"2032-03-31"},null,null,null,0,1,1,1,1,1,1,1,1,1,1,1,1,0,0,0,0,0,0,0,0,0,0,0,0,0,0,0,0,0]

{"sheet":"Graph","index":11,"n_rows":10,"n_cols":39,"rows_kept":10,"cut":false,"hidden":true,"merged":[]}
[null,null,null,null,null,null,null,null,"Period No.",{"$f":"Timings!J1","v":1},{"$f":"Timings!K1","v":2},{"$f":"Timings!L1","v":3},{"$f":"Timings!M1","v":4},{"$f":"Timings!N1","v":5},{"$f":"Timings!O1","v":6},{"$f":"Timings!P1","v":7},{"$f":"Timings!Q1","v":8},{"$f":"Timings!R1","v":9},{"$f":"Timings!S1","v":10},{"$f":"Timings!T1","v":11},{"$f":"Timings!U1","v":12},{"$f":"Timings!V1","v":13},{"$f":"Timings!W1","v":14},{"$f":"Timings!X1","v":15},{"$f":"Timings!Y1","v":16},{"$f":"Timings!Z1","v":17},{"$f":"Timings!AA1","v":0},{"$f":"Timings!AB1","v":0},{"$f":"Timings!AC1","v":0},{"$f":"Timings!AD1","v":0},{"$f":"Timings!AE1","v":0},{"$f":"Timings!AF1","v":0},{"$f":"Timings!AG1","v":0},{"$f":"Timings!AH1","v":0},{"$f":"Timings!AI1","v":0},{"$f":"Timings!AJ1","v":0},{"$f":"Timings!AK1","v":0},{"$f":"Timings!AL1","v":0},{"$f":"Timings!AM1","v":0}]
[null,null,"Financial Position",null,null,null,null,null,"Start Date",{"$f":"Timings!J2","v":43556},{"$f":"Timings!K2","v":43922},{"$f":"Timings!L2","v":44287},{"$f":"Timings!M2","v":44652},{"$f":"Timings!N2","v":45017},{"$f":"Timings!O2","v":45383},{"$f":"Timings!P2","v":45748},{"$f":"Timings!Q2","v":46113},{"$f":"Timings!R2","v":46478},{"$f":"Timings!S2","v":46844},{"$f":"Timings!T2","v":47209},{"$f":"Timings!U2","v":47574},{"$f":"Timings!V2","v":47939},{"$f":"Timings!W2","v":48305},{"$f":"Timings!X2","v":48670},{"$f":"Timings!Y2","v":49035},{"$f":"Timings!Z2","v":49400},{"$f":"Timings!AA2","v":49766},{"$f":"Timings!AB2","v":50131},{"$f":"Timings!AC2","v":50496},{"$f":"Timings!AD2","v":50861},{"$f":"Timings!AE2","v":51227},{"$f":"Timings!AF2","v":51592},{"$f":"Timings!AG2","v":51957},{"$f":"Timings!AH2","v":52322},{"$f":"Timings!AI2","v":52688},{"$f":"Timings!AJ2","v":53053},{"$f":"Timings!AK2","v":53418},{"$f":"Timings!AL2","v":53783},{"$f":"Timings!AM2","v":54149}]
[null,null,null,null,null,null,null,null,"End Date",{"$f":"Timings!J3","v":43921},{"$f":"Timings!K3","v":44286},{"$f":"Timings!L3","v":44651},{"$f":"Timings!M3","v":45016},{"$f":"Timings!N3","v":45382},{"$f":"Timings!O3","v":45747},{"$f":"Timings!P3","v":46112},{"$f":"Timings!Q3","v":46477},{"$f":"Timings!R3","v":46843},{"$f":"Timings!S3","v":47208},{"$f":"Timings!T3","v":47573},{"$f":"Timings!U3","v":47938},{"$f":"Timings!V3","v":48304},{"$f":"Timings!W3","v":48669},{"$f":"Timings!X3","v":49034},{"$f":"Timings!Y3","v":49399},{"$f":"Timings!Z3","v":49765},{"$f":"Timings!AA3","v":50130},{"$f":"Timings!AB3","v":50495},{"$f":"Timings!AC3","v":50860},{"$f":"Timings!AD3","v":51226},{"$f":"Timings!AE3","v":51591},{"$f":"Timings!AF3","v":51956},{"$f":"Timings!AG3","v":52321},{"$f":"Timings!AH3","v":52687},{"$f":"Timings!AI3","v":53052},{"$f":"Timings!AJ3","v":53417},{"$f":"Timings!AK3","v":53782},{"$f":"Timings!AL3","v":54148},{"$f":"Timings!AM3","v":54513}]
[null,null,null,null,null,null,null,null,"Year",{"$f":"Timings!J4","v":2020},{"$f":"Timings!K4","v":2021},{"$f":"Timings!L4","v":2022},{"$f":"Timings!M4","v":2023},{"$f":"Timings!N4","v":2024},{"$f":"Timings!O4","v":2025},{"$f":"Timings!P4","v":2026},{"$f":"Timings!Q4","v":2027},{"$f":"Timings!R4","v":2028},{"$f":"Timings!S4","v":2029},{"$f":"Timings!T4","v":2030},{"$f":"Timings!U4","v":2031},{"$f":"Timings!V4","v":2032},{"$f":"Timings!W4","v":2033},{"$f":"Timings!X4","v":2034},{"$f":"Timings!Y4","v":2035},{"$f":"Timings!Z4","v":2036},{"$f":"Timings!AA4","v":2037},{"$f":"Timings!AB4","v":2038},{"$f":"Timings!AC4","v":2039},{"$f":"Timings!AD4","v":2040},{"$f":"Timings!AE4","v":2041},{"$f":"Timings!AF4","v":2042},{"$f":"Timings!AG4","v":2043},{"$f":"Timings!AH4","v":2044},{"$f":"Timings!AI4","v":2045},{"$f":"Timings!AJ4","v":2046},{"$f":"Timings!AK4","v":2047},{"$f":"Timings!AL4","v":2048},{"$f":"Timings!AM4","v":2049}]
[null,null,null,null,null,null,null,null,"Appraisal",{"$f":"Timings!J5","v":1},{"$f":"Timings!K5","v":0},{"$f":"Timings!L5","v":0},{"$f":"Timings!M5","v":0},{"$f":"Timings!N5","v":0},{"$f":"Timings!O5","v":0},{"$f":"Timings!P5","v":0},{"$f":"Timings!Q5","v":0},{"$f":"Timings!R5","v":0},{"$f":"Timings!S5","v":0},{"$f":"Timings!T5","v":0},{"$f":"Timings!U5","v":0},{"$f":"Timings!V5","v":0},{"$f":"Timings!W5","v":0},{"$f":"Timings!X5","v":0},{"$f":"Timings!Y5","v":0},{"$f":"Timings!Z5","v":0},{"$f":"Timings!AA5","v":0},{"$f":"Timings!AB5","v":0},{"$f":"Timings!AC5","v":0},{"$f":"Timings!AD5","v":0},{"$f":"Timings!AE5","v":0},{"$f":"Timings!AF5","v":0},{"$f":"Timings!AG5","v":0},{"$f":"Timings!AH5","v":0},{"$f":"Timings!AI5","v":0},{"$f":"Timings!AJ5","v":0},{"$f":"Timings!AK5","v":0},{"$f":"Timings!AL5","v":0},{"$f":"Timings!AM5","v":0}]
[null,null,null,null,null,null,null,null,"Well Development ",{"$f":"Timings!J6","v":1},{"$f":"Timings!K6","v":1},{"$f":"Timings!L6","v":0},{"$f":"Timings!M6","v":0},{"$f":"Timings!N6","v":0},{"$f":"Timings!O6","v":0},{"$f":"Timings!P6","v":0},{"$f":"Timings!Q6","v":0},{"$f":"Timings!R6","v":0},{"$f":"Timings!S6","v":0},{"$f":"Timings!T6","v":0},{"$f":"Timings!U6","v":0},{"$f":"Timings!V6","v":0},{"$f":"Timings!W6","v":0},{"$f":"Timings!X6","v":0},{"$f":"Timings!Y6","v":0},{"$f":"Timings!Z6","v":0},{"$f":"Timings!AA6","v":0},{"$f":"Timings!AB6","v":0},{"$f":"Timings!AC6","v":0},{"$f":"Timings!AD6","v":0},{"$f":"Timings!AE6","v":0},{"$f":"Timings!AF6","v":0},{"$f":"Timings!AG6","v":0},{"$f":"Timings!AH6","v":0},{"$f":"Timings!AI6","v":0},{"$f":"Timings!AJ6","v":0},{"$f":"Timings!AK6","v":0},{"$f":"Timings!AL6","v":0},{"$f":"Timings!AM6","v":0}]
[null,null,null,null,null,null,null,null,"Facilities",{"$f":"Timings!J7","v":1},{"$f":"Timings!K7","v":1},{"$f":"Timings!L7","v":0},{"$f":"Timings!M7","v":0},{"$f":"Timings!N7","v":0},{"$f":"Timings!O7","v":0},{"$f":"Timings!P7","v":0},{"$f":"Timings!Q7","v":0},{"$f":"Timings!R7","v":0},{"$f":"Timings!S7","v":0},{"$f":"Timings!T7","v":0},{"$f":"Timings!U7","v":0},{"$f":"Timings!V7","v":0},{"$f":"Timings!W7","v":0},{"$f":"Timings!X7","v":0},{"$f":"Timings!Y7","v":0},{"$f":"Timings!Z7","v":0},{"$f":"Timings!AA7","v":0},{"$f":"Timings!AB7","v":0},{"$f":"Timings!AC7","v":0},{"$f":"Timings!AD7","v":0},{"$f":"Timings!AE7","v":0},{"$f":"Timings!AF7","v":0},{"$f":"Timings!AG7","v":0},{"$f":"Timings!AH7","v":0},{"$f":"Timings!AI7","v":0},{"$f":"Timings!AJ7","v":0},{"$f":"Timings!AK7","v":0},{"$f":"Timings!AL7","v":0},{"$f":"Timings!AM7","v":0}]
[null,null,null,null,null,null,null,null,"Operations",{"$f":"Timings!J8","v":0},{"$f":"Timings!K8","v":1},{"$f":"Timings!L8","v":1},{"$f":"Timings!M8","v":1},{"$f":"Timings!N8","v":1},{"$f":"Timings!O8","v":1},{"$f":"Timings!P8","v":1},{"$f":"Timings!Q8","v":1},{"$f":"Timings!R8","v":1},{"$f":"Timings!S8","v":1},{"$f":"Timings!T8","v":1},{"$f":"Timings!U8","v":1},{"$f":"Timings!V8","v":1},{"$f":"Timings!W8","v":0},{"$f":"Timings!X8","v":0},{"$f":"Timings!Y8","v":0},{"$f":"Timings!Z8","v":0},{"$f":"Timings!AA8","v":0},{"$f":"Timings!AB8","v":0},{"$f":"Timings!AC8","v":0},{"$f":"Timings!AD8","v":0},{"$f":"Timings!AE8","v":0},{"$f":"Timings!AF8","v":0},{"$f":"Timings!AG8","v":0},{"$f":"Timings!AH8","v":0},{"$f":"Timings!AI8","v":0},{"$f":"Timings!AJ8","v":0},{"$f":"Timings!AK8","v":0},{"$f":"Timings!AL8","v":0},{"$f":"Timings!AM8","v":0}]
[]
[null,null,"Cash flows",null,null,{"$f":"SUM(J10:AM10)","v":844.93727365350276},"USD Mn",null,null,{"$f":"FS!J33","v":-3.1800000000000006},{"$f":"FS!K33","v":-3.0899000000000001},{"$f":"FS!L33","v":149.71183344037297},{"$f":"FS!M33","v":54.363301827142649},{"$f":"FS!N33","v":63.036049171696092},{"$f":"FS!O33","v":70.847746065446344},{"$f":"FS!P33","v":77.832025743610586},{"$f":"FS!Q33","v":103.20614017093878},{"$f":"FS!R33","v":82.39550997349366},{"$f":"FS!S33","v":87.178883847154324},{"$f":"FS!T33","v":71.966479414028313},{"$f":"FS!U33","v":63.111221540248053},{"$f":"FS!V33","v":38.015149770356835},{"$f":"FS!W33","v":-10.457167310985835},{"$f":"FS!X33","v":0},{"$f":"FS!Y33","v":0},{"$f":"FS!Z33","v":0},{"$f":"FS!AA33","v":0},{"$f":"FS!AB33","v":0},{"$f":"FS!AC33","v":0},{"$f":"FS!AD33","v":0},{"$f":"FS!AE33","v":0},{"$f":"FS!AF33","v":0},{"$f":"FS!AG33","v":0},{"$f":"FS!AH33","v":0},{"$f":"FS!AI33","v":0},{"$f":"FS!AJ33","v":0},{"$f":"FS!AK33","v":0},{"$f":"FS!AL33","v":0},{"$f":"FS!AM33","v":0}]

{"sheet":"Production profile","index":12,"n_rows":75,"n_cols":32,"rows_kept":75,"cut":false,"hidden":true,"merged":[[68,0,68,1],[13,1,14,1],[13,2,14,7],[45,0,45,1],[63,0,63,1],[58,0,58,1],[51,0,51,1]]}
[]
[null,null,2016,{"$f":"C2+1","v":2017},{"$f":"D2+1","v":2018},2019,2020,2021,2022,2023,2024,2025,2026,2027,2028,2029,2030,2031,2032,2033,2034,2035,2036,2037,2038,2039,2040,2041,2042,2043,2044,2045]
["Revenue"]
["Production profile"]
["Oil (MMT)"]
["Best Case"]
["Moderate case"]
["Lower case"]
["Gas (BCM)"]
["Best Case"]
["Moderate case"]
["Lower case"]
["Pricing"]
["Oil",null,"KPMG will fill this up considering market trends"]
["Gas"]
["Internal Consumption/ Losses"]
["Oil (MMT)"]
["Best Case"]
["Moderate case"]
["Lower case"]
["Gas (BCM)"]
["Best Case"]
["Moderate case"]
["Lower case"]
["Costs"]
["Capex"]
["Exploration cost"]
["Well development cost"]
["Surface facilities"]
["Evacuation infrastructure cost (pipeline etc.)"]
["Any other additional cost"]
["Opex"]
["Manpower"]
["Workover operations"]
["Water injections"]
["Spares"]
["Repair and Maintenance"]
["Pollution control (ETPs)"]
["Transportation and frieght"]
["Insurance"]
["Production overheads"]
["Power and consumables"]
["Any other additional cost"]
[]
["Other assumptions"]
["Royalty rate and other deductibles (as per NELP policy)"]
["Oil"]
["Gas"]
["Standard deductible amount (INR per MT)",1251]
["NCCD (INR per MT)",50]
["Specific gravity - Oil"]
["Taxes"]
["Corporate tax",0.34608]
["MAT",0.2001]
["Income tax holiday - period"]
["Dividend tax",0.17]
["Service Tax",0.14000000000000001]
["Work Contract tax",0.05]
["Depreciation rates"]
["Exploration",1]
["Well development",0.15]
["Facilities "]
["Other infrastructure"]
["Additional Depreciation"]
["Exploration"]
["Well development",0.2]
["Facilities "]
["Other infrastructure"]
["Escalation"]
["Base year to be fixed for escalation"]
["Capex"]
["Opex"]
["Rupee Depreciation"]
["Oil price"]
["Gas price"]